{"text_format":"1","workbook":"xlsx","n_sheets":5,"sheets":["MENU","Mapa de Preços","Requisição de Compra","Lista UG","Plan1"],"not_rendered":{"charts":0,"images":5,"macros":1,"external_links":1,"defined_names":3,"comments":0,"pivot_tables":0},"unopened":[],"bounds":{"document_bytes":16777216,"sheet_cells":100000,"rows_first":2000,"rows_last":500,"rows_between":2000,"halvings":0,"cell_chars":16384,"cell_head_chars":4096},"cells_cut":0,"cells_raw":0,"read":"row_number_cap","date_system":"1900"}

{"sheet":"MENU","index":0,"n_rows":12,"n_cols":4,"rows_kept":12,"cut":false,"hidden":false,"merged":[]}
[]
[]
[]
[]
[]
[]
[]
[]
[]
[]
[]
[null,null,"OBJETO:","XXXXXXXX"]

{"sheet":"Mapa de Preços","index":1,"n_rows":2988,"n_cols":12,"rows_kept":2988,"cut":false,"hidden":false,"merged":[[11,10,14,10],[11,0,14,0],[11,2,14,2],[11,5,14,5],[11,7,14,7],[11,9,14,9],[11,3,14,3],[11,1,14,1],[11,4,14,4],[11,6,14,6],[11,8,14,8]]}
[]
[]
[]
[]
[]
["INSTITUTO FEDERAL DO PARANÁ",null,null,"MINISTÉRIO DA EDUCAÇÃO"]
["CENTRAL DE COMPRAS E LICITAÇÕES - CECOM",null,null,"INSTITUTO FEDERAL DO PARANÁ"]
["PROAD/DA"]
[]
["PLANILHA DE CUSTO E MAPA DE PESQUISA DE PREÇOS"]
[]
["Item","UNIDADE DE MEDIDA","Descriçao","Preço Fornecedor 1","EMPRESA + 1º Nome do Servidor que fez o Orçamento  + CÂMPUS","Preço Fornecedor 2","EMPRESA + 1º Nome do Servidor que fez o Orçamento  + CÂMPUS","Preço Fornecedor 3","EMPRESA + 1º Nome do Servidor que fez o Orçamento  + CÂMPUS","Preço Médio \npor UN.\nP.M.UN. =(P1+P2+P3) / 3","OBSERVAÇÕES:"]
[]
[]
[]
[1,null,null,null,null,null,null,null,null,{"$f":"IF(AND(D16<>\"\",F16<>\"\",H16<>\"\"),AVERAGE(D16:H16),\"Falta Orçamento\")","v":"Falta Orçamento"}]
[2,null,null,null,null,null,null,null,null,"Falta Orçamento"]
[3,null,null,null,null,null,null,null,null,"Falta Orçamento"]
[4,null,null,null,null,null,null,null,null,"Falta Orçamento"]
[5,null,null,null,null,null,null,null,null,"Falta Orçamento"]
[6,null,null,null,null,null,null,null,null,"Falta Orçamento"]
[7,null,null,null,null,null,null,null,null,"Falta Orçamento"]
[8,null,null,null,null,null,null,null,null,"Falta Orçamento"]
[9,null,null,null,null,null,null,null,null,"Falta Orçamento"]
[10,null,null,null,null,null,null,null,null,"Falta Orçamento"]
[11,null,null,null,null,null,null,null,null,"Falta Orçamento"]
[12,null,null,null,null,null,null,null,null,"Falta Orçamento"]
[13,null,null,null,null,null,null,null,null,"Falta Orçamento"]
[14,null,null,null,null,null,null,null,null,"Falta Orçamento"]
[15,null,null,null,null,null,null,null,null,"Falta Orçamento"]
[16,null,null,null,null,null,null,null,null,"Falta Orçamento"]
[17,null,null,null,null,null,null,null,null,"Falta Orçamento"]
[18,null,null,null,null,null,null,null,null,"Falta Orçamento"]
[19,null,null,null,null,null,null,null,null,"Falta Orçamento"]
[20,null,null,null,null,null,null,null,null,"Falta Orçamento"]
[21,null,null,null,null,null,null,null,null,"Falta Orçamento"]
[22,null,null,null,null,null,null,null,null,"Falta Orçamento"]
[23,null,null,null,null,null,null,null,null,"Falta Orçamento"]
[24,null,null,null,null,null,null,null,null,"Falta Orçamento"]
[25,null,null,null,null,null,null,null,null,"Falta Orçamento"]
[26,null,null,null,null,null,null,null,null,"Falta Orçamento"]
[27,null,null,null,null,null,null,null,null,"Falta Orçamento"]
[28,null,null,null,null,null,null,null,null,"Falta Orçamento"]
[29,null,null,null,null,null,null,null,null,"Falta Orçamento"]
[30,null,null,null,null,null,null,null,null,"Falta Orçamento"]
[31,null,null,null,null,null,null,null,null,"Falta Orçamento"]
[32,null,null,null,null,null,null,null,null,"Falta Orçamento"]
[33,null,null,null,null,null,null,null,null,"Falta Orçamento"]
[34,null,null,null,null,null,null,null,null,"Falta Orçamento"]
[35,null,null,null,null,null,null,null,null,"Falta Orçamento"]
[36,null,null,null,null,null,null,null,null,"Falta Orçamento"]
[37,null,null,null,null,null,null,null,null,"Falta Orçamento"]
[38,null,null,null,null,null,null,null,null,"Falta Orçamento"]
[39,null,null,null,null,null,null,null,null,"Falta Orçamento"]
[40,null,null,null,null,null,null,null,null,"Falta Orçamento"]
[41,null,null,null,null,null,null,null,null,"Falta Orçamento"]
[42,null,null,null,null,null,null,null,null,"Falta Orçamento"]
[43,null,null,null,null,null,null,null,null,"Falta Orçamento"]
[44,null,null,null,null,null,null,null,null,"Falta Orçamento"]
[45,null,null,null,null,null,null,null,null,"Falta Orçamento"]
[46,null,null,null,null,null,null,null,null,"Falta Orçamento"]
[47,null,null,null,null,null,null,null,null,"Falta Orçamento"]
[48,null,null,null,null,null,null,null,null,"Falta Orçamento"]
[49,null,null,null,null,null,null,null,null,"Falta Orçamento"]
[50,null,null,null,null,null,null,null,null,"Falta Orçamento"]
[51,null,null,null,null,null,null,null,null,"Falta Orçamento"]
[52,null,null,null,null,null,null,null,null,"Falta Orçamento"]
[53,null,null,null,null,null,null,null,null,"Falta Orçamento"]
[54,null,null,null,null,null,null,null,null,"Falta Orçamento"]
[55,null,null,null,null,null,null,null,null,"Falta Orçamento"]
[56,null,null,null,null,null,null,null,null,"Falta Orçamento"]
[57,null,null,null,null,null,null,null,null,"Falta Orçamento"]
[58,null,null,null,null,null,null,null,null,"Falta Orçamento"]
[59,null,null,null,null,null,null,null,null,"Falta Orçamento"]
[60,null,null,null,null,null,null,null,null,"Falta Orçamento"]
[61,null,null,null,null,null,null,null,null,"Falta Orçamento"]
[62,null,null,null,null,null,null,null,null,"Falta Orçamento"]
[63,null,null,null,null,null,null,null,null,"Falta Orçamento"]
[64,null,null,null,null,null,null,null,null,"Falta Orçamento"]
[65,null,null,null,null,null,null,null,null,{"$f":"IF(AND(D80<>\"\",F80<>\"\",H80<>\"\"),AVERAGE(D80:H80),\"Falta Orçamento\")","v":"Falta Orçamento"}]
[66,null,null,null,null,null,null,null,null,"Falta Orçamento"]
[67,null,null,null,null,null,null,null,null,"Falta Orçamento"]
[68,null,null,null,null,null,null,null,null,"Falta Orçamento"]
[69,null,null,null,null,null,null,null,null,"Falta Orçamento"]
[70,null,null,null,null,null,null,null,null,"Falta Orçamento"]
[71,null,null,null,null,null,null,null,null,"Falta Orçamento"]
[72,null,null,null,null,null,null,null,null,"Falta Orçamento"]
[73,null,null,null,null,null,null,null,null,"Falta Orçamento"]
[74,null,null,null,null,null,null,null,null,"Falta Orçamento"]
[75,null,null,null,null,null,null,null,null,"Falta Orçamento"]
[76,null,null,null,null,null,null,null,null,"Falta Orçamento"]
[77,null,null,null,null,null,null,null,null,"Falta Orçamento"]
[78,null,null,null,null,null,null,null,null,"Falta Orçamento"]
[79,null,null,null,null,null,null,null,null,"Falta Orçamento"]
[80,null,null,null,null,null,null,null,null,"Falta Orçamento"]
[81,null,null,null,null,null,null,null,null,"Falta Orçamento"]
[82,null,null,null,null,null,null,null,null,"Falta Orçamento"]
[83,null,null,null,null,null,null,null,null,"Falta Orçamento"]
[84,null,null,null,null,null,null,null,null,"Falta Orçamento"]
[85,null,null,null,null,null,null,null,null,"Falta Orçamento"]
[86,null,null,null,null,null,null,null,null,"Falta Orçamento"]
[87,null,null,null,null,null,null,null,null,"Falta Orçamento"]
[88,null,null,null,null,null,null,null,null,"Falta Orçamento"]
[89,null,null,null,null,null,null,null,null,"Falta Orçamento"]
[90,null,null,null,null,null,null,null,null,"Falta Orçamento"]
[91,null,null,null,null,null,null,null,null,"Falta Orçamento"]
[92,null,null,null,null,null,null,null,null,"Falta Orçamento"]
[93,null,null,null,null,null,null,null,null,"Falta Orçamento"]
[94,null,null,null,null,null,null,null,null,"Falta Orçamento"]
[95,null,null,null,null,null,null,null,null,"Falta Orçamento"]
[96,null,null,null,null,null,null,null,null,"Falta Orçamento"]
[97,null,null,null,null,null,null,null,null,"Falta Orçamento"]
[98,null,null,null,null,null,null,null,null,"Falta Orçamento"]
[99,null,null,null,null,null,null,null,null,"Falta Orçamento"]
[100,null,null,null,null,null,null,null,null,"Falta Orçamento"]
[101,null,null,null,null,null,null,null,null,"Falta Orçamento"]
[102,null,null,null,null,null,null,null,null,"Falta Orçamento"]
[103,null,null,null,null,null,null,null,null,"Falta Orçamento"]
[104,null,null,null,null,null,null,null,null,"Falta Orçamento"]
[105,null,null,null,null,null,null,null,null,"Falta Orçamento"]
[106,null,null,null,null,null,null,null,null,"Falta Orçamento"]
[107,null,null,null,null,null,null,null,null,"Falta Orçamento"]
[108,null,null,null,null,null,null,null,null,"Falta Orçamento"]
[109,null,null,null,null,null,null,null,null,"Falta Orçamento"]
[110,null,null,null,null,null,null,null,null,"Falta Orçamento"]
[111,null,null,null,null,null,null,null,null,"Falta Orçamento"]
[112,null,null,null,null,null,null,null,null,"Falta Orçamento"]
[113,null,null,null,null,null,null,null,null,"Falta Orçamento"]
[114,null,null,null,null,null,null,null,null,"Falta Orçamento"]
[115,null,null,null,null,null,null,null,null,"Falta Orçamento"]
[116,null,null,null,null,null,null,null,null,"Falta Orçamento"]
[117,null,null,null,null,null,null,null,null,"Falta Orçamento"]
[118,null,null,null,null,null,null,null,null,"Falta Orçamento"]
[119,null,null,null,null,null,null,null,null,"Falta Orçamento"]
[120,null,null,null,null,null,null,null,null,"Falta Orçamento"]
[121,null,null,null,null,null,null,null,null,"Falta Orçamento"]
[122,null,null,null,null,null,null,null,null,"Falta Orçamento"]
[123,null,null,null,null,null,null,null,null,"Falta Orçamento"]
[124,null,null,null,null,null,null,null,null,"Falta Orçamento"]
[125,null,null,null,null,null,null,null,null,"Falta Orçamento"]
[126,null,null,null,null,null,null,null,null,"Falta Orçamento"]
[127,null,null,null,null,null,null,null,null,"Falta Orçamento"]
[128,null,null,null,null,null,null,null,null,"Falta Orçamento"]
[129,null,null,null,null,null,null,null,null,{"$f":"IF(AND(D144<>\"\",F144<>\"\",H144<>\"\"),AVERAGE(D144:H144),\"Falta Orçamento\")","v":"Falta Orçamento"}]
[130,null,null,null,null,null,null,null,null,"Falta Orçamento"]
[131,null,null,null,null,null,null,null,null,"Falta Orçamento"]
[132,null,null,null,null,null,null,null,null,"Falta Orçamento"]
[133,null,null,null,null,null,null,null,null,"Falta Orçamento"]
[134,null,null,null,null,null,null,null,null,"Falta Orçamento"]
[135,null,null,null,null,null,null,null,null,"Falta Orçamento"]
[136,null,null,null,null,null,null,null,null,"Falta Orçamento"]
[137,null,null,null,null,null,null,null,null,"Falta Orçamento"]
[138,null,null,null,null,null,null,null,null,"Falta Orçamento"]
[139,null,null,null,null,null,null,null,null,"Falta Orçamento"]
[140,null,null,null,null,null,null,null,null,"Falta Orçamento"]
[141,null,null,null,null,null,null,null,null,"Falta Orçamento"]
[142,null,null,null,null,null,null,null,null,"Falta Orçamento"]
[143,null,null,null,null,null,null,null,null,"Falta Orçamento"]
[144,null,null,null,null,null,null,null,null,"Falta Orçamento"]
[145,null,null,null,null,null,null,null,null,"Falta Orçamento"]
[146,null,null,null,null,null,null,null,null,"Falta Orçamento"]
[147,null,null,null,null,null,null,null,null,"Falta Orçamento"]
[148,null,null,null,null,null,null,null,null,"Falta Orçamento"]
[149,null,null,null,null,null,null,null,null,"Falta Orçamento"]
[150,null,null,null,null,null,null,null,null,"Falta Orçamento"]
[151,null,null,null,null,null,null,null,null,"Falta Orçamento"]
[152,null,null,null,null,null,null,null,null,"Falta Orçamento"]
[153,null,null,null,null,null,null,null,null,"Falta Orçamento"]
[154,null,null,null,null,null,null,null,null,"Falta Orçamento"]
[155,null,null,null,null,null,null,null,null,"Falta Orçamento"]
[156,null,null,null,null,null,null,null,null,"Falta Orçamento"]
[157,null,null,null,null,null,null,null,null,"Falta Orçamento"]
[158,null,null,null,null,null,null,null,null,"Falta Orçamento"]
[159,null,null,null,null,null,null,null,null,"Falta Orçamento"]
[160,null,null,null,null,null,null,null,null,"Falta Orçamento"]
[161,null,null,null,null,null,null,null,null,"Falta Orçamento"]
[162,null,null,null,null,null,null,null,null,"Falta Orçamento"]
[163,null,null,null,null,null,null,null,null,"Falta Orçamento"]
[164,null,null,null,null,null,null,null,null,"Falta Orçamento"]
[165,null,null,null,null,null,null,null,null,"Falta Orçamento"]
[166,null,null,null,null,null,null,null,null,"Falta Orçamento"]
[167,null,null,null,null,null,null,null,null,"Falta Orçamento"]
[168,null,null,null,null,null,null,null,null,"Falta Orçamento"]
[169,null,null,null,null,null,null,null,null,"Falta Orçamento"]
[170,null,null,null,null,null,null,null,null,"Falta Orçamento"]
[171,null,null,null,null,null,null,null,null,"Falta Orçamento"]
[172,null,null,null,null,null,null,null,null,"Falta Orçamento"]
[173,null,null,null,null,null,null,null,null,"Falta Orçamento"]
[174,null,null,null,null,null,null,null,null,"Falta Orçamento"]
[175,null,null,null,null,null,null,null,null,"Falta Orçamento"]
[176,null,null,null,null,null,null,null,null,"Falta Orçamento"]
[177,null,null,null,null,null,null,null,null,"Falta Orçamento"]
[178,null,null,null,null,null,null,null,null,"Falta Orçamento"]
[179,null,null,null,null,null,null,null,null,"Falta Orçamento"]
[180,null,null,null,null,null,null,null,null,"Falta Orçamento"]
[181,null,null,null,null,null,null,null,null,"Falta Orçamento"]
[182,null,null,null,null,null,null,null,null,"Falta Orçamento"]
[183,null,null,null,null,null,null,null,null,"Falta Orçamento"]
[184,null,null,null,null,null,null,null,null,"Falta Orçamento"]
[185,null,null,null,null,null,null,null,null,"Falta Orçamento"]
[186,null,null,null,null,null,null,null,null,"Falta Orçamento"]
[187,null,null,null,null,null,null,null,null,"Falta Orçamento"]
[188,null,null,null,null,null,null,null,null,"Falta Orçamento"]
[189,null,null,null,null,null,null,null,null,"Falta Orçamento"]
[190,null,null,null,null,null,null,null,null,"Falta Orçamento"]
[191,null,null,null,null,null,null,null,null,"Falta Orçamento"]
[192,null,null,null,null,null,null,null,null,"Falta Orçamento"]
[193,null,null,null,null,null,null,null,null,{"$f":"IF(AND(D208<>\"\",F208<>\"\",H208<>\"\"),AVERAGE(D208:H208),\"Falta Orçamento\")","v":"Falta Orçamento"}]
[194,null,null,null,null,null,null,null,null,"Falta Orçamento"]
[195,null,null,null,null,null,null,null,null,"Falta Orçamento"]
[196,null,null,null,null,null,null,null,null,"Falta Orçamento"]
[197,null,null,null,null,null,null,null,null,"Falta Orçamento"]
[198,null,null,null,null,null,null,null,null,"Falta Orçamento"]
[199,null,null,null,null,null,null,null,null,"Falta Orçamento"]
[200,null,null,null,null,null,null,null,null,"Falta Orçamento"]
[201,null,null,null,null,null,null,null,null,"Falta Orçamento"]
[202,null,null,null,null,null,null,null,null,"Falta Orçamento"]
[203,null,null,null,null,null,null,null,null,"Falta Orçamento"]
[204,null,null,null,null,null,null,null,null,"Falta Orçamento"]
[205,null,null,null,null,null,null,null,null,"Falta Orçamento"]
[206,null,null,null,null,null,null,null,null,"Falta Orçamento"]
[207,null,null,null,null,null,null,null,null,"Falta Orçamento"]
[208,null,null,null,null,null,null,null,null,"Falta Orçamento"]
[209,null,null,null,null,null,null,null,null,"Falta Orçamento"]
[210,null,null,null,null,null,null,null,null,"Falta Orçamento"]
[211,null,null,null,null,null,null,null,null,"Falta Orçamento"]
[212,null,null,null,null,null,null,null,null,"Falta Orçamento"]
[213,null,null,null,null,null,null,null,null,"Falta Orçamento"]
[214,null,null,null,null,null,null,null,null,"Falta Orçamento"]
[215,null,null,null,null,null,null,null,null,"Falta Orçamento"]
[216,null,null,null,null,null,null,null,null,"Falta Orçamento"]
[217,null,null,null,null,null,null,null,null,"Falta Orçamento"]
[218,null,null,null,null,null,null,null,null,"Falta Orçamento"]
[219,null,null,null,null,null,null,null,null,"Falta Orçamento"]
[220,null,null,null,null,null,null,null,null,"Falta Orçamento"]
[221,null,null,null,null,null,null,null,null,"Falta Orçamento"]
[222,null,null,null,null,null,null,null,null,"Falta Orçamento"]
[223,null,null,null,null,null,null,null,null,"Falta Orçamento"]
[224,null,null,null,null,null,null,null,null,"Falta Orçamento"]
[225,null,null,null,null,null,null,null,null,"Falta Orçamento"]
[226,null,null,null,null,null,null,null,null,"Falta Orçamento"]
[227,null,null,null,null,null,null,null,null,"Falta Orçamento"]
[228,null,null,null,null,null,null,null,null,"Falta Orçamento"]
[229,null,null,null,null,null,null,null,null,"Falta Orçamento"]
[230,null,null,null,null,null,null,null,null,"Falta Orçamento"]
[231,null,null,null,null,null,null,null,null,"Falta Orçamento"]
[232,null,null,null,null,null,null,null,null,"Falta Orçamento"]
[233,null,null,null,null,null,null,null,null,"Falta Orçamento"]
[234,null,null,null,null,null,null,null,null,"Falta Orçamento"]
[235,null,null,null,null,null,null,null,null,"Falta Orçamento"]
[236,null,null,null,null,null,null,null,null,"Falta Orçamento"]
[237,null,null,null,null,null,null,null,null,"Falta Orçamento"]
[238,null,null,null,null,null,null,null,null,"Falta Orçamento"]
[239,null,null,null,null,null,null,null,null,"Falta Orçamento"]
[240,null,null,null,null,null,null,null,null,"Falta Orçamento"]
[241,null,null,null,null,null,null,null,null,"Falta Orçamento"]
[242,null,null,null,null,null,null,null,null,"Falta Orçamento"]
[243,null,null,null,null,null,null,null,null,"Falta Orçamento"]
[244,null,null,null,null,null,null,null,null,"Falta Orçamento"]
[245,null,null,null,null,null,null,null,null,"Falta Orçamento"]
[246,null,null,null,null,null,null,null,null,"Falta Orçamento"]
[247,null,null,null,null,null,null,null,null,"Falta Orçamento"]
[248,null,null,null,null,null,null,null,null,"Falta Orçamento"]
[249,null,null,null,null,null,null,null,null,"Falta Orçamento"]
[250,null,null,null,null,null,null,null,null,"Falta Orçamento"]
[251,null,null,null,null,null,null,null,null,"Falta Orçamento"]
[252,null,null,null,null,null,null,null,null,"Falta Orçamento"]
[253,null,null,null,null,null,null,null,null,"Falta Orçamento"]
[254,null,null,null,null,null,null,null,null,"Falta Orçamento"]
[255,null,null,null,null,null,null,null,null,"Falta Orçamento"]
[256,null,null,null,null,null,null,null,null,"Falta Orçamento"]
[257,null,null,null,null,null,null,null,null,{"$f":"IF(AND(D272<>\"\",F272<>\"\",H272<>\"\"),AVERAGE(D272:H272),\"Falta Orçamento\")","v":"Falta Orçamento"}]
[258,null,null,null,null,null,null,null,null,"Falta Orçamento"]
[259,null,null,null,null,null,null,null,null,"Falta Orçamento"]
[260,null,null,null,null,null,null,null,null,"Falta Orçamento"]
[261,null,null,null,null,null,null,null,null,"Falta Orçamento"]
[262,null,null,null,null,null,null,null,null,"Falta Orçamento"]
[263,null,null,null,null,null,null,null,null,"Falta Orçamento"]
[264,null,null,null,null,null,null,null,null,"Falta Orçamento"]
[265,null,null,null,null,null,null,null,null,"Falta Orçamento"]
[266,null,null,null,null,null,null,null,null,"Falta Orçamento"]
[267,null,null,null,null,null,null,null,null,"Falta Orçamento"]
[268,null,null,null,null,null,null,null,null,"Falta Orçamento"]
[269,null,null,null,null,null,null,null,null,"Falta Orçamento"]
[270,null,null,null,null,null,null,null,null,"Falta Orçamento"]
[271,null,null,null,null,null,null,null,null,"Falta Orçamento"]
[272,null,null,null,null,null,null,null,null,"Falta Orçamento"]
[273,null,null,null,null,null,null,null,null,"Falta Orçamento"]
[274,null,null,null,null,null,null,null,null,"Falta Orçamento"]
[275,null,null,null,null,null,null,null,null,"Falta Orçamento"]
[276,null,null,null,null,null,null,null,null,"Falta Orçamento"]
[277,null,null,null,null,null,null,null,null,"Falta Orçamento"]
[278,null,null,null,null,null,null,null,null,"Falta Orçamento"]
[279,null,null,null,null,null,null,null,null,"Falta Orçamento"]
[280,null,null,null,null,null,null,null,null,"Falta Orçamento"]
[281,null,null,null,null,null,null,null,null,"Falta Orçamento"]
[282,null,null,null,null,null,null,null,null,"Falta Orçamento"]
[283,null,null,null,null,null,null,null,null,"Falta Orçamento"]
[284,null,null,null,null,null,null,null,null,"Falta Orçamento"]
[285,null,null,null,null,null,null,null,null,"Falta Orçamento"]
[286,null,null,null,null,null,null,null,null,"Falta Orçamento"]
[287,null,null,null,null,null,null,null,null,"Falta Orçamento"]
[288,null,null,null,null,null,null,null,null,"Falta Orçamento"]
[289,null,null,null,null,null,null,null,null,"Falta Orçamento"]
[290,null,null,null,null,null,null,null,null,"Falta Orçamento"]
[291,null,null,null,null,null,null,null,null,"Falta Orçamento"]
[292,null,null,null,null,null,null,null,null,"Falta Orçamento"]
[293,null,null,null,null,null,null,null,null,"Falta Orçamento"]
[294,null,null,null,null,null,null,null,null,"Falta Orçamento"]
[295,null,null,null,null,null,null,null,null,"Falta Orçamento"]
[296,null,null,null,null,null,null,null,null,"Falta Orçamento"]
[297,null,null,null,null,null,null,null,null,"Falta Orçamento"]
[298,null,null,null,null,null,null,null,null,"Falta Orçamento"]
[299,null,null,null,null,null,null,null,null,"Falta Orçamento"]
[300,null,null,null,null,null,null,null,null,"Falta Orçamento"]
[301,null,null,null,null,null,null,null,null,"Falta Orçamento"]
[302,null,null,null,null,null,null,null,null,"Falta Orçamento"]
[303,null,null,null,null,null,null,null,null,"Falta Orçamento"]
[304,null,null,null,null,null,null,null,null,"Falta Orçamento"]
[305,null,null,null,null,null,null,null,null,"Falta Orçamento"]
[306,null,null,null,null,null,null,null,null,"Falta Orçamento"]
[307,null,null,null,null,null,null,null,null,"Falta Orçamento"]
[308,null,null,null,null,null,null,null,null,"Falta Orçamento"]
[309,null,null,null,null,null,null,null,null,"Falta Orçamento"]
[310,null,null,null,null,null,null,null,null,"Falta Orçamento"]
[311,null,null,null,null,null,null,null,null,"Falta Orçamento"]
[312,null,null,null,null,null,null,null,null,"Falta Orçamento"]
[313,null,null,null,null,null,null,null,null,"Falta Orçamento"]
[314,null,null,null,null,null,null,null,null,"Falta Orçamento"]
[315,null,null,null,null,null,null,null,null,"Falta Orçamento"]
[316,null,null,null,null,null,null,null,null,"Falta Orçamento"]
[317,null,null,null,null,null,null,null,null,"Falta Orçamento"]
[318,null,null,null,null,null,null,null,null,"Falta Orçamento"]
[319,null,null,null,null,null,null,null,null,"Falta Orçamento"]
[320,null,null,null,null,null,null,null,null,"Falta Orçamento"]
[321,null,null,null,null,null,null,null,null,{"$f":"IF(AND(D336<>\"\",F336<>\"\",H336<>\"\"),AVERAGE(D336:H336),\"Falta Orçamento\")","v":"Falta Orçamento"}]
[322,null,null,null,null,null,null,null,null,"Falta Orçamento"]
[323,null,null,null,null,null,null,null,null,"Falta Orçamento"]
[324,null,null,null,null,null,null,null,null,"Falta Orçamento"]
[325,null,null,null,null,null,null,null,null,"Falta Orçamento"]
[326,null,null,null,null,null,null,null,null,"Falta Orçamento"]
[327,null,null,null,null,null,null,null,null,"Falta Orçamento"]
[328,null,null,null,null,null,null,null,null,"Falta Orçamento"]
[329,null,null,null,null,null,null,null,null,"Falta Orçamento"]
[330,null,null,null,null,null,null,null,null,"Falta Orçamento"]
[331,null,null,null,null,null,null,null,null,"Falta Orçamento"]
[332,null,null,null,null,null,null,null,null,"Falta Orçamento"]
[333,null,null,null,null,null,null,null,null,"Falta Orçamento"]
[334,null,null,null,null,null,null,null,null,"Falta Orçamento"]
[335,null,null,null,null,null,null,null,null,"Falta Orçamento"]
[336,null,null,null,null,null,null,null,null,"Falta Orçamento"]
[337,null,null,null,null,null,null,null,null,"Falta Orçamento"]
[338,null,null,null,null,null,null,null,null,"Falta Orçamento"]
[339,null,null,null,null,null,null,null,null,"Falta Orçamento"]
[340,null,null,null,null,null,null,null,null,"Falta Orçamento"]
[341,null,null,null,null,null,null,null,null,"Falta Orçamento"]
[342,null,null,null,null,null,null,null,null,"Falta Orçamento"]
[343,null,null,null,null,null,null,null,null,"Falta Orçamento"]
[344,null,null,null,null,null,null,null,null,"Falta Orçamento"]
[345,null,null,null,null,null,null,null,null,"Falta Orçamento"]
[346,null,null,null,null,null,null,null,null,"Falta Orçamento"]
[347,null,null,null,null,null,null,null,null,"Falta Orçamento"]
[348,null,null,null,null,null,null,null,null,"Falta Orçamento"]
[349,null,null,null,null,null,null,null,null,"Falta Orçamento"]
[350,null,null,null,null,null,null,null,null,"Falta Orçamento"]
[351,null,null,null,null,null,null,null,null,"Falta Orçamento"]
[352,null,null,null,null,null,null,null,null,"Falta Orçamento"]
[353,null,null,null,null,null,null,null,null,"Falta Orçamento"]
[354,null,null,null,null,null,null,null,null,"Falta Orçamento"]
[355,null,null,null,null,null,null,null,null,"Falta Orçamento"]
[356,null,null,null,null,null,null,null,null,"Falta Orçamento"]
[357,null,null,null,null,null,null,null,null,"Falta Orçamento"]
[358,null,null,null,null,null,null,null,null,"Falta Orçamento"]
[359,null,null,null,null,null,null,null,null,"Falta Orçamento"]
[360,null,null,null,null,null,null,null,null,"Falta Orçamento"]
[361,null,null,null,null,null,null,null,null,"Falta Orçamento"]
[362,null,null,null,null,null,null,null,null,"Falta Orçamento"]
[363,null,null,null,null,null,null,null,null,"Falta Orçamento"]
[364,null,null,null,null,null,null,null,null,"Falta Orçamento"]
[365,null,null,null,null,null,null,null,null,"Falta Orçamento"]
[366,null,null,null,null,null,null,null,null,"Falta Orçamento"]
[367,null,null,null,null,null,null,null,null,"Falta Orçamento"]
[368,null,null,null,null,null,null,null,null,"Falta Orçamento"]
[369,null,null,null,null,null,null,null,null,"Falta Orçamento"]
[370,null,null,null,null,null,null,null,null,"Falta Orçamento"]
[371,null,null,null,null,null,null,null,null,"Falta Orçamento"]
[372,null,null,null,null,null,null,null,null,"Falta Orçamento"]
[373,null,null,null,null,null,null,null,null,"Falta Orçamento"]
[374,null,null,null,null,null,null,null,null,"Falta Orçamento"]
[375,null,null,null,null,null,null,null,null,"Falta Orçamento"]
[376,null,null,null,null,null,null,null,null,"Falta Orçamento"]
[377,null,null,null,null,null,null,null,null,"Falta Orçamento"]
[378,null,null,null,null,null,null,null,null,"Falta Orçamento"]
[379,null,null,null,null,null,null,null,null,"Falta Orçamento"]
[380,null,null,null,null,null,null,null,null,"Falta Orçamento"]
[381,null,null,null,null,null,null,null,null,"Falta Orçamento"]
[382,null,null,null,null,null,null,null,null,"Falta Orçamento"]
[383,null,null,null,null,null,null,null,null,"Falta Orçamento"]
[384,null,null,null,null,null,null,null,null,"Falta Orçamento"]
[385,null,null,null,null,null,null,null,null,{"$f":"IF(AND(D400<>\"\",F400<>\"\",H400<>\"\"),AVERAGE(D400:H400),\"Falta Orçamento\")","v":"Falta Orçamento"}]
[386,null,null,null,null,null,null,null,null,"Falta Orçamento"]
[387,null,null,null,null,null,null,null,null,"Falta Orçamento"]
[388,null,null,null,null,null,null,null,null,"Falta Orçamento"]
[389,null,null,null,null,null,null,null,null,"Falta Orçamento"]
[390,null,null,null,null,null,null,null,null,"Falta Orçamento"]
[391,null,null,null,null,null,null,null,null,"Falta Orçamento"]
[392,null,null,null,null,null,null,null,null,"Falta Orçamento"]
[393,null,null,null,null,null,null,null,null,"Falta Orçamento"]
[394,null,null,null,null,null,null,null,null,"Falta Orçamento"]
[395,null,null,null,null,null,null,null,null,"Falta Orçamento"]
[396,null,null,null,null,null,null,null,null,"Falta Orçamento"]
[397,null,null,null,null,null,null,null,null,"Falta Orçamento"]
[398,null,null,null,null,null,null,null,null,"Falta Orçamento"]
[399,null,null,null,null,null,null,null,null,"Falta Orçamento"]
[400,null,null,null,null,null,null,null,null,"Falta Orçamento"]
[401,null,null,null,null,null,null,null,null,"Falta Orçamento"]
[402,null,null,null,null,null,null,null,null,"Falta Orçamento"]
[403,null,null,null,null,null,null,null,null,"Falta Orçamento"]
[404,null,null,null,null,null,null,null,null,"Falta Orçamento"]
[405,null,null,null,null,null,null,null,null,"Falta Orçamento"]
[406,null,null,null,null,null,null,null,null,"Falta Orçamento"]
[407,null,null,null,null,null,null,null,null,"Falta Orçamento"]
[408,null,null,null,null,null,null,null,null,"Falta Orçamento"]
[409,null,null,null,null,null,null,null,null,"Falta Orçamento"]
[410,null,null,null,null,null,null,null,null,"Falta Orçamento"]
[411,null,null,null,null,null,null,null,null,"Falta Orçamento"]
[412,null,null,null,null,null,null,null,null,"Falta Orçamento"]
[413,null,null,null,null,null,null,null,null,"Falta Orçamento"]
[414,null,null,null,null,null,null,null,null,"Falta Orçamento"]
[415,null,null,null,null,null,null,null,null,"Falta Orçamento"]
[416,null,null,null,null,null,null,null,null,"Falta Orçamento"]
[417,null,null,null,null,null,null,null,null,"Falta Orçamento"]
[418,null,null,null,null,null,null,null,null,"Falta Orçamento"]
[419,null,null,null,null,null,null,null,null,"Falta Orçamento"]
[420,null,null,null,null,null,null,null,null,"Falta Orçamento"]
[421,null,null,null,null,null,null,null,null,"Falta Orçamento"]
[422,null,null,null,null,null,null,null,null,"Falta Orçamento"]
[423,null,null,null,null,null,null,null,null,"Falta Orçamento"]
[424,null,null,null,null,null,null,null,null,"Falta Orçamento"]
[425,null,null,null,null,null,null,null,null,"Falta Orçamento"]
[426,null,null,null,null,null,null,null,null,"Falta Orçamento"]
[427,null,null,null,null,null,null,null,null,"Falta Orçamento"]
[428,null,null,null,null,null,null,null,null,"Falta Orçamento"]
[429,null,null,null,null,null,null,null,null,"Falta Orçamento"]
[430,null,null,null,null,null,null,null,null,"Falta Orçamento"]
[431,null,null,null,null,null,null,null,null,"Falta Orçamento"]
[432,null,null,null,null,null,null,null,null,"Falta Orçamento"]
[433,null,null,null,null,null,null,null,null,"Falta Orçamento"]
[434,null,null,null,null,null,null,null,null,"Falta Orçamento"]
[435,null,null,null,null,null,null,null,null,"Falta Orçamento"]
[436,null,null,null,null,null,null,null,null,"Falta Orçamento"]
[437,null,null,null,null,null,null,null,null,"Falta Orçamento"]
[438,null,null,null,null,null,null,null,null,"Falta Orçamento"]
[439,null,null,null,null,null,null,null,null,"Falta Orçamento"]
[440,null,null,null,null,null,null,null,null,"Falta Orçamento"]
[441,null,null,null,null,null,null,null,null,"Falta Orçamento"]
[442,null,null,null,null,null,null,null,null,"Falta Orçamento"]
[443,null,null,null,null,null,null,null,null,"Falta Orçamento"]
[444,null,null,null,null,null,null,null,null,"Falta Orçamento"]
[445,null,null,null,null,null,null,null,null,"Falta Orçamento"]
[446,null,null,null,null,null,null,null,null,"Falta Orçamento"]
[447,null,null,null,null,null,null,null,null,"Falta Orçamento"]
[448,null,null,null,null,null,null,null,null,"Falta Orçamento"]
[449,null,null,null,null,null,null,null,null,{"$f":"IF(AND(D464<>\"\",F464<>\"\",H464<>\"\"),AVERAGE(D464:H464),\"Falta Orçamento\")","v":"Falta Orçamento"}]
[450,null,null,null,null,null,null,null,null,"Falta Orçamento"]
[451,null,null,null,null,null,null,null,null,"Falta Orçamento"]
[452,null,null,null,null,null,null,null,null,"Falta Orçamento"]
[453,null,null,null,null,null,null,null,null,"Falta Orçamento"]
[454,null,null,null,null,null,null,null,null,"Falta Orçamento"]
[455,null,null,null,null,null,null,null,null,"Falta Orçamento"]
[456,null,null,null,null,null,null,null,null,"Falta Orçamento"]
[457,null,null,null,null,null,null,null,null,"Falta Orçamento"]
[458,null,null,null,null,null,null,null,null,"Falta Orçamento"]
[459,null,null,null,null,null,null,null,null,"Falta Orçamento"]
[460,null,null,null,null,null,null,null,null,"Falta Orçamento"]
[461,null,null,null,null,null,null,null,null,"Falta Orçamento"]
[462,null,null,null,null,null,null,null,null,"Falta Orçamento"]
[463,null,null,null,null,null,null,null,null,"Falta Orçamento"]
[464,null,null,null,null,null,null,null,null,"Falta Orçamento"]
[465,null,null,null,null,null,null,null,null,"Falta Orçamento"]
[466,null,null,null,null,null,null,null,null,"Falta Orçamento"]
[467,null,null,null,null,null,null,null,null,"Falta Orçamento"]
[468,null,null,null,null,null,null,null,null,"Falta Orçamento"]
[469,null,null,null,null,null,null,null,null,"Falta Orçamento"]
[470,null,null,null,null,null,null,null,null,"Falta Orçamento"]
[471,null,null,null,null,null,null,null,null,"Falta Orçamento"]
[472,null,null,null,null,null,null,null,null,"Falta Orçamento"]
[473,null,null,null,null,null,null,null,null,"Falta Orçamento"]
[474,null,null,null,null,null,null,null,null,"Falta Orçamento"]
[475,null,null,null,null,null,null,null,null,"Falta Orçamento"]
[476,null,null,null,null,null,null,null,null,"Falta Orçamento"]
[477,null,null,null,null,null,null,null,null,"Falta Orçamento"]
[478,null,null,null,null,null,null,null,null,"Falta Orçamento"]
[479,null,null,null,null,null,null,null,null,"Falta Orçamento"]
[480,null,null,null,null,null,null,null,null,"Falta Orçamento"]
[481,null,null,null,null,null,null,null,null,"Falta Orçamento"]
[482,null,null,null,null,null,null,null,null,"Falta Orçamento"]
[483,null,null,null,null,null,null,null,null,"Falta Orçamento"]
[484,null,null,null,null,null,null,null,null,"Falta Orçamento"]
[485,null,null,null,null,null,null,null,null,"Falta Orçamento"]
[486,null,null,null,null,null,null,null,null,"Falta Orçamento"]
[487,null,null,null,null,null,null,null,null,"Falta Orçamento"]
[488,null,null,null,null,null,null,null,null,"Falta Orçamento"]
[489,null,null,null,null,null,null,null,null,"Falta Orçamento"]
[490,null,null,null,null,null,null,null,null,"Falta Orçamento"]
[491,null,null,null,null,null,null,null,null,"Falta Orçamento"]
[492,null,null,null,null,null,null,null,null,"Falta Orçamento"]
[493,null,null,null,null,null,null,null,null,"Falta Orçamento"]
[494,null,null,null,null,null,null,null,null,"Falta Orçamento"]
[495,null,null,null,null,null,null,null,null,"Falta Orçamento"]
[496,null,null,null,null,null,null,null,null,"Falta Orçamento"]
[497,null,null,null,null,null,null,null,null,"Falta Orçamento"]
[498,null,null,null,null,null,null,null,null,"Falta Orçamento"]
[499,null,null,null,null,null,null,null,null,"Falta Orçamento"]
[500,null,null,null,null,null,null,null,null,"Falta Orçamento"]
[501,null,null,null,null,null,null,null,null,"Falta Orçamento"]
[502,null,null,null,null,null,null,null,null,"Falta Orçamento"]
[503,null,null,null,null,null,null,null,null,"Falta Orçamento"]
[504,null,null,null,null,null,null,null,null,"Falta Orçamento"]
[505,null,null,null,null,null,null,null,null,"Falta Orçamento"]
[506,null,null,null,null,null,null,null,null,"Falta Orçamento"]
[507,null,null,null,null,null,null,null,null,"Falta Orçamento"]
[508,null,null,null,null,null,null,null,null,"Falta Orçamento"]
[509,null,null,null,null,null,null,null,null,"Falta Orçamento"]
[510,null,null,null,null,null,null,null,null,"Falta Orçamento"]
[511,null,null,null,null,null,null,null,null,"Falta Orçamento"]
[512,null,null,null,null,null,null,null,null,"Falta Orçamento"]
[513,null,null,null,null,null,null,null,null,{"$f":"IF(AND(D528<>\"\",F528<>\"\",H528<>\"\"),AVERAGE(D528:H528),\"Falta Orçamento\")","v":"Falta Orçamento"}]
[514,null,null,null,null,null,null,null,null,"Falta Orçamento"]
[515,null,null,null,null,null,null,null,null,"Falta Orçamento"]
[516,null,null,null,null,null,null,null,null,"Falta Orçamento"]
[517,null,null,null,null,null,null,null,null,"Falta Orçamento"]
[518,null,null,null,null,null,null,null,null,"Falta Orçamento"]
[519,null,null,null,null,null,null,null,null,"Falta Orçamento"]
[520,null,null,null,null,null,null,null,null,"Falta Orçamento"]
[521,null,null,null,null,null,null,null,null,"Falta Orçamento"]
[522,null,null,null,null,null,null,null,null,"Falta Orçamento"]
[523,null,null,null,null,null,null,null,null,"Falta Orçamento"]
[524,null,null,null,null,null,null,null,null,"Falta Orçamento"]
[525,null,null,null,null,null,null,null,null,"Falta Orçamento"]
[526,null,null,null,null,null,null,null,null,"Falta Orçamento"]
[527,null,null,null,null,null,null,null,null,"Falta Orçamento"]
[528,null,null,null,null,null,null,null,null,"Falta Orçamento"]
[529,null,null,null,null,null,null,null,null,"Falta Orçamento"]
[530,null,null,null,null,null,null,null,null,"Falta Orçamento"]
[531,null,null,null,null,null,null,null,null,"Falta Orçamento"]
[532,null,null,null,null,null,null,null,null,"Falta Orçamento"]
[533,null,null,null,null,null,null,null,null,"Falta Orçamento"]
[534,null,null,null,null,null,null,null,null,"Falta Orçamento"]
[535,null,null,null,null,null,null,null,null,"Falta Orçamento"]
[536,null,null,null,null,null,null,null,null,"Falta Orçamento"]
[537,null,null,null,null,null,null,null,null,"Falta Orçamento"]
[538,null,null,null,null,null,null,null,null,"Falta Orçamento"]
[539,null,null,null,null,null,null,null,null,"Falta Orçamento"]
[540,null,null,null,null,null,null,null,null,"Falta Orçamento"]
[541,null,null,null,null,null,null,null,null,"Falta Orçamento"]
[542,null,null,null,null,null,null,null,null,"Falta Orçamento"]
[543,null,null,null,null,null,null,null,null,"Falta Orçamento"]
[544,null,null,null,null,null,null,null,null,"Falta Orçamento"]
[545,null,null,null,null,null,null,null,null,"Falta Orçamento"]
[546,null,null,null,null,null,null,null,null,"Falta Orçamento"]
[547,null,null,null,null,null,null,null,null,"Falta Orçamento"]
[548,null,null,null,null,null,null,null,null,"Falta Orçamento"]
[549,null,null,null,null,null,null,null,null,"Falta Orçamento"]
[550,null,null,null,null,null,null,null,null,"Falta Orçamento"]
[551,null,null,null,null,null,null,null,null,"Falta Orçamento"]
[552,null,null,null,null,null,null,null,null,"Falta Orçamento"]
[553,null,null,null,null,null,null,null,null,"Falta Orçamento"]
[554,null,null,null,null,null,null,null,null,"Falta Orçamento"]
[555,null,null,null,null,null,null,null,null,"Falta Orçamento"]
[556,null,null,null,null,null,null,null,null,"Falta Orçamento"]
[557,null,null,null,null,null,null,null,null,"Falta Orçamento"]
[558,null,null,null,null,null,null,null,null,"Falta Orçamento"]
[559,null,null,null,null,null,null,null,null,"Falta Orçamento"]
[560,null,null,null,null,null,null,null,null,"Falta Orçamento"]
[561,null,null,null,null,null,null,null,null,"Falta Orçamento"]
[562,null,null,null,null,null,null,null,null,"Falta Orçamento"]
[563,null,null,null,null,null,null,null,null,"Falta Orçamento"]
[564,null,null,null,null,null,null,null,null,"Falta Orçamento"]
[565,null,null,null,null,null,null,null,null,"Falta Orçamento"]
[566,null,null,null,null,null,null,null,null,"Falta Orçamento"]
[567,null,null,null,null,null,null,null,null,"Falta Orçamento"]
[568,null,null,null,null,null,null,null,null,"Falta Orçamento"]
[569,null,null,null,null,null,null,null,null,"Falta Orçamento"]
[570,null,null,null,null,null,null,null,null,"Falta Orçamento"]
[571,null,null,null,null,null,null,null,null,"Falta Orçamento"]
[572,null,null,null,null,null,null,null,null,"Falta Orçamento"]
[573,null,null,null,null,null,null,null,null,"Falta Orçamento"]
[574,null,null,null,null,null,null,null,null,"Falta Orçamento"]
[575,null,null,null,null,null,null,null,null,"Falta Orçamento"]
[576,null,null,null,null,null,null,null,null,"Falta Orçamento"]
[577,null,null,null,null,null,null,null,null,{"$f":"IF(AND(D592<>\"\",F592<>\"\",H592<>\"\"),AVERAGE(D592:H592),\"Falta Orçamento\")","v":"Falta Orçamento"}]
[578,null,null,null,null,null,null,null,null,"Falta Orçamento"]
[579,null,null,null,null,null,null,null,null,"Falta Orçamento"]
[580,null,null,null,null,null,null,null,null,"Falta Orçamento"]
[581,null,null,null,null,null,null,null,null,"Falta Orçamento"]
[582,null,null,null,null,null,null,null,null,"Falta Orçamento"]
[583,null,null,null,null,null,null,null,null,"Falta Orçamento"]
[584,null,null,null,null,null,null,null,null,"Falta Orçamento"]
[585,null,null,null,null,null,null,null,null,"Falta Orçamento"]
[586,null,null,null,null,null,null,null,null,"Falta Orçamento"]
[587,null,null,null,null,null,null,null,null,"Falta Orçamento"]
[588,null,null,null,null,null,null,null,null,"Falta Orçamento"]
[589,null,null,null,null,null,null,null,null,"Falta Orçamento"]
[590,null,null,null,null,null,null,null,null,"Falta Orçamento"]
[591,null,null,null,null,null,null,null,null,"Falta Orçamento"]
[592,null,null,null,null,null,null,null,null,"Falta Orçamento"]
[593,null,null,null,null,null,null,null,null,"Falta Orçamento"]
[594,null,null,null,null,null,null,null,null,"Falta Orçamento"]
[595,null,null,null,null,null,null,null,null,"Falta Orçamento"]
[596,null,null,null,null,null,null,null,null,"Falta Orçamento"]
[597,null,null,null,null,null,null,null,null,"Falta Orçamento"]
[598,null,null,null,null,null,null,null,null,"Falta Orçamento"]
[599,null,null,null,null,null,null,null,null,"Falta Orçamento"]
[600,null,null,null,null,null,null,null,null,"Falta Orçamento"]
[601,null,null,null,null,null,null,null,null,"Falta Orçamento"]
[602,null,null,null,null,null,null,null,null,"Falta Orçamento"]
[603,null,null,null,null,null,null,null,null,"Falta Orçamento"]
[604,null,null,null,null,null,null,null,null,"Falta Orçamento"]
[605,null,null,null,null,null,null,null,null,"Falta Orçamento"]
[606,null,null,null,null,null,null,null,null,"Falta Orçamento"]
[607,null,null,null,null,null,null,null,null,"Falta Orçamento"]
[608,null,null,null,null,null,null,null,null,"Falta Orçamento"]
[609,null,null,null,null,null,null,null,null,"Falta Orçamento"]
[610,null,null,null,null,null,null,null,null,"Falta Orçamento"]
[611,null,null,null,null,null,null,null,null,"Falta Orçamento"]
[612,null,null,null,null,null,null,null,null,"Falta Orçamento"]
[613,null,null,null,null,null,null,null,null,"Falta Orçamento"]
[614,null,null,null,null,null,null,null,null,"Falta Orçamento"]
[615,null,null,null,null,null,null,null,null,"Falta Orçamento"]
[616,null,null,null,null,null,null,null,null,"Falta Orçamento"]
[617,null,null,null,null,null,null,null,null,"Falta Orçamento"]
[618,null,null,null,null,null,null,null,null,"Falta Orçamento"]
[619,null,null,null,null,null,null,null,null,"Falta Orçamento"]
[620,null,null,null,null,null,null,null,null,"Falta Orçamento"]
[621,null,null,null,null,null,null,null,null,"Falta Orçamento"]
[622,null,null,null,null,null,null,null,null,"Falta Orçamento"]
[623,null,null,null,null,null,null,null,null,"Falta Orçamento"]
[624,null,null,null,null,null,null,null,null,"Falta Orçamento"]
[625,null,null,null,null,null,null,null,null,"Falta Orçamento"]
[626,null,null,null,null,null,null,null,null,"Falta Orçamento"]
[627,null,null,null,null,null,null,null,null,"Falta Orçamento"]
[628,null,null,null,null,null,null,null,null,"Falta Orçamento"]
[629,null,null,null,null,null,null,null,null,"Falta Orçamento"]
[630,null,null,null,null,null,null,null,null,"Falta Orçamento"]
[631,null,null,null,null,null,null,null,null,"Falta Orçamento"]
[632,null,null,null,null,null,null,null,null,"Falta Orçamento"]
[633,null,null,null,null,null,null,null,null,"Falta Orçamento"]
[634,null,null,null,null,null,null,null,null,"Falta Orçamento"]
[635,null,null,null,null,null,null,null,null,"Falta Orçamento"]
[636,null,null,null,null,null,null,null,null,"Falta Orçamento"]
[637,null,null,null,null,null,null,null,null,"Falta Orçamento"]
[638,null,null,null,null,null,null,null,null,"Falta Orçamento"]
[639,null,null,null,null,null,null,null,null,"Falta Orçamento"]
[640,null,null,null,null,null,null,null,null,"Falta Orçamento"]
[641,null,null,null,null,null,null,null,null,{"$f":"IF(AND(D656<>\"\",F656<>\"\",H656<>\"\"),AVERAGE(D656:H656),\"Falta Orçamento\")","v":"Falta Orçamento"}]
[642,null,null,null,null,null,null,null,null,"Falta Orçamento"]
[643,null,null,null,null,null,null,null,null,"Falta Orçamento"]
[644,null,null,null,null,null,null,null,null,"Falta Orçamento"]
[645,null,null,null,null,null,null,null,null,"Falta Orçamento"]
[646,null,null,null,null,null,null,null,null,"Falta Orçamento"]
[647,null,null,null,null,null,null,null,null,"Falta Orçamento"]
[648,null,null,null,null,null,null,null,null,"Falta Orçamento"]
[649,null,null,null,null,null,null,null,null,"Falta Orçamento"]
[650,null,null,null,null,null,null,null,null,"Falta Orçamento"]
[651,null,null,null,null,null,null,null,null,"Falta Orçamento"]
[652,null,null,null,null,null,null,null,null,"Falta Orçamento"]
[653,null,null,null,null,null,null,null,null,"Falta Orçamento"]
[654,null,null,null,null,null,null,null,null,"Falta Orçamento"]
[655,null,null,null,null,null,null,null,null,"Falta Orçamento"]
[656,null,null,null,null,null,null,null,null,"Falta Orçamento"]
[657,null,null,null,null,null,null,null,null,"Falta Orçamento"]
[658,null,null,null,null,null,null,null,null,"Falta Orçamento"]
[659,null,null,null,null,null,null,null,null,"Falta Orçamento"]
[660,null,null,null,null,null,null,null,null,"Falta Orçamento"]
[661,null,null,null,null,null,null,null,null,"Falta Orçamento"]
[662,null,null,null,null,null,null,null,null,"Falta Orçamento"]
[663,null,null,null,null,null,null,null,null,"Falta Orçamento"]
[664,null,null,null,null,null,null,null,null,"Falta Orçamento"]
[665,null,null,null,null,null,null,null,null,"Falta Orçamento"]
[666,null,null,null,null,null,null,null,null,"Falta Orçamento"]
[667,null,null,null,null,null,null,null,null,"Falta Orçamento"]
[668,null,null,null,null,null,null,null,null,"Falta Orçamento"]
[669,null,null,null,null,null,null,null,null,"Falta Orçamento"]
[670,null,null,null,null,null,null,null,null,"Falta Orçamento"]
[671,null,null,null,null,null,null,null,null,"Falta Orçamento"]
[672,null,null,null,null,null,null,null,null,"Falta Orçamento"]
[673,null,null,null,null,null,null,null,null,"Falta Orçamento"]
[674,null,null,null,null,null,null,null,null,"Falta Orçamento"]
[675,null,null,null,null,null,null,null,null,"Falta Orçamento"]
[676,null,null,null,null,null,null,null,null,"Falta Orçamento"]
[677,null,null,null,null,null,null,null,null,"Falta Orçamento"]
[678,null,null,null,null,null,null,null,null,"Falta Orçamento"]
[679,null,null,null,null,null,null,null,null,"Falta Orçamento"]
[680,null,null,null,null,null,null,null,null,"Falta Orçamento"]
[681,null,null,null,null,null,null,null,null,"Falta Orçamento"]
[682,null,null,null,null,null,null,null,null,"Falta Orçamento"]
[683,null,null,null,null,null,null,null,null,"Falta Orçamento"]
[684,null,null,null,null,null,null,null,null,"Falta Orçamento"]
[685,null,null,null,null,null,null,null,null,"Falta Orçamento"]
[686,null,null,null,null,null,null,null,null,"Falta Orçamento"]
[687,null,null,null,null,null,null,null,null,"Falta Orçamento"]
[688,null,null,null,null,null,null,null,null,"Falta Orçamento"]
[689,null,null,null,null,null,null,null,null,"Falta Orçamento"]
[690,null,null,null,null,null,null,null,null,"Falta Orçamento"]
[691,null,null,null,null,null,null,null,null,"Falta Orçamento"]
[692,null,null,null,null,null,null,null,null,"Falta Orçamento"]
[693,null,null,null,null,null,null,null,null,"Falta Orçamento"]
[694,null,null,null,null,null,null,null,null,"Falta Orçamento"]
[695,null,null,null,null,null,null,null,null,"Falta Orçamento"]
[696,null,null,null,null,null,null,null,null,"Falta Orçamento"]
[697,null,null,null,null,null,null,null,null,"Falta Orçamento"]
[698,null,null,null,null,null,null,null,null,"Falta Orçamento"]
[699,null,null,null,null,null,null,null,null,"Falta Orçamento"]
[700,null,null,null,null,null,null,null,null,"Falta Orçamento"]
[701,null,null,null,null,null,null,null,null,"Falta Orçamento"]
[702,null,null,null,null,null,null,null,null,"Falta Orçamento"]
[703,null,null,null,null,null,null,null,null,"Falta Orçamento"]
[704,null,null,null,null,null,null,null,null,"Falta Orçamento"]
[705,null,null,null,null,null,null,null,null,{"$f":"IF(AND(D720<>\"\",F720<>\"\",H720<>\"\"),AVERAGE(D720:H720),\"Falta Orçamento\")","v":"Falta Orçamento"}]
[706,null,null,null,null,null,null,null,null,"Falta Orçamento"]
[707,null,null,null,null,null,null,null,null,"Falta Orçamento"]
[708,null,null,null,null,null,null,null,null,"Falta Orçamento"]
[709,null,null,null,null,null,null,null,null,"Falta Orçamento"]
[710,null,null,null,null,null,null,null,null,"Falta Orçamento"]
[711,null,null,null,null,null,null,null,null,"Falta Orçamento"]
[712,null,null,null,null,null,null,null,null,"Falta Orçamento"]
[713,null,null,null,null,null,null,null,null,"Falta Orçamento"]
[714,null,null,null,null,null,null,null,null,"Falta Orçamento"]
[715,null,null,null,null,null,null,null,null,"Falta Orçamento"]
[716,null,null,null,null,null,null,null,null,"Falta Orçamento"]
[717,null,null,null,null,null,null,null,null,"Falta Orçamento"]
[718,null,null,null,null,null,null,null,null,"Falta Orçamento"]
[719,null,null,null,null,null,null,null,null,"Falta Orçamento"]
[720,null,null,null,null,null,null,null,null,"Falta Orçamento"]
[721,null,null,null,null,null,null,null,null,"Falta Orçamento"]
[722,null,null,null,null,null,null,null,null,"Falta Orçamento"]
[723,null,null,null,null,null,null,null,null,"Falta Orçamento"]
[724,null,null,null,null,null,null,null,null,"Falta Orçamento"]
[725,null,null,null,null,null,null,null,null,"Falta Orçamento"]
[726,null,null,null,null,null,null,null,null,"Falta Orçamento"]
[727,null,null,null,null,null,null,null,null,"Falta Orçamento"]
[728,null,null,null,null,null,null,null,null,"Falta Orçamento"]
[729,null,null,null,null,null,null,null,null,"Falta Orçamento"]
[730,null,null,null,null,null,null,null,null,"Falta Orçamento"]
[731,null,null,null,null,null,null,null,null,"Falta Orçamento"]
[732,null,null,null,null,null,null,null,null,"Falta Orçamento"]
[733,null,null,null,null,null,null,null,null,"Falta Orçamento"]
[734,null,null,null,null,null,null,null,null,"Falta Orçamento"]
[735,null,null,null,null,null,null,null,null,"Falta Orçamento"]
[736,null,null,null,null,null,null,null,null,"Falta Orçamento"]
[737,null,null,null,null,null,null,null,null,"Falta Orçamento"]
[738,null,null,null,null,null,null,null,null,"Falta Orçamento"]
[739,null,null,null,null,null,null,null,null,"Falta Orçamento"]
[740,null,null,null,null,null,null,null,null,"Falta Orçamento"]
[741,null,null,null,null,null,null,null,null,"Falta Orçamento"]
[742,null,null,null,null,null,null,null,null,"Falta Orçamento"]
[743,null,null,null,null,null,null,null,null,"Falta Orçamento"]
[744,null,null,null,null,null,null,null,null,"Falta Orçamento"]
[745,null,null,null,null,null,null,null,null,"Falta Orçamento"]
[746,null,null,null,null,null,null,null,null,"Falta Orçamento"]
[747,null,null,null,null,null,null,null,null,"Falta Orçamento"]
[748,null,null,null,null,null,null,null,null,"Falta Orçamento"]
[749,null,null,null,null,null,null,null,null,"Falta Orçamento"]
[750,null,null,null,null,null,null,null,null,"Falta Orçamento"]
[751,null,null,null,null,null,null,null,null,"Falta Orçamento"]
[752,null,null,null,null,null,null,null,null,"Falta Orçamento"]
[753,"UND",null,null,null,null,null,null,null,"Falta Orçamento"]
[754,"UND",null,null,null,null,null,null,null,"Falta Orçamento"]
[755,"CX C/100",null,null,null,null,null,null,null,"Falta Orçamento"]
[756,"CX C/50",null,null,null,null,null,null,null,"Falta Orçamento"]
[757,"CX C/100",null,null,null,null,null,null,null,"Falta Orçamento"]
[758,"CX",null,null,null,null,null,null,null,"Falta Orçamento"]
[759,null,null,null,null,null,null,null,null,"Falta Orçamento"]
[760,null,null,null,null,null,null,null,null,"Falta Orçamento"]
[761,null,null,null,null,null,null,null,null,"Falta Orçamento"]
[762,null,null,null,null,null,null,null,null,"Falta Orçamento"]
[763,null,null,null,null,null,null,null,null,"Falta Orçamento"]
[764,null,null,null,null,null,null,null,null,"Falta Orçamento"]
[765,null,null,null,null,null,null,null,null,"Falta Orçamento"]
[766,null,null,null,null,null,null,null,null,"Falta Orçamento"]
[767,"Unid.",null,null,null,null,null,null,null,"Falta Orçamento"]
[768,"Unid.",null,null,null,null,null,null,null,"Falta Orçamento"]
[769,"Unid.",null,null,null,null,null,null,null,{"$f":"IF(AND(D784<>\"\",F784<>\"\",H784<>\"\"),AVERAGE(D784:H784),\"Falta Orçamento\")","v":"Falta Orçamento"}]
[770,"Unid.",null,null,null,null,null,null,null,"Falta Orçamento"]
[771,"Unid.",null,null,null,null,null,null,null,"Falta Orçamento"]
[772,null,null,null,null,null,null,null,null,"Falta Orçamento"]
[773,null,null,null,null,null,null,null,null,"Falta Orçamento"]
[774,null,null,null,null,null,null,null,null,"Falta Orçamento"]
[775,null,null,null,null,null,null,null,null,"Falta Orçamento"]
[776,null,null,null,null,null,null,null,null,"Falta Orçamento"]
[777,null,null,null,null,null,null,null,null,"Falta Orçamento"]
[778,null,null,null,null,null,null,null,null,"Falta Orçamento"]
[779,null,null,null,null,null,null,null,null,"Falta Orçamento"]
[780,null,null,null,null,null,null,null,null,"Falta Orçamento"]
[781,null,null,null,null,null,null,null,null,"Falta Orçamento"]
[782,null,null,null,null,null,null,null,null,"Falta Orçamento"]
[783,null,null,null,null,null,null,null,null,"Falta Orçamento"]
[784,null,null,null,null,null,null,null,null,"Falta Orçamento"]
[785,null,null,null,null,null,null,null,null,"Falta Orçamento"]
[786,null,null,null,null,null,null,null,null,"Falta Orçamento"]
[787,null,null,null,null,null,null,null,null,"Falta Orçamento"]
[788,null,null,null,null,null,null,null,null,"Falta Orçamento"]
[789,null,null,null,null,null,null,null,null,"Falta Orçamento"]
[790,null,null,null,null,null,null,null,null,"Falta Orçamento"]
[791,null,null,null,null,null,null,null,null,"Falta Orçamento"]
[792,null,null,null,null,null,null,null,null,"Falta Orçamento"]
[793,null,null,null,null,null,null,null,null,"Falta Orçamento"]
[794,null,null,null,null,null,null,null,null,"Falta Orçamento"]
[795,null,null,null,null,null,null,null,null,"Falta Orçamento"]
[796,null,null,null,null,null,null,null,null,"Falta Orçamento"]
[797,null,null,null,null,null,null,null,null,"Falta Orçamento"]
[798,null,null,null,null,null,null,null,null,"Falta Orçamento"]
[799,null,null,null,null,null,null,null,null,"Falta Orçamento"]
[800,null,null,null,null,null,null,null,null,"Falta Orçamento"]
[801,null,null,null,null,null,null,null,null,"Falta Orçamento"]
[802,null,null,null,null,null,null,null,null,"Falta Orçamento"]
[803,null,null,null,null,null,null,null,null,"Falta Orçamento"]
[804,null,null,null,null,null,null,null,null,"Falta Orçamento"]
[805,null,null,null,null,null,null,null,null,"Falta Orçamento"]
[806,null,null,null,null,null,null,null,null,"Falta Orçamento"]
[807,null,null,null,null,null,null,null,null,"Falta Orçamento"]
[808,null,null,null,null,null,null,null,null,"Falta Orçamento"]
[809,null,null,null,null,null,null,null,null,"Falta Orçamento"]
[810,null,null,null,null,null,null,null,null,"Falta Orçamento"]
[811,null,null,null,null,null,null,null,null,"Falta Orçamento"]
[812,null,null,null,null,null,null,null,null,"Falta Orçamento"]
[813,null,null,null,null,null,null,null,null,"Falta Orçamento"]
[814,null,null,null,null,null,null,null,null,"Falta Orçamento"]
[815,null,null,null,null,null,null,null,null,"Falta Orçamento"]
[816,null,null,null,null,null,null,null,null,"Falta Orçamento"]
[817,null,null,null,null,null,null,null,null,"Falta Orçamento"]
[818,null,null,null,null,null,null,null,null,"Falta Orçamento"]
[819,null,null,null,null,null,null,null,null,"Falta Orçamento"]
[820,null,null,null,null,null,null,null,null,"Falta Orçamento"]
[821,null,null,null,null,null,null,null,null,"Falta Orçamento"]
[822,null,null,null,null,null,null,null,null,"Falta Orçamento"]
[823,null,null,null,null,null,null,null,null,"Falta Orçamento"]
[824,null,null,null,null,null,null,null,null,"Falta Orçamento"]
[825,null,null,null,null,null,null,null,null,"Falta Orçamento"]
[826,null,null,null,null,null,null,null,null,"Falta Orçamento"]
[827,null,null,null,null,null,null,null,null,"Falta Orçamento"]
[828,null,null,null,null,null,null,null,null,"Falta Orçamento"]
[829,null,null,null,null,null,null,null,null,"Falta Orçamento"]
[830,null,null,null,null,null,null,null,null,"Falta Orçamento"]
[831,null,null,null,null,null,null,null,null,"Falta Orçamento"]
[832,null,null,null,null,null,null,null,null,"Falta Orçamento"]
[833,null,null,null,null,null,null,null,null,{"$f":"IF(AND(D848<>\"\",F848<>\"\",H848<>\"\"),AVERAGE(D848:H848),\"Falta Orçamento\")","v":"Falta Orçamento"}]
[834,null,null,null,null,null,null,null,null,"Falta Orçamento"]
[835,null,null,null,null,null,null,null,null,"Falta Orçamento"]
[836,null,null,null,null,null,null,null,null,"Falta Orçamento"]
[837,null,null,null,null,null,null,null,null,"Falta Orçamento"]
[838,null,null,null,null,null,null,null,null,"Falta Orçamento"]
[839,null,null,null,null,null,null,null,null,"Falta Orçamento"]
[840,null,null,null,null,null,null,null,null,"Falta Orçamento"]
[841,null,null,null,null,null,null,null,null,"Falta Orçamento"]
[842,null,null,null,null,null,null,null,null,"Falta Orçamento"]
[843,null,null,null,null,null,null,null,null,"Falta Orçamento"]
[844,null,null,null,null,null,null,null,null,"Falta Orçamento"]
[845,null,null,null,null,null,null,null,null,"Falta Orçamento"]
[846,null,null,null,null,null,null,null,null,"Falta Orçamento"]
[847,null,null,null,null,null,null,null,null,"Falta Orçamento"]
[848,null,null,null,null,null,null,null,null,"Falta Orçamento"]
[849,null,null,null,null,null,null,null,null,"Falta Orçamento"]
[850,null,null,null,null,null,null,null,null,"Falta Orçamento"]
[851,null,null,null,null,null,null,null,null,"Falta Orçamento"]
[852,null,null,null,null,null,null,null,null,"Falta Orçamento"]
[853,null,null,null,null,null,null,null,null,"Falta Orçamento"]
[854,null,null,null,null,null,null,null,null,"Falta Orçamento"]
[855,null,null,null,null,null,null,null,null,"Falta Orçamento"]
[856,null,null,null,null,null,null,null,null,"Falta Orçamento"]
[857,null,null,null,null,null,null,null,null,"Falta Orçamento"]
[858,null,null,null,null,null,null,null,null,"Falta Orçamento"]
[859,null,null,null,null,null,null,null,null,"Falta Orçamento"]
[860,null,null,null,null,null,null,null,null,"Falta Orçamento"]
[861,null,{"$f":"IF('Requisição de Compra'!J887=\"\",\"\",VLOOKUP(A876,'Requisição de Compra'!$I$28:$J$3000,2,0))","v":""},null,null,null,null,null,null,{"$f":"IF(AND(D876<>\"\",F876<>\"\",H876<>\"\"),AVERAGE(D876:H876),\"Falta Orçamento\")","v":"Falta Orçamento"}]
[862,null,{"$f":"IF('Requisição de Compra'!J888=\"\",\"\",VLOOKUP(A877,'Requisição de Compra'!$I$28:$J$3000,2,0))","v":""},null,null,null,null,null,null,"Falta Orçamento"]
[863,null,{"$f":"IF('Requisição de Compra'!J889=\"\",\"\",VLOOKUP(A878,'Requisição de Compra'!$I$28:$J$3000,2,0))","v":""},null,null,null,null,null,null,"Falta Orçamento"]
[864,null,{"$f":"IF('Requisição de Compra'!J890=\"\",\"\",VLOOKUP(A879,'Requisição de Compra'!$I$28:$J$3000,2,0))","v":""},null,null,null,null,null,null,"Falta Orçamento"]
[865,null,{"$f":"IF('Requisição de Compra'!J891=\"\",\"\",VLOOKUP(A880,'Requisição de Compra'!$I$28:$J$3000,2,0))","v":""},null,null,null,null,null,null,"Falta Orçamento"]
[866,null,{"$f":"IF('Requisição de Compra'!J892=\"\",\"\",VLOOKUP(A881,'Requisição de Compra'!$I$28:$J$3000,2,0))","v":""},null,null,null,null,null,null,"Falta Orçamento"]
[867,null,{"$f":"IF('Requisição de Compra'!J893=\"\",\"\",VLOOKUP(A882,'Requisição de Compra'!$I$28:$J$3000,2,0))","v":""},null,null,null,null,null,null,"Falta Orçamento"]
[868,null,{"$f":"IF('Requisição de Compra'!J894=\"\",\"\",VLOOKUP(A883,'Requisição de Compra'!$I$28:$J$3000,2,0))","v":""},null,null,null,null,null,null,"Falta Orçamento"]
[869,null,{"$f":"IF('Requisição de Compra'!J895=\"\",\"\",VLOOKUP(A884,'Requisição de Compra'!$I$28:$J$3000,2,0))","v":""},null,null,null,null,null,null,"Falta Orçamento"]
[870,null,{"$f":"IF('Requisição de Compra'!J896=\"\",\"\",VLOOKUP(A885,'Requisição de Compra'!$I$28:$J$3000,2,0))","v":""},null,null,null,null,null,null,"Falta Orçamento"]
[871,null,{"$f":"IF('Requisição de Compra'!J897=\"\",\"\",VLOOKUP(A886,'Requisição de Compra'!$I$28:$J$3000,2,0))","v":""},null,null,null,null,null,null,"Falta Orçamento"]
[872,null,{"$f":"IF('Requisição de Compra'!J898=\"\",\"\",VLOOKUP(A887,'Requisição de Compra'!$I$28:$J$3000,2,0))","v":""},null,null,null,null,null,null,"Falta Orçamento"]
[873,null,{"$f":"IF('Requisição de Compra'!J899=\"\",\"\",VLOOKUP(A888,'Requisição de Compra'!$I$28:$J$3000,2,0))","v":""},null,null,null,null,null,null,"Falta Orçamento"]
[874,null,{"$f":"IF('Requisição de Compra'!J900=\"\",\"\",VLOOKUP(A889,'Requisição de Compra'!$I$28:$J$3000,2,0))","v":""},null,null,null,null,null,null,"Falta Orçamento"]
[875,null,{"$f":"IF('Requisição de Compra'!J901=\"\",\"\",VLOOKUP(A890,'Requisição de Compra'!$I$28:$J$3000,2,0))","v":""},null,null,null,null,null,null,"Falta Orçamento"]
[876,null,{"$f":"IF('Requisição de Compra'!J902=\"\",\"\",VLOOKUP(A891,'Requisição de Compra'!$I$28:$J$3000,2,0))","v":""},null,null,null,null,null,null,"Falta Orçamento"]
[877,null,{"$f":"IF('Requisição de Compra'!J903=\"\",\"\",VLOOKUP(A892,'Requisição de Compra'!$I$28:$J$3000,2,0))","v":""},null,null,null,null,null,null,"Falta Orçamento"]
[878,null,{"$f":"IF('Requisição de Compra'!J904=\"\",\"\",VLOOKUP(A893,'Requisição de Compra'!$I$28:$J$3000,2,0))","v":""},null,null,null,null,null,null,"Falta Orçamento"]
[879,null,{"$f":"IF('Requisição de Compra'!J905=\"\",\"\",VLOOKUP(A894,'Requisição de Compra'!$I$28:$J$3000,2,0))","v":""},null,null,null,null,null,null,"Falta Orçamento"]
[880,null,{"$f":"IF('Requisição de Compra'!J906=\"\",\"\",VLOOKUP(A895,'Requisição de Compra'!$I$28:$J$3000,2,0))","v":""},null,null,null,null,null,null,"Falta Orçamento"]
[881,null,{"$f":"IF('Requisição de Compra'!J907=\"\",\"\",VLOOKUP(A896,'Requisição de Compra'!$I$28:$J$3000,2,0))","v":""},null,null,null,null,null,null,"Falta Orçamento"]
[882,null,{"$f":"IF('Requisição de Compra'!J908=\"\",\"\",VLOOKUP(A897,'Requisição de Compra'!$I$28:$J$3000,2,0))","v":""},null,null,null,null,null,null,"Falta Orçamento"]
[883,null,{"$f":"IF('Requisição de Compra'!J909=\"\",\"\",VLOOKUP(A898,'Requisição de Compra'!$I$28:$J$3000,2,0))","v":""},null,null,null,null,null,null,"Falta Orçamento"]
[884,null,{"$f":"IF('Requisição de Compra'!J910=\"\",\"\",VLOOKUP(A899,'Requisição de Compra'!$I$28:$J$3000,2,0))","v":""},null,null,null,null,null,null,"Falta Orçamento"]
[885,null,{"$f":"IF('Requisição de Compra'!J911=\"\",\"\",VLOOKUP(A900,'Requisição de Compra'!$I$28:$J$3000,2,0))","v":""},null,null,null,null,null,null,"Falta Orçamento"]
[886,null,{"$f":"IF('Requisição de Compra'!J912=\"\",\"\",VLOOKUP(A901,'Requisição de Compra'!$I$28:$J$3000,2,0))","v":""},null,null,null,null,null,null,"Falta Orçamento"]
[887,null,{"$f":"IF('Requisição de Compra'!J913=\"\",\"\",VLOOKUP(A902,'Requisição de Compra'!$I$28:$J$3000,2,0))","v":""},null,null,null,null,null,null,"Falta Orçamento"]
[888,null,{"$f":"IF('Requisição de Compra'!J914=\"\",\"\",VLOOKUP(A903,'Requisição de Compra'!$I$28:$J$3000,2,0))","v":""},null,null,null,null,null,null,"Falta Orçamento"]
[889,null,{"$f":"IF('Requisição de Compra'!J915=\"\",\"\",VLOOKUP(A904,'Requisição de Compra'!$I$28:$J$3000,2,0))","v":""},null,null,null,null,null,null,"Falta Orçamento"]
[890,null,{"$f":"IF('Requisição de Compra'!J916=\"\",\"\",VLOOKUP(A905,'Requisição de Compra'!$I$28:$J$3000,2,0))","v":""},null,null,null,null,null,null,"Falta Orçamento"]
[891,null,{"$f":"IF('Requisição de Compra'!J917=\"\",\"\",VLOOKUP(A906,'Requisição de Compra'!$I$28:$J$3000,2,0))","v":""},null,null,null,null,null,null,"Falta Orçamento"]
[892,null,{"$f":"IF('Requisição de Compra'!J918=\"\",\"\",VLOOKUP(A907,'Requisição de Compra'!$I$28:$J$3000,2,0))","v":""},null,null,null,null,null,null,"Falta Orçamento"]
[893,null,{"$f":"IF('Requisição de Compra'!J919=\"\",\"\",VLOOKUP(A908,'Requisição de Compra'!$I$28:$J$3000,2,0))","v":""},null,null,null,null,null,null,"Falta Orçamento"]
[894,null,{"$f":"IF('Requisição de Compra'!J920=\"\",\"\",VLOOKUP(A909,'Requisição de Compra'!$I$28:$J$3000,2,0))","v":""},null,null,null,null,null,null,"Falta Orçamento"]
[895,null,{"$f":"IF('Requisição de Compra'!J921=\"\",\"\",VLOOKUP(A910,'Requisição de Compra'!$I$28:$J$3000,2,0))","v":""},null,null,null,null,null,null,"Falta Orçamento"]
[896,null,{"$f":"IF('Requisição de Compra'!J922=\"\",\"\",VLOOKUP(A911,'Requisição de Compra'!$I$28:$J$3000,2,0))","v":""},null,null,null,null,null,null,"Falta Orçamento"]
[897,null,{"$f":"IF('Requisição de Compra'!J923=\"\",\"\",VLOOKUP(A912,'Requisição de Compra'!$I$28:$J$3000,2,0))","v":""},null,null,null,null,null,null,"Falta Orçamento"]
[898,null,{"$f":"IF('Requisição de Compra'!J924=\"\",\"\",VLOOKUP(A913,'Requisição de Compra'!$I$28:$J$3000,2,0))","v":""},null,null,null,null,null,null,{"$f":"IF(AND(D913<>\"\",F913<>\"\",H913<>\"\"),AVERAGE(D913:H913),\"Falta Orçamento\")","v":"Falta Orçamento"}]
[899,null,{"$f":"IF('Requisição de Compra'!J925=\"\",\"\",VLOOKUP(A914,'Requisição de Compra'!$I$28:$J$3000,2,0))","v":""},null,null,null,null,null,null,"Falta Orçamento"]
[900,null,{"$f":"IF('Requisição de Compra'!J926=\"\",\"\",VLOOKUP(A915,'Requisição de Compra'!$I$28:$J$3000,2,0))","v":""},null,null,null,null,null,null,"Falta Orçamento"]
[901,null,{"$f":"IF('Requisição de Compra'!J927=\"\",\"\",VLOOKUP(A916,'Requisição de Compra'!$I$28:$J$3000,2,0))","v":""},null,null,null,null,null,null,"Falta Orçamento"]
[902,null,{"$f":"IF('Requisição de Compra'!J928=\"\",\"\",VLOOKUP(A917,'Requisição de Compra'!$I$28:$J$3000,2,0))","v":""},null,null,null,null,null,null,"Falta Orçamento"]
[903,null,{"$f":"IF('Requisição de Compra'!J929=\"\",\"\",VLOOKUP(A918,'Requisição de Compra'!$I$28:$J$3000,2,0))","v":""},null,null,null,null,null,null,"Falta Orçamento"]
[904,null,{"$f":"IF('Requisição de Compra'!J930=\"\",\"\",VLOOKUP(A919,'Requisição de Compra'!$I$28:$J$3000,2,0))","v":""},null,null,null,null,null,null,"Falta Orçamento"]
[905,null,{"$f":"IF('Requisição de Compra'!J931=\"\",\"\",VLOOKUP(A920,'Requisição de Compra'!$I$28:$J$3000,2,0))","v":""},null,null,null,null,null,null,"Falta Orçamento"]
[906,null,{"$f":"IF('Requisição de Compra'!J932=\"\",\"\",VLOOKUP(A921,'Requisição de Compra'!$I$28:$J$3000,2,0))","v":""},null,null,null,null,null,null,"Falta Orçamento"]
[907,null,{"$f":"IF('Requisição de Compra'!J933=\"\",\"\",VLOOKUP(A922,'Requisição de Compra'!$I$28:$J$3000,2,0))","v":""},null,null,null,null,null,null,"Falta Orçamento"]
[908,null,{"$f":"IF('Requisição de Compra'!J934=\"\",\"\",VLOOKUP(A923,'Requisição de Compra'!$I$28:$J$3000,2,0))","v":""},null,null,null,null,null,null,"Falta Orçamento"]
[909,null,{"$f":"IF('Requisição de Compra'!J935=\"\",\"\",VLOOKUP(A924,'Requisição de Compra'!$I$28:$J$3000,2,0))","v":""},null,null,null,null,null,null,"Falta Orçamento"]
[910,null,{"$f":"IF('Requisição de Compra'!J936=\"\",\"\",VLOOKUP(A925,'Requisição de Compra'!$I$28:$J$3000,2,0))","v":""},null,null,null,null,null,null,"Falta Orçamento"]
[911,null,{"$f":"IF('Requisição de Compra'!J937=\"\",\"\",VLOOKUP(A926,'Requisição de Compra'!$I$28:$J$3000,2,0))","v":""},null,null,null,null,null,null,"Falta Orçamento"]
[912,null,{"$f":"IF('Requisição de Compra'!J938=\"\",\"\",VLOOKUP(A927,'Requisição de Compra'!$I$28:$J$3000,2,0))","v":""},null,null,null,null,null,null,"Falta Orçamento"]
[913,null,{"$f":"IF('Requisição de Compra'!J939=\"\",\"\",VLOOKUP(A928,'Requisição de Compra'!$I$28:$J$3000,2,0))","v":""},null,null,null,null,null,null,"Falta Orçamento"]
[914,null,{"$f":"IF('Requisição de Compra'!J940=\"\",\"\",VLOOKUP(A929,'Requisição de Compra'!$I$28:$J$3000,2,0))","v":""},null,null,null,null,null,null,"Falta Orçamento"]
[915,null,{"$f":"IF('Requisição de Compra'!J941=\"\",\"\",VLOOKUP(A930,'Requisição de Compra'!$I$28:$J$3000,2,0))","v":""},null,null,null,null,null,null,"Falta Orçamento"]
[916,null,{"$f":"IF('Requisição de Compra'!J942=\"\",\"\",VLOOKUP(A931,'Requisição de Compra'!$I$28:$J$3000,2,0))","v":""},null,null,null,null,null,null,"Falta Orçamento"]
[917,null,{"$f":"IF('Requisição de Compra'!J943=\"\",\"\",VLOOKUP(A932,'Requisição de Compra'!$I$28:$J$3000,2,0))","v":""},null,null,null,null,null,null,"Falta Orçamento"]
[918,null,{"$f":"IF('Requisição de Compra'!J944=\"\",\"\",VLOOKUP(A933,'Requisição de Compra'!$I$28:$J$3000,2,0))","v":""},null,null,null,null,null,null,"Falta Orçamento"]
[919,null,{"$f":"IF('Requisição de Compra'!J945=\"\",\"\",VLOOKUP(A934,'Requisição de Compra'!$I$28:$J$3000,2,0))","v":""},null,null,null,null,null,null,"Falta Orçamento"]
[920,null,{"$f":"IF('Requisição de Compra'!J946=\"\",\"\",VLOOKUP(A935,'Requisição de Compra'!$I$28:$J$3000,2,0))","v":""},null,null,null,null,null,null,"Falta Orçamento"]
[921,null,{"$f":"IF('Requisição de Compra'!J947=\"\",\"\",VLOOKUP(A936,'Requisição de Compra'!$I$28:$J$3000,2,0))","v":""},null,null,null,null,null,null,"Falta Orçamento"]
[922,null,{"$f":"IF('Requisição de Compra'!J948=\"\",\"\",VLOOKUP(A937,'Requisição de Compra'!$I$28:$J$3000,2,0))","v":""},null,null,null,null,null,null,"Falta Orçamento"]
[923,null,{"$f":"IF('Requisição de Compra'!J949=\"\",\"\",VLOOKUP(A938,'Requisição de Compra'!$I$28:$J$3000,2,0))","v":""},null,null,null,null,null,null,"Falta Orçamento"]
[924,null,{"$f":"IF('Requisição de Compra'!J950=\"\",\"\",VLOOKUP(A939,'Requisição de Compra'!$I$28:$J$3000,2,0))","v":""},null,null,null,null,null,null,"Falta Orçamento"]
[925,null,{"$f":"IF('Requisição de Compra'!J951=\"\",\"\",VLOOKUP(A940,'Requisição de Compra'!$I$28:$J$3000,2,0))","v":""},null,null,null,null,null,null,"Falta Orçamento"]
[926,null,{"$f":"IF('Requisição de Compra'!J952=\"\",\"\",VLOOKUP(A941,'Requisição de Compra'!$I$28:$J$3000,2,0))","v":""},null,null,null,null,null,null,"Falta Orçamento"]
[927,null,{"$f":"IF('Requisição de Compra'!J953=\"\",\"\",VLOOKUP(A942,'Requisição de Compra'!$I$28:$J$3000,2,0))","v":""},null,null,null,null,null,null,"Falta Orçamento"]
[928,null,{"$f":"IF('Requisição de Compra'!J954=\"\",\"\",VLOOKUP(A943,'Requisição de Compra'!$I$28:$J$3000,2,0))","v":""},null,null,null,null,null,null,"Falta Orçamento"]
[929,null,{"$f":"IF('Requisição de Compra'!J955=\"\",\"\",VLOOKUP(A944,'Requisição de Compra'!$I$28:$J$3000,2,0))","v":""},null,null,null,null,null,null,"Falta Orçamento"]
[930,null,{"$f":"IF('Requisição de Compra'!J956=\"\",\"\",VLOOKUP(A945,'Requisição de Compra'!$I$28:$J$3000,2,0))","v":""},null,null,null,null,null,null,"Falta Orçamento"]
[931,null,{"$f":"IF('Requisição de Compra'!J957=\"\",\"\",VLOOKUP(A946,'Requisição de Compra'!$I$28:$J$3000,2,0))","v":""},null,null,null,null,null,null,"Falta Orçamento"]
[932,null,{"$f":"IF('Requisição de Compra'!J958=\"\",\"\",VLOOKUP(A947,'Requisição de Compra'!$I$28:$J$3000,2,0))","v":""},null,null,null,null,null,null,"Falta Orçamento"]
[933,null,{"$f":"IF('Requisição de Compra'!J959=\"\",\"\",VLOOKUP(A948,'Requisição de Compra'!$I$28:$J$3000,2,0))","v":""},null,null,null,null,null,null,"Falta Orçamento"]
[934,null,{"$f":"IF('Requisição de Compra'!J960=\"\",\"\",VLOOKUP(A949,'Requisição de Compra'!$I$28:$J$3000,2,0))","v":""},null,null,null,null,null,null,"Falta Orçamento"]
[935,null,{"$f":"IF('Requisição de Compra'!J961=\"\",\"\",VLOOKUP(A950,'Requisição de Compra'!$I$28:$J$3000,2,0))","v":""},null,null,null,null,null,null,"Falta Orçamento"]
[936,null,{"$f":"IF('Requisição de Compra'!J962=\"\",\"\",VLOOKUP(A951,'Requisição de Compra'!$I$28:$J$3000,2,0))","v":""},null,null,null,null,null,null,"Falta Orçamento"]
[937,null,{"$f":"IF('Requisição de Compra'!J963=\"\",\"\",VLOOKUP(A952,'Requisição de Compra'!$I$28:$J$3000,2,0))","v":""},null,null,null,null,null,null,"Falta Orçamento"]
[938,null,{"$f":"IF('Requisição de Compra'!J964=\"\",\"\",VLOOKUP(A953,'Requisição de Compra'!$I$28:$J$3000,2,0))","v":""},null,null,null,null,null,null,"Falta Orçamento"]
[939,null,{"$f":"IF('Requisição de Compra'!J965=\"\",\"\",VLOOKUP(A954,'Requisição de Compra'!$I$28:$J$3000,2,0))","v":""},null,null,null,null,null,null,"Falta Orçamento"]
[940,null,{"$f":"IF('Requisição de Compra'!J966=\"\",\"\",VLOOKUP(A955,'Requisição de Compra'!$I$28:$J$3000,2,0))","v":""},null,null,null,null,null,null,"Falta Orçamento"]
[941,null,{"$f":"IF('Requisição de Compra'!J967=\"\",\"\",VLOOKUP(A956,'Requisição de Compra'!$I$28:$J$3000,2,0))","v":""},null,null,null,null,null,null,"Falta Orçamento"]
[942,null,{"$f":"IF('Requisição de Compra'!J968=\"\",\"\",VLOOKUP(A957,'Requisição de Compra'!$I$28:$J$3000,2,0))","v":""},null,null,null,null,null,null,"Falta Orçamento"]
[943,null,{"$f":"IF('Requisição de Compra'!J969=\"\",\"\",VLOOKUP(A958,'Requisição de Compra'!$I$28:$J$3000,2,0))","v":""},null,null,null,null,null,null,"Falta Orçamento"]
[944,null,{"$f":"IF('Requisição de Compra'!J970=\"\",\"\",VLOOKUP(A959,'Requisição de Compra'!$I$28:$J$3000,2,0))","v":""},null,null,null,null,null,null,"Falta Orçamento"]
[945,null,{"$f":"IF('Requisição de Compra'!J971=\"\",\"\",VLOOKUP(A960,'Requisição de Compra'!$I$28:$J$3000,2,0))","v":""},null,null,null,null,null,null,"Falta Orçamento"]
[946,null,{"$f":"IF('Requisição de Compra'!J972=\"\",\"\",VLOOKUP(A961,'Requisição de Compra'!$I$28:$J$3000,2,0))","v":""},null,null,null,null,null,null,"Falta Orçamento"]
[947,null,{"$f":"IF('Requisição de Compra'!J973=\"\",\"\",VLOOKUP(A962,'Requisição de Compra'!$I$28:$J$3000,2,0))","v":""},null,null,null,null,null,null,"Falta Orçamento"]
[948,null,{"$f":"IF('Requisição de Compra'!J974=\"\",\"\",VLOOKUP(A963,'Requisição de Compra'!$I$28:$J$3000,2,0))","v":""},null,null,null,null,null,null,"Falta Orçamento"]
[949,null,{"$f":"IF('Requisição de Compra'!J975=\"\",\"\",VLOOKUP(A964,'Requisição de Compra'!$I$28:$J$3000,2,0))","v":""},null,null,null,null,null,null,"Falta Orçamento"]
[950,null,{"$f":"IF('Requisição de Compra'!J976=\"\",\"\",VLOOKUP(A965,'Requisição de Compra'!$I$28:$J$3000,2,0))","v":""},null,null,null,null,null,null,"Falta Orçamento"]
[951,null,{"$f":"IF('Requisição de Compra'!J977=\"\",\"\",VLOOKUP(A966,'Requisição de Compra'!$I$28:$J$3000,2,0))","v":""},null,null,null,null,null,null,"Falta Orçamento"]
[952,null,{"$f":"IF('Requisição de Compra'!J978=\"\",\"\",VLOOKUP(A967,'Requisição de Compra'!$I$28:$J$3000,2,0))","v":""},null,null,null,null,null,null,"Falta Orçamento"]
[953,null,{"$f":"IF('Requisição de Compra'!J979=\"\",\"\",VLOOKUP(A968,'Requisição de Compra'!$I$28:$J$3000,2,0))","v":""},null,null,null,null,null,null,"Falta Orçamento"]
[954,null,{"$f":"IF('Requisição de Compra'!J980=\"\",\"\",VLOOKUP(A969,'Requisição de Compra'!$I$28:$J$3000,2,0))","v":""},null,null,null,null,null,null,"Falta Orçamento"]
[955,null,{"$f":"IF('Requisição de Compra'!J981=\"\",\"\",VLOOKUP(A970,'Requisição de Compra'!$I$28:$J$3000,2,0))","v":""},null,null,null,null,null,null,"Falta Orçamento"]
[956,null,{"$f":"IF('Requisição de Compra'!J982=\"\",\"\",VLOOKUP(A971,'Requisição de Compra'!$I$28:$J$3000,2,0))","v":""},null,null,null,null,null,null,"Falta Orçamento"]
[957,null,{"$f":"IF('Requisição de Compra'!J983=\"\",\"\",VLOOKUP(A972,'Requisição de Compra'!$I$28:$J$3000,2,0))","v":""},null,null,null,null,null,null,"Falta Orçamento"]
[958,null,{"$f":"IF('Requisição de Compra'!J984=\"\",\"\",VLOOKUP(A973,'Requisição de Compra'!$I$28:$J$3000,2,0))","v":""},null,null,null,null,null,null,"Falta Orçamento"]
[959,null,{"$f":"IF('Requisição de Compra'!J985=\"\",\"\",VLOOKUP(A974,'Requisição de Compra'!$I$28:$J$3000,2,0))","v":""},null,null,null,null,null,null,"Falta Orçamento"]
[960,null,{"$f":"IF('Requisição de Compra'!J986=\"\",\"\",VLOOKUP(A975,'Requisição de Compra'!$I$28:$J$3000,2,0))","v":""},null,null,null,null,null,null,"Falta Orçamento"]
[961,null,{"$f":"IF('Requisição de Compra'!J987=\"\",\"\",VLOOKUP(A976,'Requisição de Compra'!$I$28:$J$3000,2,0))","v":""},null,null,null,null,null,null,"Falta Orçamento"]
[962,null,{"$f":"IF('Requisição de Compra'!J988=\"\",\"\",VLOOKUP(A977,'Requisição de Compra'!$I$28:$J$3000,2,0))","v":""},null,null,null,null,null,null,{"$f":"IF(AND(D977<>\"\",F977<>\"\",H977<>\"\"),AVERAGE(D977:H977),\"Falta Orçamento\")","v":"Falta Orçamento"}]
[963,null,{"$f":"IF('Requisição de Compra'!J989=\"\",\"\",VLOOKUP(A978,'Requisição de Compra'!$I$28:$J$3000,2,0))","v":""},null,null,null,null,null,null,"Falta Orçamento"]
[964,null,{"$f":"IF('Requisição de Compra'!J990=\"\",\"\",VLOOKUP(A979,'Requisição de Compra'!$I$28:$J$3000,2,0))","v":""},null,null,null,null,null,null,"Falta Orçamento"]
[965,null,{"$f":"IF('Requisição de Compra'!J991=\"\",\"\",VLOOKUP(A980,'Requisição de Compra'!$I$28:$J$3000,2,0))","v":""},null,null,null,null,null,null,"Falta Orçamento"]
[966,null,{"$f":"IF('Requisição de Compra'!J992=\"\",\"\",VLOOKUP(A981,'Requisição de Compra'!$I$28:$J$3000,2,0))","v":""},null,null,null,null,null,null,"Falta Orçamento"]
[967,null,{"$f":"IF('Requisição de Compra'!J993=\"\",\"\",VLOOKUP(A982,'Requisição de Compra'!$I$28:$J$3000,2,0))","v":""},null,null,null,null,null,null,"Falta Orçamento"]
[968,null,{"$f":"IF('Requisição de Compra'!J994=\"\",\"\",VLOOKUP(A983,'Requisição de Compra'!$I$28:$J$3000,2,0))","v":""},null,null,null,null,null,null,"Falta Orçamento"]
[969,null,{"$f":"IF('Requisição de Compra'!J995=\"\",\"\",VLOOKUP(A984,'Requisição de Compra'!$I$28:$J$3000,2,0))","v":""},null,null,null,null,null,null,"Falta Orçamento"]
[970,null,{"$f":"IF('Requisição de Compra'!J996=\"\",\"\",VLOOKUP(A985,'Requisição de Compra'!$I$28:$J$3000,2,0))","v":""},null,null,null,null,null,null,"Falta Orçamento"]
[971,null,{"$f":"IF('Requisição de Compra'!J997=\"\",\"\",VLOOKUP(A986,'Requisição de Compra'!$I$28:$J$3000,2,0))","v":""},null,null,null,null,null,null,"Falta Orçamento"]
[972,null,{"$f":"IF('Requisição de Compra'!J998=\"\",\"\",VLOOKUP(A987,'Requisição de Compra'!$I$28:$J$3000,2,0))","v":""},null,null,null,null,null,null,"Falta Orçamento"]
[973,null,{"$f":"IF('Requisição de Compra'!J999=\"\",\"\",VLOOKUP(A988,'Requisição de Compra'!$I$28:$J$3000,2,0))","v":""},null,null,null,null,null,null,"Falta Orçamento"]
[974,null,{"$f":"IF('Requisição de Compra'!J1000=\"\",\"\",VLOOKUP(A989,'Requisição de Compra'!$I$28:$J$3000,2,0))","v":""},null,null,null,null,null,null,"Falta Orçamento"]
[975,null,{"$f":"IF('Requisição de Compra'!J1001=\"\",\"\",VLOOKUP(A990,'Requisição de Compra'!$I$28:$J$3000,2,0))","v":""},null,null,null,null,null,null,"Falta Orçamento"]
[976,null,{"$f":"IF('Requisição de Compra'!J1002=\"\",\"\",VLOOKUP(A991,'Requisição de Compra'!$I$28:$J$3000,2,0))","v":""},null,null,null,null,null,null,"Falta Orçamento"]
[977,null,{"$f":"IF('Requisição de Compra'!J1003=\"\",\"\",VLOOKUP(A992,'Requisição de Compra'!$I$28:$J$3000,2,0))","v":""},null,null,null,null,null,null,"Falta Orçamento"]
[978,null,{"$f":"IF('Requisição de Compra'!J1004=\"\",\"\",VLOOKUP(A993,'Requisição de Compra'!$I$28:$J$3000,2,0))","v":""},null,null,null,null,null,null,"Falta Orçamento"]
[979,null,{"$f":"IF('Requisição de Compra'!J1005=\"\",\"\",VLOOKUP(A994,'Requisição de Compra'!$I$28:$J$3000,2,0))","v":""},null,null,null,null,null,null,"Falta Orçamento"]
[980,null,{"$f":"IF('Requisição de Compra'!J1006=\"\",\"\",VLOOKUP(A995,'Requisição de Compra'!$I$28:$J$3000,2,0))","v":""},null,null,null,null,null,null,"Falta Orçamento"]
[981,null,{"$f":"IF('Requisição de Compra'!J1007=\"\",\"\",VLOOKUP(A996,'Requisição de Compra'!$I$28:$J$3000,2,0))","v":""},null,null,null,null,null,null,"Falta Orçamento"]
[982,null,{"$f":"IF('Requisição de Compra'!J1008=\"\",\"\",VLOOKUP(A997,'Requisição de Compra'!$I$28:$J$3000,2,0))","v":""},null,null,null,null,null,null,"Falta Orçamento"]
[983,null,{"$f":"IF('Requisição de Compra'!J1009=\"\",\"\",VLOOKUP(A998,'Requisição de Compra'!$I$28:$J$3000,2,0))","v":""},null,null,null,null,null,null,"Falta Orçamento"]
[984,null,{"$f":"IF('Requisição de Compra'!J1010=\"\",\"\",VLOOKUP(A999,'Requisição de Compra'!$I$28:$J$3000,2,0))","v":""},null,null,null,null,null,null,"Falta Orçamento"]
[985,null,{"$f":"IF('Requisição de Compra'!J1011=\"\",\"\",VLOOKUP(A1000,'Requisição de Compra'!$I$28:$J$3000,2,0))","v":""},null,null,null,null,null,null,"Falta Orçamento"]
[986,null,{"$f":"IF('Requisição de Compra'!J1012=\"\",\"\",VLOOKUP(A1001,'Requisição de Compra'!$I$28:$J$3000,2,0))","v":""},null,null,null,null,null,null,"Falta Orçamento"]
[987,null,{"$f":"IF('Requisição de Compra'!J1013=\"\",\"\",VLOOKUP(A1002,'Requisição de Compra'!$I$28:$J$3000,2,0))","v":""},null,null,null,null,null,null,"Falta Orçamento"]
[988,null,{"$f":"IF('Requisição de Compra'!J1014=\"\",\"\",VLOOKUP(A1003,'Requisição de Compra'!$I$28:$J$3000,2,0))","v":""},null,null,null,null,null,null,"Falta Orçamento"]
[989,null,{"$f":"IF('Requisição de Compra'!J1015=\"\",\"\",VLOOKUP(A1004,'Requisição de Compra'!$I$28:$J$3000,2,0))","v":""},null,null,null,null,null,null,"Falta Orçamento"]
[990,null,{"$f":"IF('Requisição de Compra'!J1016=\"\",\"\",VLOOKUP(A1005,'Requisição de Compra'!$I$28:$J$3000,2,0))","v":""},null,null,null,null,null,null,"Falta Orçamento"]
[991,null,{"$f":"IF('Requisição de Compra'!J1017=\"\",\"\",VLOOKUP(A1006,'Requisição de Compra'!$I$28:$J$3000,2,0))","v":""},null,null,null,null,null,null,"Falta Orçamento"]
[992,null,{"$f":"IF('Requisição de Compra'!J1018=\"\",\"\",VLOOKUP(A1007,'Requisição de Compra'!$I$28:$J$3000,2,0))","v":""},null,null,null,null,null,null,"Falta Orçamento"]
[993,null,{"$f":"IF('Requisição de Compra'!J1019=\"\",\"\",VLOOKUP(A1008,'Requisição de Compra'!$I$28:$J$3000,2,0))","v":""},null,null,null,null,null,null,"Falta Orçamento"]
[994,null,{"$f":"IF('Requisição de Compra'!J1020=\"\",\"\",VLOOKUP(A1009,'Requisição de Compra'!$I$28:$J$3000,2,0))","v":""},null,null,null,null,null,null,"Falta Orçamento"]
[995,null,{"$f":"IF('Requisição de Compra'!J1021=\"\",\"\",VLOOKUP(A1010,'Requisição de Compra'!$I$28:$J$3000,2,0))","v":""},null,null,null,null,null,null,"Falta Orçamento"]
[996,null,{"$f":"IF('Requisição de Compra'!J1022=\"\",\"\",VLOOKUP(A1011,'Requisição de Compra'!$I$28:$J$3000,2,0))","v":""},null,null,null,null,null,null,"Falta Orçamento"]
[997,null,{"$f":"IF('Requisição de Compra'!J1023=\"\",\"\",VLOOKUP(A1012,'Requisição de Compra'!$I$28:$J$3000,2,0))","v":""},null,null,null,null,null,null,"Falta Orçamento"]
[998,null,{"$f":"IF('Requisição de Compra'!J1024=\"\",\"\",VLOOKUP(A1013,'Requisição de Compra'!$I$28:$J$3000,2,0))","v":""},null,null,null,null,null,null,"Falta Orçamento"]
[999,null,{"$f":"IF('Requisição de Compra'!J1025=\"\",\"\",VLOOKUP(A1014,'Requisição de Compra'!$I$28:$J$3000,2,0))","v":""},null,null,null,null,null,null,"Falta Orçamento"]
[1000,null,{"$f":"IF('Requisição de Compra'!J1026=\"\",\"\",VLOOKUP(A1015,'Requisição de Compra'!$I$28:$J$3000,2,0))","v":""},null,null,null,null,null,null,"Falta Orçamento"]
[1001,null,{"$f":"IF('Requisição de Compra'!J1027=\"\",\"\",VLOOKUP(A1016,'Requisição de Compra'!$I$28:$J$3000,2,0))","v":""},null,null,null,null,null,null,"Falta Orçamento"]
[1002,null,{"$f":"IF('Requisição de Compra'!J1028=\"\",\"\",VLOOKUP(A1017,'Requisição de Compra'!$I$28:$J$3000,2,0))","v":""},null,null,null,null,null,null,"Falta Orçamento"]
[1003,null,{"$f":"IF('Requisição de Compra'!J1029=\"\",\"\",VLOOKUP(A1018,'Requisição de Compra'!$I$28:$J$3000,2,0))","v":""},null,null,null,null,null,null,"Falta Orçamento"]
[1004,null,{"$f":"IF('Requisição de Compra'!J1030=\"\",\"\",VLOOKUP(A1019,'Requisição de Compra'!$I$28:$J$3000,2,0))","v":""},null,null,null,null,null,null,"Falta Orçamento"]
[1005,null,{"$f":"IF('Requisição de Compra'!J1031=\"\",\"\",VLOOKUP(A1020,'Requisição de Compra'!$I$28:$J$3000,2,0))","v":""},null,null,null,null,null,null,"Falta Orçamento"]
[1006,null,{"$f":"IF('Requisição de Compra'!J1032=\"\",\"\",VLOOKUP(A1021,'Requisição de Compra'!$I$28:$J$3000,2,0))","v":""},null,null,null,null,null,null,"Falta Orçamento"]
[1007,null,{"$f":"IF('Requisição de Compra'!J1033=\"\",\"\",VLOOKUP(A1022,'Requisição de Compra'!$I$28:$J$3000,2,0))","v":""},null,null,null,null,null,null,"Falta Orçamento"]
[1008,null,{"$f":"IF('Requisição de Compra'!J1034=\"\",\"\",VLOOKUP(A1023,'Requisição de Compra'!$I$28:$J$3000,2,0))","v":""},null,null,null,null,null,null,"Falta Orçamento"]
[1009,null,{"$f":"IF('Requisição de Compra'!J1035=\"\",\"\",VLOOKUP(A1024,'Requisição de Compra'!$I$28:$J$3000,2,0))","v":""},null,null,null,null,null,null,"Falta Orçamento"]
[1010,null,{"$f":"IF('Requisição de Compra'!J1036=\"\",\"\",VLOOKUP(A1025,'Requisição de Compra'!$I$28:$J$3000,2,0))","v":""},null,null,null,null,null,null,"Falta Orçamento"]
[1011,null,{"$f":"IF('Requisição de Compra'!J1037=\"\",\"\",VLOOKUP(A1026,'Requisição de Compra'!$I$28:$J$3000,2,0))","v":""},null,null,null,null,null,null,"Falta Orçamento"]
[1012,null,{"$f":"IF('Requisição de Compra'!J1038=\"\",\"\",VLOOKUP(A1027,'Requisição de Compra'!$I$28:$J$3000,2,0))","v":""},null,null,null,null,null,null,"Falta Orçamento"]
[1013,null,{"$f":"IF('Requisição de Compra'!J1039=\"\",\"\",VLOOKUP(A1028,'Requisição de Compra'!$I$28:$J$3000,2,0))","v":""},null,null,null,null,null,null,"Falta Orçamento"]
[1014,null,{"$f":"IF('Requisição de Compra'!J1040=\"\",\"\",VLOOKUP(A1029,'Requisição de Compra'!$I$28:$J$3000,2,0))","v":""},null,null,null,null,null,null,"Falta Orçamento"]
[1015,null,{"$f":"IF('Requisição de Compra'!J1041=\"\",\"\",VLOOKUP(A1030,'Requisição de Compra'!$I$28:$J$3000,2,0))","v":""},null,null,null,null,null,null,"Falta Orçamento"]
[1016,null,{"$f":"IF('Requisição de Compra'!J1042=\"\",\"\",VLOOKUP(A1031,'Requisição de Compra'!$I$28:$J$3000,2,0))","v":""},null,null,null,null,null,null,"Falta Orçamento"]
[1017,null,{"$f":"IF('Requisição de Compra'!J1043=\"\",\"\",VLOOKUP(A1032,'Requisição de Compra'!$I$28:$J$3000,2,0))","v":""},null,null,null,null,null,null,"Falta Orçamento"]
[1018,null,{"$f":"IF('Requisição de Compra'!J1044=\"\",\"\",VLOOKUP(A1033,'Requisição de Compra'!$I$28:$J$3000,2,0))","v":""},null,null,null,null,null,null,"Falta Orçamento"]
[1019,null,{"$f":"IF('Requisição de Compra'!J1045=\"\",\"\",VLOOKUP(A1034,'Requisição de Compra'!$I$28:$J$3000,2,0))","v":""},null,null,null,null,null,null,"Falta Orçamento"]
[1020,null,{"$f":"IF('Requisição de Compra'!J1046=\"\",\"\",VLOOKUP(A1035,'Requisição de Compra'!$I$28:$J$3000,2,0))","v":""},null,null,null,null,null,null,"Falta Orçamento"]
[1021,null,{"$f":"IF('Requisição de Compra'!J1047=\"\",\"\",VLOOKUP(A1036,'Requisição de Compra'!$I$28:$J$3000,2,0))","v":""},null,null,null,null,null,null,"Falta Orçamento"]
[1022,null,{"$f":"IF('Requisição de Compra'!J1048=\"\",\"\",VLOOKUP(A1037,'Requisição de Compra'!$I$28:$J$3000,2,0))","v":""},null,null,null,null,null,null,"Falta Orçamento"]
[1023,null,{"$f":"IF('Requisição de Compra'!J1049=\"\",\"\",VLOOKUP(A1038,'Requisição de Compra'!$I$28:$J$3000,2,0))","v":""},null,null,null,null,null,null,"Falta Orçamento"]
[1024,null,{"$f":"IF('Requisição de Compra'!J1050=\"\",\"\",VLOOKUP(A1039,'Requisição de Compra'!$I$28:$J$3000,2,0))","v":""},null,null,null,null,null,null,"Falta Orçamento"]
[1025,null,{"$f":"IF('Requisição de Compra'!J1051=\"\",\"\",VLOOKUP(A1040,'Requisição de Compra'!$I$28:$J$3000,2,0))","v":""},null,null,null,null,null,null,"Falta Orçamento"]
[1026,null,{"$f":"IF('Requisição de Compra'!J1052=\"\",\"\",VLOOKUP(A1041,'Requisição de Compra'!$I$28:$J$3000,2,0))","v":""},null,null,null,null,null,null,{"$f":"IF(AND(D1041<>\"\",F1041<>\"\",H1041<>\"\"),AVERAGE(D1041:H1041),\"Falta Orçamento\")","v":"Falta Orçamento"}]
[1027,null,{"$f":"IF('Requisição de Compra'!J1053=\"\",\"\",VLOOKUP(A1042,'Requisição de Compra'!$I$28:$J$3000,2,0))","v":""},null,null,null,null,null,null,"Falta Orçamento"]
[1028,null,{"$f":"IF('Requisição de Compra'!J1054=\"\",\"\",VLOOKUP(A1043,'Requisição de Compra'!$I$28:$J$3000,2,0))","v":""},null,null,null,null,null,null,"Falta Orçamento"]
[1029,null,{"$f":"IF('Requisição de Compra'!J1055=\"\",\"\",VLOOKUP(A1044,'Requisição de Compra'!$I$28:$J$3000,2,0))","v":""},null,null,null,null,null,null,"Falta Orçamento"]
[1030,null,{"$f":"IF('Requisição de Compra'!J1056=\"\",\"\",VLOOKUP(A1045,'Requisição de Compra'!$I$28:$J$3000,2,0))","v":""},null,null,null,null,null,null,"Falta Orçamento"]
[1031,null,{"$f":"IF('Requisição de Compra'!J1057=\"\",\"\",VLOOKUP(A1046,'Requisição de Compra'!$I$28:$J$3000,2,0))","v":""},null,null,null,null,null,null,"Falta Orçamento"]
[1032,null,{"$f":"IF('Requisição de Compra'!J1058=\"\",\"\",VLOOKUP(A1047,'Requisição de Compra'!$I$28:$J$3000,2,0))","v":""},null,null,null,null,null,null,"Falta Orçamento"]
[1033,null,{"$f":"IF('Requisição de Compra'!J1059=\"\",\"\",VLOOKUP(A1048,'Requisição de Compra'!$I$28:$J$3000,2,0))","v":""},null,null,null,null,null,null,"Falta Orçamento"]
[1034,null,{"$f":"IF('Requisição de Compra'!J1060=\"\",\"\",VLOOKUP(A1049,'Requisição de Compra'!$I$28:$J$3000,2,0))","v":""},null,null,null,null,null,null,"Falta Orçamento"]
[1035,null,{"$f":"IF('Requisição de Compra'!J1061=\"\",\"\",VLOOKUP(A1050,'Requisição de Compra'!$I$28:$J$3000,2,0))","v":""},null,null,null,null,null,null,"Falta Orçamento"]
[1036,null,{"$f":"IF('Requisição de Compra'!J1062=\"\",\"\",VLOOKUP(A1051,'Requisição de Compra'!$I$28:$J$3000,2,0))","v":""},null,null,null,null,null,null,"Falta Orçamento"]
[1037,null,{"$f":"IF('Requisição de Compra'!J1063=\"\",\"\",VLOOKUP(A1052,'Requisição de Compra'!$I$28:$J$3000,2,0))","v":""},null,null,null,null,null,null,"Falta Orçamento"]
[1038,null,{"$f":"IF('Requisição de Compra'!J1064=\"\",\"\",VLOOKUP(A1053,'Requisição de Compra'!$I$28:$J$3000,2,0))","v":""},null,null,null,null,null,null,"Falta Orçamento"]
[1039,null,{"$f":"IF('Requisição de Compra'!J1065=\"\",\"\",VLOOKUP(A1054,'Requisição de Compra'!$I$28:$J$3000,2,0))","v":""},null,null,null,null,null,null,"Falta Orçamento"]
[1040,null,{"$f":"IF('Requisição de Compra'!J1066=\"\",\"\",VLOOKUP(A1055,'Requisição de Compra'!$I$28:$J$3000,2,0))","v":""},null,null,null,null,null,null,"Falta Orçamento"]
[1041,null,{"$f":"IF('Requisição de Compra'!J1067=\"\",\"\",VLOOKUP(A1056,'Requisição de Compra'!$I$28:$J$3000,2,0))","v":""},null,null,null,null,null,null,"Falta Orçamento"]
[1042,null,{"$f":"IF('Requisição de Compra'!J1068=\"\",\"\",VLOOKUP(A1057,'Requisição de Compra'!$I$28:$J$3000,2,0))","v":""},null,null,null,null,null,null,"Falta Orçamento"]
[1043,null,{"$f":"IF('Requisição de Compra'!J1069=\"\",\"\",VLOOKUP(A1058,'Requisição de Compra'!$I$28:$J$3000,2,0))","v":""},null,null,null,null,null,null,"Falta Orçamento"]
[1044,null,{"$f":"IF('Requisição de Compra'!J1070=\"\",\"\",VLOOKUP(A1059,'Requisição de Compra'!$I$28:$J$3000,2,0))","v":""},null,null,null,null,null,null,"Falta Orçamento"]
[1045,null,{"$f":"IF('Requisição de Compra'!J1071=\"\",\"\",VLOOKUP(A1060,'Requisição de Compra'!$I$28:$J$3000,2,0))","v":""},null,null,null,null,null,null,"Falta Orçamento"]
[1046,null,{"$f":"IF('Requisição de Compra'!J1072=\"\",\"\",VLOOKUP(A1061,'Requisição de Compra'!$I$28:$J$3000,2,0))","v":""},null,null,null,null,null,null,"Falta Orçamento"]
[1047,null,{"$f":"IF('Requisição de Compra'!J1073=\"\",\"\",VLOOKUP(A1062,'Requisição de Compra'!$I$28:$J$3000,2,0))","v":""},null,null,null,null,null,null,"Falta Orçamento"]
[1048,null,{"$f":"IF('Requisição de Compra'!J1074=\"\",\"\",VLOOKUP(A1063,'Requisição de Compra'!$I$28:$J$3000,2,0))","v":""},null,null,null,null,null,null,"Falta Orçamento"]
[1049,null,{"$f":"IF('Requisição de Compra'!J1075=\"\",\"\",VLOOKUP(A1064,'Requisição de Compra'!$I$28:$J$3000,2,0))","v":""},null,null,null,null,null,null,"Falta Orçamento"]
[1050,null,{"$f":"IF('Requisição de Compra'!J1076=\"\",\"\",VLOOKUP(A1065,'Requisição de Compra'!$I$28:$J$3000,2,0))","v":""},null,null,null,null,null,null,"Falta Orçamento",null,{"$f":"VLOOKUP(A1065,'[1]Mapa de Preços'!$A$16:$D$2988,4,0)","v":0}]
[1051,null,{"$f":"IF('Requisição de Compra'!J1077=\"\",\"\",VLOOKUP(A1066,'Requisição de Compra'!$I$28:$J$3000,2,0))","v":""},null,null,null,null,null,null,"Falta Orçamento",null,{"$f":"VLOOKUP(A1066,'[1]Mapa de Preços'!$A$16:$D$2988,4,0)","v":0}]
[1052,null,{"$f":"IF('Requisição de Compra'!J1078=\"\",\"\",VLOOKUP(A1067,'Requisição de Compra'!$I$28:$J$3000,2,0))","v":""},null,null,null,null,null,null,"Falta Orçamento",null,{"$f":"VLOOKUP(A1067,'[1]Mapa de Preços'!$A$16:$D$2988,4,0)","v":0}]
[1053,null,{"$f":"IF('Requisição de Compra'!J1079=\"\",\"\",VLOOKUP(A1068,'Requisição de Compra'!$I$28:$J$3000,2,0))","v":""},null,null,null,null,null,null,"Falta Orçamento",null,{"$f":"VLOOKUP(A1068,'[1]Mapa de Preços'!$A$16:$D$2988,4,0)","v":0}]
[1054,null,{"$f":"IF('Requisição de Compra'!J1080=\"\",\"\",VLOOKUP(A1069,'Requisição de Compra'!$I$28:$J$3000,2,0))","v":""},null,null,null,null,null,null,"Falta Orçamento",null,{"$f":"VLOOKUP(A1069,'[1]Mapa de Preços'!$A$16:$D$2988,4,0)","v":0}]
[1055,null,{"$f":"IF('Requisição de Compra'!J1081=\"\",\"\",VLOOKUP(A1070,'Requisição de Compra'!$I$28:$J$3000,2,0))","v":""},null,null,null,null,null,null,"Falta Orçamento",null,{"$f":"VLOOKUP(A1070,'[1]Mapa de Preços'!$A$16:$D$2988,4,0)","v":0}]
[1056,null,{"$f":"IF('Requisição de Compra'!J1082=\"\",\"\",VLOOKUP(A1071,'Requisição de Compra'!$I$28:$J$3000,2,0))","v":""},null,null,null,null,null,null,"Falta Orçamento",null,{"$f":"VLOOKUP(A1071,'[1]Mapa de Preços'!$A$16:$D$2988,4,0)","v":0}]
[1057,null,{"$f":"IF('Requisição de Compra'!J1083=\"\",\"\",VLOOKUP(A1072,'Requisição de Compra'!$I$28:$J$3000,2,0))","v":""},null,null,null,null,null,null,"Falta Orçamento",null,{"$f":"VLOOKUP(A1072,'[1]Mapa de Preços'!$A$16:$D$2988,4,0)","v":0}]
[1058,null,{"$f":"IF('Requisição de Compra'!J1084=\"\",\"\",VLOOKUP(A1073,'Requisição de Compra'!$I$28:$J$3000,2,0))","v":""},null,null,null,null,null,null,"Falta Orçamento",null,{"$f":"VLOOKUP(A1073,'[1]Mapa de Preços'!$A$16:$D$2988,4,0)","v":0}]
[1059,null,{"$f":"IF('Requisição de Compra'!J1085=\"\",\"\",VLOOKUP(A1074,'Requisição de Compra'!$I$28:$J$3000,2,0))","v":""},null,null,null,null,null,null,"Falta Orçamento",null,{"$f":"VLOOKUP(A1074,'[1]Mapa de Preços'!$A$16:$D$2988,4,0)","v":0}]
[1060,null,{"$f":"IF('Requisição de Compra'!J1086=\"\",\"\",VLOOKUP(A1075,'Requisição de Compra'!$I$28:$J$3000,2,0))","v":""},null,null,null,null,null,null,"Falta Orçamento",null,{"$f":"VLOOKUP(A1075,'[1]Mapa de Preços'!$A$16:$D$2988,4,0)","v":0}]
[1061,null,{"$f":"IF('Requisição de Compra'!J1087=\"\",\"\",VLOOKUP(A1076,'Requisição de Compra'!$I$28:$J$3000,2,0))","v":""},null,null,null,null,null,null,"Falta Orçamento",null,{"$f":"VLOOKUP(A1076,'[1]Mapa de Preços'!$A$16:$D$2988,4,0)","v":0}]
[1062,null,{"$f":"IF('Requisição de Compra'!J1088=\"\",\"\",VLOOKUP(A1077,'Requisição de Compra'!$I$28:$J$3000,2,0))","v":""},null,null,null,null,null,null,"Falta Orçamento",null,{"$f":"VLOOKUP(A1077,'[1]Mapa de Preços'!$A$16:$D$2988,4,0)","v":0}]
[1063,null,{"$f":"IF('Requisição de Compra'!J1089=\"\",\"\",VLOOKUP(A1078,'Requisição de Compra'!$I$28:$J$3000,2,0))","v":""},null,null,null,null,null,null,"Falta Orçamento",null,{"$f":"VLOOKUP(A1078,'[1]Mapa de Preços'!$A$16:$D$2988,4,0)","v":0}]
[1064,null,{"$f":"IF('Requisição de Compra'!J1090=\"\",\"\",VLOOKUP(A1079,'Requisição de Compra'!$I$28:$J$3000,2,0))","v":""},null,null,null,null,null,null,"Falta Orçamento",null,{"$f":"VLOOKUP(A1079,'[1]Mapa de Preços'!$A$16:$D$2988,4,0)","v":0}]
[1065,null,{"$f":"IF('Requisição de Compra'!J1091=\"\",\"\",VLOOKUP(A1080,'Requisição de Compra'!$I$28:$J$3000,2,0))","v":""},null,null,null,null,null,null,"Falta Orçamento",null,{"$f":"VLOOKUP(A1080,'[1]Mapa de Preços'!$A$16:$D$2988,4,0)","v":0}]
[1066,null,{"$f":"IF('Requisição de Compra'!J1092=\"\",\"\",VLOOKUP(A1081,'Requisição de Compra'!$I$28:$J$3000,2,0))","v":""},null,null,null,null,null,null,"Falta Orçamento",null,{"$f":"VLOOKUP(A1081,'[1]Mapa de Preços'!$A$16:$D$2988,4,0)","v":0}]
[1067,null,{"$f":"IF('Requisição de Compra'!J1093=\"\",\"\",VLOOKUP(A1082,'Requisição de Compra'!$I$28:$J$3000,2,0))","v":""},null,null,null,null,null,null,"Falta Orçamento",null,{"$f":"VLOOKUP(A1082,'[1]Mapa de Preços'!$A$16:$D$2988,4,0)","v":0}]
[1068,null,{"$f":"IF('Requisição de Compra'!J1094=\"\",\"\",VLOOKUP(A1083,'Requisição de Compra'!$I$28:$J$3000,2,0))","v":""},null,null,null,null,null,null,"Falta Orçamento",null,{"$f":"VLOOKUP(A1083,'[1]Mapa de Preços'!$A$16:$D$2988,4,0)","v":0}]
[1069,null,{"$f":"IF('Requisição de Compra'!J1095=\"\",\"\",VLOOKUP(A1084,'Requisição de Compra'!$I$28:$J$3000,2,0))","v":""},null,null,null,null,null,null,"Falta Orçamento",null,{"$f":"VLOOKUP(A1084,'[1]Mapa de Preços'!$A$16:$D$2988,4,0)","v":0}]
[1070,null,{"$f":"IF('Requisição de Compra'!J1096=\"\",\"\",VLOOKUP(A1085,'Requisição de Compra'!$I$28:$J$3000,2,0))","v":""},null,null,null,null,null,null,"Falta Orçamento",null,{"$f":"VLOOKUP(A1085,'[1]Mapa de Preços'!$A$16:$D$2988,4,0)","v":0}]
[1071,null,{"$f":"IF('Requisição de Compra'!J1097=\"\",\"\",VLOOKUP(A1086,'Requisição de Compra'!$I$28:$J$3000,2,0))","v":""},null,null,null,null,null,null,"Falta Orçamento",null,{"$f":"VLOOKUP(A1086,'[1]Mapa de Preços'!$A$16:$D$2988,4,0)","v":0}]
[1072,null,{"$f":"IF('Requisição de Compra'!J1098=\"\",\"\",VLOOKUP(A1087,'Requisição de Compra'!$I$28:$J$3000,2,0))","v":""},null,null,null,null,null,null,"Falta Orçamento",null,{"$f":"VLOOKUP(A1087,'[1]Mapa de Preços'!$A$16:$D$2988,4,0)","v":0}]
[1073,null,{"$f":"IF('Requisição de Compra'!J1099=\"\",\"\",VLOOKUP(A1088,'Requisição de Compra'!$I$28:$J$3000,2,0))","v":""},null,null,null,null,null,null,"Falta Orçamento",null,{"$f":"VLOOKUP(A1088,'[1]Mapa de Preços'!$A$16:$D$2988,4,0)","v":0}]
[1074,null,{"$f":"IF('Requisição de Compra'!J1100=\"\",\"\",VLOOKUP(A1089,'Requisição de Compra'!$I$28:$J$3000,2,0))","v":""},null,null,null,null,null,null,"Falta Orçamento",null,{"$f":"VLOOKUP(A1089,'[1]Mapa de Preços'!$A$16:$D$2988,4,0)","v":0}]
[1075,null,{"$f":"IF('Requisição de Compra'!J1101=\"\",\"\",VLOOKUP(A1090,'Requisição de Compra'!$I$28:$J$3000,2,0))","v":""},null,null,null,null,null,null,"Falta Orçamento",null,{"$f":"VLOOKUP(A1090,'[1]Mapa de Preços'!$A$16:$D$2988,4,0)","v":0}]
[1076,null,{"$f":"IF('Requisição de Compra'!J1102=\"\",\"\",VLOOKUP(A1091,'Requisição de Compra'!$I$28:$J$3000,2,0))","v":""},null,null,null,null,null,null,"Falta Orçamento",null,{"$f":"VLOOKUP(A1091,'[1]Mapa de Preços'!$A$16:$D$2988,4,0)","v":0}]
[1077,null,{"$f":"IF('Requisição de Compra'!J1103=\"\",\"\",VLOOKUP(A1092,'Requisição de Compra'!$I$28:$J$3000,2,0))","v":""},null,null,null,null,null,null,"Falta Orçamento",null,{"$f":"VLOOKUP(A1092,'[1]Mapa de Preços'!$A$16:$D$2988,4,0)","v":0}]
[1078,null,{"$f":"IF('Requisição de Compra'!J1104=\"\",\"\",VLOOKUP(A1093,'Requisição de Compra'!$I$28:$J$3000,2,0))","v":""},null,null,null,null,null,null,"Falta Orçamento",null,{"$f":"VLOOKUP(A1093,'[1]Mapa de Preços'!$A$16:$D$2988,4,0)","v":0}]
[1079,null,{"$f":"IF('Requisição de Compra'!J1105=\"\",\"\",VLOOKUP(A1094,'Requisição de Compra'!$I$28:$J$3000,2,0))","v":""},null,null,null,null,null,null,"Falta Orçamento",null,{"$f":"VLOOKUP(A1094,'[1]Mapa de Preços'!$A$16:$D$2988,4,0)","v":0}]
[1080,null,{"$f":"IF('Requisição de Compra'!J1106=\"\",\"\",VLOOKUP(A1095,'Requisição de Compra'!$I$28:$J$3000,2,0))","v":""},null,null,null,null,null,null,"Falta Orçamento",null,{"$f":"VLOOKUP(A1095,'[1]Mapa de Preços'!$A$16:$D$2988,4,0)","v":0}]
[1081,null,{"$f":"IF('Requisição de Compra'!J1107=\"\",\"\",VLOOKUP(A1096,'Requisição de Compra'!$I$28:$J$3000,2,0))","v":""},null,null,null,null,null,null,"Falta Orçamento",null,{"$f":"VLOOKUP(A1096,'[1]Mapa de Preços'!$A$16:$D$2988,4,0)","v":0}]
[1082,null,{"$f":"IF('Requisição de Compra'!J1108=\"\",\"\",VLOOKUP(A1097,'Requisição de Compra'!$I$28:$J$3000,2,0))","v":""},null,null,null,null,null,null,"Falta Orçamento",null,{"$f":"VLOOKUP(A1097,'[1]Mapa de Preços'!$A$16:$D$2988,4,0)","v":0}]
[1083,null,{"$f":"IF('Requisição de Compra'!J1109=\"\",\"\",VLOOKUP(A1098,'Requisição de Compra'!$I$28:$J$3000,2,0))","v":""},null,null,null,null,null,null,"Falta Orçamento",null,{"$f":"VLOOKUP(A1098,'[1]Mapa de Preços'!$A$16:$D$2988,4,0)","v":0}]
[1084,null,{"$f":"IF('Requisição de Compra'!J1110=\"\",\"\",VLOOKUP(A1099,'Requisição de Compra'!$I$28:$J$3000,2,0))","v":""},null,null,null,null,null,null,"Falta Orçamento",null,{"$f":"VLOOKUP(A1099,'[1]Mapa de Preços'!$A$16:$D$2988,4,0)","v":0}]
[1085,null,{"$f":"IF('Requisição de Compra'!J1111=\"\",\"\",VLOOKUP(A1100,'Requisição de Compra'!$I$28:$J$3000,2,0))","v":""},null,null,null,null,null,null,"Falta Orçamento",null,{"$f":"VLOOKUP(A1100,'[1]Mapa de Preços'!$A$16:$D$2988,4,0)","v":0}]
[1086,null,{"$f":"IF('Requisição de Compra'!J1112=\"\",\"\",VLOOKUP(A1101,'Requisição de Compra'!$I$28:$J$3000,2,0))","v":""},null,null,null,null,null,null,"Falta Orçamento",null,{"$f":"VLOOKUP(A1101,'[1]Mapa de Preços'!$A$16:$D$2988,4,0)","v":0}]
[1087,null,{"$f":"IF('Requisição de Compra'!J1113=\"\",\"\",VLOOKUP(A1102,'Requisição de Compra'!$I$28:$J$3000,2,0))","v":""},null,null,null,null,null,null,"Falta Orçamento",null,{"$f":"VLOOKUP(A1102,'[1]Mapa de Preços'!$A$16:$D$2988,4,0)","v":0}]
[1088,null,{"$f":"IF('Requisição de Compra'!J1114=\"\",\"\",VLOOKUP(A1103,'Requisição de Compra'!$I$28:$J$3000,2,0))","v":""},null,null,null,null,null,null,"Falta Orçamento",null,{"$f":"VLOOKUP(A1103,'[1]Mapa de Preços'!$A$16:$D$2988,4,0)","v":0}]
[1089,null,{"$f":"IF('Requisição de Compra'!J1115=\"\",\"\",VLOOKUP(A1104,'Requisição de Compra'!$I$28:$J$3000,2,0))","v":""},null,null,null,null,null,null,"Falta Orçamento",null,{"$f":"VLOOKUP(A1104,'[1]Mapa de Preços'!$A$16:$D$2988,4,0)","v":0}]
[1090,null,{"$f":"IF('Requisição de Compra'!J1116=\"\",\"\",VLOOKUP(A1105,'Requisição de Compra'!$I$28:$J$3000,2,0))","v":""},null,null,null,null,null,null,{"$f":"IF(AND(D1105<>\"\",F1105<>\"\",H1105<>\"\"),AVERAGE(D1105:H1105),\"Falta Orçamento\")","v":"Falta Orçamento"},null,{"$f":"VLOOKUP(A1105,'[1]Mapa de Preços'!$A$16:$D$2988,4,0)","v":0}]
[1091,null,{"$f":"IF('Requisição de Compra'!J1117=\"\",\"\",VLOOKUP(A1106,'Requisição de Compra'!$I$28:$J$3000,2,0))","v":""},null,null,null,null,null,null,"Falta Orçamento",null,{"$f":"VLOOKUP(A1106,'[1]Mapa de Preços'!$A$16:$D$2988,4,0)","v":0}]
[1092,null,{"$f":"IF('Requisição de Compra'!J1118=\"\",\"\",VLOOKUP(A1107,'Requisição de Compra'!$I$28:$J$3000,2,0))","v":""},null,null,null,null,null,null,"Falta Orçamento",null,{"$f":"VLOOKUP(A1107,'[1]Mapa de Preços'!$A$16:$D$2988,4,0)","v":0}]
[1093,null,{"$f":"IF('Requisição de Compra'!J1119=\"\",\"\",VLOOKUP(A1108,'Requisição de Compra'!$I$28:$J$3000,2,0))","v":""},null,null,null,null,null,null,"Falta Orçamento",null,{"$f":"VLOOKUP(A1108,'[1]Mapa de Preços'!$A$16:$D$2988,4,0)","v":0}]
[1094,null,{"$f":"IF('Requisição de Compra'!J1120=\"\",\"\",VLOOKUP(A1109,'Requisição de Compra'!$I$28:$J$3000,2,0))","v":""},null,null,null,null,null,null,"Falta Orçamento",null,{"$f":"VLOOKUP(A1109,'[1]Mapa de Preços'!$A$16:$D$2988,4,0)","v":0}]
[1095,null,{"$f":"IF('Requisição de Compra'!J1121=\"\",\"\",VLOOKUP(A1110,'Requisição de Compra'!$I$28:$J$3000,2,0))","v":""},null,null,null,null,null,null,"Falta Orçamento",null,{"$f":"VLOOKUP(A1110,'[1]Mapa de Preços'!$A$16:$D$2988,4,0)","v":0}]
[1096,null,{"$f":"IF('Requisição de Compra'!J1122=\"\",\"\",VLOOKUP(A1111,'Requisição de Compra'!$I$28:$J$3000,2,0))","v":""},null,null,null,null,null,null,"Falta Orçamento",null,{"$f":"VLOOKUP(A1111,'[1]Mapa de Preços'!$A$16:$D$2988,4,0)","v":0}]
[1097,null,{"$f":"IF('Requisição de Compra'!J1123=\"\",\"\",VLOOKUP(A1112,'Requisição de Compra'!$I$28:$J$3000,2,0))","v":""},null,null,null,null,null,null,"Falta Orçamento",null,{"$f":"VLOOKUP(A1112,'[1]Mapa de Preços'!$A$16:$D$2988,4,0)","v":0}]
[1098,null,{"$f":"IF('Requisição de Compra'!J1124=\"\",\"\",VLOOKUP(A1113,'Requisição de Compra'!$I$28:$J$3000,2,0))","v":""},null,null,null,null,null,null,"Falta Orçamento",null,{"$f":"VLOOKUP(A1113,'[1]Mapa de Preços'!$A$16:$D$2988,4,0)","v":0}]
[1099,null,{"$f":"IF('Requisição de Compra'!J1125=\"\",\"\",VLOOKUP(A1114,'Requisição de Compra'!$I$28:$J$3000,2,0))","v":""},null,null,null,null,null,null,"Falta Orçamento",null,{"$f":"VLOOKUP(A1114,'[1]Mapa de Preços'!$A$16:$D$2988,4,0)","v":0}]
[1100,null,{"$f":"IF('Requisição de Compra'!J1126=\"\",\"\",VLOOKUP(A1115,'Requisição de Compra'!$I$28:$J$3000,2,0))","v":""},null,null,null,null,null,null,"Falta Orçamento",null,{"$f":"VLOOKUP(A1115,'[1]Mapa de Preços'!$A$16:$D$2988,4,0)","v":0}]
[1101,null,{"$f":"IF('Requisição de Compra'!J1127=\"\",\"\",VLOOKUP(A1116,'Requisição de Compra'!$I$28:$J$3000,2,0))","v":""},null,null,null,null,null,null,"Falta Orçamento",null,{"$f":"VLOOKUP(A1116,'[1]Mapa de Preços'!$A$16:$D$2988,4,0)","v":0}]
[1102,null,{"$f":"IF('Requisição de Compra'!J1128=\"\",\"\",VLOOKUP(A1117,'Requisição de Compra'!$I$28:$J$3000,2,0))","v":""},null,null,null,null,null,null,"Falta Orçamento",null,{"$f":"VLOOKUP(A1117,'[1]Mapa de Preços'!$A$16:$D$2988,4,0)","v":0}]
[1103,null,{"$f":"IF('Requisição de Compra'!J1129=\"\",\"\",VLOOKUP(A1118,'Requisição de Compra'!$I$28:$J$3000,2,0))","v":""},null,null,null,null,null,null,"Falta Orçamento",null,{"$f":"VLOOKUP(A1118,'[1]Mapa de Preços'!$A$16:$D$2988,4,0)","v":0}]
[1104,null,{"$f":"IF('Requisição de Compra'!J1130=\"\",\"\",VLOOKUP(A1119,'Requisição de Compra'!$I$28:$J$3000,2,0))","v":""},null,null,null,null,null,null,"Falta Orçamento",null,{"$f":"VLOOKUP(A1119,'[1]Mapa de Preços'!$A$16:$D$2988,4,0)","v":0}]
[1105,null,{"$f":"IF('Requisição de Compra'!J1131=\"\",\"\",VLOOKUP(A1120,'Requisição de Compra'!$I$28:$J$3000,2,0))","v":""},null,null,null,null,null,null,"Falta Orçamento",null,{"$f":"VLOOKUP(A1120,'[1]Mapa de Preços'!$A$16:$D$2988,4,0)","v":0}]
[1106,null,{"$f":"IF('Requisição de Compra'!J1132=\"\",\"\",VLOOKUP(A1121,'Requisição de Compra'!$I$28:$J$3000,2,0))","v":""},null,null,null,null,null,null,"Falta Orçamento",null,{"$f":"VLOOKUP(A1121,'[1]Mapa de Preços'!$A$16:$D$2988,4,0)","v":0}]
[1107,null,{"$f":"IF('Requisição de Compra'!J1133=\"\",\"\",VLOOKUP(A1122,'Requisição de Compra'!$I$28:$J$3000,2,0))","v":""},null,null,null,null,null,null,"Falta Orçamento",null,{"$f":"VLOOKUP(A1122,'[1]Mapa de Preços'!$A$16:$D$2988,4,0)","v":0}]
[1108,null,{"$f":"IF('Requisição de Compra'!J1134=\"\",\"\",VLOOKUP(A1123,'Requisição de Compra'!$I$28:$J$3000,2,0))","v":""},null,null,null,null,null,null,"Falta Orçamento",null,{"$f":"VLOOKUP(A1123,'[1]Mapa de Preços'!$A$16:$D$2988,4,0)","v":0}]
[1109,null,{"$f":"IF('Requisição de Compra'!J1135=\"\",\"\",VLOOKUP(A1124,'Requisição de Compra'!$I$28:$J$3000,2,0))","v":""},null,null,null,null,null,null,"Falta Orçamento",null,{"$f":"VLOOKUP(A1124,'[1]Mapa de Preços'!$A$16:$D$2988,4,0)","v":0}]
[1110,null,{"$f":"IF('Requisição de Compra'!J1136=\"\",\"\",VLOOKUP(A1125,'Requisição de Compra'!$I$28:$J$3000,2,0))","v":""},null,null,null,null,null,null,"Falta Orçamento",null,{"$f":"VLOOKUP(A1125,'[1]Mapa de Preços'!$A$16:$D$2988,4,0)","v":0}]
[1111,null,{"$f":"IF('Requisição de Compra'!J1137=\"\",\"\",VLOOKUP(A1126,'Requisição de Compra'!$I$28:$J$3000,2,0))","v":""},null,null,null,null,null,null,"Falta Orçamento",null,{"$f":"VLOOKUP(A1126,'[1]Mapa de Preços'!$A$16:$D$2988,4,0)","v":0}]
[1112,null,{"$f":"IF('Requisição de Compra'!J1138=\"\",\"\",VLOOKUP(A1127,'Requisição de Compra'!$I$28:$J$3000,2,0))","v":""},null,null,null,null,null,null,"Falta Orçamento",null,{"$f":"VLOOKUP(A1127,'[1]Mapa de Preços'!$A$16:$D$2988,4,0)","v":0}]
[1113,null,{"$f":"IF('Requisição de Compra'!J1139=\"\",\"\",VLOOKUP(A1128,'Requisição de Compra'!$I$28:$J$3000,2,0))","v":""},null,null,null,null,null,null,"Falta Orçamento",null,{"$f":"VLOOKUP(A1128,'[1]Mapa de Preços'!$A$16:$D$2988,4,0)","v":0}]
[1114,null,{"$f":"IF('Requisição de Compra'!J1140=\"\",\"\",VLOOKUP(A1129,'Requisição de Compra'!$I$28:$J$3000,2,0))","v":""},null,null,null,null,null,null,"Falta Orçamento",null,{"$f":"VLOOKUP(A1129,'[1]Mapa de Preços'!$A$16:$D$2988,4,0)","v":0}]
[1115,null,{"$f":"IF('Requisição de Compra'!J1141=\"\",\"\",VLOOKUP(A1130,'Requisição de Compra'!$I$28:$J$3000,2,0))","v":""},null,null,null,null,null,null,"Falta Orçamento",null,{"$f":"VLOOKUP(A1130,'[1]Mapa de Preços'!$A$16:$D$2988,4,0)","v":0}]
[1116,null,{"$f":"IF('Requisição de Compra'!J1142=\"\",\"\",VLOOKUP(A1131,'Requisição de Compra'!$I$28:$J$3000,2,0))","v":""},null,null,null,null,null,null,"Falta Orçamento",null,{"$f":"VLOOKUP(A1131,'[1]Mapa de Preços'!$A$16:$D$2988,4,0)","v":0}]
[1117,null,{"$f":"IF('Requisição de Compra'!J1143=\"\",\"\",VLOOKUP(A1132,'Requisição de Compra'!$I$28:$J$3000,2,0))","v":""},null,null,null,null,null,null,"Falta Orçamento",null,{"$f":"VLOOKUP(A1132,'[1]Mapa de Preços'!$A$16:$D$2988,4,0)","v":0}]
[1118,null,{"$f":"IF('Requisição de Compra'!J1144=\"\",\"\",VLOOKUP(A1133,'Requisição de Compra'!$I$28:$J$3000,2,0))","v":""},null,null,null,null,null,null,"Falta Orçamento",null,{"$f":"VLOOKUP(A1133,'[1]Mapa de Preços'!$A$16:$D$2988,4,0)","v":0}]
[1119,null,{"$f":"IF('Requisição de Compra'!J1145=\"\",\"\",VLOOKUP(A1134,'Requisição de Compra'!$I$28:$J$3000,2,0))","v":""},null,null,null,null,null,null,"Falta Orçamento",null,{"$f":"VLOOKUP(A1134,'[1]Mapa de Preços'!$A$16:$D$2988,4,0)","v":0}]
[1120,null,{"$f":"IF('Requisição de Compra'!J1146=\"\",\"\",VLOOKUP(A1135,'Requisição de Compra'!$I$28:$J$3000,2,0))","v":""},null,null,null,null,null,null,"Falta Orçamento",null,{"$f":"VLOOKUP(A1135,'[1]Mapa de Preços'!$A$16:$D$2988,4,0)","v":0}]
[1121,null,{"$f":"IF('Requisição de Compra'!J1147=\"\",\"\",VLOOKUP(A1136,'Requisição de Compra'!$I$28:$J$3000,2,0))","v":""},null,null,null,null,null,null,"Falta Orçamento",null,{"$f":"VLOOKUP(A1136,'[1]Mapa de Preços'!$A$16:$D$2988,4,0)","v":0}]
[1122,null,{"$f":"IF('Requisição de Compra'!J1148=\"\",\"\",VLOOKUP(A1137,'Requisição de Compra'!$I$28:$J$3000,2,0))","v":""},null,null,null,null,null,null,"Falta Orçamento",null,{"$f":"VLOOKUP(A1137,'[1]Mapa de Preços'!$A$16:$D$2988,4,0)","v":0}]
[1123,null,{"$f":"IF('Requisição de Compra'!J1149=\"\",\"\",VLOOKUP(A1138,'Requisição de Compra'!$I$28:$J$3000,2,0))","v":""},null,null,null,null,null,null,"Falta Orçamento",null,{"$f":"VLOOKUP(A1138,'[1]Mapa de Preços'!$A$16:$D$2988,4,0)","v":0}]
[1124,null,{"$f":"IF('Requisição de Compra'!J1150=\"\",\"\",VLOOKUP(A1139,'Requisição de Compra'!$I$28:$J$3000,2,0))","v":""},null,null,null,null,null,null,"Falta Orçamento",null,{"$f":"VLOOKUP(A1139,'[1]Mapa de Preços'!$A$16:$D$2988,4,0)","v":0}]
[1125,null,{"$f":"IF('Requisição de Compra'!J1151=\"\",\"\",VLOOKUP(A1140,'Requisição de Compra'!$I$28:$J$3000,2,0))","v":""},null,null,null,null,null,null,"Falta Orçamento",null,{"$f":"VLOOKUP(A1140,'[1]Mapa de Preços'!$A$16:$D$2988,4,0)","v":0}]
[1126,null,{"$f":"IF('Requisição de Compra'!J1152=\"\",\"\",VLOOKUP(A1141,'Requisição de Compra'!$I$28:$J$3000,2,0))","v":""},null,null,null,null,null,null,"Falta Orçamento",null,{"$f":"VLOOKUP(A1141,'[1]Mapa de Preços'!$A$16:$D$2988,4,0)","v":0}]
[1127,null,{"$f":"IF('Requisição de Compra'!J1153=\"\",\"\",VLOOKUP(A1142,'Requisição de Compra'!$I$28:$J$3000,2,0))","v":""},null,null,null,null,null,null,"Falta Orçamento",null,{"$f":"VLOOKUP(A1142,'[1]Mapa de Preços'!$A$16:$D$2988,4,0)","v":0}]
[1128,null,{"$f":"IF('Requisição de Compra'!J1154=\"\",\"\",VLOOKUP(A1143,'Requisição de Compra'!$I$28:$J$3000,2,0))","v":""},null,null,null,null,null,null,"Falta Orçamento",null,{"$f":"VLOOKUP(A1143,'[1]Mapa de Preços'!$A$16:$D$2988,4,0)","v":0}]
[1129,null,{"$f":"IF('Requisição de Compra'!J1155=\"\",\"\",VLOOKUP(A1144,'Requisição de Compra'!$I$28:$J$3000,2,0))","v":""},null,null,null,null,null,null,"Falta Orçamento",null,{"$f":"VLOOKUP(A1144,'[1]Mapa de Preços'!$A$16:$D$2988,4,0)","v":0}]
[1130,null,{"$f":"IF('Requisição de Compra'!J1156=\"\",\"\",VLOOKUP(A1145,'Requisição de Compra'!$I$28:$J$3000,2,0))","v":""},null,null,null,null,null,null,"Falta Orçamento",null,{"$f":"VLOOKUP(A1145,'[1]Mapa de Preços'!$A$16:$D$2988,4,0)","v":0}]
[1131,null,{"$f":"IF('Requisição de Compra'!J1157=\"\",\"\",VLOOKUP(A1146,'Requisição de Compra'!$I$28:$J$3000,2,0))","v":""},null,null,null,null,null,null,"Falta Orçamento",null,{"$f":"VLOOKUP(A1146,'[1]Mapa de Preços'!$A$16:$D$2988,4,0)","v":0}]
[1132,null,{"$f":"IF('Requisição de Compra'!J1158=\"\",\"\",VLOOKUP(A1147,'Requisição de Compra'!$I$28:$J$3000,2,0))","v":""},null,null,null,null,null,null,"Falta Orçamento",null,{"$f":"VLOOKUP(A1147,'[1]Mapa de Preços'!$A$16:$D$2988,4,0)","v":0}]
[1133,null,{"$f":"IF('Requisição de Compra'!J1159=\"\",\"\",VLOOKUP(A1148,'Requisição de Compra'!$I$28:$J$3000,2,0))","v":""},null,null,null,null,null,null,"Falta Orçamento",null,{"$f":"VLOOKUP(A1148,'[1]Mapa de Preços'!$A$16:$D$2988,4,0)","v":0}]
[1134,null,{"$f":"IF('Requisição de Compra'!J1160=\"\",\"\",VLOOKUP(A1149,'Requisição de Compra'!$I$28:$J$3000,2,0))","v":""},null,null,null,null,null,null,"Falta Orçamento",null,{"$f":"VLOOKUP(A1149,'[1]Mapa de Preços'!$A$16:$D$2988,4,0)","v":0}]
[1135,null,{"$f":"IF('Requisição de Compra'!J1161=\"\",\"\",VLOOKUP(A1150,'Requisição de Compra'!$I$28:$J$3000,2,0))","v":""},null,null,null,null,null,null,"Falta Orçamento",null,{"$f":"VLOOKUP(A1150,'[1]Mapa de Preços'!$A$16:$D$2988,4,0)","v":0}]
[1136,null,{"$f":"IF('Requisição de Compra'!J1162=\"\",\"\",VLOOKUP(A1151,'Requisição de Compra'!$I$28:$J$3000,2,0))","v":""},null,null,null,null,null,null,"Falta Orçamento",null,{"$f":"VLOOKUP(A1151,'[1]Mapa de Preços'!$A$16:$D$2988,4,0)","v":0}]
[1137,null,{"$f":"IF('Requisição de Compra'!J1163=\"\",\"\",VLOOKUP(A1152,'Requisição de Compra'!$I$28:$J$3000,2,0))","v":""},null,null,null,null,null,null,"Falta Orçamento",null,{"$f":"VLOOKUP(A1152,'[1]Mapa de Preços'!$A$16:$D$2988,4,0)","v":0}]
[1138,null,{"$f":"IF('Requisição de Compra'!J1164=\"\",\"\",VLOOKUP(A1153,'Requisição de Compra'!$I$28:$J$3000,2,0))","v":""},null,null,null,null,null,null,"Falta Orçamento",null,{"$f":"VLOOKUP(A1153,'[1]Mapa de Preços'!$A$16:$D$2988,4,0)","v":0}]
[1139,null,{"$f":"IF('Requisição de Compra'!J1165=\"\",\"\",VLOOKUP(A1154,'Requisição de Compra'!$I$28:$J$3000,2,0))","v":""},null,null,null,null,null,null,"Falta Orçamento",null,{"$f":"VLOOKUP(A1154,'[1]Mapa de Preços'!$A$16:$D$2988,4,0)","v":0}]
[1140,null,{"$f":"IF('Requisição de Compra'!J1166=\"\",\"\",VLOOKUP(A1155,'Requisição de Compra'!$I$28:$J$3000,2,0))","v":""},null,null,null,null,null,null,"Falta Orçamento",null,{"$f":"VLOOKUP(A1155,'[1]Mapa de Preços'!$A$16:$D$2988,4,0)","v":0}]
[1141,null,{"$f":"IF('Requisição de Compra'!J1167=\"\",\"\",VLOOKUP(A1156,'Requisição de Compra'!$I$28:$J$3000,2,0))","v":""},null,null,null,null,null,null,"Falta Orçamento",null,{"$f":"VLOOKUP(A1156,'[1]Mapa de Preços'!$A$16:$D$2988,4,0)","v":0}]
[1142,null,{"$f":"IF('Requisição de Compra'!J1168=\"\",\"\",VLOOKUP(A1157,'Requisição de Compra'!$I$28:$J$3000,2,0))","v":""},null,null,null,null,null,null,"Falta Orçamento",null,{"$f":"VLOOKUP(A1157,'[1]Mapa de Preços'!$A$16:$D$2988,4,0)","v":0}]
[1143,null,{"$f":"IF('Requisição de Compra'!J1169=\"\",\"\",VLOOKUP(A1158,'Requisição de Compra'!$I$28:$J$3000,2,0))","v":""},null,null,null,null,null,null,"Falta Orçamento",null,{"$f":"VLOOKUP(A1158,'[1]Mapa de Preços'!$A$16:$D$2988,4,0)","v":0}]
[1144,null,{"$f":"IF('Requisição de Compra'!J1170=\"\",\"\",VLOOKUP(A1159,'Requisição de Compra'!$I$28:$J$3000,2,0))","v":""},null,null,null,null,null,null,"Falta Orçamento",null,{"$f":"VLOOKUP(A1159,'[1]Mapa de Preços'!$A$16:$D$2988,4,0)","v":0}]
[1145,null,{"$f":"IF('Requisição de Compra'!J1171=\"\",\"\",VLOOKUP(A1160,'Requisição de Compra'!$I$28:$J$3000,2,0))","v":""},null,null,null,null,null,null,"Falta Orçamento",null,{"$f":"VLOOKUP(A1160,'[1]Mapa de Preços'!$A$16:$D$2988,4,0)","v":0}]
[1146,null,{"$f":"IF('Requisição de Compra'!J1172=\"\",\"\",VLOOKUP(A1161,'Requisição de Compra'!$I$28:$J$3000,2,0))","v":""},null,null,null,null,null,null,"Falta Orçamento",null,{"$f":"VLOOKUP(A1161,'[1]Mapa de Preços'!$A$16:$D$2988,4,0)","v":0}]
[1147,null,{"$f":"IF('Requisição de Compra'!J1173=\"\",\"\",VLOOKUP(A1162,'Requisição de Compra'!$I$28:$J$3000,2,0))","v":""},null,null,null,null,null,null,"Falta Orçamento",null,{"$f":"VLOOKUP(A1162,'[1]Mapa de Preços'!$A$16:$D$2988,4,0)","v":0}]
[1148,null,{"$f":"IF('Requisição de Compra'!J1174=\"\",\"\",VLOOKUP(A1163,'Requisição de Compra'!$I$28:$J$3000,2,0))","v":""},null,null,null,null,null,null,"Falta Orçamento",null,{"$f":"VLOOKUP(A1163,'[1]Mapa de Preços'!$A$16:$D$2988,4,0)","v":0}]
[1149,null,{"$f":"IF('Requisição de Compra'!J1175=\"\",\"\",VLOOKUP(A1164,'Requisição de Compra'!$I$28:$J$3000,2,0))","v":""},null,null,null,null,null,null,"Falta Orçamento",null,{"$f":"VLOOKUP(A1164,'[1]Mapa de Preços'!$A$16:$D$2988,4,0)","v":0}]
[1150,null,{"$f":"IF('Requisição de Compra'!J1176=\"\",\"\",VLOOKUP(A1165,'Requisição de Compra'!$I$28:$J$3000,2,0))","v":""},null,null,null,null,null,null,"Falta Orçamento",null,{"$f":"VLOOKUP(A1165,'[1]Mapa de Preços'!$A$16:$D$2988,4,0)","v":0}]
[1151,null,{"$f":"IF('Requisição de Compra'!J1177=\"\",\"\",VLOOKUP(A1166,'Requisição de Compra'!$I$28:$J$3000,2,0))","v":""},null,null,null,null,null,null,"Falta Orçamento",null,{"$f":"VLOOKUP(A1166,'[1]Mapa de Preços'!$A$16:$D$2988,4,0)","v":0}]
[1152,null,{"$f":"IF('Requisição de Compra'!J1178=\"\",\"\",VLOOKUP(A1167,'Requisição de Compra'!$I$28:$J$3000,2,0))","v":""},null,null,null,null,null,null,"Falta Orçamento",null,{"$f":"VLOOKUP(A1167,'[1]Mapa de Preços'!$A$16:$D$2988,4,0)","v":0}]
[1153,null,{"$f":"IF('Requisição de Compra'!J1179=\"\",\"\",VLOOKUP(A1168,'Requisição de Compra'!$I$28:$J$3000,2,0))","v":""},null,null,null,null,null,null,"Falta Orçamento",null,{"$f":"VLOOKUP(A1168,'[1]Mapa de Preços'!$A$16:$D$2988,4,0)","v":0}]
[1154,null,{"$f":"IF('Requisição de Compra'!J1180=\"\",\"\",VLOOKUP(A1169,'Requisição de Compra'!$I$28:$J$3000,2,0))","v":""},null,null,null,null,null,null,{"$f":"IF(AND(D1169<>\"\",F1169<>\"\",H1169<>\"\"),AVERAGE(D1169:H1169),\"Falta Orçamento\")","v":"Falta Orçamento"},null,{"$f":"VLOOKUP(A1169,'[1]Mapa de Preços'!$A$16:$D$2988,4,0)","v":0}]
[1155,null,{"$f":"IF('Requisição de Compra'!J1181=\"\",\"\",VLOOKUP(A1170,'Requisição de Compra'!$I$28:$J$3000,2,0))","v":""},null,null,null,null,null,null,"Falta Orçamento",null,{"$f":"VLOOKUP(A1170,'[1]Mapa de Preços'!$A$16:$D$2988,4,0)","v":0}]
[1156,null,{"$f":"IF('Requisição de Compra'!J1182=\"\",\"\",VLOOKUP(A1171,'Requisição de Compra'!$I$28:$J$3000,2,0))","v":""},null,null,null,null,null,null,"Falta Orçamento",null,{"$f":"VLOOKUP(A1171,'[1]Mapa de Preços'!$A$16:$D$2988,4,0)","v":0}]
[1157,null,{"$f":"IF('Requisição de Compra'!J1183=\"\",\"\",VLOOKUP(A1172,'Requisição de Compra'!$I$28:$J$3000,2,0))","v":""},null,null,null,null,null,null,"Falta Orçamento",null,{"$f":"VLOOKUP(A1172,'[1]Mapa de Preços'!$A$16:$D$2988,4,0)","v":0}]
[1158,null,{"$f":"IF('Requisição de Compra'!J1184=\"\",\"\",VLOOKUP(A1173,'Requisição de Compra'!$I$28:$J$3000,2,0))","v":""},null,null,null,null,null,null,"Falta Orçamento",null,{"$f":"VLOOKUP(A1173,'[1]Mapa de Preços'!$A$16:$D$2988,4,0)","v":0}]
[1159,null,{"$f":"IF('Requisição de Compra'!J1185=\"\",\"\",VLOOKUP(A1174,'Requisição de Compra'!$I$28:$J$3000,2,0))","v":""},null,null,null,null,null,null,"Falta Orçamento",null,{"$f":"VLOOKUP(A1174,'[1]Mapa de Preços'!$A$16:$D$2988,4,0)","v":0}]
[1160,null,{"$f":"IF('Requisição de Compra'!J1186=\"\",\"\",VLOOKUP(A1175,'Requisição de Compra'!$I$28:$J$3000,2,0))","v":""},null,null,null,null,null,null,"Falta Orçamento",null,{"$f":"VLOOKUP(A1175,'[1]Mapa de Preços'!$A$16:$D$2988,4,0)","v":0}]
[1161,null,{"$f":"IF('Requisição de Compra'!J1187=\"\",\"\",VLOOKUP(A1176,'Requisição de Compra'!$I$28:$J$3000,2,0))","v":""},null,null,null,null,null,null,"Falta Orçamento",null,{"$f":"VLOOKUP(A1176,'[1]Mapa de Preços'!$A$16:$D$2988,4,0)","v":0}]
[1162,null,{"$f":"IF('Requisição de Compra'!J1188=\"\",\"\",VLOOKUP(A1177,'Requisição de Compra'!$I$28:$J$3000,2,0))","v":""},null,null,null,null,null,null,"Falta Orçamento",null,{"$f":"VLOOKUP(A1177,'[1]Mapa de Preços'!$A$16:$D$2988,4,0)","v":0}]
[1163,null,{"$f":"IF('Requisição de Compra'!J1189=\"\",\"\",VLOOKUP(A1178,'Requisição de Compra'!$I$28:$J$3000,2,0))","v":""},null,null,null,null,null,null,"Falta Orçamento",null,{"$f":"VLOOKUP(A1178,'[1]Mapa de Preços'!$A$16:$D$2988,4,0)","v":0}]
[1164,null,{"$f":"IF('Requisição de Compra'!J1190=\"\",\"\",VLOOKUP(A1179,'Requisição de Compra'!$I$28:$J$3000,2,0))","v":""},null,null,null,null,null,null,"Falta Orçamento",null,{"$f":"VLOOKUP(A1179,'[1]Mapa de Preços'!$A$16:$D$2988,4,0)","v":0}]
[1165,null,{"$f":"IF('Requisição de Compra'!J1191=\"\",\"\",VLOOKUP(A1180,'Requisição de Compra'!$I$28:$J$3000,2,0))","v":""},null,null,null,null,null,null,"Falta Orçamento",null,{"$f":"VLOOKUP(A1180,'[1]Mapa de Preços'!$A$16:$D$2988,4,0)","v":0}]
[1166,null,{"$f":"IF('Requisição de Compra'!J1192=\"\",\"\",VLOOKUP(A1181,'Requisição de Compra'!$I$28:$J$3000,2,0))","v":""},null,null,null,null,null,null,"Falta Orçamento",null,{"$f":"VLOOKUP(A1181,'[1]Mapa de Preços'!$A$16:$D$2988,4,0)","v":0}]
[1167,null,{"$f":"IF('Requisição de Compra'!J1193=\"\",\"\",VLOOKUP(A1182,'Requisição de Compra'!$I$28:$J$3000,2,0))","v":""},null,null,null,null,null,null,"Falta Orçamento",null,{"$f":"VLOOKUP(A1182,'[1]Mapa de Preços'!$A$16:$D$2988,4,0)","v":0}]
[1168,null,{"$f":"IF('Requisição de Compra'!J1194=\"\",\"\",VLOOKUP(A1183,'Requisição de Compra'!$I$28:$J$3000,2,0))","v":""},null,null,null,null,null,null,"Falta Orçamento",null,{"$f":"VLOOKUP(A1183,'[1]Mapa de Preços'!$A$16:$D$2988,4,0)","v":0}]
[1169,null,{"$f":"IF('Requisição de Compra'!J1195=\"\",\"\",VLOOKUP(A1184,'Requisição de Compra'!$I$28:$J$3000,2,0))","v":""},null,null,null,null,null,null,"Falta Orçamento",null,{"$f":"VLOOKUP(A1184,'[1]Mapa de Preços'!$A$16:$D$2988,4,0)","v":0}]
[1170,null,{"$f":"IF('Requisição de Compra'!J1196=\"\",\"\",VLOOKUP(A1185,'Requisição de Compra'!$I$28:$J$3000,2,0))","v":""},null,null,null,null,null,null,"Falta Orçamento",null,{"$f":"VLOOKUP(A1185,'[1]Mapa de Preços'!$A$16:$D$2988,4,0)","v":0}]
[1171,null,{"$f":"IF('Requisição de Compra'!J1197=\"\",\"\",VLOOKUP(A1186,'Requisição de Compra'!$I$28:$J$3000,2,0))","v":""},null,null,null,null,null,null,"Falta Orçamento",null,{"$f":"VLOOKUP(A1186,'[1]Mapa de Preços'!$A$16:$D$2988,4,0)","v":0}]
[1172,null,{"$f":"IF('Requisição de Compra'!J1198=\"\",\"\",VLOOKUP(A1187,'Requisição de Compra'!$I$28:$J$3000,2,0))","v":""},null,null,null,null,null,null,"Falta Orçamento",null,{"$f":"VLOOKUP(A1187,'[1]Mapa de Preços'!$A$16:$D$2988,4,0)","v":0}]
[1173,null,{"$f":"IF('Requisição de Compra'!J1199=\"\",\"\",VLOOKUP(A1188,'Requisição de Compra'!$I$28:$J$3000,2,0))","v":""},null,null,null,null,null,null,"Falta Orçamento",null,{"$f":"VLOOKUP(A1188,'[1]Mapa de Preços'!$A$16:$D$2988,4,0)","v":0}]
[1174,null,{"$f":"IF('Requisição de Compra'!J1200=\"\",\"\",VLOOKUP(A1189,'Requisição de Compra'!$I$28:$J$3000,2,0))","v":""},null,null,null,null,null,null,"Falta Orçamento",null,{"$f":"VLOOKUP(A1189,'[1]Mapa de Preços'!$A$16:$D$2988,4,0)","v":0}]
[1175,null,{"$f":"IF('Requisição de Compra'!J1201=\"\",\"\",VLOOKUP(A1190,'Requisição de Compra'!$I$28:$J$3000,2,0))","v":""},null,null,null,null,null,null,"Falta Orçamento",null,{"$f":"VLOOKUP(A1190,'[1]Mapa de Preços'!$A$16:$D$2988,4,0)","v":0}]
[1176,null,{"$f":"IF('Requisição de Compra'!J1202=\"\",\"\",VLOOKUP(A1191,'Requisição de Compra'!$I$28:$J$3000,2,0))","v":""},null,null,null,null,null,null,"Falta Orçamento",null,{"$f":"VLOOKUP(A1191,'[1]Mapa de Preços'!$A$16:$D$2988,4,0)","v":0}]
[1177,null,{"$f":"IF('Requisição de Compra'!J1203=\"\",\"\",VLOOKUP(A1192,'Requisição de Compra'!$I$28:$J$3000,2,0))","v":""},null,null,null,null,null,null,"Falta Orçamento",null,{"$f":"VLOOKUP(A1192,'[1]Mapa de Preços'!$A$16:$D$2988,4,0)","v":0}]
[1178,null,{"$f":"IF('Requisição de Compra'!J1204=\"\",\"\",VLOOKUP(A1193,'Requisição de Compra'!$I$28:$J$3000,2,0))","v":""},null,null,null,null,null,null,"Falta Orçamento",null,{"$f":"VLOOKUP(A1193,'[1]Mapa de Preços'!$A$16:$D$2988,4,0)","v":0}]
[1179,null,{"$f":"IF('Requisição de Compra'!J1205=\"\",\"\",VLOOKUP(A1194,'Requisição de Compra'!$I$28:$J$3000,2,0))","v":""},null,null,null,null,null,null,"Falta Orçamento",null,{"$f":"VLOOKUP(A1194,'[1]Mapa de Preços'!$A$16:$D$2988,4,0)","v":0}]
[1180,null,{"$f":"IF('Requisição de Compra'!J1206=\"\",\"\",VLOOKUP(A1195,'Requisição de Compra'!$I$28:$J$3000,2,0))","v":""},null,null,null,null,null,null,"Falta Orçamento",null,{"$f":"VLOOKUP(A1195,'[1]Mapa de Preços'!$A$16:$D$2988,4,0)","v":0}]
[1181,null,{"$f":"IF('Requisição de Compra'!J1207=\"\",\"\",VLOOKUP(A1196,'Requisição de Compra'!$I$28:$J$3000,2,0))","v":""},null,null,null,null,null,null,"Falta Orçamento",null,{"$f":"VLOOKUP(A1196,'[1]Mapa de Preços'!$A$16:$D$2988,4,0)","v":0}]
[1182,null,{"$f":"IF('Requisição de Compra'!J1208=\"\",\"\",VLOOKUP(A1197,'Requisição de Compra'!$I$28:$J$3000,2,0))","v":""},null,null,null,null,null,null,"Falta Orçamento",null,{"$f":"VLOOKUP(A1197,'[1]Mapa de Preços'!$A$16:$D$2988,4,0)","v":0}]
[1183,null,{"$f":"IF('Requisição de Compra'!J1209=\"\",\"\",VLOOKUP(A1198,'Requisição de Compra'!$I$28:$J$3000,2,0))","v":""},null,null,null,null,null,null,"Falta Orçamento",null,{"$f":"VLOOKUP(A1198,'[1]Mapa de Preços'!$A$16:$D$2988,4,0)","v":0}]
[1184,null,{"$f":"IF('Requisição de Compra'!J1210=\"\",\"\",VLOOKUP(A1199,'Requisição de Compra'!$I$28:$J$3000,2,0))","v":""},null,null,null,null,null,null,"Falta Orçamento",null,{"$f":"VLOOKUP(A1199,'[1]Mapa de Preços'!$A$16:$D$2988,4,0)","v":0}]
[1185,null,{"$f":"IF('Requisição de Compra'!J1211=\"\",\"\",VLOOKUP(A1200,'Requisição de Compra'!$I$28:$J$3000,2,0))","v":""},null,null,null,null,null,null,"Falta Orçamento",null,{"$f":"VLOOKUP(A1200,'[1]Mapa de Preços'!$A$16:$D$2988,4,0)","v":0}]
[1186,null,{"$f":"IF('Requisição de Compra'!J1212=\"\",\"\",VLOOKUP(A1201,'Requisição de Compra'!$I$28:$J$3000,2,0))","v":""},null,null,null,null,null,null,"Falta Orçamento",null,{"$f":"VLOOKUP(A1201,'[1]Mapa de Preços'!$A$16:$D$2988,4,0)","v":0}]
[1187,null,{"$f":"IF('Requisição de Compra'!J1213=\"\",\"\",VLOOKUP(A1202,'Requisição de Compra'!$I$28:$J$3000,2,0))","v":""},null,null,null,null,null,null,"Falta Orçamento",null,{"$f":"VLOOKUP(A1202,'[1]Mapa de Preços'!$A$16:$D$2988,4,0)","v":0}]
[1188,null,{"$f":"IF('Requisição de Compra'!J1214=\"\",\"\",VLOOKUP(A1203,'Requisição de Compra'!$I$28:$J$3000,2,0))","v":""},null,null,null,null,null,null,"Falta Orçamento",null,{"$f":"VLOOKUP(A1203,'[1]Mapa de Preços'!$A$16:$D$2988,4,0)","v":0}]
[1189,null,{"$f":"IF('Requisição de Compra'!J1215=\"\",\"\",VLOOKUP(A1204,'Requisição de Compra'!$I$28:$J$3000,2,0))","v":""},null,null,null,null,null,null,"Falta Orçamento",null,{"$f":"VLOOKUP(A1204,'[1]Mapa de Preços'!$A$16:$D$2988,4,0)","v":0}]
[1190,null,{"$f":"IF('Requisição de Compra'!J1216=\"\",\"\",VLOOKUP(A1205,'Requisição de Compra'!$I$28:$J$3000,2,0))","v":""},null,null,null,null,null,null,"Falta Orçamento",null,{"$f":"VLOOKUP(A1205,'[1]Mapa de Preços'!$A$16:$D$2988,4,0)","v":0}]
[1191,null,{"$f":"IF('Requisição de Compra'!J1217=\"\",\"\",VLOOKUP(A1206,'Requisição de Compra'!$I$28:$J$3000,2,0))","v":""},null,null,null,null,null,null,"Falta Orçamento",null,{"$f":"VLOOKUP(A1206,'[1]Mapa de Preços'!$A$16:$D$2988,4,0)","v":0}]
[1192,null,{"$f":"IF('Requisição de Compra'!J1218=\"\",\"\",VLOOKUP(A1207,'Requisição de Compra'!$I$28:$J$3000,2,0))","v":""},null,null,null,null,null,null,"Falta Orçamento",null,{"$f":"VLOOKUP(A1207,'[1]Mapa de Preços'!$A$16:$D$2988,4,0)","v":0}]
[1193,null,{"$f":"IF('Requisição de Compra'!J1219=\"\",\"\",VLOOKUP(A1208,'Requisição de Compra'!$I$28:$J$3000,2,0))","v":""},null,null,null,null,null,null,"Falta Orçamento",null,{"$f":"VLOOKUP(A1208,'[1]Mapa de Preços'!$A$16:$D$2988,4,0)","v":0}]
[1194,null,{"$f":"IF('Requisição de Compra'!J1220=\"\",\"\",VLOOKUP(A1209,'Requisição de Compra'!$I$28:$J$3000,2,0))","v":""},null,null,null,null,null,null,"Falta Orçamento",null,{"$f":"VLOOKUP(A1209,'[1]Mapa de Preços'!$A$16:$D$2988,4,0)","v":0}]
[1195,null,{"$f":"IF('Requisição de Compra'!J1221=\"\",\"\",VLOOKUP(A1210,'Requisição de Compra'!$I$28:$J$3000,2,0))","v":""},null,null,null,null,null,null,"Falta Orçamento",null,{"$f":"VLOOKUP(A1210,'[1]Mapa de Preços'!$A$16:$D$2988,4,0)","v":0}]
[1196,null,{"$f":"IF('Requisição de Compra'!J1222=\"\",\"\",VLOOKUP(A1211,'Requisição de Compra'!$I$28:$J$3000,2,0))","v":""},null,null,null,null,null,null,"Falta Orçamento",null,{"$f":"VLOOKUP(A1211,'[1]Mapa de Preços'!$A$16:$D$2988,4,0)","v":0}]
[1197,null,{"$f":"IF('Requisição de Compra'!J1223=\"\",\"\",VLOOKUP(A1212,'Requisição de Compra'!$I$28:$J$3000,2,0))","v":""},null,null,null,null,null,null,"Falta Orçamento",null,{"$f":"VLOOKUP(A1212,'[1]Mapa de Preços'!$A$16:$D$2988,4,0)","v":0}]
[1198,null,{"$f":"IF('Requisição de Compra'!J1224=\"\",\"\",VLOOKUP(A1213,'Requisição de Compra'!$I$28:$J$3000,2,0))","v":""},null,null,null,null,null,null,"Falta Orçamento",null,{"$f":"VLOOKUP(A1213,'[1]Mapa de Preços'!$A$16:$D$2988,4,0)","v":0}]
[1199,null,{"$f":"IF('Requisição de Compra'!J1225=\"\",\"\",VLOOKUP(A1214,'Requisição de Compra'!$I$28:$J$3000,2,0))","v":""},null,null,null,null,null,null,"Falta Orçamento",null,{"$f":"VLOOKUP(A1214,'[1]Mapa de Preços'!$A$16:$D$2988,4,0)","v":0}]
[1200,null,{"$f":"IF('Requisição de Compra'!J1226=\"\",\"\",VLOOKUP(A1215,'Requisição de Compra'!$I$28:$J$3000,2,0))","v":""},null,null,null,null,null,null,"Falta Orçamento",null,{"$f":"VLOOKUP(A1215,'[1]Mapa de Preços'!$A$16:$D$2988,4,0)","v":0}]
[1201,null,{"$f":"IF('Requisição de Compra'!J1227=\"\",\"\",VLOOKUP(A1216,'Requisição de Compra'!$I$28:$J$3000,2,0))","v":""},null,null,null,null,null,null,"Falta Orçamento",null,{"$f":"VLOOKUP(A1216,'[1]Mapa de Preços'!$A$16:$D$2988,4,0)","v":0}]
[1202,null,{"$f":"IF('Requisição de Compra'!J1228=\"\",\"\",VLOOKUP(A1217,'Requisição de Compra'!$I$28:$J$3000,2,0))","v":""},null,null,null,null,null,null,"Falta Orçamento",null,{"$f":"VLOOKUP(A1217,'[1]Mapa de Preços'!$A$16:$D$2988,4,0)","v":0}]
[1203,null,{"$f":"IF('Requisição de Compra'!J1229=\"\",\"\",VLOOKUP(A1218,'Requisição de Compra'!$I$28:$J$3000,2,0))","v":""},null,null,null,null,null,null,"Falta Orçamento",null,{"$f":"VLOOKUP(A1218,'[1]Mapa de Preços'!$A$16:$D$2988,4,0)","v":0}]
[1204,null,{"$f":"IF('Requisição de Compra'!J1230=\"\",\"\",VLOOKUP(A1219,'Requisição de Compra'!$I$28:$J$3000,2,0))","v":""},null,null,null,null,null,null,"Falta Orçamento",null,{"$f":"VLOOKUP(A1219,'[1]Mapa de Preços'!$A$16:$D$2988,4,0)","v":0}]
[1205,null,{"$f":"IF('Requisição de Compra'!J1231=\"\",\"\",VLOOKUP(A1220,'Requisição de Compra'!$I$28:$J$3000,2,0))","v":""},null,null,null,null,null,null,"Falta Orçamento",null,{"$f":"VLOOKUP(A1220,'[1]Mapa de Preços'!$A$16:$D$2988,4,0)","v":0}]
[1206,null,{"$f":"IF('Requisição de Compra'!J1232=\"\",\"\",VLOOKUP(A1221,'Requisição de Compra'!$I$28:$J$3000,2,0))","v":""},null,null,null,null,null,null,"Falta Orçamento",null,{"$f":"VLOOKUP(A1221,'[1]Mapa de Preços'!$A$16:$D$2988,4,0)","v":0}]
[1207,null,{"$f":"IF('Requisição de Compra'!J1233=\"\",\"\",VLOOKUP(A1222,'Requisição de Compra'!$I$28:$J$3000,2,0))","v":""},null,null,null,null,null,null,"Falta Orçamento",null,{"$f":"VLOOKUP(A1222,'[1]Mapa de Preços'!$A$16:$D$2988,4,0)","v":0}]
[1208,null,{"$f":"IF('Requisição de Compra'!J1234=\"\",\"\",VLOOKUP(A1223,'Requisição de Compra'!$I$28:$J$3000,2,0))","v":""},null,null,null,null,null,null,"Falta Orçamento",null,{"$f":"VLOOKUP(A1223,'[1]Mapa de Preços'!$A$16:$D$2988,4,0)","v":0}]
[1209,null,{"$f":"IF('Requisição de Compra'!J1235=\"\",\"\",VLOOKUP(A1224,'Requisição de Compra'!$I$28:$J$3000,2,0))","v":""},null,null,null,null,null,null,"Falta Orçamento",null,{"$f":"VLOOKUP(A1224,'[1]Mapa de Preços'!$A$16:$D$2988,4,0)","v":0}]
[1210,null,{"$f":"IF('Requisição de Compra'!J1236=\"\",\"\",VLOOKUP(A1225,'Requisição de Compra'!$I$28:$J$3000,2,0))","v":""},null,null,null,null,null,null,"Falta Orçamento",null,{"$f":"VLOOKUP(A1225,'[1]Mapa de Preços'!$A$16:$D$2988,4,0)","v":0}]
[1211,null,{"$f":"IF('Requisição de Compra'!J1237=\"\",\"\",VLOOKUP(A1226,'Requisição de Compra'!$I$28:$J$3000,2,0))","v":""},null,null,null,null,null,null,"Falta Orçamento",null,{"$f":"VLOOKUP(A1226,'[1]Mapa de Preços'!$A$16:$D$2988,4,0)","v":0}]
[1212,null,{"$f":"IF('Requisição de Compra'!J1238=\"\",\"\",VLOOKUP(A1227,'Requisição de Compra'!$I$28:$J$3000,2,0))","v":""},null,null,null,null,null,null,"Falta Orçamento",null,{"$f":"VLOOKUP(A1227,'[1]Mapa de Preços'!$A$16:$D$2988,4,0)","v":0}]
[1213,null,{"$f":"IF('Requisição de Compra'!J1239=\"\",\"\",VLOOKUP(A1228,'Requisição de Compra'!$I$28:$J$3000,2,0))","v":""},null,null,null,null,null,null,"Falta Orçamento",null,{"$f":"VLOOKUP(A1228,'[1]Mapa de Preços'!$A$16:$D$2988,4,0)","v":0}]
[1214,null,{"$f":"IF('Requisição de Compra'!J1240=\"\",\"\",VLOOKUP(A1229,'Requisição de Compra'!$I$28:$J$3000,2,0))","v":""},null,null,null,null,null,null,"Falta Orçamento",null,{"$f":"VLOOKUP(A1229,'[1]Mapa de Preços'!$A$16:$D$2988,4,0)","v":0}]
[1215,null,{"$f":"IF('Requisição de Compra'!J1241=\"\",\"\",VLOOKUP(A1230,'Requisição de Compra'!$I$28:$J$3000,2,0))","v":""},null,null,null,null,null,null,"Falta Orçamento",null,{"$f":"VLOOKUP(A1230,'[1]Mapa de Preços'!$A$16:$D$2988,4,0)","v":0}]
[1216,null,{"$f":"IF('Requisição de Compra'!J1242=\"\",\"\",VLOOKUP(A1231,'Requisição de Compra'!$I$28:$J$3000,2,0))","v":""},null,null,null,null,null,null,"Falta Orçamento",null,{"$f":"VLOOKUP(A1231,'[1]Mapa de Preços'!$A$16:$D$2988,4,0)","v":0}]
[1217,null,{"$f":"IF('Requisição de Compra'!J1243=\"\",\"\",VLOOKUP(A1232,'Requisição de Compra'!$I$28:$J$3000,2,0))","v":""},null,null,null,null,null,null,"Falta Orçamento",null,{"$f":"VLOOKUP(A1232,'[1]Mapa de Preços'!$A$16:$D$2988,4,0)","v":0}]
[1218,null,{"$f":"IF('Requisição de Compra'!J1244=\"\",\"\",VLOOKUP(A1233,'Requisição de Compra'!$I$28:$J$3000,2,0))","v":""},null,null,null,null,null,null,{"$f":"IF(AND(D1233<>\"\",F1233<>\"\",H1233<>\"\"),AVERAGE(D1233:H1233),\"Falta Orçamento\")","v":"Falta Orçamento"},null,{"$f":"VLOOKUP(A1233,'[1]Mapa de Preços'!$A$16:$D$2988,4,0)","v":0}]
[1219,null,{"$f":"IF('Requisição de Compra'!J1245=\"\",\"\",VLOOKUP(A1234,'Requisição de Compra'!$I$28:$J$3000,2,0))","v":""},null,null,null,null,null,null,"Falta Orçamento",null,{"$f":"VLOOKUP(A1234,'[1]Mapa de Preços'!$A$16:$D$2988,4,0)","v":0}]
[1220,null,{"$f":"IF('Requisição de Compra'!J1246=\"\",\"\",VLOOKUP(A1235,'Requisição de Compra'!$I$28:$J$3000,2,0))","v":""},null,null,null,null,null,null,"Falta Orçamento",null,{"$f":"VLOOKUP(A1235,'[1]Mapa de Preços'!$A$16:$D$2988,4,0)","v":0}]
[1221,null,{"$f":"IF('Requisição de Compra'!J1247=\"\",\"\",VLOOKUP(A1236,'Requisição de Compra'!$I$28:$J$3000,2,0))","v":""},null,null,null,null,null,null,"Falta Orçamento",null,{"$f":"VLOOKUP(A1236,'[1]Mapa de Preços'!$A$16:$D$2988,4,0)","v":0}]
[1222,null,{"$f":"IF('Requisição de Compra'!J1248=\"\",\"\",VLOOKUP(A1237,'Requisição de Compra'!$I$28:$J$3000,2,0))","v":""},null,null,null,null,null,null,"Falta Orçamento",null,{"$f":"VLOOKUP(A1237,'[1]Mapa de Preços'!$A$16:$D$2988,4,0)","v":0}]
[1223,null,{"$f":"IF('Requisição de Compra'!J1249=\"\",\"\",VLOOKUP(A1238,'Requisição de Compra'!$I$28:$J$3000,2,0))","v":""},null,null,null,null,null,null,"Falta Orçamento",null,{"$f":"VLOOKUP(A1238,'[1]Mapa de Preços'!$A$16:$D$2988,4,0)","v":0}]
[1224,null,{"$f":"IF('Requisição de Compra'!J1250=\"\",\"\",VLOOKUP(A1239,'Requisição de Compra'!$I$28:$J$3000,2,0))","v":""},null,null,null,null,null,null,"Falta Orçamento",null,{"$f":"VLOOKUP(A1239,'[1]Mapa de Preços'!$A$16:$D$2988,4,0)","v":0}]
[1225,null,{"$f":"IF('Requisição de Compra'!J1251=\"\",\"\",VLOOKUP(A1240,'Requisição de Compra'!$I$28:$J$3000,2,0))","v":""},null,null,null,null,null,null,"Falta Orçamento",null,{"$f":"VLOOKUP(A1240,'[1]Mapa de Preços'!$A$16:$D$2988,4,0)","v":0}]
[1226,null,{"$f":"IF('Requisição de Compra'!J1252=\"\",\"\",VLOOKUP(A1241,'Requisição de Compra'!$I$28:$J$3000,2,0))","v":""},null,null,null,null,null,null,"Falta Orçamento",null,{"$f":"VLOOKUP(A1241,'[1]Mapa de Preços'!$A$16:$D$2988,4,0)","v":0}]
[1227,null,{"$f":"IF('Requisição de Compra'!J1253=\"\",\"\",VLOOKUP(A1242,'Requisição de Compra'!$I$28:$J$3000,2,0))","v":""},null,null,null,null,null,null,"Falta Orçamento",null,{"$f":"VLOOKUP(A1242,'[1]Mapa de Preços'!$A$16:$D$2988,4,0)","v":0}]
[1228,null,{"$f":"IF('Requisição de Compra'!J1254=\"\",\"\",VLOOKUP(A1243,'Requisição de Compra'!$I$28:$J$3000,2,0))","v":""},null,null,null,null,null,null,"Falta Orçamento",null,{"$f":"VLOOKUP(A1243,'[1]Mapa de Preços'!$A$16:$D$2988,4,0)","v":0}]
[1229,null,{"$f":"IF('Requisição de Compra'!J1255=\"\",\"\",VLOOKUP(A1244,'Requisição de Compra'!$I$28:$J$3000,2,0))","v":""},null,null,null,null,null,null,"Falta Orçamento",null,{"$f":"VLOOKUP(A1244,'[1]Mapa de Preços'!$A$16:$D$2988,4,0)","v":0}]
[1230,null,{"$f":"IF('Requisição de Compra'!J1256=\"\",\"\",VLOOKUP(A1245,'Requisição de Compra'!$I$28:$J$3000,2,0))","v":""},null,null,null,null,null,null,"Falta Orçamento",null,{"$f":"VLOOKUP(A1245,'[1]Mapa de Preços'!$A$16:$D$2988,4,0)","v":0}]
[1231,null,{"$f":"IF('Requisição de Compra'!J1257=\"\",\"\",VLOOKUP(A1246,'Requisição de Compra'!$I$28:$J$3000,2,0))","v":""},null,null,null,null,null,null,"Falta Orçamento",null,{"$f":"VLOOKUP(A1246,'[1]Mapa de Preços'!$A$16:$D$2988,4,0)","v":0}]
[1232,null,{"$f":"IF('Requisição de Compra'!J1258=\"\",\"\",VLOOKUP(A1247,'Requisição de Compra'!$I$28:$J$3000,2,0))","v":""},null,null,null,null,null,null,"Falta Orçamento",null,{"$f":"VLOOKUP(A1247,'[1]Mapa de Preços'!$A$16:$D$2988,4,0)","v":0}]
[1233,null,{"$f":"IF('Requisição de Compra'!J1259=\"\",\"\",VLOOKUP(A1248,'Requisição de Compra'!$I$28:$J$3000,2,0))","v":""},null,null,null,null,null,null,"Falta Orçamento",null,{"$f":"VLOOKUP(A1248,'[1]Mapa de Preços'!$A$16:$D$2988,4,0)","v":0}]
[1234,null,{"$f":"IF('Requisição de Compra'!J1260=\"\",\"\",VLOOKUP(A1249,'Requisição de Compra'!$I$28:$J$3000,2,0))","v":""},null,null,null,null,null,null,"Falta Orçamento",null,{"$f":"VLOOKUP(A1249,'[1]Mapa de Preços'!$A$16:$D$2988,4,0)","v":0}]
[1235,null,{"$f":"IF('Requisição de Compra'!J1261=\"\",\"\",VLOOKUP(A1250,'Requisição de Compra'!$I$28:$J$3000,2,0))","v":""},null,null,null,null,null,null,"Falta Orçamento",null,{"$f":"VLOOKUP(A1250,'[1]Mapa de Preços'!$A$16:$D$2988,4,0)","v":0}]
[1236,null,{"$f":"IF('Requisição de Compra'!J1262=\"\",\"\",VLOOKUP(A1251,'Requisição de Compra'!$I$28:$J$3000,2,0))","v":""},null,null,null,null,null,null,"Falta Orçamento",null,{"$f":"VLOOKUP(A1251,'[1]Mapa de Preços'!$A$16:$D$2988,4,0)","v":0}]
[1237,null,{"$f":"IF('Requisição de Compra'!J1263=\"\",\"\",VLOOKUP(A1252,'Requisição de Compra'!$I$28:$J$3000,2,0))","v":""},null,null,null,null,null,null,"Falta Orçamento",null,{"$f":"VLOOKUP(A1252,'[1]Mapa de Preços'!$A$16:$D$2988,4,0)","v":0}]
[1238,null,{"$f":"IF('Requisição de Compra'!J1264=\"\",\"\",VLOOKUP(A1253,'Requisição de Compra'!$I$28:$J$3000,2,0))","v":""},null,null,null,null,null,null,"Falta Orçamento",null,{"$f":"VLOOKUP(A1253,'[1]Mapa de Preços'!$A$16:$D$2988,4,0)","v":0}]
[1239,null,{"$f":"IF('Requisição de Compra'!J1265=\"\",\"\",VLOOKUP(A1254,'Requisição de Compra'!$I$28:$J$3000,2,0))","v":""},null,null,null,null,null,null,"Falta Orçamento",null,{"$f":"VLOOKUP(A1254,'[1]Mapa de Preços'!$A$16:$D$2988,4,0)","v":0}]
[1240,null,{"$f":"IF('Requisição de Compra'!J1266=\"\",\"\",VLOOKUP(A1255,'Requisição de Compra'!$I$28:$J$3000,2,0))","v":""},null,null,null,null,null,null,"Falta Orçamento",null,{"$f":"VLOOKUP(A1255,'[1]Mapa de Preços'!$A$16:$D$2988,4,0)","v":0}]
[1241,null,{"$f":"IF('Requisição de Compra'!J1267=\"\",\"\",VLOOKUP(A1256,'Requisição de Compra'!$I$28:$J$3000,2,0))","v":""},null,null,null,null,null,null,"Falta Orçamento",null,{"$f":"VLOOKUP(A1256,'[1]Mapa de Preços'!$A$16:$D$2988,4,0)","v":0}]
[1242,null,{"$f":"IF('Requisição de Compra'!J1268=\"\",\"\",VLOOKUP(A1257,'Requisição de Compra'!$I$28:$J$3000,2,0))","v":""},null,null,null,null,null,null,"Falta Orçamento",null,{"$f":"VLOOKUP(A1257,'[1]Mapa de Preços'!$A$16:$D$2988,4,0)","v":0}]
[1243,null,{"$f":"IF('Requisição de Compra'!J1269=\"\",\"\",VLOOKUP(A1258,'Requisição de Compra'!$I$28:$J$3000,2,0))","v":""},null,null,null,null,null,null,"Falta Orçamento",null,{"$f":"VLOOKUP(A1258,'[1]Mapa de Preços'!$A$16:$D$2988,4,0)","v":0}]
[1244,null,{"$f":"IF('Requisição de Compra'!J1270=\"\",\"\",VLOOKUP(A1259,'Requisição de Compra'!$I$28:$J$3000,2,0))","v":""},null,null,null,null,null,null,"Falta Orçamento",null,{"$f":"VLOOKUP(A1259,'[1]Mapa de Preços'!$A$16:$D$2988,4,0)","v":0}]
[1245,null,{"$f":"IF('Requisição de Compra'!J1271=\"\",\"\",VLOOKUP(A1260,'Requisição de Compra'!$I$28:$J$3000,2,0))","v":""},null,null,null,null,null,null,"Falta Orçamento",null,{"$f":"VLOOKUP(A1260,'[1]Mapa de Preços'!$A$16:$D$2988,4,0)","v":0}]
[1246,null,{"$f":"IF('Requisição de Compra'!J1272=\"\",\"\",VLOOKUP(A1261,'Requisição de Compra'!$I$28:$J$3000,2,0))","v":""},null,null,null,null,null,null,"Falta Orçamento",null,{"$f":"VLOOKUP(A1261,'[1]Mapa de Preços'!$A$16:$D$2988,4,0)","v":0}]
[1247,null,{"$f":"IF('Requisição de Compra'!J1273=\"\",\"\",VLOOKUP(A1262,'Requisição de Compra'!$I$28:$J$3000,2,0))","v":""},null,null,null,null,null,null,"Falta Orçamento",null,{"$f":"VLOOKUP(A1262,'[1]Mapa de Preços'!$A$16:$D$2988,4,0)","v":0}]
[1248,null,{"$f":"IF('Requisição de Compra'!J1274=\"\",\"\",VLOOKUP(A1263,'Requisição de Compra'!$I$28:$J$3000,2,0))","v":""},null,null,null,null,null,null,"Falta Orçamento",null,{"$f":"VLOOKUP(A1263,'[1]Mapa de Preços'!$A$16:$D$2988,4,0)","v":0}]
[1249,null,{"$f":"IF('Requisição de Compra'!J1275=\"\",\"\",VLOOKUP(A1264,'Requisição de Compra'!$I$28:$J$3000,2,0))","v":""},null,null,null,null,null,null,"Falta Orçamento",null,{"$f":"VLOOKUP(A1264,'[1]Mapa de Preços'!$A$16:$D$2988,4,0)","v":0}]
[1250,null,{"$f":"IF('Requisição de Compra'!J1276=\"\",\"\",VLOOKUP(A1265,'Requisição de Compra'!$I$28:$J$3000,2,0))","v":""},null,null,null,null,null,null,"Falta Orçamento",null,{"$f":"VLOOKUP(A1265,'[1]Mapa de Preços'!$A$16:$D$2988,4,0)","v":0}]
[1251,null,{"$f":"IF('Requisição de Compra'!J1277=\"\",\"\",VLOOKUP(A1266,'Requisição de Compra'!$I$28:$J$3000,2,0))","v":""},null,null,null,null,null,null,"Falta Orçamento",null,{"$f":"VLOOKUP(A1266,'[1]Mapa de Preços'!$A$16:$D$2988,4,0)","v":0}]
[1252,null,{"$f":"IF('Requisição de Compra'!J1278=\"\",\"\",VLOOKUP(A1267,'Requisição de Compra'!$I$28:$J$3000,2,0))","v":""},null,null,null,null,null,null,"Falta Orçamento",null,{"$f":"VLOOKUP(A1267,'[1]Mapa de Preços'!$A$16:$D$2988,4,0)","v":0}]
[1253,null,{"$f":"IF('Requisição de Compra'!J1279=\"\",\"\",VLOOKUP(A1268,'Requisição de Compra'!$I$28:$J$3000,2,0))","v":""},null,null,null,null,null,null,"Falta Orçamento",null,{"$f":"VLOOKUP(A1268,'[1]Mapa de Preços'!$A$16:$D$2988,4,0)","v":0}]
[1254,null,{"$f":"IF('Requisição de Compra'!J1280=\"\",\"\",VLOOKUP(A1269,'Requisição de Compra'!$I$28:$J$3000,2,0))","v":""},null,null,null,null,null,null,"Falta Orçamento",null,{"$f":"VLOOKUP(A1269,'[1]Mapa de Preços'!$A$16:$D$2988,4,0)","v":0}]
[1255,null,{"$f":"IF('Requisição de Compra'!J1281=\"\",\"\",VLOOKUP(A1270,'Requisição de Compra'!$I$28:$J$3000,2,0))","v":""},null,null,null,null,null,null,"Falta Orçamento",null,{"$f":"VLOOKUP(A1270,'[1]Mapa de Preços'!$A$16:$D$2988,4,0)","v":0}]
[1256,null,{"$f":"IF('Requisição de Compra'!J1282=\"\",\"\",VLOOKUP(A1271,'Requisição de Compra'!$I$28:$J$3000,2,0))","v":""},null,null,null,null,null,null,"Falta Orçamento",null,{"$f":"VLOOKUP(A1271,'[1]Mapa de Preços'!$A$16:$D$2988,4,0)","v":0}]
[1257,null,{"$f":"IF('Requisição de Compra'!J1283=\"\",\"\",VLOOKUP(A1272,'Requisição de Compra'!$I$28:$J$3000,2,0))","v":""},null,null,null,null,null,null,"Falta Orçamento",null,{"$f":"VLOOKUP(A1272,'[1]Mapa de Preços'!$A$16:$D$2988,4,0)","v":0}]
[1258,null,{"$f":"IF('Requisição de Compra'!J1284=\"\",\"\",VLOOKUP(A1273,'Requisição de Compra'!$I$28:$J$3000,2,0))","v":""},null,null,null,null,null,null,"Falta Orçamento",null,{"$f":"VLOOKUP(A1273,'[1]Mapa de Preços'!$A$16:$D$2988,4,0)","v":0}]
[1259,null,{"$f":"IF('Requisição de Compra'!J1285=\"\",\"\",VLOOKUP(A1274,'Requisição de Compra'!$I$28:$J$3000,2,0))","v":""},null,null,null,null,null,null,"Falta Orçamento",null,{"$f":"VLOOKUP(A1274,'[1]Mapa de Preços'!$A$16:$D$2988,4,0)","v":0}]
[1260,null,{"$f":"IF('Requisição de Compra'!J1286=\"\",\"\",VLOOKUP(A1275,'Requisição de Compra'!$I$28:$J$3000,2,0))","v":""},null,null,null,null,null,null,"Falta Orçamento",null,{"$f":"VLOOKUP(A1275,'[1]Mapa de Preços'!$A$16:$D$2988,4,0)","v":0}]
[1261,null,{"$f":"IF('Requisição de Compra'!J1287=\"\",\"\",VLOOKUP(A1276,'Requisição de Compra'!$I$28:$J$3000,2,0))","v":""},null,null,null,null,null,null,"Falta Orçamento",null,{"$f":"VLOOKUP(A1276,'[1]Mapa de Preços'!$A$16:$D$2988,4,0)","v":0}]
[1262,null,{"$f":"IF('Requisição de Compra'!J1288=\"\",\"\",VLOOKUP(A1277,'Requisição de Compra'!$I$28:$J$3000,2,0))","v":""},null,null,null,null,null,null,"Falta Orçamento",null,{"$f":"VLOOKUP(A1277,'[1]Mapa de Preços'!$A$16:$D$2988,4,0)","v":0}]
[1263,null,{"$f":"IF('Requisição de Compra'!J1289=\"\",\"\",VLOOKUP(A1278,'Requisição de Compra'!$I$28:$J$3000,2,0))","v":""},null,null,null,null,null,null,"Falta Orçamento",null,{"$f":"VLOOKUP(A1278,'[1]Mapa de Preços'!$A$16:$D$2988,4,0)","v":0}]
[1264,null,{"$f":"IF('Requisição de Compra'!J1290=\"\",\"\",VLOOKUP(A1279,'Requisição de Compra'!$I$28:$J$3000,2,0))","v":""},null,null,null,null,null,null,"Falta Orçamento",null,{"$f":"VLOOKUP(A1279,'[1]Mapa de Preços'!$A$16:$D$2988,4,0)","v":0}]
[1265,null,{"$f":"IF('Requisição de Compra'!J1291=\"\",\"\",VLOOKUP(A1280,'Requisição de Compra'!$I$28:$J$3000,2,0))","v":""},null,null,null,null,null,null,"Falta Orçamento",null,{"$f":"VLOOKUP(A1280,'[1]Mapa de Preços'!$A$16:$D$2988,4,0)","v":0}]
[1266,null,{"$f":"IF('Requisição de Compra'!J1292=\"\",\"\",VLOOKUP(A1281,'Requisição de Compra'!$I$28:$J$3000,2,0))","v":""},null,null,null,null,null,null,"Falta Orçamento",null,{"$f":"VLOOKUP(A1281,'[1]Mapa de Preços'!$A$16:$D$2988,4,0)","v":0}]
[1267,null,{"$f":"IF('Requisição de Compra'!J1293=\"\",\"\",VLOOKUP(A1282,'Requisição de Compra'!$I$28:$J$3000,2,0))","v":""},null,null,null,null,null,null,"Falta Orçamento",null,{"$f":"VLOOKUP(A1282,'[1]Mapa de Preços'!$A$16:$D$2988,4,0)","v":0}]
[1268,null,{"$f":"IF('Requisição de Compra'!J1294=\"\",\"\",VLOOKUP(A1283,'Requisição de Compra'!$I$28:$J$3000,2,0))","v":""},null,null,null,null,null,null,"Falta Orçamento",null,{"$f":"VLOOKUP(A1283,'[1]Mapa de Preços'!$A$16:$D$2988,4,0)","v":0}]
[1269,null,{"$f":"IF('Requisição de Compra'!J1295=\"\",\"\",VLOOKUP(A1284,'Requisição de Compra'!$I$28:$J$3000,2,0))","v":""},null,null,null,null,null,null,"Falta Orçamento",null,{"$f":"VLOOKUP(A1284,'[1]Mapa de Preços'!$A$16:$D$2988,4,0)","v":0}]
[1270,null,{"$f":"IF('Requisição de Compra'!J1296=\"\",\"\",VLOOKUP(A1285,'Requisição de Compra'!$I$28:$J$3000,2,0))","v":""},null,null,null,null,null,null,"Falta Orçamento",null,{"$f":"VLOOKUP(A1285,'[1]Mapa de Preços'!$A$16:$D$2988,4,0)","v":0}]
[1271,null,{"$f":"IF('Requisição de Compra'!J1297=\"\",\"\",VLOOKUP(A1286,'Requisição de Compra'!$I$28:$J$3000,2,0))","v":""},null,null,null,null,null,null,"Falta Orçamento",null,{"$f":"VLOOKUP(A1286,'[1]Mapa de Preços'!$A$16:$D$2988,4,0)","v":0}]
[1272,null,{"$f":"IF('Requisição de Compra'!J1298=\"\",\"\",VLOOKUP(A1287,'Requisição de Compra'!$I$28:$J$3000,2,0))","v":""},null,null,null,null,null,null,"Falta Orçamento",null,{"$f":"VLOOKUP(A1287,'[1]Mapa de Preços'!$A$16:$D$2988,4,0)","v":0}]
[1273,null,{"$f":"IF('Requisição de Compra'!J1299=\"\",\"\",VLOOKUP(A1288,'Requisição de Compra'!$I$28:$J$3000,2,0))","v":""},null,null,null,null,null,null,"Falta Orçamento",null,{"$f":"VLOOKUP(A1288,'[1]Mapa de Preços'!$A$16:$D$2988,4,0)","v":0}]
[1274,null,{"$f":"IF('Requisição de Compra'!J1300=\"\",\"\",VLOOKUP(A1289,'Requisição de Compra'!$I$28:$J$3000,2,0))","v":""},null,null,null,null,null,null,"Falta Orçamento",null,{"$f":"VLOOKUP(A1289,'[1]Mapa de Preços'!$A$16:$D$2988,4,0)","v":0}]
[1275,null,{"$f":"IF('Requisição de Compra'!J1301=\"\",\"\",VLOOKUP(A1290,'Requisição de Compra'!$I$28:$J$3000,2,0))","v":""},null,null,null,null,null,null,"Falta Orçamento",null,{"$f":"VLOOKUP(A1290,'[1]Mapa de Preços'!$A$16:$D$2988,4,0)","v":0}]
[1276,null,{"$f":"IF('Requisição de Compra'!J1302=\"\",\"\",VLOOKUP(A1291,'Requisição de Compra'!$I$28:$J$3000,2,0))","v":""},null,null,null,null,null,null,"Falta Orçamento",null,{"$f":"VLOOKUP(A1291,'[1]Mapa de Preços'!$A$16:$D$2988,4,0)","v":0}]
[1277,null,{"$f":"IF('Requisição de Compra'!J1303=\"\",\"\",VLOOKUP(A1292,'Requisição de Compra'!$I$28:$J$3000,2,0))","v":""},null,null,null,null,null,null,"Falta Orçamento",null,{"$f":"VLOOKUP(A1292,'[1]Mapa de Preços'!$A$16:$D$2988,4,0)","v":0}]
[1278,null,{"$f":"IF('Requisição de Compra'!J1304=\"\",\"\",VLOOKUP(A1293,'Requisição de Compra'!$I$28:$J$3000,2,0))","v":""},null,null,null,null,null,null,"Falta Orçamento",null,{"$f":"VLOOKUP(A1293,'[1]Mapa de Preços'!$A$16:$D$2988,4,0)","v":0}]
[1279,null,{"$f":"IF('Requisição de Compra'!J1305=\"\",\"\",VLOOKUP(A1294,'Requisição de Compra'!$I$28:$J$3000,2,0))","v":""},null,null,null,null,null,null,"Falta Orçamento",null,{"$f":"VLOOKUP(A1294,'[1]Mapa de Preços'!$A$16:$D$2988,4,0)","v":0}]
[1280,null,{"$f":"IF('Requisição de Compra'!J1306=\"\",\"\",VLOOKUP(A1295,'Requisição de Compra'!$I$28:$J$3000,2,0))","v":""},null,null,null,null,null,null,"Falta Orçamento",null,{"$f":"VLOOKUP(A1295,'[1]Mapa de Preços'!$A$16:$D$2988,4,0)","v":0}]
[1281,null,{"$f":"IF('Requisição de Compra'!J1307=\"\",\"\",VLOOKUP(A1296,'Requisição de Compra'!$I$28:$J$3000,2,0))","v":""},null,null,null,null,null,null,"Falta Orçamento",null,{"$f":"VLOOKUP(A1296,'[1]Mapa de Preços'!$A$16:$D$2988,4,0)","v":0}]
[1282,null,{"$f":"IF('Requisição de Compra'!J1308=\"\",\"\",VLOOKUP(A1297,'Requisição de Compra'!$I$28:$J$3000,2,0))","v":""},null,null,null,null,null,null,{"$f":"IF(AND(D1297<>\"\",F1297<>\"\",H1297<>\"\"),AVERAGE(D1297:H1297),\"Falta Orçamento\")","v":"Falta Orçamento"},null,{"$f":"VLOOKUP(A1297,'[1]Mapa de Preços'!$A$16:$D$2988,4,0)","v":0}]
[1283,null,{"$f":"IF('Requisição de Compra'!J1309=\"\",\"\",VLOOKUP(A1298,'Requisição de Compra'!$I$28:$J$3000,2,0))","v":""},null,null,null,null,null,null,"Falta Orçamento",null,{"$f":"VLOOKUP(A1298,'[1]Mapa de Preços'!$A$16:$D$2988,4,0)","v":0}]
[1284,null,{"$f":"IF('Requisição de Compra'!J1310=\"\",\"\",VLOOKUP(A1299,'Requisição de Compra'!$I$28:$J$3000,2,0))","v":""},null,null,null,null,null,null,"Falta Orçamento",null,{"$f":"VLOOKUP(A1299,'[1]Mapa de Preços'!$A$16:$D$2988,4,0)","v":0}]
[1285,null,{"$f":"IF('Requisição de Compra'!J1311=\"\",\"\",VLOOKUP(A1300,'Requisição de Compra'!$I$28:$J$3000,2,0))","v":""},null,null,null,null,null,null,"Falta Orçamento",null,{"$f":"VLOOKUP(A1300,'[1]Mapa de Preços'!$A$16:$D$2988,4,0)","v":0}]
[1286,null,{"$f":"IF('Requisição de Compra'!J1312=\"\",\"\",VLOOKUP(A1301,'Requisição de Compra'!$I$28:$J$3000,2,0))","v":""},null,null,null,null,null,null,"Falta Orçamento",null,{"$f":"VLOOKUP(A1301,'[1]Mapa de Preços'!$A$16:$D$2988,4,0)","v":0}]
[1287,null,{"$f":"IF('Requisição de Compra'!J1313=\"\",\"\",VLOOKUP(A1302,'Requisição de Compra'!$I$28:$J$3000,2,0))","v":""},null,null,null,null,null,null,"Falta Orçamento",null,{"$f":"VLOOKUP(A1302,'[1]Mapa de Preços'!$A$16:$D$2988,4,0)","v":0}]
[1288,null,{"$f":"IF('Requisição de Compra'!J1314=\"\",\"\",VLOOKUP(A1303,'Requisição de Compra'!$I$28:$J$3000,2,0))","v":""},null,null,null,null,null,null,"Falta Orçamento",null,{"$f":"VLOOKUP(A1303,'[1]Mapa de Preços'!$A$16:$D$2988,4,0)","v":0}]
[1289,null,{"$f":"IF('Requisição de Compra'!J1315=\"\",\"\",VLOOKUP(A1304,'Requisição de Compra'!$I$28:$J$3000,2,0))","v":""},null,null,null,null,null,null,"Falta Orçamento",null,{"$f":"VLOOKUP(A1304,'[1]Mapa de Preços'!$A$16:$D$2988,4,0)","v":0}]
[1290,null,{"$f":"IF('Requisição de Compra'!J1316=\"\",\"\",VLOOKUP(A1305,'Requisição de Compra'!$I$28:$J$3000,2,0))","v":""},null,null,null,null,null,null,"Falta Orçamento",null,{"$f":"VLOOKUP(A1305,'[1]Mapa de Preços'!$A$16:$D$2988,4,0)","v":0}]
[1291,null,{"$f":"IF('Requisição de Compra'!J1317=\"\",\"\",VLOOKUP(A1306,'Requisição de Compra'!$I$28:$J$3000,2,0))","v":""},null,null,null,null,null,null,"Falta Orçamento",null,{"$f":"VLOOKUP(A1306,'[1]Mapa de Preços'!$A$16:$D$2988,4,0)","v":0}]
[1292,null,{"$f":"IF('Requisição de Compra'!J1318=\"\",\"\",VLOOKUP(A1307,'Requisição de Compra'!$I$28:$J$3000,2,0))","v":""},null,null,null,null,null,null,"Falta Orçamento",null,{"$f":"VLOOKUP(A1307,'[1]Mapa de Preços'!$A$16:$D$2988,4,0)","v":0}]
[1293,null,{"$f":"IF('Requisição de Compra'!J1319=\"\",\"\",VLOOKUP(A1308,'Requisição de Compra'!$I$28:$J$3000,2,0))","v":""},null,null,null,null,null,null,"Falta Orçamento",null,{"$f":"VLOOKUP(A1308,'[1]Mapa de Preços'!$A$16:$D$2988,4,0)","v":0}]
[1294,null,{"$f":"IF('Requisição de Compra'!J1320=\"\",\"\",VLOOKUP(A1309,'Requisição de Compra'!$I$28:$J$3000,2,0))","v":""},null,null,null,null,null,null,"Falta Orçamento",null,{"$f":"VLOOKUP(A1309,'[1]Mapa de Preços'!$A$16:$D$2988,4,0)","v":0}]
[1295,null,{"$f":"IF('Requisição de Compra'!J1321=\"\",\"\",VLOOKUP(A1310,'Requisição de Compra'!$I$28:$J$3000,2,0))","v":""},null,null,null,null,null,null,"Falta Orçamento",null,{"$f":"VLOOKUP(A1310,'[1]Mapa de Preços'!$A$16:$D$2988,4,0)","v":0}]
[1296,null,{"$f":"IF('Requisição de Compra'!J1322=\"\",\"\",VLOOKUP(A1311,'Requisição de Compra'!$I$28:$J$3000,2,0))","v":""},null,null,null,null,null,null,"Falta Orçamento",null,{"$f":"VLOOKUP(A1311,'[1]Mapa de Preços'!$A$16:$D$2988,4,0)","v":0}]
[1297,null,{"$f":"IF('Requisição de Compra'!J1323=\"\",\"\",VLOOKUP(A1312,'Requisição de Compra'!$I$28:$J$3000,2,0))","v":""},null,null,null,null,null,null,"Falta Orçamento",null,{"$f":"VLOOKUP(A1312,'[1]Mapa de Preços'!$A$16:$D$2988,4,0)","v":0}]
[1298,null,{"$f":"IF('Requisição de Compra'!J1324=\"\",\"\",VLOOKUP(A1313,'Requisição de Compra'!$I$28:$J$3000,2,0))","v":""},null,null,null,null,null,null,"Falta Orçamento",null,{"$f":"VLOOKUP(A1313,'[1]Mapa de Preços'!$A$16:$D$2988,4,0)","v":0}]
[1299,null,{"$f":"IF('Requisição de Compra'!J1325=\"\",\"\",VLOOKUP(A1314,'Requisição de Compra'!$I$28:$J$3000,2,0))","v":""},null,null,null,null,null,null,"Falta Orçamento",null,{"$f":"VLOOKUP(A1314,'[1]Mapa de Preços'!$A$16:$D$2988,4,0)","v":0}]
[1300,null,{"$f":"IF('Requisição de Compra'!J1326=\"\",\"\",VLOOKUP(A1315,'Requisição de Compra'!$I$28:$J$3000,2,0))","v":""},null,null,null,null,null,null,"Falta Orçamento",null,{"$f":"VLOOKUP(A1315,'[1]Mapa de Preços'!$A$16:$D$2988,4,0)","v":0}]
[1301,null,{"$f":"IF('Requisição de Compra'!J1327=\"\",\"\",VLOOKUP(A1316,'Requisição de Compra'!$I$28:$J$3000,2,0))","v":""},null,null,null,null,null,null,"Falta Orçamento",null,{"$f":"VLOOKUP(A1316,'[1]Mapa de Preços'!$A$16:$D$2988,4,0)","v":0}]
[1302,null,{"$f":"IF('Requisição de Compra'!J1328=\"\",\"\",VLOOKUP(A1317,'Requisição de Compra'!$I$28:$J$3000,2,0))","v":""},null,null,null,null,null,null,"Falta Orçamento",null,{"$f":"VLOOKUP(A1317,'[1]Mapa de Preços'!$A$16:$D$2988,4,0)","v":0}]
[1303,null,{"$f":"IF('Requisição de Compra'!J1329=\"\",\"\",VLOOKUP(A1318,'Requisição de Compra'!$I$28:$J$3000,2,0))","v":""},null,null,null,null,null,null,"Falta Orçamento",null,{"$f":"VLOOKUP(A1318,'[1]Mapa de Preços'!$A$16:$D$2988,4,0)","v":0}]
[1304,null,{"$f":"IF('Requisição de Compra'!J1330=\"\",\"\",VLOOKUP(A1319,'Requisição de Compra'!$I$28:$J$3000,2,0))","v":""},null,null,null,null,null,null,"Falta Orçamento",null,{"$f":"VLOOKUP(A1319,'[1]Mapa de Preços'!$A$16:$D$2988,4,0)","v":0}]
[1305,null,{"$f":"IF('Requisição de Compra'!J1331=\"\",\"\",VLOOKUP(A1320,'Requisição de Compra'!$I$28:$J$3000,2,0))","v":""},null,null,null,null,null,null,"Falta Orçamento",null,{"$f":"VLOOKUP(A1320,'[1]Mapa de Preços'!$A$16:$D$2988,4,0)","v":0}]
[1306,null,{"$f":"IF('Requisição de Compra'!J1332=\"\",\"\",VLOOKUP(A1321,'Requisição de Compra'!$I$28:$J$3000,2,0))","v":""},null,null,null,null,null,null,"Falta Orçamento",null,{"$f":"VLOOKUP(A1321,'[1]Mapa de Preços'!$A$16:$D$2988,4,0)","v":0}]
[1307,null,{"$f":"IF('Requisição de Compra'!J1333=\"\",\"\",VLOOKUP(A1322,'Requisição de Compra'!$I$28:$J$3000,2,0))","v":""},null,null,null,null,null,null,"Falta Orçamento",null,{"$f":"VLOOKUP(A1322,'[1]Mapa de Preços'!$A$16:$D$2988,4,0)","v":0}]
[1308,null,{"$f":"IF('Requisição de Compra'!J1334=\"\",\"\",VLOOKUP(A1323,'Requisição de Compra'!$I$28:$J$3000,2,0))","v":""},null,null,null,null,null,null,"Falta Orçamento",null,{"$f":"VLOOKUP(A1323,'[1]Mapa de Preços'!$A$16:$D$2988,4,0)","v":0}]
[1309,null,{"$f":"IF('Requisição de Compra'!J1335=\"\",\"\",VLOOKUP(A1324,'Requisição de Compra'!$I$28:$J$3000,2,0))","v":""},null,null,null,null,null,null,"Falta Orçamento",null,{"$f":"VLOOKUP(A1324,'[1]Mapa de Preços'!$A$16:$D$2988,4,0)","v":0}]
[1310,null,{"$f":"IF('Requisição de Compra'!J1336=\"\",\"\",VLOOKUP(A1325,'Requisição de Compra'!$I$28:$J$3000,2,0))","v":""},null,null,null,null,null,null,"Falta Orçamento",null,{"$f":"VLOOKUP(A1325,'[1]Mapa de Preços'!$A$16:$D$2988,4,0)","v":0}]
[1311,null,{"$f":"IF('Requisição de Compra'!J1337=\"\",\"\",VLOOKUP(A1326,'Requisição de Compra'!$I$28:$J$3000,2,0))","v":""},null,null,null,null,null,null,"Falta Orçamento",null,{"$f":"VLOOKUP(A1326,'[1]Mapa de Preços'!$A$16:$D$2988,4,0)","v":0}]
[1312,null,{"$f":"IF('Requisição de Compra'!J1338=\"\",\"\",VLOOKUP(A1327,'Requisição de Compra'!$I$28:$J$3000,2,0))","v":""},null,null,null,null,null,null,"Falta Orçamento",null,{"$f":"VLOOKUP(A1327,'[1]Mapa de Preços'!$A$16:$D$2988,4,0)","v":0}]
[1313,null,{"$f":"IF('Requisição de Compra'!J1339=\"\",\"\",VLOOKUP(A1328,'Requisição de Compra'!$I$28:$J$3000,2,0))","v":""},null,null,null,null,null,null,"Falta Orçamento",null,{"$f":"VLOOKUP(A1328,'[1]Mapa de Preços'!$A$16:$D$2988,4,0)","v":0}]
[1314,null,{"$f":"IF('Requisição de Compra'!J1340=\"\",\"\",VLOOKUP(A1329,'Requisição de Compra'!$I$28:$J$3000,2,0))","v":""},null,null,null,null,null,null,"Falta Orçamento",null,{"$f":"VLOOKUP(A1329,'[1]Mapa de Preços'!$A$16:$D$2988,4,0)","v":0}]
[1315,null,{"$f":"IF('Requisição de Compra'!J1341=\"\",\"\",VLOOKUP(A1330,'Requisição de Compra'!$I$28:$J$3000,2,0))","v":""},null,null,null,null,null,null,"Falta Orçamento",null,{"$f":"VLOOKUP(A1330,'[1]Mapa de Preços'!$A$16:$D$2988,4,0)","v":0}]
[1316,null,{"$f":"IF('Requisição de Compra'!J1342=\"\",\"\",VLOOKUP(A1331,'Requisição de Compra'!$I$28:$J$3000,2,0))","v":""},null,null,null,null,null,null,"Falta Orçamento",null,{"$f":"VLOOKUP(A1331,'[1]Mapa de Preços'!$A$16:$D$2988,4,0)","v":0}]
[1317,null,{"$f":"IF('Requisição de Compra'!J1343=\"\",\"\",VLOOKUP(A1332,'Requisição de Compra'!$I$28:$J$3000,2,0))","v":""},null,null,null,null,null,null,"Falta Orçamento",null,{"$f":"VLOOKUP(A1332,'[1]Mapa de Preços'!$A$16:$D$2988,4,0)","v":0}]
[1318,null,{"$f":"IF('Requisição de Compra'!J1344=\"\",\"\",VLOOKUP(A1333,'Requisição de Compra'!$I$28:$J$3000,2,0))","v":""},null,null,null,null,null,null,"Falta Orçamento",null,{"$f":"VLOOKUP(A1333,'[1]Mapa de Preços'!$A$16:$D$2988,4,0)","v":0}]
[1319,null,{"$f":"IF('Requisição de Compra'!J1345=\"\",\"\",VLOOKUP(A1334,'Requisição de Compra'!$I$28:$J$3000,2,0))","v":""},null,null,null,null,null,null,"Falta Orçamento",null,{"$f":"VLOOKUP(A1334,'[1]Mapa de Preços'!$A$16:$D$2988,4,0)","v":0}]
[1320,null,{"$f":"IF('Requisição de Compra'!J1346=\"\",\"\",VLOOKUP(A1335,'Requisição de Compra'!$I$28:$J$3000,2,0))","v":""},null,null,null,null,null,null,"Falta Orçamento",null,{"$f":"VLOOKUP(A1335,'[1]Mapa de Preços'!$A$16:$D$2988,4,0)","v":0}]
[1321,null,{"$f":"IF('Requisição de Compra'!J1347=\"\",\"\",VLOOKUP(A1336,'Requisição de Compra'!$I$28:$J$3000,2,0))","v":""},null,null,null,null,null,null,"Falta Orçamento",null,{"$f":"VLOOKUP(A1336,'[1]Mapa de Preços'!$A$16:$D$2988,4,0)","v":0}]
[1322,null,{"$f":"IF('Requisição de Compra'!J1348=\"\",\"\",VLOOKUP(A1337,'Requisição de Compra'!$I$28:$J$3000,2,0))","v":""},null,null,null,null,null,null,"Falta Orçamento",null,{"$f":"VLOOKUP(A1337,'[1]Mapa de Preços'!$A$16:$D$2988,4,0)","v":0}]
[1323,null,{"$f":"IF('Requisição de Compra'!J1349=\"\",\"\",VLOOKUP(A1338,'Requisição de Compra'!$I$28:$J$3000,2,0))","v":""},null,null,null,null,null,null,"Falta Orçamento",null,{"$f":"VLOOKUP(A1338,'[1]Mapa de Preços'!$A$16:$D$2988,4,0)","v":0}]
[1324,null,{"$f":"IF('Requisição de Compra'!J1350=\"\",\"\",VLOOKUP(A1339,'Requisição de Compra'!$I$28:$J$3000,2,0))","v":""},null,null,null,null,null,null,"Falta Orçamento",null,{"$f":"VLOOKUP(A1339,'[1]Mapa de Preços'!$A$16:$D$2988,4,0)","v":0}]
[1325,null,{"$f":"IF('Requisição de Compra'!J1351=\"\",\"\",VLOOKUP(A1340,'Requisição de Compra'!$I$28:$J$3000,2,0))","v":""},null,null,null,null,null,null,"Falta Orçamento",null,{"$f":"VLOOKUP(A1340,'[1]Mapa de Preços'!$A$16:$D$2988,4,0)","v":0}]
[1326,null,{"$f":"IF('Requisição de Compra'!J1352=\"\",\"\",VLOOKUP(A1341,'Requisição de Compra'!$I$28:$J$3000,2,0))","v":""},null,null,null,null,null,null,"Falta Orçamento",null,{"$f":"VLOOKUP(A1341,'[1]Mapa de Preços'!$A$16:$D$2988,4,0)","v":0}]
[1327,null,{"$f":"IF('Requisição de Compra'!J1353=\"\",\"\",VLOOKUP(A1342,'Requisição de Compra'!$I$28:$J$3000,2,0))","v":""},null,null,null,null,null,null,"Falta Orçamento",null,{"$f":"VLOOKUP(A1342,'[1]Mapa de Preços'!$A$16:$D$2988,4,0)","v":0}]
[1328,null,{"$f":"IF('Requisição de Compra'!J1354=\"\",\"\",VLOOKUP(A1343,'Requisição de Compra'!$I$28:$J$3000,2,0))","v":""},null,null,null,null,null,null,"Falta Orçamento",null,{"$f":"VLOOKUP(A1343,'[1]Mapa de Preços'!$A$16:$D$2988,4,0)","v":0}]
[1329,null,{"$f":"IF('Requisição de Compra'!J1355=\"\",\"\",VLOOKUP(A1344,'Requisição de Compra'!$I$28:$J$3000,2,0))","v":""},null,null,null,null,null,null,"Falta Orçamento",null,{"$f":"VLOOKUP(A1344,'[1]Mapa de Preços'!$A$16:$D$2988,4,0)","v":0}]
[1330,null,{"$f":"IF('Requisição de Compra'!J1356=\"\",\"\",VLOOKUP(A1345,'Requisição de Compra'!$I$28:$J$3000,2,0))","v":""},null,null,null,null,null,null,"Falta Orçamento",null,{"$f":"VLOOKUP(A1345,'[1]Mapa de Preços'!$A$16:$D$2988,4,0)","v":0}]
[1331,null,{"$f":"IF('Requisição de Compra'!J1357=\"\",\"\",VLOOKUP(A1346,'Requisição de Compra'!$I$28:$J$3000,2,0))","v":""},null,null,null,null,null,null,"Falta Orçamento",null,{"$f":"VLOOKUP(A1346,'[1]Mapa de Preços'!$A$16:$D$2988,4,0)","v":0}]
[1332,null,{"$f":"IF('Requisição de Compra'!J1358=\"\",\"\",VLOOKUP(A1347,'Requisição de Compra'!$I$28:$J$3000,2,0))","v":""},null,null,null,null,null,null,"Falta Orçamento",null,{"$f":"VLOOKUP(A1347,'[1]Mapa de Preços'!$A$16:$D$2988,4,0)","v":0}]
[1333,null,{"$f":"IF('Requisição de Compra'!J1359=\"\",\"\",VLOOKUP(A1348,'Requisição de Compra'!$I$28:$J$3000,2,0))","v":""},null,null,null,null,null,null,"Falta Orçamento",null,{"$f":"VLOOKUP(A1348,'[1]Mapa de Preços'!$A$16:$D$2988,4,0)","v":0}]
[1334,null,{"$f":"IF('Requisição de Compra'!J1360=\"\",\"\",VLOOKUP(A1349,'Requisição de Compra'!$I$28:$J$3000,2,0))","v":""},null,null,null,null,null,null,"Falta Orçamento",null,{"$f":"VLOOKUP(A1349,'[1]Mapa de Preços'!$A$16:$D$2988,4,0)","v":0}]
[1335,null,{"$f":"IF('Requisição de Compra'!J1361=\"\",\"\",VLOOKUP(A1350,'Requisição de Compra'!$I$28:$J$3000,2,0))","v":""},null,null,null,null,null,null,"Falta Orçamento",null,{"$f":"VLOOKUP(A1350,'[1]Mapa de Preços'!$A$16:$D$2988,4,0)","v":0}]
[1336,null,{"$f":"IF('Requisição de Compra'!J1362=\"\",\"\",VLOOKUP(A1351,'Requisição de Compra'!$I$28:$J$3000,2,0))","v":""},null,null,null,null,null,null,"Falta Orçamento",null,{"$f":"VLOOKUP(A1351,'[1]Mapa de Preços'!$A$16:$D$2988,4,0)","v":0}]
[1337,null,{"$f":"IF('Requisição de Compra'!J1363=\"\",\"\",VLOOKUP(A1352,'Requisição de Compra'!$I$28:$J$3000,2,0))","v":""},null,null,null,null,null,null,"Falta Orçamento",null,{"$f":"VLOOKUP(A1352,'[1]Mapa de Preços'!$A$16:$D$2988,4,0)","v":0}]
[1338,null,{"$f":"IF('Requisição de Compra'!J1364=\"\",\"\",VLOOKUP(A1353,'Requisição de Compra'!$I$28:$J$3000,2,0))","v":""},null,null,null,null,null,null,"Falta Orçamento",null,{"$f":"VLOOKUP(A1353,'[1]Mapa de Preços'!$A$16:$D$2988,4,0)","v":0}]
[1339,null,{"$f":"IF('Requisição de Compra'!J1365=\"\",\"\",VLOOKUP(A1354,'Requisição de Compra'!$I$28:$J$3000,2,0))","v":""},null,null,null,null,null,null,"Falta Orçamento",null,{"$f":"VLOOKUP(A1354,'[1]Mapa de Preços'!$A$16:$D$2988,4,0)","v":0}]
[1340,null,{"$f":"IF('Requisição de Compra'!J1366=\"\",\"\",VLOOKUP(A1355,'Requisição de Compra'!$I$28:$J$3000,2,0))","v":""},null,null,null,null,null,null,"Falta Orçamento",null,{"$f":"VLOOKUP(A1355,'[1]Mapa de Preços'!$A$16:$D$2988,4,0)","v":0}]
[1341,null,{"$f":"IF('Requisição de Compra'!J1367=\"\",\"\",VLOOKUP(A1356,'Requisição de Compra'!$I$28:$J$3000,2,0))","v":""},null,null,null,null,null,null,"Falta Orçamento",null,{"$f":"VLOOKUP(A1356,'[1]Mapa de Preços'!$A$16:$D$2988,4,0)","v":0}]
[1342,null,{"$f":"IF('Requisição de Compra'!J1368=\"\",\"\",VLOOKUP(A1357,'Requisição de Compra'!$I$28:$J$3000,2,0))","v":""},null,null,null,null,null,null,"Falta Orçamento",null,{"$f":"VLOOKUP(A1357,'[1]Mapa de Preços'!$A$16:$D$2988,4,0)","v":0}]
[1343,null,{"$f":"IF('Requisição de Compra'!J1369=\"\",\"\",VLOOKUP(A1358,'Requisição de Compra'!$I$28:$J$3000,2,0))","v":""},null,null,null,null,null,null,"Falta Orçamento",null,{"$f":"VLOOKUP(A1358,'[1]Mapa de Preços'!$A$16:$D$2988,4,0)","v":0}]
[1344,null,{"$f":"IF('Requisição de Compra'!J1370=\"\",\"\",VLOOKUP(A1359,'Requisição de Compra'!$I$28:$J$3000,2,0))","v":""},null,null,null,null,null,null,"Falta Orçamento",null,{"$f":"VLOOKUP(A1359,'[1]Mapa de Preços'!$A$16:$D$2988,4,0)","v":0}]
[1345,null,{"$f":"IF('Requisição de Compra'!J1371=\"\",\"\",VLOOKUP(A1360,'Requisição de Compra'!$I$28:$J$3000,2,0))","v":""},null,null,null,null,null,null,"Falta Orçamento",null,{"$f":"VLOOKUP(A1360,'[1]Mapa de Preços'!$A$16:$D$2988,4,0)","v":0}]
[1346,null,{"$f":"IF('Requisição de Compra'!J1372=\"\",\"\",VLOOKUP(A1361,'Requisição de Compra'!$I$28:$J$3000,2,0))","v":""},null,null,null,null,null,null,{"$f":"IF(AND(D1361<>\"\",F1361<>\"\",H1361<>\"\"),AVERAGE(D1361:H1361),\"Falta Orçamento\")","v":"Falta Orçamento"},null,{"$f":"VLOOKUP(A1361,'[1]Mapa de Preços'!$A$16:$D$2988,4,0)","v":0}]
[1347,null,{"$f":"IF('Requisição de Compra'!J1373=\"\",\"\",VLOOKUP(A1362,'Requisição de Compra'!$I$28:$J$3000,2,0))","v":""},null,null,null,null,null,null,"Falta Orçamento",null,{"$f":"VLOOKUP(A1362,'[1]Mapa de Preços'!$A$16:$D$2988,4,0)","v":0}]
[1348,null,{"$f":"IF('Requisição de Compra'!J1374=\"\",\"\",VLOOKUP(A1363,'Requisição de Compra'!$I$28:$J$3000,2,0))","v":""},null,null,null,null,null,null,"Falta Orçamento",null,{"$f":"VLOOKUP(A1363,'[1]Mapa de Preços'!$A$16:$D$2988,4,0)","v":0}]
[1349,null,{"$f":"IF('Requisição de Compra'!J1375=\"\",\"\",VLOOKUP(A1364,'Requisição de Compra'!$I$28:$J$3000,2,0))","v":""},null,null,null,null,null,null,"Falta Orçamento",null,{"$f":"VLOOKUP(A1364,'[1]Mapa de Preços'!$A$16:$D$2988,4,0)","v":0}]
[1350,null,{"$f":"IF('Requisição de Compra'!J1376=\"\",\"\",VLOOKUP(A1365,'Requisição de Compra'!$I$28:$J$3000,2,0))","v":""},null,null,null,null,null,null,"Falta Orçamento",null,{"$f":"VLOOKUP(A1365,'[1]Mapa de Preços'!$A$16:$D$2988,4,0)","v":0}]
[1351,null,{"$f":"IF('Requisição de Compra'!J1377=\"\",\"\",VLOOKUP(A1366,'Requisição de Compra'!$I$28:$J$3000,2,0))","v":""},null,null,null,null,null,null,"Falta Orçamento",null,{"$f":"VLOOKUP(A1366,'[1]Mapa de Preços'!$A$16:$D$2988,4,0)","v":0}]
[1352,null,{"$f":"IF('Requisição de Compra'!J1378=\"\",\"\",VLOOKUP(A1367,'Requisição de Compra'!$I$28:$J$3000,2,0))","v":""},null,null,null,null,null,null,"Falta Orçamento",null,{"$f":"VLOOKUP(A1367,'[1]Mapa de Preços'!$A$16:$D$2988,4,0)","v":0}]
[1353,null,{"$f":"IF('Requisição de Compra'!J1379=\"\",\"\",VLOOKUP(A1368,'Requisição de Compra'!$I$28:$J$3000,2,0))","v":""},null,null,null,null,null,null,"Falta Orçamento",null,{"$f":"VLOOKUP(A1368,'[1]Mapa de Preços'!$A$16:$D$2988,4,0)","v":0}]
[1354,null,{"$f":"IF('Requisição de Compra'!J1380=\"\",\"\",VLOOKUP(A1369,'Requisição de Compra'!$I$28:$J$3000,2,0))","v":""},null,null,null,null,null,null,"Falta Orçamento",null,{"$f":"VLOOKUP(A1369,'[1]Mapa de Preços'!$A$16:$D$2988,4,0)","v":0}]
[1355,null,{"$f":"IF('Requisição de Compra'!J1381=\"\",\"\",VLOOKUP(A1370,'Requisição de Compra'!$I$28:$J$3000,2,0))","v":""},null,null,null,null,null,null,"Falta Orçamento",null,{"$f":"VLOOKUP(A1370,'[1]Mapa de Preços'!$A$16:$D$2988,4,0)","v":0}]
[1356,null,{"$f":"IF('Requisição de Compra'!J1382=\"\",\"\",VLOOKUP(A1371,'Requisição de Compra'!$I$28:$J$3000,2,0))","v":""},null,null,null,null,null,null,"Falta Orçamento",null,{"$f":"VLOOKUP(A1371,'[1]Mapa de Preços'!$A$16:$D$2988,4,0)","v":0}]
[1357,null,{"$f":"IF('Requisição de Compra'!J1383=\"\",\"\",VLOOKUP(A1372,'Requisição de Compra'!$I$28:$J$3000,2,0))","v":""},null,null,null,null,null,null,"Falta Orçamento",null,{"$f":"VLOOKUP(A1372,'[1]Mapa de Preços'!$A$16:$D$2988,4,0)","v":0}]
[1358,null,{"$f":"IF('Requisição de Compra'!J1384=\"\",\"\",VLOOKUP(A1373,'Requisição de Compra'!$I$28:$J$3000,2,0))","v":""},null,null,null,null,null,null,"Falta Orçamento",null,{"$f":"VLOOKUP(A1373,'[1]Mapa de Preços'!$A$16:$D$2988,4,0)","v":0}]
[1359,null,{"$f":"IF('Requisição de Compra'!J1385=\"\",\"\",VLOOKUP(A1374,'Requisição de Compra'!$I$28:$J$3000,2,0))","v":""},null,null,null,null,null,null,"Falta Orçamento",null,{"$f":"VLOOKUP(A1374,'[1]Mapa de Preços'!$A$16:$D$2988,4,0)","v":0}]
[1360,null,{"$f":"IF('Requisição de Compra'!J1386=\"\",\"\",VLOOKUP(A1375,'Requisição de Compra'!$I$28:$J$3000,2,0))","v":""},null,null,null,null,null,null,"Falta Orçamento",null,{"$f":"VLOOKUP(A1375,'[1]Mapa de Preços'!$A$16:$D$2988,4,0)","v":0}]
[1361,null,{"$f":"IF('Requisição de Compra'!J1387=\"\",\"\",VLOOKUP(A1376,'Requisição de Compra'!$I$28:$J$3000,2,0))","v":""},null,null,null,null,null,null,"Falta Orçamento",null,{"$f":"VLOOKUP(A1376,'[1]Mapa de Preços'!$A$16:$D$2988,4,0)","v":0}]
[1362,null,{"$f":"IF('Requisição de Compra'!J1388=\"\",\"\",VLOOKUP(A1377,'Requisição de Compra'!$I$28:$J$3000,2,0))","v":""},null,null,null,null,null,null,"Falta Orçamento",null,{"$f":"VLOOKUP(A1377,'[1]Mapa de Preços'!$A$16:$D$2988,4,0)","v":0}]
[1363,null,{"$f":"IF('Requisição de Compra'!J1389=\"\",\"\",VLOOKUP(A1378,'Requisição de Compra'!$I$28:$J$3000,2,0))","v":""},null,null,null,null,null,null,"Falta Orçamento",null,{"$f":"VLOOKUP(A1378,'[1]Mapa de Preços'!$A$16:$D$2988,4,0)","v":0}]
[1364,null,{"$f":"IF('Requisição de Compra'!J1390=\"\",\"\",VLOOKUP(A1379,'Requisição de Compra'!$I$28:$J$3000,2,0))","v":""},null,null,null,null,null,null,"Falta Orçamento",null,{"$f":"VLOOKUP(A1379,'[1]Mapa de Preços'!$A$16:$D$2988,4,0)","v":0}]
[1365,null,{"$f":"IF('Requisição de Compra'!J1391=\"\",\"\",VLOOKUP(A1380,'Requisição de Compra'!$I$28:$J$3000,2,0))","v":""},null,null,null,null,null,null,"Falta Orçamento",null,{"$f":"VLOOKUP(A1380,'[1]Mapa de Preços'!$A$16:$D$2988,4,0)","v":0}]
[1366,null,{"$f":"IF('Requisição de Compra'!J1392=\"\",\"\",VLOOKUP(A1381,'Requisição de Compra'!$I$28:$J$3000,2,0))","v":""},null,null,null,null,null,null,"Falta Orçamento",null,{"$f":"VLOOKUP(A1381,'[1]Mapa de Preços'!$A$16:$D$2988,4,0)","v":0}]
[1367,null,{"$f":"IF('Requisição de Compra'!J1393=\"\",\"\",VLOOKUP(A1382,'Requisição de Compra'!$I$28:$J$3000,2,0))","v":""},null,null,null,null,null,null,"Falta Orçamento",null,{"$f":"VLOOKUP(A1382,'[1]Mapa de Preços'!$A$16:$D$2988,4,0)","v":0}]
[1368,null,{"$f":"IF('Requisição de Compra'!J1394=\"\",\"\",VLOOKUP(A1383,'Requisição de Compra'!$I$28:$J$3000,2,0))","v":""},null,null,null,null,null,null,"Falta Orçamento",null,{"$f":"VLOOKUP(A1383,'[1]Mapa de Preços'!$A$16:$D$2988,4,0)","v":0}]
[1369,null,{"$f":"IF('Requisição de Compra'!J1395=\"\",\"\",VLOOKUP(A1384,'Requisição de Compra'!$I$28:$J$3000,2,0))","v":""},null,null,null,null,null,null,"Falta Orçamento",null,{"$f":"VLOOKUP(A1384,'[1]Mapa de Preços'!$A$16:$D$2988,4,0)","v":0}]
[1370,null,{"$f":"IF('Requisição de Compra'!J1396=\"\",\"\",VLOOKUP(A1385,'Requisição de Compra'!$I$28:$J$3000,2,0))","v":""},null,null,null,null,null,null,"Falta Orçamento",null,{"$f":"VLOOKUP(A1385,'[1]Mapa de Preços'!$A$16:$D$2988,4,0)","v":0}]
[1371,null,{"$f":"IF('Requisição de Compra'!J1397=\"\",\"\",VLOOKUP(A1386,'Requisição de Compra'!$I$28:$J$3000,2,0))","v":""},null,null,null,null,null,null,"Falta Orçamento",null,{"$f":"VLOOKUP(A1386,'[1]Mapa de Preços'!$A$16:$D$2988,4,0)","v":0}]
[1372,null,{"$f":"IF('Requisição de Compra'!J1398=\"\",\"\",VLOOKUP(A1387,'Requisição de Compra'!$I$28:$J$3000,2,0))","v":""},null,null,null,null,null,null,"Falta Orçamento",null,{"$f":"VLOOKUP(A1387,'[1]Mapa de Preços'!$A$16:$D$2988,4,0)","v":0}]
[1373,null,{"$f":"IF('Requisição de Compra'!J1399=\"\",\"\",VLOOKUP(A1388,'Requisição de Compra'!$I$28:$J$3000,2,0))","v":""},null,null,null,null,null,null,"Falta Orçamento",null,{"$f":"VLOOKUP(A1388,'[1]Mapa de Preços'!$A$16:$D$2988,4,0)","v":0}]
[1374,null,{"$f":"IF('Requisição de Compra'!J1400=\"\",\"\",VLOOKUP(A1389,'Requisição de Compra'!$I$28:$J$3000,2,0))","v":""},null,null,null,null,null,null,"Falta Orçamento",null,{"$f":"VLOOKUP(A1389,'[1]Mapa de Preços'!$A$16:$D$2988,4,0)","v":0}]
[1375,null,{"$f":"IF('Requisição de Compra'!J1401=\"\",\"\",VLOOKUP(A1390,'Requisição de Compra'!$I$28:$J$3000,2,0))","v":""},null,null,null,null,null,null,"Falta Orçamento",null,{"$f":"VLOOKUP(A1390,'[1]Mapa de Preços'!$A$16:$D$2988,4,0)","v":0}]
[1376,null,{"$f":"IF('Requisição de Compra'!J1402=\"\",\"\",VLOOKUP(A1391,'Requisição de Compra'!$I$28:$J$3000,2,0))","v":""},null,null,null,null,null,null,"Falta Orçamento",null,{"$f":"VLOOKUP(A1391,'[1]Mapa de Preços'!$A$16:$D$2988,4,0)","v":0}]
[1377,null,{"$f":"IF('Requisição de Compra'!J1403=\"\",\"\",VLOOKUP(A1392,'Requisição de Compra'!$I$28:$J$3000,2,0))","v":""},null,null,null,null,null,null,"Falta Orçamento",null,{"$f":"VLOOKUP(A1392,'[1]Mapa de Preços'!$A$16:$D$2988,4,0)","v":0}]
[1378,null,{"$f":"IF('Requisição de Compra'!J1404=\"\",\"\",VLOOKUP(A1393,'Requisição de Compra'!$I$28:$J$3000,2,0))","v":""},null,null,null,null,null,null,"Falta Orçamento",null,{"$f":"VLOOKUP(A1393,'[1]Mapa de Preços'!$A$16:$D$2988,4,0)","v":0}]
[1379,null,{"$f":"IF('Requisição de Compra'!J1405=\"\",\"\",VLOOKUP(A1394,'Requisição de Compra'!$I$28:$J$3000,2,0))","v":""},null,null,null,null,null,null,"Falta Orçamento",null,{"$f":"VLOOKUP(A1394,'[1]Mapa de Preços'!$A$16:$D$2988,4,0)","v":0}]
[1380,null,{"$f":"IF('Requisição de Compra'!J1406=\"\",\"\",VLOOKUP(A1395,'Requisição de Compra'!$I$28:$J$3000,2,0))","v":""},null,null,null,null,null,null,"Falta Orçamento",null,{"$f":"VLOOKUP(A1395,'[1]Mapa de Preços'!$A$16:$D$2988,4,0)","v":0}]
[1381,null,{"$f":"IF('Requisição de Compra'!J1407=\"\",\"\",VLOOKUP(A1396,'Requisição de Compra'!$I$28:$J$3000,2,0))","v":""},null,null,null,null,null,null,"Falta Orçamento",null,{"$f":"VLOOKUP(A1396,'[1]Mapa de Preços'!$A$16:$D$2988,4,0)","v":0}]
[1382,null,{"$f":"IF('Requisição de Compra'!J1408=\"\",\"\",VLOOKUP(A1397,'Requisição de Compra'!$I$28:$J$3000,2,0))","v":""},null,null,null,null,null,null,"Falta Orçamento",null,{"$f":"VLOOKUP(A1397,'[1]Mapa de Preços'!$A$16:$D$2988,4,0)","v":0}]
[1383,null,{"$f":"IF('Requisição de Compra'!J1409=\"\",\"\",VLOOKUP(A1398,'Requisição de Compra'!$I$28:$J$3000,2,0))","v":""},null,null,null,null,null,null,"Falta Orçamento",null,{"$f":"VLOOKUP(A1398,'[1]Mapa de Preços'!$A$16:$D$2988,4,0)","v":0}]
[1384,null,{"$f":"IF('Requisição de Compra'!J1410=\"\",\"\",VLOOKUP(A1399,'Requisição de Compra'!$I$28:$J$3000,2,0))","v":""},null,null,null,null,null,null,"Falta Orçamento",null,{"$f":"VLOOKUP(A1399,'[1]Mapa de Preços'!$A$16:$D$2988,4,0)","v":0}]
[1385,null,{"$f":"IF('Requisição de Compra'!J1411=\"\",\"\",VLOOKUP(A1400,'Requisição de Compra'!$I$28:$J$3000,2,0))","v":""},null,null,null,null,null,null,"Falta Orçamento",null,{"$f":"VLOOKUP(A1400,'[1]Mapa de Preços'!$A$16:$D$2988,4,0)","v":0}]
[1386,null,{"$f":"IF('Requisição de Compra'!J1412=\"\",\"\",VLOOKUP(A1401,'Requisição de Compra'!$I$28:$J$3000,2,0))","v":""},null,null,null,null,null,null,"Falta Orçamento",null,{"$f":"VLOOKUP(A1401,'[1]Mapa de Preços'!$A$16:$D$2988,4,0)","v":0}]
[1387,null,{"$f":"IF('Requisição de Compra'!J1413=\"\",\"\",VLOOKUP(A1402,'Requisição de Compra'!$I$28:$J$3000,2,0))","v":""},null,null,null,null,null,null,"Falta Orçamento",null,{"$f":"VLOOKUP(A1402,'[1]Mapa de Preços'!$A$16:$D$2988,4,0)","v":0}]
[1388,null,{"$f":"IF('Requisição de Compra'!J1414=\"\",\"\",VLOOKUP(A1403,'Requisição de Compra'!$I$28:$J$3000,2,0))","v":""},null,null,null,null,null,null,"Falta Orçamento",null,{"$f":"VLOOKUP(A1403,'[1]Mapa de Preços'!$A$16:$D$2988,4,0)","v":0}]
[1389,null,{"$f":"IF('Requisição de Compra'!J1415=\"\",\"\",VLOOKUP(A1404,'Requisição de Compra'!$I$28:$J$3000,2,0))","v":""},null,null,null,null,null,null,"Falta Orçamento",null,{"$f":"VLOOKUP(A1404,'[1]Mapa de Preços'!$A$16:$D$2988,4,0)","v":0}]
[1390,null,{"$f":"IF('Requisição de Compra'!J1416=\"\",\"\",VLOOKUP(A1405,'Requisição de Compra'!$I$28:$J$3000,2,0))","v":""},null,null,null,null,null,null,"Falta Orçamento",null,{"$f":"VLOOKUP(A1405,'[1]Mapa de Preços'!$A$16:$D$2988,4,0)","v":0}]
[1391,null,{"$f":"IF('Requisição de Compra'!J1417=\"\",\"\",VLOOKUP(A1406,'Requisição de Compra'!$I$28:$J$3000,2,0))","v":""},null,null,null,null,null,null,"Falta Orçamento",null,{"$f":"VLOOKUP(A1406,'[1]Mapa de Preços'!$A$16:$D$2988,4,0)","v":0}]
[1392,null,{"$f":"IF('Requisição de Compra'!J1418=\"\",\"\",VLOOKUP(A1407,'Requisição de Compra'!$I$28:$J$3000,2,0))","v":""},null,null,null,null,null,null,"Falta Orçamento",null,{"$f":"VLOOKUP(A1407,'[1]Mapa de Preços'!$A$16:$D$2988,4,0)","v":0}]
[1393,null,{"$f":"IF('Requisição de Compra'!J1419=\"\",\"\",VLOOKUP(A1408,'Requisição de Compra'!$I$28:$J$3000,2,0))","v":""},null,null,null,null,null,null,"Falta Orçamento",null,{"$f":"VLOOKUP(A1408,'[1]Mapa de Preços'!$A$16:$D$2988,4,0)","v":0}]
[1394,null,{"$f":"IF('Requisição de Compra'!J1420=\"\",\"\",VLOOKUP(A1409,'Requisição de Compra'!$I$28:$J$3000,2,0))","v":""},null,null,null,null,null,null,"Falta Orçamento",null,{"$f":"VLOOKUP(A1409,'[1]Mapa de Preços'!$A$16:$D$2988,4,0)","v":0}]
[1395,null,{"$f":"IF('Requisição de Compra'!J1421=\"\",\"\",VLOOKUP(A1410,'Requisição de Compra'!$I$28:$J$3000,2,0))","v":""},null,null,null,null,null,null,"Falta Orçamento",null,{"$f":"VLOOKUP(A1410,'[1]Mapa de Preços'!$A$16:$D$2988,4,0)","v":0}]
[1396,null,{"$f":"IF('Requisição de Compra'!J1422=\"\",\"\",VLOOKUP(A1411,'Requisição de Compra'!$I$28:$J$3000,2,0))","v":""},null,null,null,null,null,null,"Falta Orçamento",null,{"$f":"VLOOKUP(A1411,'[1]Mapa de Preços'!$A$16:$D$2988,4,0)","v":0}]
[1397,null,{"$f":"IF('Requisição de Compra'!J1423=\"\",\"\",VLOOKUP(A1412,'Requisição de Compra'!$I$28:$J$3000,2,0))","v":""},null,null,null,null,null,null,"Falta Orçamento",null,{"$f":"VLOOKUP(A1412,'[1]Mapa de Preços'!$A$16:$D$2988,4,0)","v":0}]
[1398,null,{"$f":"IF('Requisição de Compra'!J1424=\"\",\"\",VLOOKUP(A1413,'Requisição de Compra'!$I$28:$J$3000,2,0))","v":""},null,null,null,null,null,null,"Falta Orçamento",null,{"$f":"VLOOKUP(A1413,'[1]Mapa de Preços'!$A$16:$D$2988,4,0)","v":0}]
[1399,null,{"$f":"IF('Requisição de Compra'!J1425=\"\",\"\",VLOOKUP(A1414,'Requisição de Compra'!$I$28:$J$3000,2,0))","v":""},null,null,null,null,null,null,"Falta Orçamento",null,{"$f":"VLOOKUP(A1414,'[1]Mapa de Preços'!$A$16:$D$2988,4,0)","v":0}]
[1400,null,{"$f":"IF('Requisição de Compra'!J1426=\"\",\"\",VLOOKUP(A1415,'Requisição de Compra'!$I$28:$J$3000,2,0))","v":""},null,null,null,null,null,null,"Falta Orçamento",null,{"$f":"VLOOKUP(A1415,'[1]Mapa de Preços'!$A$16:$D$2988,4,0)","v":0}]
[1401,null,{"$f":"IF('Requisição de Compra'!J1427=\"\",\"\",VLOOKUP(A1416,'Requisição de Compra'!$I$28:$J$3000,2,0))","v":""},null,null,null,null,null,null,"Falta Orçamento",null,{"$f":"VLOOKUP(A1416,'[1]Mapa de Preços'!$A$16:$D$2988,4,0)","v":0}]
[1402,null,{"$f":"IF('Requisição de Compra'!J1428=\"\",\"\",VLOOKUP(A1417,'Requisição de Compra'!$I$28:$J$3000,2,0))","v":""},null,null,null,null,null,null,"Falta Orçamento",null,{"$f":"VLOOKUP(A1417,'[1]Mapa de Preços'!$A$16:$D$2988,4,0)","v":0}]
[1403,null,{"$f":"IF('Requisição de Compra'!J1429=\"\",\"\",VLOOKUP(A1418,'Requisição de Compra'!$I$28:$J$3000,2,0))","v":""},null,null,null,null,null,null,"Falta Orçamento",null,{"$f":"VLOOKUP(A1418,'[1]Mapa de Preços'!$A$16:$D$2988,4,0)","v":0}]
[1404,null,{"$f":"IF('Requisição de Compra'!J1430=\"\",\"\",VLOOKUP(A1419,'Requisição de Compra'!$I$28:$J$3000,2,0))","v":""},null,null,null,null,null,null,"Falta Orçamento",null,{"$f":"VLOOKUP(A1419,'[1]Mapa de Preços'!$A$16:$D$2988,4,0)","v":0}]
[1405,null,{"$f":"IF('Requisição de Compra'!J1431=\"\",\"\",VLOOKUP(A1420,'Requisição de Compra'!$I$28:$J$3000,2,0))","v":""},null,null,null,null,null,null,"Falta Orçamento",null,{"$f":"VLOOKUP(A1420,'[1]Mapa de Preços'!$A$16:$D$2988,4,0)","v":0}]
[1406,null,{"$f":"IF('Requisição de Compra'!J1432=\"\",\"\",VLOOKUP(A1421,'Requisição de Compra'!$I$28:$J$3000,2,0))","v":""},null,null,null,null,null,null,"Falta Orçamento",null,{"$f":"VLOOKUP(A1421,'[1]Mapa de Preços'!$A$16:$D$2988,4,0)","v":0}]
[1407,null,{"$f":"IF('Requisição de Compra'!J1433=\"\",\"\",VLOOKUP(A1422,'Requisição de Compra'!$I$28:$J$3000,2,0))","v":""},null,null,null,null,null,null,"Falta Orçamento",null,{"$f":"VLOOKUP(A1422,'[1]Mapa de Preços'!$A$16:$D$2988,4,0)","v":0}]
[1408,null,{"$f":"IF('Requisição de Compra'!J1434=\"\",\"\",VLOOKUP(A1423,'Requisição de Compra'!$I$28:$J$3000,2,0))","v":""},null,null,null,null,null,null,"Falta Orçamento",null,{"$f":"VLOOKUP(A1423,'[1]Mapa de Preços'!$A$16:$D$2988,4,0)","v":0}]
[1409,null,{"$f":"IF('Requisição de Compra'!J1435=\"\",\"\",VLOOKUP(A1424,'Requisição de Compra'!$I$28:$J$3000,2,0))","v":""},null,null,null,null,null,null,"Falta Orçamento",null,{"$f":"VLOOKUP(A1424,'[1]Mapa de Preços'!$A$16:$D$2988,4,0)","v":0}]
[1410,null,{"$f":"IF('Requisição de Compra'!J1436=\"\",\"\",VLOOKUP(A1425,'Requisição de Compra'!$I$28:$J$3000,2,0))","v":""},null,null,null,null,null,null,{"$f":"IF(AND(D1425<>\"\",F1425<>\"\",H1425<>\"\"),AVERAGE(D1425:H1425),\"Falta Orçamento\")","v":"Falta Orçamento"},null,{"$f":"VLOOKUP(A1425,'[1]Mapa de Preços'!$A$16:$D$2988,4,0)","v":0}]
[1411,null,{"$f":"IF('Requisição de Compra'!J1437=\"\",\"\",VLOOKUP(A1426,'Requisição de Compra'!$I$28:$J$3000,2,0))","v":""},null,null,null,null,null,null,"Falta Orçamento",null,{"$f":"VLOOKUP(A1426,'[1]Mapa de Preços'!$A$16:$D$2988,4,0)","v":0}]
[1412,null,{"$f":"IF('Requisição de Compra'!J1438=\"\",\"\",VLOOKUP(A1427,'Requisição de Compra'!$I$28:$J$3000,2,0))","v":""},null,null,null,null,null,null,"Falta Orçamento",null,{"$f":"VLOOKUP(A1427,'[1]Mapa de Preços'!$A$16:$D$2988,4,0)","v":0}]
[1413,null,{"$f":"IF('Requisição de Compra'!J1439=\"\",\"\",VLOOKUP(A1428,'Requisição de Compra'!$I$28:$J$3000,2,0))","v":""},null,null,null,null,null,null,"Falta Orçamento",null,{"$f":"VLOOKUP(A1428,'[1]Mapa de Preços'!$A$16:$D$2988,4,0)","v":0}]
[1414,null,{"$f":"IF('Requisição de Compra'!J1440=\"\",\"\",VLOOKUP(A1429,'Requisição de Compra'!$I$28:$J$3000,2,0))","v":""},null,null,null,null,null,null,"Falta Orçamento",null,{"$f":"VLOOKUP(A1429,'[1]Mapa de Preços'!$A$16:$D$2988,4,0)","v":0}]
[1415,null,{"$f":"IF('Requisição de Compra'!J1441=\"\",\"\",VLOOKUP(A1430,'Requisição de Compra'!$I$28:$J$3000,2,0))","v":""},null,null,null,null,null,null,"Falta Orçamento",null,{"$f":"VLOOKUP(A1430,'[1]Mapa de Preços'!$A$16:$D$2988,4,0)","v":0}]
[1416,null,{"$f":"IF('Requisição de Compra'!J1442=\"\",\"\",VLOOKUP(A1431,'Requisição de Compra'!$I$28:$J$3000,2,0))","v":""},null,null,null,null,null,null,"Falta Orçamento",null,{"$f":"VLOOKUP(A1431,'[1]Mapa de Preços'!$A$16:$D$2988,4,0)","v":0}]
[1417,null,{"$f":"IF('Requisição de Compra'!J1443=\"\",\"\",VLOOKUP(A1432,'Requisição de Compra'!$I$28:$J$3000,2,0))","v":""},null,null,null,null,null,null,"Falta Orçamento",null,{"$f":"VLOOKUP(A1432,'[1]Mapa de Preços'!$A$16:$D$2988,4,0)","v":0}]
[1418,null,{"$f":"IF('Requisição de Compra'!J1444=\"\",\"\",VLOOKUP(A1433,'Requisição de Compra'!$I$28:$J$3000,2,0))","v":""},null,null,null,null,null,null,"Falta Orçamento",null,{"$f":"VLOOKUP(A1433,'[1]Mapa de Preços'!$A$16:$D$2988,4,0)","v":0}]
[1419,null,{"$f":"IF('Requisição de Compra'!J1445=\"\",\"\",VLOOKUP(A1434,'Requisição de Compra'!$I$28:$J$3000,2,0))","v":""},null,null,null,null,null,null,"Falta Orçamento",null,{"$f":"VLOOKUP(A1434,'[1]Mapa de Preços'!$A$16:$D$2988,4,0)","v":0}]
[1420,null,{"$f":"IF('Requisição de Compra'!J1446=\"\",\"\",VLOOKUP(A1435,'Requisição de Compra'!$I$28:$J$3000,2,0))","v":""},null,null,null,null,null,null,"Falta Orçamento",null,{"$f":"VLOOKUP(A1435,'[1]Mapa de Preços'!$A$16:$D$2988,4,0)","v":0}]
[1421,null,{"$f":"IF('Requisição de Compra'!J1447=\"\",\"\",VLOOKUP(A1436,'Requisição de Compra'!$I$28:$J$3000,2,0))","v":""},null,null,null,null,null,null,"Falta Orçamento",null,{"$f":"VLOOKUP(A1436,'[1]Mapa de Preços'!$A$16:$D$2988,4,0)","v":0}]
[1422,null,{"$f":"IF('Requisição de Compra'!J1448=\"\",\"\",VLOOKUP(A1437,'Requisição de Compra'!$I$28:$J$3000,2,0))","v":""},null,null,null,null,null,null,"Falta Orçamento",null,{"$f":"VLOOKUP(A1437,'[1]Mapa de Preços'!$A$16:$D$2988,4,0)","v":0}]
[1423,null,{"$f":"IF('Requisição de Compra'!J1449=\"\",\"\",VLOOKUP(A1438,'Requisição de Compra'!$I$28:$J$3000,2,0))","v":""},null,null,null,null,null,null,"Falta Orçamento",null,{"$f":"VLOOKUP(A1438,'[1]Mapa de Preços'!$A$16:$D$2988,4,0)","v":0}]
[1424,null,{"$f":"IF('Requisição de Compra'!J1450=\"\",\"\",VLOOKUP(A1439,'Requisição de Compra'!$I$28:$J$3000,2,0))","v":""},null,null,null,null,null,null,"Falta Orçamento",null,{"$f":"VLOOKUP(A1439,'[1]Mapa de Preços'!$A$16:$D$2988,4,0)","v":0}]
[1425,null,{"$f":"IF('Requisição de Compra'!J1451=\"\",\"\",VLOOKUP(A1440,'Requisição de Compra'!$I$28:$J$3000,2,0))","v":""},null,null,null,null,null,null,"Falta Orçamento",null,{"$f":"VLOOKUP(A1440,'[1]Mapa de Preços'!$A$16:$D$2988,4,0)","v":0}]
[1426,null,{"$f":"IF('Requisição de Compra'!J1452=\"\",\"\",VLOOKUP(A1441,'Requisição de Compra'!$I$28:$J$3000,2,0))","v":""},null,null,null,null,null,null,"Falta Orçamento",null,{"$f":"VLOOKUP(A1441,'[1]Mapa de Preços'!$A$16:$D$2988,4,0)","v":0}]
[1427,null,{"$f":"IF('Requisição de Compra'!J1453=\"\",\"\",VLOOKUP(A1442,'Requisição de Compra'!$I$28:$J$3000,2,0))","v":""},null,null,null,null,null,null,"Falta Orçamento",null,{"$f":"VLOOKUP(A1442,'[1]Mapa de Preços'!$A$16:$D$2988,4,0)","v":0}]
[1428,null,{"$f":"IF('Requisição de Compra'!J1454=\"\",\"\",VLOOKUP(A1443,'Requisição de Compra'!$I$28:$J$3000,2,0))","v":""},null,null,null,null,null,null,"Falta Orçamento",null,{"$f":"VLOOKUP(A1443,'[1]Mapa de Preços'!$A$16:$D$2988,4,0)","v":0}]
[1429,null,{"$f":"IF('Requisição de Compra'!J1455=\"\",\"\",VLOOKUP(A1444,'Requisição de Compra'!$I$28:$J$3000,2,0))","v":""},null,null,null,null,null,null,"Falta Orçamento",null,{"$f":"VLOOKUP(A1444,'[1]Mapa de Preços'!$A$16:$D$2988,4,0)","v":0}]
[1430,null,{"$f":"IF('Requisição de Compra'!J1456=\"\",\"\",VLOOKUP(A1445,'Requisição de Compra'!$I$28:$J$3000,2,0))","v":""},null,null,null,null,null,null,"Falta Orçamento",null,{"$f":"VLOOKUP(A1445,'[1]Mapa de Preços'!$A$16:$D$2988,4,0)","v":0}]
[1431,null,{"$f":"IF('Requisição de Compra'!J1457=\"\",\"\",VLOOKUP(A1446,'Requisição de Compra'!$I$28:$J$3000,2,0))","v":""},null,null,null,null,null,null,"Falta Orçamento",null,{"$f":"VLOOKUP(A1446,'[1]Mapa de Preços'!$A$16:$D$2988,4,0)","v":0}]
[1432,null,{"$f":"IF('Requisição de Compra'!J1458=\"\",\"\",VLOOKUP(A1447,'Requisição de Compra'!$I$28:$J$3000,2,0))","v":""},null,null,null,null,null,null,"Falta Orçamento",null,{"$f":"VLOOKUP(A1447,'[1]Mapa de Preços'!$A$16:$D$2988,4,0)","v":0}]
[1433,null,{"$f":"IF('Requisição de Compra'!J1459=\"\",\"\",VLOOKUP(A1448,'Requisição de Compra'!$I$28:$J$3000,2,0))","v":""},null,null,null,null,null,null,"Falta Orçamento",null,{"$f":"VLOOKUP(A1448,'[1]Mapa de Preços'!$A$16:$D$2988,4,0)","v":0}]
[1434,null,{"$f":"IF('Requisição de Compra'!J1460=\"\",\"\",VLOOKUP(A1449,'Requisição de Compra'!$I$28:$J$3000,2,0))","v":""},null,null,null,null,null,null,"Falta Orçamento",null,{"$f":"VLOOKUP(A1449,'[1]Mapa de Preços'!$A$16:$D$2988,4,0)","v":0}]
[1435,null,{"$f":"IF('Requisição de Compra'!J1461=\"\",\"\",VLOOKUP(A1450,'Requisição de Compra'!$I$28:$J$3000,2,0))","v":""},null,null,null,null,null,null,"Falta Orçamento",null,{"$f":"VLOOKUP(A1450,'[1]Mapa de Preços'!$A$16:$D$2988,4,0)","v":0}]
[1436,null,{"$f":"IF('Requisição de Compra'!J1462=\"\",\"\",VLOOKUP(A1451,'Requisição de Compra'!$I$28:$J$3000,2,0))","v":""},null,null,null,null,null,null,"Falta Orçamento",null,{"$f":"VLOOKUP(A1451,'[1]Mapa de Preços'!$A$16:$D$2988,4,0)","v":0}]
[1437,null,{"$f":"IF('Requisição de Compra'!J1463=\"\",\"\",VLOOKUP(A1452,'Requisição de Compra'!$I$28:$J$3000,2,0))","v":""},null,null,null,null,null,null,"Falta Orçamento",null,{"$f":"VLOOKUP(A1452,'[1]Mapa de Preços'!$A$16:$D$2988,4,0)","v":0}]
[1438,null,{"$f":"IF('Requisição de Compra'!J1464=\"\",\"\",VLOOKUP(A1453,'Requisição de Compra'!$I$28:$J$3000,2,0))","v":""},null,null,null,null,null,null,"Falta Orçamento",null,{"$f":"VLOOKUP(A1453,'[1]Mapa de Preços'!$A$16:$D$2988,4,0)","v":0}]
[1439,null,{"$f":"IF('Requisição de Compra'!J1465=\"\",\"\",VLOOKUP(A1454,'Requisição de Compra'!$I$28:$J$3000,2,0))","v":""},null,null,null,null,null,null,"Falta Orçamento",null,{"$f":"VLOOKUP(A1454,'[1]Mapa de Preços'!$A$16:$D$2988,4,0)","v":0}]
[1440,null,{"$f":"IF('Requisição de Compra'!J1466=\"\",\"\",VLOOKUP(A1455,'Requisição de Compra'!$I$28:$J$3000,2,0))","v":""},null,null,null,null,null,null,"Falta Orçamento",null,{"$f":"VLOOKUP(A1455,'[1]Mapa de Preços'!$A$16:$D$2988,4,0)","v":0}]
[1441,null,{"$f":"IF('Requisição de Compra'!J1467=\"\",\"\",VLOOKUP(A1456,'Requisição de Compra'!$I$28:$J$3000,2,0))","v":""},null,null,null,null,null,null,"Falta Orçamento",null,{"$f":"VLOOKUP(A1456,'[1]Mapa de Preços'!$A$16:$D$2988,4,0)","v":0}]
[1442,null,{"$f":"IF('Requisição de Compra'!J1468=\"\",\"\",VLOOKUP(A1457,'Requisição de Compra'!$I$28:$J$3000,2,0))","v":""},null,null,null,null,null,null,"Falta Orçamento",null,{"$f":"VLOOKUP(A1457,'[1]Mapa de Preços'!$A$16:$D$2988,4,0)","v":0}]
[1443,null,{"$f":"IF('Requisição de Compra'!J1469=\"\",\"\",VLOOKUP(A1458,'Requisição de Compra'!$I$28:$J$3000,2,0))","v":""},null,null,null,null,null,null,"Falta Orçamento",null,{"$f":"VLOOKUP(A1458,'[1]Mapa de Preços'!$A$16:$D$2988,4,0)","v":0}]
[1444,null,{"$f":"IF('Requisição de Compra'!J1470=\"\",\"\",VLOOKUP(A1459,'Requisição de Compra'!$I$28:$J$3000,2,0))","v":""},null,null,null,null,null,null,"Falta Orçamento",null,{"$f":"VLOOKUP(A1459,'[1]Mapa de Preços'!$A$16:$D$2988,4,0)","v":0}]
[1445,null,{"$f":"IF('Requisição de Compra'!J1471=\"\",\"\",VLOOKUP(A1460,'Requisição de Compra'!$I$28:$J$3000,2,0))","v":""},null,null,null,null,null,null,"Falta Orçamento",null,{"$f":"VLOOKUP(A1460,'[1]Mapa de Preços'!$A$16:$D$2988,4,0)","v":0}]
[1446,null,{"$f":"IF('Requisição de Compra'!J1472=\"\",\"\",VLOOKUP(A1461,'Requisição de Compra'!$I$28:$J$3000,2,0))","v":""},null,null,null,null,null,null,"Falta Orçamento",null,{"$f":"VLOOKUP(A1461,'[1]Mapa de Preços'!$A$16:$D$2988,4,0)","v":0}]
[1447,null,{"$f":"IF('Requisição de Compra'!J1473=\"\",\"\",VLOOKUP(A1462,'Requisição de Compra'!$I$28:$J$3000,2,0))","v":""},null,null,null,null,null,null,"Falta Orçamento",null,{"$f":"VLOOKUP(A1462,'[1]Mapa de Preços'!$A$16:$D$2988,4,0)","v":0}]
[1448,null,{"$f":"IF('Requisição de Compra'!J1474=\"\",\"\",VLOOKUP(A1463,'Requisição de Compra'!$I$28:$J$3000,2,0))","v":""},null,null,null,null,null,null,"Falta Orçamento",null,{"$f":"VLOOKUP(A1463,'[1]Mapa de Preços'!$A$16:$D$2988,4,0)","v":0}]
[1449,null,{"$f":"IF('Requisição de Compra'!J1475=\"\",\"\",VLOOKUP(A1464,'Requisição de Compra'!$I$28:$J$3000,2,0))","v":""},null,null,null,null,null,null,"Falta Orçamento",null,{"$f":"VLOOKUP(A1464,'[1]Mapa de Preços'!$A$16:$D$2988,4,0)","v":0}]
[1450,null,{"$f":"IF('Requisição de Compra'!J1476=\"\",\"\",VLOOKUP(A1465,'Requisição de Compra'!$I$28:$J$3000,2,0))","v":""},null,null,null,null,null,null,"Falta Orçamento",null,{"$f":"VLOOKUP(A1465,'[1]Mapa de Preços'!$A$16:$D$2988,4,0)","v":0}]
[1451,null,{"$f":"IF('Requisição de Compra'!J1477=\"\",\"\",VLOOKUP(A1466,'Requisição de Compra'!$I$28:$J$3000,2,0))","v":""},null,null,null,null,null,null,"Falta Orçamento",null,{"$f":"VLOOKUP(A1466,'[1]Mapa de Preços'!$A$16:$D$2988,4,0)","v":0}]
[1452,null,{"$f":"IF('Requisição de Compra'!J1478=\"\",\"\",VLOOKUP(A1467,'Requisição de Compra'!$I$28:$J$3000,2,0))","v":""},null,null,null,null,null,null,"Falta Orçamento",null,{"$f":"VLOOKUP(A1467,'[1]Mapa de Preços'!$A$16:$D$2988,4,0)","v":0}]
[1453,null,{"$f":"IF('Requisição de Compra'!J1479=\"\",\"\",VLOOKUP(A1468,'Requisição de Compra'!$I$28:$J$3000,2,0))","v":""},null,null,null,null,null,null,"Falta Orçamento",null,{"$f":"VLOOKUP(A1468,'[1]Mapa de Preços'!$A$16:$D$2988,4,0)","v":0}]
[1454,null,{"$f":"IF('Requisição de Compra'!J1480=\"\",\"\",VLOOKUP(A1469,'Requisição de Compra'!$I$28:$J$3000,2,0))","v":""},null,null,null,null,null,null,"Falta Orçamento",null,{"$f":"VLOOKUP(A1469,'[1]Mapa de Preços'!$A$16:$D$2988,4,0)","v":0}]
[1455,null,{"$f":"IF('Requisição de Compra'!J1481=\"\",\"\",VLOOKUP(A1470,'Requisição de Compra'!$I$28:$J$3000,2,0))","v":""},null,null,null,null,null,null,"Falta Orçamento",null,{"$f":"VLOOKUP(A1470,'[1]Mapa de Preços'!$A$16:$D$2988,4,0)","v":0}]
[1456,null,{"$f":"IF('Requisição de Compra'!J1482=\"\",\"\",VLOOKUP(A1471,'Requisição de Compra'!$I$28:$J$3000,2,0))","v":""},null,null,null,null,null,null,"Falta Orçamento",null,{"$f":"VLOOKUP(A1471,'[1]Mapa de Preços'!$A$16:$D$2988,4,0)","v":0}]
[1457,null,{"$f":"IF('Requisição de Compra'!J1483=\"\",\"\",VLOOKUP(A1472,'Requisição de Compra'!$I$28:$J$3000,2,0))","v":""},null,null,null,null,null,null,"Falta Orçamento",null,{"$f":"VLOOKUP(A1472,'[1]Mapa de Preços'!$A$16:$D$2988,4,0)","v":0}]
[1458,null,{"$f":"IF('Requisição de Compra'!J1484=\"\",\"\",VLOOKUP(A1473,'Requisição de Compra'!$I$28:$J$3000,2,0))","v":""},null,null,null,null,null,null,"Falta Orçamento",null,{"$f":"VLOOKUP(A1473,'[1]Mapa de Preços'!$A$16:$D$2988,4,0)","v":0}]
[1459,null,{"$f":"IF('Requisição de Compra'!J1485=\"\",\"\",VLOOKUP(A1474,'Requisição de Compra'!$I$28:$J$3000,2,0))","v":""},null,null,null,null,null,null,"Falta Orçamento",null,{"$f":"VLOOKUP(A1474,'[1]Mapa de Preços'!$A$16:$D$2988,4,0)","v":0}]
[1460,null,{"$f":"IF('Requisição de Compra'!J1486=\"\",\"\",VLOOKUP(A1475,'Requisição de Compra'!$I$28:$J$3000,2,0))","v":""},null,null,null,null,null,null,"Falta Orçamento",null,{"$f":"VLOOKUP(A1475,'[1]Mapa de Preços'!$A$16:$D$2988,4,0)","v":0}]
[1461,null,{"$f":"IF('Requisição de Compra'!J1487=\"\",\"\",VLOOKUP(A1476,'Requisição de Compra'!$I$28:$J$3000,2,0))","v":""},null,null,null,null,null,null,"Falta Orçamento",null,{"$f":"VLOOKUP(A1476,'[1]Mapa de Preços'!$A$16:$D$2988,4,0)","v":0}]
[1462,null,{"$f":"IF('Requisição de Compra'!J1488=\"\",\"\",VLOOKUP(A1477,'Requisição de Compra'!$I$28:$J$3000,2,0))","v":""},null,null,null,null,null,null,"Falta Orçamento",null,{"$f":"VLOOKUP(A1477,'[1]Mapa de Preços'!$A$16:$D$2988,4,0)","v":0}]
[1463,null,{"$f":"IF('Requisição de Compra'!J1489=\"\",\"\",VLOOKUP(A1478,'Requisição de Compra'!$I$28:$J$3000,2,0))","v":""},null,null,null,null,null,null,"Falta Orçamento",null,{"$f":"VLOOKUP(A1478,'[1]Mapa de Preços'!$A$16:$D$2988,4,0)","v":0}]
[1464,null,{"$f":"IF('Requisição de Compra'!J1490=\"\",\"\",VLOOKUP(A1479,'Requisição de Compra'!$I$28:$J$3000,2,0))","v":""},null,null,null,null,null,null,"Falta Orçamento",null,{"$f":"VLOOKUP(A1479,'[1]Mapa de Preços'!$A$16:$D$2988,4,0)","v":0}]
[1465,null,{"$f":"IF('Requisição de Compra'!J1491=\"\",\"\",VLOOKUP(A1480,'Requisição de Compra'!$I$28:$J$3000,2,0))","v":""},null,null,null,null,null,null,"Falta Orçamento",null,{"$f":"VLOOKUP(A1480,'[1]Mapa de Preços'!$A$16:$D$2988,4,0)","v":0}]
[1466,null,{"$f":"IF('Requisição de Compra'!J1492=\"\",\"\",VLOOKUP(A1481,'Requisição de Compra'!$I$28:$J$3000,2,0))","v":""},null,null,null,null,null,null,"Falta Orçamento",null,{"$f":"VLOOKUP(A1481,'[1]Mapa de Preços'!$A$16:$D$2988,4,0)","v":0}]
[1467,null,{"$f":"IF('Requisição de Compra'!J1493=\"\",\"\",VLOOKUP(A1482,'Requisição de Compra'!$I$28:$J$3000,2,0))","v":""},null,null,null,null,null,null,"Falta Orçamento",null,{"$f":"VLOOKUP(A1482,'[1]Mapa de Preços'!$A$16:$D$2988,4,0)","v":0}]
[1468,null,{"$f":"IF('Requisição de Compra'!J1494=\"\",\"\",VLOOKUP(A1483,'Requisição de Compra'!$I$28:$J$3000,2,0))","v":""},null,null,null,null,null,null,"Falta Orçamento",null,{"$f":"VLOOKUP(A1483,'[1]Mapa de Preços'!$A$16:$D$2988,4,0)","v":0}]
[1469,null,{"$f":"IF('Requisição de Compra'!J1495=\"\",\"\",VLOOKUP(A1484,'Requisição de Compra'!$I$28:$J$3000,2,0))","v":""},null,null,null,null,null,null,"Falta Orçamento",null,{"$f":"VLOOKUP(A1484,'[1]Mapa de Preços'!$A$16:$D$2988,4,0)","v":0}]
[1470,null,{"$f":"IF('Requisição de Compra'!J1496=\"\",\"\",VLOOKUP(A1485,'Requisição de Compra'!$I$28:$J$3000,2,0))","v":""},null,null,null,null,null,null,"Falta Orçamento",null,{"$f":"VLOOKUP(A1485,'[1]Mapa de Preços'!$A$16:$D$2988,4,0)","v":0}]
[1471,null,{"$f":"IF('Requisição de Compra'!J1497=\"\",\"\",VLOOKUP(A1486,'Requisição de Compra'!$I$28:$J$3000,2,0))","v":""},null,null,null,null,null,null,"Falta Orçamento",null,{"$f":"VLOOKUP(A1486,'[1]Mapa de Preços'!$A$16:$D$2988,4,0)","v":0}]
[1472,null,{"$f":"IF('Requisição de Compra'!J1498=\"\",\"\",VLOOKUP(A1487,'Requisição de Compra'!$I$28:$J$3000,2,0))","v":""},null,null,null,null,null,null,"Falta Orçamento",null,{"$f":"VLOOKUP(A1487,'[1]Mapa de Preços'!$A$16:$D$2988,4,0)","v":0}]
[1473,null,{"$f":"IF('Requisição de Compra'!J1499=\"\",\"\",VLOOKUP(A1488,'Requisição de Compra'!$I$28:$J$3000,2,0))","v":""},null,null,null,null,null,null,"Falta Orçamento",null,{"$f":"VLOOKUP(A1488,'[1]Mapa de Preços'!$A$16:$D$2988,4,0)","v":0}]
[1474,null,{"$f":"IF('Requisição de Compra'!J1500=\"\",\"\",VLOOKUP(A1489,'Requisição de Compra'!$I$28:$J$3000,2,0))","v":""},null,null,null,null,null,null,{"$f":"IF(AND(D1489<>\"\",F1489<>\"\",H1489<>\"\"),AVERAGE(D1489:H1489),\"Falta Orçamento\")","v":"Falta Orçamento"},null,{"$f":"VLOOKUP(A1489,'[1]Mapa de Preços'!$A$16:$D$2988,4,0)","v":0}]
[1475,null,{"$f":"IF('Requisição de Compra'!J1501=\"\",\"\",VLOOKUP(A1490,'Requisição de Compra'!$I$28:$J$3000,2,0))","v":""},null,null,null,null,null,null,"Falta Orçamento",null,{"$f":"VLOOKUP(A1490,'[1]Mapa de Preços'!$A$16:$D$2988,4,0)","v":0}]
[1476,null,{"$f":"IF('Requisição de Compra'!J1502=\"\",\"\",VLOOKUP(A1491,'Requisição de Compra'!$I$28:$J$3000,2,0))","v":""},null,null,null,null,null,null,"Falta Orçamento",null,{"$f":"VLOOKUP(A1491,'[1]Mapa de Preços'!$A$16:$D$2988,4,0)","v":0}]
[1477,null,{"$f":"IF('Requisição de Compra'!J1503=\"\",\"\",VLOOKUP(A1492,'Requisição de Compra'!$I$28:$J$3000,2,0))","v":""},null,null,null,null,null,null,"Falta Orçamento",null,{"$f":"VLOOKUP(A1492,'[1]Mapa de Preços'!$A$16:$D$2988,4,0)","v":0}]
[1478,null,{"$f":"IF('Requisição de Compra'!J1504=\"\",\"\",VLOOKUP(A1493,'Requisição de Compra'!$I$28:$J$3000,2,0))","v":""},null,null,null,null,null,null,"Falta Orçamento",null,{"$f":"VLOOKUP(A1493,'[1]Mapa de Preços'!$A$16:$D$2988,4,0)","v":0}]
[1479,null,{"$f":"IF('Requisição de Compra'!J1505=\"\",\"\",VLOOKUP(A1494,'Requisição de Compra'!$I$28:$J$3000,2,0))","v":""},null,null,null,null,null,null,"Falta Orçamento",null,{"$f":"VLOOKUP(A1494,'[1]Mapa de Preços'!$A$16:$D$2988,4,0)","v":0}]
[1480,null,{"$f":"IF('Requisição de Compra'!J1506=\"\",\"\",VLOOKUP(A1495,'Requisição de Compra'!$I$28:$J$3000,2,0))","v":""},null,null,null,null,null,null,"Falta Orçamento",null,{"$f":"VLOOKUP(A1495,'[1]Mapa de Preços'!$A$16:$D$2988,4,0)","v":0}]
[1481,null,{"$f":"IF('Requisição de Compra'!J1507=\"\",\"\",VLOOKUP(A1496,'Requisição de Compra'!$I$28:$J$3000,2,0))","v":""},null,null,null,null,null,null,"Falta Orçamento",null,{"$f":"VLOOKUP(A1496,'[1]Mapa de Preços'!$A$16:$D$2988,4,0)","v":0}]
[1482,null,{"$f":"IF('Requisição de Compra'!J1508=\"\",\"\",VLOOKUP(A1497,'Requisição de Compra'!$I$28:$J$3000,2,0))","v":""},null,null,null,null,null,null,"Falta Orçamento",null,{"$f":"VLOOKUP(A1497,'[1]Mapa de Preços'!$A$16:$D$2988,4,0)","v":0}]
[1483,null,{"$f":"IF('Requisição de Compra'!J1509=\"\",\"\",VLOOKUP(A1498,'Requisição de Compra'!$I$28:$J$3000,2,0))","v":""},null,null,null,null,null,null,"Falta Orçamento",null,{"$f":"VLOOKUP(A1498,'[1]Mapa de Preços'!$A$16:$D$2988,4,0)","v":0}]
[1484,null,{"$f":"IF('Requisição de Compra'!J1510=\"\",\"\",VLOOKUP(A1499,'Requisição de Compra'!$I$28:$J$3000,2,0))","v":""},null,null,null,null,null,null,"Falta Orçamento",null,{"$f":"VLOOKUP(A1499,'[1]Mapa de Preços'!$A$16:$D$2988,4,0)","v":0}]
[1485,null,{"$f":"IF('Requisição de Compra'!J1511=\"\",\"\",VLOOKUP(A1500,'Requisição de Compra'!$I$28:$J$3000,2,0))","v":""},null,null,null,null,null,null,"Falta Orçamento",null,{"$f":"VLOOKUP(A1500,'[1]Mapa de Preços'!$A$16:$D$2988,4,0)","v":0}]
[1486,null,{"$f":"IF('Requisição de Compra'!J1512=\"\",\"\",VLOOKUP(A1501,'Requisição de Compra'!$I$28:$J$3000,2,0))","v":""},null,null,null,null,null,null,"Falta Orçamento",null,{"$f":"VLOOKUP(A1501,'[1]Mapa de Preços'!$A$16:$D$2988,4,0)","v":0}]
[1487,null,{"$f":"IF('Requisição de Compra'!J1513=\"\",\"\",VLOOKUP(A1502,'Requisição de Compra'!$I$28:$J$3000,2,0))","v":""},null,null,null,null,null,null,"Falta Orçamento",null,{"$f":"VLOOKUP(A1502,'[1]Mapa de Preços'!$A$16:$D$2988,4,0)","v":0}]
[1488,null,{"$f":"IF('Requisição de Compra'!J1514=\"\",\"\",VLOOKUP(A1503,'Requisição de Compra'!$I$28:$J$3000,2,0))","v":""},null,null,null,null,null,null,"Falta Orçamento",null,{"$f":"VLOOKUP(A1503,'[1]Mapa de Preços'!$A$16:$D$2988,4,0)","v":0}]
[1489,null,{"$f":"IF('Requisição de Compra'!J1515=\"\",\"\",VLOOKUP(A1504,'Requisição de Compra'!$I$28:$J$3000,2,0))","v":""},null,null,null,null,null,null,"Falta Orçamento",null,{"$f":"VLOOKUP(A1504,'[1]Mapa de Preços'!$A$16:$D$2988,4,0)","v":0}]
[1490,null,{"$f":"IF('Requisição de Compra'!J1516=\"\",\"\",VLOOKUP(A1505,'Requisição de Compra'!$I$28:$J$3000,2,0))","v":""},null,null,null,null,null,null,"Falta Orçamento",null,{"$f":"VLOOKUP(A1505,'[1]Mapa de Preços'!$A$16:$D$2988,4,0)","v":0}]
[1491,null,{"$f":"IF('Requisição de Compra'!J1517=\"\",\"\",VLOOKUP(A1506,'Requisição de Compra'!$I$28:$J$3000,2,0))","v":""},null,null,null,null,null,null,"Falta Orçamento",null,{"$f":"VLOOKUP(A1506,'[1]Mapa de Preços'!$A$16:$D$2988,4,0)","v":0}]
[1492,null,{"$f":"IF('Requisição de Compra'!J1518=\"\",\"\",VLOOKUP(A1507,'Requisição de Compra'!$I$28:$J$3000,2,0))","v":""},null,null,null,null,null,null,"Falta Orçamento",null,{"$f":"VLOOKUP(A1507,'[1]Mapa de Preços'!$A$16:$D$2988,4,0)","v":0}]
[1493,null,{"$f":"IF('Requisição de Compra'!J1519=\"\",\"\",VLOOKUP(A1508,'Requisição de Compra'!$I$28:$J$3000,2,0))","v":""},null,null,null,null,null,null,"Falta Orçamento",null,{"$f":"VLOOKUP(A1508,'[1]Mapa de Preços'!$A$16:$D$2988,4,0)","v":0}]
[1494,null,{"$f":"IF('Requisição de Compra'!J1520=\"\",\"\",VLOOKUP(A1509,'Requisição de Compra'!$I$28:$J$3000,2,0))","v":""},null,null,null,null,null,null,"Falta Orçamento",null,{"$f":"VLOOKUP(A1509,'[1]Mapa de Preços'!$A$16:$D$2988,4,0)","v":0}]
[1495,null,{"$f":"IF('Requisição de Compra'!J1521=\"\",\"\",VLOOKUP(A1510,'Requisição de Compra'!$I$28:$J$3000,2,0))","v":""},null,null,null,null,null,null,"Falta Orçamento",null,{"$f":"VLOOKUP(A1510,'[1]Mapa de Preços'!$A$16:$D$2988,4,0)","v":0}]
[1496,null,{"$f":"IF('Requisição de Compra'!J1522=\"\",\"\",VLOOKUP(A1511,'Requisição de Compra'!$I$28:$J$3000,2,0))","v":""},null,null,null,null,null,null,"Falta Orçamento",null,{"$f":"VLOOKUP(A1511,'[1]Mapa de Preços'!$A$16:$D$2988,4,0)","v":0}]
[1497,null,{"$f":"IF('Requisição de Compra'!J1523=\"\",\"\",VLOOKUP(A1512,'Requisição de Compra'!$I$28:$J$3000,2,0))","v":""},null,null,null,null,null,null,"Falta Orçamento",null,{"$f":"VLOOKUP(A1512,'[1]Mapa de Preços'!$A$16:$D$2988,4,0)","v":0}]
[1498,null,{"$f":"IF('Requisição de Compra'!J1524=\"\",\"\",VLOOKUP(A1513,'Requisição de Compra'!$I$28:$J$3000,2,0))","v":""},null,null,null,null,null,null,"Falta Orçamento",null,{"$f":"VLOOKUP(A1513,'[1]Mapa de Preços'!$A$16:$D$2988,4,0)","v":0}]
[1499,null,{"$f":"IF('Requisição de Compra'!J1525=\"\",\"\",VLOOKUP(A1514,'Requisição de Compra'!$I$28:$J$3000,2,0))","v":""},null,null,null,null,null,null,"Falta Orçamento",null,{"$f":"VLOOKUP(A1514,'[1]Mapa de Preços'!$A$16:$D$2988,4,0)","v":0}]
[1500,null,{"$f":"IF('Requisição de Compra'!J1526=\"\",\"\",VLOOKUP(A1515,'Requisição de Compra'!$I$28:$J$3000,2,0))","v":""},null,null,null,null,null,null,"Falta Orçamento",null,{"$f":"VLOOKUP(A1515,'[1]Mapa de Preços'!$A$16:$D$2988,4,0)","v":0}]
[1501,null,{"$f":"IF('Requisição de Compra'!J1527=\"\",\"\",VLOOKUP(A1516,'Requisição de Compra'!$I$28:$J$3000,2,0))","v":""},null,null,null,null,null,null,"Falta Orçamento",null,{"$f":"VLOOKUP(A1516,'[1]Mapa de Preços'!$A$16:$D$2988,4,0)","v":0}]
[1502,null,{"$f":"IF('Requisição de Compra'!J1528=\"\",\"\",VLOOKUP(A1517,'Requisição de Compra'!$I$28:$J$3000,2,0))","v":""},null,null,null,null,null,null,"Falta Orçamento",null,{"$f":"VLOOKUP(A1517,'[1]Mapa de Preços'!$A$16:$D$2988,4,0)","v":0}]
[1503,null,{"$f":"IF('Requisição de Compra'!J1529=\"\",\"\",VLOOKUP(A1518,'Requisição de Compra'!$I$28:$J$3000,2,0))","v":""},null,null,null,null,null,null,"Falta Orçamento",null,{"$f":"VLOOKUP(A1518,'[1]Mapa de Preços'!$A$16:$D$2988,4,0)","v":0}]
[1504,null,{"$f":"IF('Requisição de Compra'!J1530=\"\",\"\",VLOOKUP(A1519,'Requisição de Compra'!$I$28:$J$3000,2,0))","v":""},null,null,null,null,null,null,"Falta Orçamento",null,{"$f":"VLOOKUP(A1519,'[1]Mapa de Preços'!$A$16:$D$2988,4,0)","v":0}]
[1505,null,{"$f":"IF('Requisição de Compra'!J1531=\"\",\"\",VLOOKUP(A1520,'Requisição de Compra'!$I$28:$J$3000,2,0))","v":""},null,null,null,null,null,null,"Falta Orçamento",null,{"$f":"VLOOKUP(A1520,'[1]Mapa de Preços'!$A$16:$D$2988,4,0)","v":0}]
[1506,null,{"$f":"IF('Requisição de Compra'!J1532=\"\",\"\",VLOOKUP(A1521,'Requisição de Compra'!$I$28:$J$3000,2,0))","v":""},null,null,null,null,null,null,"Falta Orçamento",null,{"$f":"VLOOKUP(A1521,'[1]Mapa de Preços'!$A$16:$D$2988,4,0)","v":0}]
[1507,null,{"$f":"IF('Requisição de Compra'!J1533=\"\",\"\",VLOOKUP(A1522,'Requisição de Compra'!$I$28:$J$3000,2,0))","v":""},null,null,null,null,null,null,"Falta Orçamento",null,{"$f":"VLOOKUP(A1522,'[1]Mapa de Preços'!$A$16:$D$2988,4,0)","v":0}]
[1508,null,{"$f":"IF('Requisição de Compra'!J1534=\"\",\"\",VLOOKUP(A1523,'Requisição de Compra'!$I$28:$J$3000,2,0))","v":""},null,null,null,null,null,null,"Falta Orçamento",null,{"$f":"VLOOKUP(A1523,'[1]Mapa de Preços'!$A$16:$D$2988,4,0)","v":0}]
[1509,null,{"$f":"IF('Requisição de Compra'!J1535=\"\",\"\",VLOOKUP(A1524,'Requisição de Compra'!$I$28:$J$3000,2,0))","v":""},null,null,null,null,null,null,"Falta Orçamento",null,{"$f":"VLOOKUP(A1524,'[1]Mapa de Preços'!$A$16:$D$2988,4,0)","v":0}]
[1510,null,{"$f":"IF('Requisição de Compra'!J1536=\"\",\"\",VLOOKUP(A1525,'Requisição de Compra'!$I$28:$J$3000,2,0))","v":""},null,null,null,null,null,null,"Falta Orçamento",null,{"$f":"VLOOKUP(A1525,'[1]Mapa de Preços'!$A$16:$D$2988,4,0)","v":0}]
[1511,null,{"$f":"IF('Requisição de Compra'!J1537=\"\",\"\",VLOOKUP(A1526,'Requisição de Compra'!$I$28:$J$3000,2,0))","v":""},null,null,null,null,null,null,"Falta Orçamento",null,{"$f":"VLOOKUP(A1526,'[1]Mapa de Preços'!$A$16:$D$2988,4,0)","v":0}]
[1512,null,{"$f":"IF('Requisição de Compra'!J1538=\"\",\"\",VLOOKUP(A1527,'Requisição de Compra'!$I$28:$J$3000,2,0))","v":""},null,null,null,null,null,null,"Falta Orçamento",null,{"$f":"VLOOKUP(A1527,'[1]Mapa de Preços'!$A$16:$D$2988,4,0)","v":0}]
[1513,null,{"$f":"IF('Requisição de Compra'!J1539=\"\",\"\",VLOOKUP(A1528,'Requisição de Compra'!$I$28:$J$3000,2,0))","v":""},null,null,null,null,null,null,"Falta Orçamento",null,{"$f":"VLOOKUP(A1528,'[1]Mapa de Preços'!$A$16:$D$2988,4,0)","v":0}]
[1514,null,{"$f":"IF('Requisição de Compra'!J1540=\"\",\"\",VLOOKUP(A1529,'Requisição de Compra'!$I$28:$J$3000,2,0))","v":""},null,null,null,null,null,null,"Falta Orçamento",null,{"$f":"VLOOKUP(A1529,'[1]Mapa de Preços'!$A$16:$D$2988,4,0)","v":0}]
[1515,null,{"$f":"IF('Requisição de Compra'!J1541=\"\",\"\",VLOOKUP(A1530,'Requisição de Compra'!$I$28:$J$3000,2,0))","v":""},null,null,null,null,null,null,"Falta Orçamento",null,{"$f":"VLOOKUP(A1530,'[1]Mapa de Preços'!$A$16:$D$2988,4,0)","v":0}]
[1516,null,{"$f":"IF('Requisição de Compra'!J1542=\"\",\"\",VLOOKUP(A1531,'Requisição de Compra'!$I$28:$J$3000,2,0))","v":""},null,null,null,null,null,null,"Falta Orçamento",null,{"$f":"VLOOKUP(A1531,'[1]Mapa de Preços'!$A$16:$D$2988,4,0)","v":0}]
[1517,null,{"$f":"IF('Requisição de Compra'!J1543=\"\",\"\",VLOOKUP(A1532,'Requisição de Compra'!$I$28:$J$3000,2,0))","v":""},null,null,null,null,null,null,"Falta Orçamento",null,{"$f":"VLOOKUP(A1532,'[1]Mapa de Preços'!$A$16:$D$2988,4,0)","v":0}]
[1518,null,{"$f":"IF('Requisição de Compra'!J1544=\"\",\"\",VLOOKUP(A1533,'Requisição de Compra'!$I$28:$J$3000,2,0))","v":""},null,null,null,null,null,null,"Falta Orçamento",null,{"$f":"VLOOKUP(A1533,'[1]Mapa de Preços'!$A$16:$D$2988,4,0)","v":0}]
[1519,null,{"$f":"IF('Requisição de Compra'!J1545=\"\",\"\",VLOOKUP(A1534,'Requisição de Compra'!$I$28:$J$3000,2,0))","v":""},null,null,null,null,null,null,"Falta Orçamento",null,{"$f":"VLOOKUP(A1534,'[1]Mapa de Preços'!$A$16:$D$2988,4,0)","v":0}]
[1520,null,{"$f":"IF('Requisição de Compra'!J1546=\"\",\"\",VLOOKUP(A1535,'Requisição de Compra'!$I$28:$J$3000,2,0))","v":""},null,null,null,null,null,null,"Falta Orçamento",null,{"$f":"VLOOKUP(A1535,'[1]Mapa de Preços'!$A$16:$D$2988,4,0)","v":0}]
[1521,null,{"$f":"IF('Requisição de Compra'!J1547=\"\",\"\",VLOOKUP(A1536,'Requisição de Compra'!$I$28:$J$3000,2,0))","v":""},null,null,null,null,null,null,"Falta Orçamento",null,{"$f":"VLOOKUP(A1536,'[1]Mapa de Preços'!$A$16:$D$2988,4,0)","v":0}]
[1522,null,{"$f":"IF('Requisição de Compra'!J1548=\"\",\"\",VLOOKUP(A1537,'Requisição de Compra'!$I$28:$J$3000,2,0))","v":""},null,null,null,null,null,null,"Falta Orçamento",null,{"$f":"VLOOKUP(A1537,'[1]Mapa de Preços'!$A$16:$D$2988,4,0)","v":0}]
[1523,null,{"$f":"IF('Requisição de Compra'!J1549=\"\",\"\",VLOOKUP(A1538,'Requisição de Compra'!$I$28:$J$3000,2,0))","v":""},null,null,null,null,null,null,"Falta Orçamento",null,{"$f":"VLOOKUP(A1538,'[1]Mapa de Preços'!$A$16:$D$2988,4,0)","v":0}]
[1524,null,{"$f":"IF('Requisição de Compra'!J1550=\"\",\"\",VLOOKUP(A1539,'Requisição de Compra'!$I$28:$J$3000,2,0))","v":""},null,null,null,null,null,null,"Falta Orçamento",null,{"$f":"VLOOKUP(A1539,'[1]Mapa de Preços'!$A$16:$D$2988,4,0)","v":0}]
[1525,null,{"$f":"IF('Requisição de Compra'!J1551=\"\",\"\",VLOOKUP(A1540,'Requisição de Compra'!$I$28:$J$3000,2,0))","v":""},null,null,null,null,null,null,"Falta Orçamento",null,{"$f":"VLOOKUP(A1540,'[1]Mapa de Preços'!$A$16:$D$2988,4,0)","v":0}]
[1526,null,{"$f":"IF('Requisição de Compra'!J1552=\"\",\"\",VLOOKUP(A1541,'Requisição de Compra'!$I$28:$J$3000,2,0))","v":""},null,null,null,null,null,null,"Falta Orçamento",null,{"$f":"VLOOKUP(A1541,'[1]Mapa de Preços'!$A$16:$D$2988,4,0)","v":0}]
[1527,null,{"$f":"IF('Requisição de Compra'!J1553=\"\",\"\",VLOOKUP(A1542,'Requisição de Compra'!$I$28:$J$3000,2,0))","v":""},null,null,null,null,null,null,"Falta Orçamento",null,{"$f":"VLOOKUP(A1542,'[1]Mapa de Preços'!$A$16:$D$2988,4,0)","v":0}]
[1528,null,{"$f":"IF('Requisição de Compra'!J1554=\"\",\"\",VLOOKUP(A1543,'Requisição de Compra'!$I$28:$J$3000,2,0))","v":""},null,null,null,null,null,null,"Falta Orçamento",null,{"$f":"VLOOKUP(A1543,'[1]Mapa de Preços'!$A$16:$D$2988,4,0)","v":0}]
[1529,null,{"$f":"IF('Requisição de Compra'!J1555=\"\",\"\",VLOOKUP(A1544,'Requisição de Compra'!$I$28:$J$3000,2,0))","v":""},null,null,null,null,null,null,"Falta Orçamento",null,{"$f":"VLOOKUP(A1544,'[1]Mapa de Preços'!$A$16:$D$2988,4,0)","v":0}]
[1530,null,{"$f":"IF('Requisição de Compra'!J1556=\"\",\"\",VLOOKUP(A1545,'Requisição de Compra'!$I$28:$J$3000,2,0))","v":""},null,null,null,null,null,null,"Falta Orçamento",null,{"$f":"VLOOKUP(A1545,'[1]Mapa de Preços'!$A$16:$D$2988,4,0)","v":0}]
[1531,null,{"$f":"IF('Requisição de Compra'!J1557=\"\",\"\",VLOOKUP(A1546,'Requisição de Compra'!$I$28:$J$3000,2,0))","v":""},null,null,null,null,null,null,"Falta Orçamento",null,{"$f":"VLOOKUP(A1546,'[1]Mapa de Preços'!$A$16:$D$2988,4,0)","v":0}]
[1532,null,{"$f":"IF('Requisição de Compra'!J1558=\"\",\"\",VLOOKUP(A1547,'Requisição de Compra'!$I$28:$J$3000,2,0))","v":""},null,null,null,null,null,null,"Falta Orçamento",null,{"$f":"VLOOKUP(A1547,'[1]Mapa de Preços'!$A$16:$D$2988,4,0)","v":0}]
[1533,null,{"$f":"IF('Requisição de Compra'!J1559=\"\",\"\",VLOOKUP(A1548,'Requisição de Compra'!$I$28:$J$3000,2,0))","v":""},null,null,null,null,null,null,"Falta Orçamento",null,{"$f":"VLOOKUP(A1548,'[1]Mapa de Preços'!$A$16:$D$2988,4,0)","v":0}]
[1534,null,{"$f":"IF('Requisição de Compra'!J1560=\"\",\"\",VLOOKUP(A1549,'Requisição de Compra'!$I$28:$J$3000,2,0))","v":""},null,null,null,null,null,null,"Falta Orçamento",null,{"$f":"VLOOKUP(A1549,'[1]Mapa de Preços'!$A$16:$D$2988,4,0)","v":0}]
[1535,null,{"$f":"IF('Requisição de Compra'!J1561=\"\",\"\",VLOOKUP(A1550,'Requisição de Compra'!$I$28:$J$3000,2,0))","v":""},null,null,null,null,null,null,"Falta Orçamento",null,{"$f":"VLOOKUP(A1550,'[1]Mapa de Preços'!$A$16:$D$2988,4,0)","v":0}]
[1536,null,{"$f":"IF('Requisição de Compra'!J1562=\"\",\"\",VLOOKUP(A1551,'Requisição de Compra'!$I$28:$J$3000,2,0))","v":""},null,null,null,null,null,null,"Falta Orçamento",null,{"$f":"VLOOKUP(A1551,'[1]Mapa de Preços'!$A$16:$D$2988,4,0)","v":0}]
[1537,null,{"$f":"IF('Requisição de Compra'!J1563=\"\",\"\",VLOOKUP(A1552,'Requisição de Compra'!$I$28:$J$3000,2,0))","v":""},null,null,null,null,null,null,"Falta Orçamento",null,{"$f":"VLOOKUP(A1552,'[1]Mapa de Preços'!$A$16:$D$2988,4,0)","v":0}]
[1538,null,{"$f":"IF('Requisição de Compra'!J1564=\"\",\"\",VLOOKUP(A1553,'Requisição de Compra'!$I$28:$J$3000,2,0))","v":""},null,null,null,null,null,null,{"$f":"IF(AND(D1553<>\"\",F1553<>\"\",H1553<>\"\"),AVERAGE(D1553:H1553),\"Falta Orçamento\")","v":"Falta Orçamento"},null,{"$f":"VLOOKUP(A1553,'[1]Mapa de Preços'!$A$16:$D$2988,4,0)","v":0}]
[1539,null,{"$f":"IF('Requisição de Compra'!J1565=\"\",\"\",VLOOKUP(A1554,'Requisição de Compra'!$I$28:$J$3000,2,0))","v":""},null,null,null,null,null,null,"Falta Orçamento",null,{"$f":"VLOOKUP(A1554,'[1]Mapa de Preços'!$A$16:$D$2988,4,0)","v":0}]
[1540,null,{"$f":"IF('Requisição de Compra'!J1566=\"\",\"\",VLOOKUP(A1555,'Requisição de Compra'!$I$28:$J$3000,2,0))","v":""},null,null,null,null,null,null,"Falta Orçamento",null,{"$f":"VLOOKUP(A1555,'[1]Mapa de Preços'!$A$16:$D$2988,4,0)","v":0}]
[1541,null,{"$f":"IF('Requisição de Compra'!J1567=\"\",\"\",VLOOKUP(A1556,'Requisição de Compra'!$I$28:$J$3000,2,0))","v":""},null,null,null,null,null,null,"Falta Orçamento",null,{"$f":"VLOOKUP(A1556,'[1]Mapa de Preços'!$A$16:$D$2988,4,0)","v":0}]
[1542,null,{"$f":"IF('Requisição de Compra'!J1568=\"\",\"\",VLOOKUP(A1557,'Requisição de Compra'!$I$28:$J$3000,2,0))","v":""},null,null,null,null,null,null,"Falta Orçamento",null,{"$f":"VLOOKUP(A1557,'[1]Mapa de Preços'!$A$16:$D$2988,4,0)","v":0}]
[1543,null,{"$f":"IF('Requisição de Compra'!J1569=\"\",\"\",VLOOKUP(A1558,'Requisição de Compra'!$I$28:$J$3000,2,0))","v":""},null,null,null,null,null,null,"Falta Orçamento",null,{"$f":"VLOOKUP(A1558,'[1]Mapa de Preços'!$A$16:$D$2988,4,0)","v":0}]
[1544,null,{"$f":"IF('Requisição de Compra'!J1570=\"\",\"\",VLOOKUP(A1559,'Requisição de Compra'!$I$28:$J$3000,2,0))","v":""},null,null,null,null,null,null,"Falta Orçamento",null,{"$f":"VLOOKUP(A1559,'[1]Mapa de Preços'!$A$16:$D$2988,4,0)","v":0}]
[1545,null,{"$f":"IF('Requisição de Compra'!J1571=\"\",\"\",VLOOKUP(A1560,'Requisição de Compra'!$I$28:$J$3000,2,0))","v":""},null,null,null,null,null,null,"Falta Orçamento",null,{"$f":"VLOOKUP(A1560,'[1]Mapa de Preços'!$A$16:$D$2988,4,0)","v":0}]
[1546,null,{"$f":"IF('Requisição de Compra'!J1572=\"\",\"\",VLOOKUP(A1561,'Requisição de Compra'!$I$28:$J$3000,2,0))","v":""},null,null,null,null,null,null,"Falta Orçamento",null,{"$f":"VLOOKUP(A1561,'[1]Mapa de Preços'!$A$16:$D$2988,4,0)","v":0}]
[1547,null,{"$f":"IF('Requisição de Compra'!J1573=\"\",\"\",VLOOKUP(A1562,'Requisição de Compra'!$I$28:$J$3000,2,0))","v":""},null,null,null,null,null,null,"Falta Orçamento",null,{"$f":"VLOOKUP(A1562,'[1]Mapa de Preços'!$A$16:$D$2988,4,0)","v":0}]
[1548,null,{"$f":"IF('Requisição de Compra'!J1574=\"\",\"\",VLOOKUP(A1563,'Requisição de Compra'!$I$28:$J$3000,2,0))","v":""},null,null,null,null,null,null,"Falta Orçamento",null,{"$f":"VLOOKUP(A1563,'[1]Mapa de Preços'!$A$16:$D$2988,4,0)","v":0}]
[1549,null,{"$f":"IF('Requisição de Compra'!J1575=\"\",\"\",VLOOKUP(A1564,'Requisição de Compra'!$I$28:$J$3000,2,0))","v":""},null,null,null,null,null,null,"Falta Orçamento",null,{"$f":"VLOOKUP(A1564,'[1]Mapa de Preços'!$A$16:$D$2988,4,0)","v":0}]
[1550,null,{"$f":"IF('Requisição de Compra'!J1576=\"\",\"\",VLOOKUP(A1565,'Requisição de Compra'!$I$28:$J$3000,2,0))","v":""},null,null,null,null,null,null,"Falta Orçamento",null,{"$f":"VLOOKUP(A1565,'[1]Mapa de Preços'!$A$16:$D$2988,4,0)","v":0}]
[1551,null,{"$f":"IF('Requisição de Compra'!J1577=\"\",\"\",VLOOKUP(A1566,'Requisição de Compra'!$I$28:$J$3000,2,0))","v":""},null,null,null,null,null,null,"Falta Orçamento",null,{"$f":"VLOOKUP(A1566,'[1]Mapa de Preços'!$A$16:$D$2988,4,0)","v":0}]
[1552,null,{"$f":"IF('Requisição de Compra'!J1578=\"\",\"\",VLOOKUP(A1567,'Requisição de Compra'!$I$28:$J$3000,2,0))","v":""},null,null,null,null,null,null,"Falta Orçamento",null,{"$f":"VLOOKUP(A1567,'[1]Mapa de Preços'!$A$16:$D$2988,4,0)","v":0}]
[1553,null,{"$f":"IF('Requisição de Compra'!J1579=\"\",\"\",VLOOKUP(A1568,'Requisição de Compra'!$I$28:$J$3000,2,0))","v":""},null,null,null,null,null,null,"Falta Orçamento",null,{"$f":"VLOOKUP(A1568,'[1]Mapa de Preços'!$A$16:$D$2988,4,0)","v":0}]
[1554,null,{"$f":"IF('Requisição de Compra'!J1580=\"\",\"\",VLOOKUP(A1569,'Requisição de Compra'!$I$28:$J$3000,2,0))","v":""},null,null,null,null,null,null,"Falta Orçamento",null,{"$f":"VLOOKUP(A1569,'[1]Mapa de Preços'!$A$16:$D$2988,4,0)","v":0}]
[1555,null,{"$f":"IF('Requisição de Compra'!J1581=\"\",\"\",VLOOKUP(A1570,'Requisição de Compra'!$I$28:$J$3000,2,0))","v":""},null,null,null,null,null,null,"Falta Orçamento",null,{"$f":"VLOOKUP(A1570,'[1]Mapa de Preços'!$A$16:$D$2988,4,0)","v":0}]
[1556,null,{"$f":"IF('Requisição de Compra'!J1582=\"\",\"\",VLOOKUP(A1571,'Requisição de Compra'!$I$28:$J$3000,2,0))","v":""},null,null,null,null,null,null,"Falta Orçamento",null,{"$f":"VLOOKUP(A1571,'[1]Mapa de Preços'!$A$16:$D$2988,4,0)","v":0}]
[1557,null,{"$f":"IF('Requisição de Compra'!J1583=\"\",\"\",VLOOKUP(A1572,'Requisição de Compra'!$I$28:$J$3000,2,0))","v":""},null,null,null,null,null,null,"Falta Orçamento",null,{"$f":"VLOOKUP(A1572,'[1]Mapa de Preços'!$A$16:$D$2988,4,0)","v":0}]
[1558,null,{"$f":"IF('Requisição de Compra'!J1584=\"\",\"\",VLOOKUP(A1573,'Requisição de Compra'!$I$28:$J$3000,2,0))","v":""},null,null,null,null,null,null,"Falta Orçamento",null,{"$f":"VLOOKUP(A1573,'[1]Mapa de Preços'!$A$16:$D$2988,4,0)","v":0}]
[1559,null,{"$f":"IF('Requisição de Compra'!J1585=\"\",\"\",VLOOKUP(A1574,'Requisição de Compra'!$I$28:$J$3000,2,0))","v":""},null,null,null,null,null,null,"Falta Orçamento",null,{"$f":"VLOOKUP(A1574,'[1]Mapa de Preços'!$A$16:$D$2988,4,0)","v":0}]
[1560,null,{"$f":"IF('Requisição de Compra'!J1586=\"\",\"\",VLOOKUP(A1575,'Requisição de Compra'!$I$28:$J$3000,2,0))","v":""},null,null,null,null,null,null,"Falta Orçamento",null,{"$f":"VLOOKUP(A1575,'[1]Mapa de Preços'!$A$16:$D$2988,4,0)","v":0}]
[1561,null,{"$f":"IF('Requisição de Compra'!J1587=\"\",\"\",VLOOKUP(A1576,'Requisição de Compra'!$I$28:$J$3000,2,0))","v":""},null,null,null,null,null,null,"Falta Orçamento",null,{"$f":"VLOOKUP(A1576,'[1]Mapa de Preços'!$A$16:$D$2988,4,0)","v":0}]
[1562,null,{"$f":"IF('Requisição de Compra'!J1588=\"\",\"\",VLOOKUP(A1577,'Requisição de Compra'!$I$28:$J$3000,2,0))","v":""},null,null,null,null,null,null,"Falta Orçamento",null,{"$f":"VLOOKUP(A1577,'[1]Mapa de Preços'!$A$16:$D$2988,4,0)","v":0}]
[1563,null,{"$f":"IF('Requisição de Compra'!J1589=\"\",\"\",VLOOKUP(A1578,'Requisição de Compra'!$I$28:$J$3000,2,0))","v":""},null,null,null,null,null,null,"Falta Orçamento",null,{"$f":"VLOOKUP(A1578,'[1]Mapa de Preços'!$A$16:$D$2988,4,0)","v":0}]
[1564,null,{"$f":"IF('Requisição de Compra'!J1590=\"\",\"\",VLOOKUP(A1579,'Requisição de Compra'!$I$28:$J$3000,2,0))","v":""},null,null,null,null,null,null,"Falta Orçamento",null,{"$f":"VLOOKUP(A1579,'[1]Mapa de Preços'!$A$16:$D$2988,4,0)","v":0}]
[1565,null,{"$f":"IF('Requisição de Compra'!J1591=\"\",\"\",VLOOKUP(A1580,'Requisição de Compra'!$I$28:$J$3000,2,0))","v":""},null,null,null,null,null,null,"Falta Orçamento",null,{"$f":"VLOOKUP(A1580,'[1]Mapa de Preços'!$A$16:$D$2988,4,0)","v":0}]
[1566,null,{"$f":"IF('Requisição de Compra'!J1592=\"\",\"\",VLOOKUP(A1581,'Requisição de Compra'!$I$28:$J$3000,2,0))","v":""},null,null,null,null,null,null,"Falta Orçamento",null,{"$f":"VLOOKUP(A1581,'[1]Mapa de Preços'!$A$16:$D$2988,4,0)","v":0}]
[1567,null,{"$f":"IF('Requisição de Compra'!J1593=\"\",\"\",VLOOKUP(A1582,'Requisição de Compra'!$I$28:$J$3000,2,0))","v":""},null,null,null,null,null,null,"Falta Orçamento",null,{"$f":"VLOOKUP(A1582,'[1]Mapa de Preços'!$A$16:$D$2988,4,0)","v":0}]
[1568,null,{"$f":"IF('Requisição de Compra'!J1594=\"\",\"\",VLOOKUP(A1583,'Requisição de Compra'!$I$28:$J$3000,2,0))","v":""},null,null,null,null,null,null,"Falta Orçamento",null,{"$f":"VLOOKUP(A1583,'[1]Mapa de Preços'!$A$16:$D$2988,4,0)","v":0}]
[1569,null,{"$f":"IF('Requisição de Compra'!J1595=\"\",\"\",VLOOKUP(A1584,'Requisição de Compra'!$I$28:$J$3000,2,0))","v":""},null,null,null,null,null,null,"Falta Orçamento",null,{"$f":"VLOOKUP(A1584,'[1]Mapa de Preços'!$A$16:$D$2988,4,0)","v":0}]
[1570,null,{"$f":"IF('Requisição de Compra'!J1596=\"\",\"\",VLOOKUP(A1585,'Requisição de Compra'!$I$28:$J$3000,2,0))","v":""},null,null,null,null,null,null,"Falta Orçamento",null,{"$f":"VLOOKUP(A1585,'[1]Mapa de Preços'!$A$16:$D$2988,4,0)","v":0}]
[1571,null,{"$f":"IF('Requisição de Compra'!J1597=\"\",\"\",VLOOKUP(A1586,'Requisição de Compra'!$I$28:$J$3000,2,0))","v":""},null,null,null,null,null,null,"Falta Orçamento",null,{"$f":"VLOOKUP(A1586,'[1]Mapa de Preços'!$A$16:$D$2988,4,0)","v":0}]
[1572,null,{"$f":"IF('Requisição de Compra'!J1598=\"\",\"\",VLOOKUP(A1587,'Requisição de Compra'!$I$28:$J$3000,2,0))","v":""},null,null,null,null,null,null,"Falta Orçamento",null,{"$f":"VLOOKUP(A1587,'[1]Mapa de Preços'!$A$16:$D$2988,4,0)","v":0}]
[1573,null,{"$f":"IF('Requisição de Compra'!J1599=\"\",\"\",VLOOKUP(A1588,'Requisição de Compra'!$I$28:$J$3000,2,0))","v":""},null,null,null,null,null,null,"Falta Orçamento",null,{"$f":"VLOOKUP(A1588,'[1]Mapa de Preços'!$A$16:$D$2988,4,0)","v":0}]
[1574,null,{"$f":"IF('Requisição de Compra'!J1600=\"\",\"\",VLOOKUP(A1589,'Requisição de Compra'!$I$28:$J$3000,2,0))","v":""},null,null,null,null,null,null,"Falta Orçamento",null,{"$f":"VLOOKUP(A1589,'[1]Mapa de Preços'!$A$16:$D$2988,4,0)","v":0}]
[1575,null,{"$f":"IF('Requisição de Compra'!J1601=\"\",\"\",VLOOKUP(A1590,'Requisição de Compra'!$I$28:$J$3000,2,0))","v":""},null,null,null,null,null,null,"Falta Orçamento",null,{"$f":"VLOOKUP(A1590,'[1]Mapa de Preços'!$A$16:$D$2988,4,0)","v":0}]
[1576,null,{"$f":"IF('Requisição de Compra'!J1602=\"\",\"\",VLOOKUP(A1591,'Requisição de Compra'!$I$28:$J$3000,2,0))","v":""},null,null,null,null,null,null,"Falta Orçamento",null,{"$f":"VLOOKUP(A1591,'[1]Mapa de Preços'!$A$16:$D$2988,4,0)","v":0}]
[1577,null,{"$f":"IF('Requisição de Compra'!J1603=\"\",\"\",VLOOKUP(A1592,'Requisição de Compra'!$I$28:$J$3000,2,0))","v":""},null,null,null,null,null,null,"Falta Orçamento",null,{"$f":"VLOOKUP(A1592,'[1]Mapa de Preços'!$A$16:$D$2988,4,0)","v":0}]
[1578,null,{"$f":"IF('Requisição de Compra'!J1604=\"\",\"\",VLOOKUP(A1593,'Requisição de Compra'!$I$28:$J$3000,2,0))","v":""},null,null,null,null,null,null,"Falta Orçamento",null,{"$f":"VLOOKUP(A1593,'[1]Mapa de Preços'!$A$16:$D$2988,4,0)","v":0}]
[1579,null,{"$f":"IF('Requisição de Compra'!J1605=\"\",\"\",VLOOKUP(A1594,'Requisição de Compra'!$I$28:$J$3000,2,0))","v":""},null,null,null,null,null,null,"Falta Orçamento",null,{"$f":"VLOOKUP(A1594,'[1]Mapa de Preços'!$A$16:$D$2988,4,0)","v":0}]
[1580,null,{"$f":"IF('Requisição de Compra'!J1606=\"\",\"\",VLOOKUP(A1595,'Requisição de Compra'!$I$28:$J$3000,2,0))","v":""},null,null,null,null,null,null,"Falta Orçamento",null,{"$f":"VLOOKUP(A1595,'[1]Mapa de Preços'!$A$16:$D$2988,4,0)","v":0}]
[1581,null,{"$f":"IF('Requisição de Compra'!J1607=\"\",\"\",VLOOKUP(A1596,'Requisição de Compra'!$I$28:$J$3000,2,0))","v":""},null,null,null,null,null,null,"Falta Orçamento",null,{"$f":"VLOOKUP(A1596,'[1]Mapa de Preços'!$A$16:$D$2988,4,0)","v":0}]
[1582,null,{"$f":"IF('Requisição de Compra'!J1608=\"\",\"\",VLOOKUP(A1597,'Requisição de Compra'!$I$28:$J$3000,2,0))","v":""},null,null,null,null,null,null,"Falta Orçamento",null,{"$f":"VLOOKUP(A1597,'[1]Mapa de Preços'!$A$16:$D$2988,4,0)","v":0}]
[1583,null,{"$f":"IF('Requisição de Compra'!J1609=\"\",\"\",VLOOKUP(A1598,'Requisição de Compra'!$I$28:$J$3000,2,0))","v":""},null,null,null,null,null,null,"Falta Orçamento",null,{"$f":"VLOOKUP(A1598,'[1]Mapa de Preços'!$A$16:$D$2988,4,0)","v":0}]
[1584,null,{"$f":"IF('Requisição de Compra'!J1610=\"\",\"\",VLOOKUP(A1599,'Requisição de Compra'!$I$28:$J$3000,2,0))","v":""},null,null,null,null,null,null,"Falta Orçamento",null,{"$f":"VLOOKUP(A1599,'[1]Mapa de Preços'!$A$16:$D$2988,4,0)","v":0}]
[1585,null,{"$f":"IF('Requisição de Compra'!J1611=\"\",\"\",VLOOKUP(A1600,'Requisição de Compra'!$I$28:$J$3000,2,0))","v":""},null,null,null,null,null,null,"Falta Orçamento",null,{"$f":"VLOOKUP(A1600,'[1]Mapa de Preços'!$A$16:$D$2988,4,0)","v":0}]
[1586,null,{"$f":"IF('Requisição de Compra'!J1612=\"\",\"\",VLOOKUP(A1601,'Requisição de Compra'!$I$28:$J$3000,2,0))","v":""},null,null,null,null,null,null,"Falta Orçamento",null,{"$f":"VLOOKUP(A1601,'[1]Mapa de Preços'!$A$16:$D$2988,4,0)","v":0}]
[1587,null,{"$f":"IF('Requisição de Compra'!J1613=\"\",\"\",VLOOKUP(A1602,'Requisição de Compra'!$I$28:$J$3000,2,0))","v":""},null,null,null,null,null,null,"Falta Orçamento",null,{"$f":"VLOOKUP(A1602,'[1]Mapa de Preços'!$A$16:$D$2988,4,0)","v":0}]
[1588,null,{"$f":"IF('Requisição de Compra'!J1614=\"\",\"\",VLOOKUP(A1603,'Requisição de Compra'!$I$28:$J$3000,2,0))","v":""},null,null,null,null,null,null,"Falta Orçamento",null,{"$f":"VLOOKUP(A1603,'[1]Mapa de Preços'!$A$16:$D$2988,4,0)","v":0}]
[1589,null,{"$f":"IF('Requisição de Compra'!J1615=\"\",\"\",VLOOKUP(A1604,'Requisição de Compra'!$I$28:$J$3000,2,0))","v":""},null,null,null,null,null,null,"Falta Orçamento",null,{"$f":"VLOOKUP(A1604,'[1]Mapa de Preços'!$A$16:$D$2988,4,0)","v":0}]
[1590,null,{"$f":"IF('Requisição de Compra'!J1616=\"\",\"\",VLOOKUP(A1605,'Requisição de Compra'!$I$28:$J$3000,2,0))","v":""},null,null,null,null,null,null,"Falta Orçamento",null,{"$f":"VLOOKUP(A1605,'[1]Mapa de Preços'!$A$16:$D$2988,4,0)","v":0}]
[1591,null,{"$f":"IF('Requisição de Compra'!J1617=\"\",\"\",VLOOKUP(A1606,'Requisição de Compra'!$I$28:$J$3000,2,0))","v":""},null,null,null,null,null,null,"Falta Orçamento",null,{"$f":"VLOOKUP(A1606,'[1]Mapa de Preços'!$A$16:$D$2988,4,0)","v":0}]
[1592,null,{"$f":"IF('Requisição de Compra'!J1618=\"\",\"\",VLOOKUP(A1607,'Requisição de Compra'!$I$28:$J$3000,2,0))","v":""},null,null,null,null,null,null,"Falta Orçamento",null,{"$f":"VLOOKUP(A1607,'[1]Mapa de Preços'!$A$16:$D$2988,4,0)","v":0}]
[1593,null,{"$f":"IF('Requisição de Compra'!J1619=\"\",\"\",VLOOKUP(A1608,'Requisição de Compra'!$I$28:$J$3000,2,0))","v":""},null,null,null,null,null,null,"Falta Orçamento",null,{"$f":"VLOOKUP(A1608,'[1]Mapa de Preços'!$A$16:$D$2988,4,0)","v":0}]
[1594,null,{"$f":"IF('Requisição de Compra'!J1620=\"\",\"\",VLOOKUP(A1609,'Requisição de Compra'!$I$28:$J$3000,2,0))","v":""},null,null,null,null,null,null,"Falta Orçamento",null,{"$f":"VLOOKUP(A1609,'[1]Mapa de Preços'!$A$16:$D$2988,4,0)","v":0}]
[1595,null,{"$f":"IF('Requisição de Compra'!J1621=\"\",\"\",VLOOKUP(A1610,'Requisição de Compra'!$I$28:$J$3000,2,0))","v":""},null,null,null,null,null,null,"Falta Orçamento",null,{"$f":"VLOOKUP(A1610,'[1]Mapa de Preços'!$A$16:$D$2988,4,0)","v":0}]
[1596,null,{"$f":"IF('Requisição de Compra'!J1622=\"\",\"\",VLOOKUP(A1611,'Requisição de Compra'!$I$28:$J$3000,2,0))","v":""},null,null,null,null,null,null,"Falta Orçamento",null,{"$f":"VLOOKUP(A1611,'[1]Mapa de Preços'!$A$16:$D$2988,4,0)","v":0}]
[1597,null,{"$f":"IF('Requisição de Compra'!J1623=\"\",\"\",VLOOKUP(A1612,'Requisição de Compra'!$I$28:$J$3000,2,0))","v":""},null,null,null,null,null,null,"Falta Orçamento",null,{"$f":"VLOOKUP(A1612,'[1]Mapa de Preços'!$A$16:$D$2988,4,0)","v":0}]
[1598,null,{"$f":"IF('Requisição de Compra'!J1624=\"\",\"\",VLOOKUP(A1613,'Requisição de Compra'!$I$28:$J$3000,2,0))","v":""},null,null,null,null,null,null,"Falta Orçamento",null,{"$f":"VLOOKUP(A1613,'[1]Mapa de Preços'!$A$16:$D$2988,4,0)","v":0}]
[1599,null,{"$f":"IF('Requisição de Compra'!J1625=\"\",\"\",VLOOKUP(A1614,'Requisição de Compra'!$I$28:$J$3000,2,0))","v":""},null,null,null,null,null,null,"Falta Orçamento",null,{"$f":"VLOOKUP(A1614,'[1]Mapa de Preços'!$A$16:$D$2988,4,0)","v":0}]
[1600,null,{"$f":"IF('Requisição de Compra'!J1626=\"\",\"\",VLOOKUP(A1615,'Requisição de Compra'!$I$28:$J$3000,2,0))","v":""},null,null,null,null,null,null,"Falta Orçamento",null,{"$f":"VLOOKUP(A1615,'[1]Mapa de Preços'!$A$16:$D$2988,4,0)","v":0}]
[1601,null,{"$f":"IF('Requisição de Compra'!J1627=\"\",\"\",VLOOKUP(A1616,'Requisição de Compra'!$I$28:$J$3000,2,0))","v":""},null,null,null,null,null,null,"Falta Orçamento",null,{"$f":"VLOOKUP(A1616,'[1]Mapa de Preços'!$A$16:$D$2988,4,0)","v":0}]
[1602,null,{"$f":"IF('Requisição de Compra'!J1628=\"\",\"\",VLOOKUP(A1617,'Requisição de Compra'!$I$28:$J$3000,2,0))","v":""},null,null,null,null,null,null,{"$f":"IF(AND(D1617<>\"\",F1617<>\"\",H1617<>\"\"),AVERAGE(D1617:H1617),\"Falta Orçamento\")","v":"Falta Orçamento"},null,{"$f":"VLOOKUP(A1617,'[1]Mapa de Preços'!$A$16:$D$2988,4,0)","v":0}]
[1603,null,{"$f":"IF('Requisição de Compra'!J1629=\"\",\"\",VLOOKUP(A1618,'Requisição de Compra'!$I$28:$J$3000,2,0))","v":""},null,null,null,null,null,null,"Falta Orçamento",null,{"$f":"VLOOKUP(A1618,'[1]Mapa de Preços'!$A$16:$D$2988,4,0)","v":0}]
[1604,null,{"$f":"IF('Requisição de Compra'!J1630=\"\",\"\",VLOOKUP(A1619,'Requisição de Compra'!$I$28:$J$3000,2,0))","v":""},null,null,null,null,null,null,"Falta Orçamento",null,{"$f":"VLOOKUP(A1619,'[1]Mapa de Preços'!$A$16:$D$2988,4,0)","v":0}]
[1605,null,{"$f":"IF('Requisição de Compra'!J1631=\"\",\"\",VLOOKUP(A1620,'Requisição de Compra'!$I$28:$J$3000,2,0))","v":""},null,null,null,null,null,null,"Falta Orçamento",null,{"$f":"VLOOKUP(A1620,'[1]Mapa de Preços'!$A$16:$D$2988,4,0)","v":0}]
[1606,null,{"$f":"IF('Requisição de Compra'!J1632=\"\",\"\",VLOOKUP(A1621,'Requisição de Compra'!$I$28:$J$3000,2,0))","v":""},null,null,null,null,null,null,"Falta Orçamento",null,{"$f":"VLOOKUP(A1621,'[1]Mapa de Preços'!$A$16:$D$2988,4,0)","v":0}]
[1607,null,{"$f":"IF('Requisição de Compra'!J1633=\"\",\"\",VLOOKUP(A1622,'Requisição de Compra'!$I$28:$J$3000,2,0))","v":""},null,null,null,null,null,null,"Falta Orçamento",null,{"$f":"VLOOKUP(A1622,'[1]Mapa de Preços'!$A$16:$D$2988,4,0)","v":0}]
[1608,null,{"$f":"IF('Requisição de Compra'!J1634=\"\",\"\",VLOOKUP(A1623,'Requisição de Compra'!$I$28:$J$3000,2,0))","v":""},null,null,null,null,null,null,"Falta Orçamento",null,{"$f":"VLOOKUP(A1623,'[1]Mapa de Preços'!$A$16:$D$2988,4,0)","v":0}]
[1609,null,{"$f":"IF('Requisição de Compra'!J1635=\"\",\"\",VLOOKUP(A1624,'Requisição de Compra'!$I$28:$J$3000,2,0))","v":""},null,null,null,null,null,null,"Falta Orçamento",null,{"$f":"VLOOKUP(A1624,'[1]Mapa de Preços'!$A$16:$D$2988,4,0)","v":0}]
[1610,null,{"$f":"IF('Requisição de Compra'!J1636=\"\",\"\",VLOOKUP(A1625,'Requisição de Compra'!$I$28:$J$3000,2,0))","v":""},null,null,null,null,null,null,"Falta Orçamento",null,{"$f":"VLOOKUP(A1625,'[1]Mapa de Preços'!$A$16:$D$2988,4,0)","v":0}]
[1611,null,{"$f":"IF('Requisição de Compra'!J1637=\"\",\"\",VLOOKUP(A1626,'Requisição de Compra'!$I$28:$J$3000,2,0))","v":""},null,null,null,null,null,null,"Falta Orçamento",null,{"$f":"VLOOKUP(A1626,'[1]Mapa de Preços'!$A$16:$D$2988,4,0)","v":0}]
[1612,null,{"$f":"IF('Requisição de Compra'!J1638=\"\",\"\",VLOOKUP(A1627,'Requisição de Compra'!$I$28:$J$3000,2,0))","v":""},null,null,null,null,null,null,"Falta Orçamento",null,{"$f":"VLOOKUP(A1627,'[1]Mapa de Preços'!$A$16:$D$2988,4,0)","v":0}]
[1613,null,{"$f":"IF('Requisição de Compra'!J1639=\"\",\"\",VLOOKUP(A1628,'Requisição de Compra'!$I$28:$J$3000,2,0))","v":""},null,null,null,null,null,null,"Falta Orçamento",null,{"$f":"VLOOKUP(A1628,'[1]Mapa de Preços'!$A$16:$D$2988,4,0)","v":0}]
[1614,null,{"$f":"IF('Requisição de Compra'!J1640=\"\",\"\",VLOOKUP(A1629,'Requisição de Compra'!$I$28:$J$3000,2,0))","v":""},null,null,null,null,null,null,"Falta Orçamento",null,{"$f":"VLOOKUP(A1629,'[1]Mapa de Preços'!$A$16:$D$2988,4,0)","v":0}]
[1615,null,{"$f":"IF('Requisição de Compra'!J1641=\"\",\"\",VLOOKUP(A1630,'Requisição de Compra'!$I$28:$J$3000,2,0))","v":""},null,null,null,null,null,null,"Falta Orçamento",null,{"$f":"VLOOKUP(A1630,'[1]Mapa de Preços'!$A$16:$D$2988,4,0)","v":0}]
[1616,null,{"$f":"IF('Requisição de Compra'!J1642=\"\",\"\",VLOOKUP(A1631,'Requisição de Compra'!$I$28:$J$3000,2,0))","v":""},null,null,null,null,null,null,"Falta Orçamento",null,{"$f":"VLOOKUP(A1631,'[1]Mapa de Preços'!$A$16:$D$2988,4,0)","v":0}]
[1617,null,{"$f":"IF('Requisição de Compra'!J1643=\"\",\"\",VLOOKUP(A1632,'Requisição de Compra'!$I$28:$J$3000,2,0))","v":""},null,null,null,null,null,null,"Falta Orçamento",null,{"$f":"VLOOKUP(A1632,'[1]Mapa de Preços'!$A$16:$D$2988,4,0)","v":0}]
[1618,null,{"$f":"IF('Requisição de Compra'!J1644=\"\",\"\",VLOOKUP(A1633,'Requisição de Compra'!$I$28:$J$3000,2,0))","v":""},null,null,null,null,null,null,"Falta Orçamento",null,{"$f":"VLOOKUP(A1633,'[1]Mapa de Preços'!$A$16:$D$2988,4,0)","v":0}]
[1619,null,{"$f":"IF('Requisição de Compra'!J1645=\"\",\"\",VLOOKUP(A1634,'Requisição de Compra'!$I$28:$J$3000,2,0))","v":""},null,null,null,null,null,null,"Falta Orçamento",null,{"$f":"VLOOKUP(A1634,'[1]Mapa de Preços'!$A$16:$D$2988,4,0)","v":0}]
[1620,null,{"$f":"IF('Requisição de Compra'!J1646=\"\",\"\",VLOOKUP(A1635,'Requisição de Compra'!$I$28:$J$3000,2,0))","v":""},null,null,null,null,null,null,"Falta Orçamento",null,{"$f":"VLOOKUP(A1635,'[1]Mapa de Preços'!$A$16:$D$2988,4,0)","v":0}]
[1621,null,{"$f":"IF('Requisição de Compra'!J1647=\"\",\"\",VLOOKUP(A1636,'Requisição de Compra'!$I$28:$J$3000,2,0))","v":""},null,null,null,null,null,null,"Falta Orçamento",null,{"$f":"VLOOKUP(A1636,'[1]Mapa de Preços'!$A$16:$D$2988,4,0)","v":0}]
[1622,null,{"$f":"IF('Requisição de Compra'!J1648=\"\",\"\",VLOOKUP(A1637,'Requisição de Compra'!$I$28:$J$3000,2,0))","v":""},null,null,null,null,null,null,"Falta Orçamento",null,{"$f":"VLOOKUP(A1637,'[1]Mapa de Preços'!$A$16:$D$2988,4,0)","v":0}]
[1623,null,{"$f":"IF('Requisição de Compra'!J1649=\"\",\"\",VLOOKUP(A1638,'Requisição de Compra'!$I$28:$J$3000,2,0))","v":""},null,null,null,null,null,null,"Falta Orçamento",null,{"$f":"VLOOKUP(A1638,'[1]Mapa de Preços'!$A$16:$D$2988,4,0)","v":0}]
[1624,null,{"$f":"IF('Requisição de Compra'!J1650=\"\",\"\",VLOOKUP(A1639,'Requisição de Compra'!$I$28:$J$3000,2,0))","v":""},null,null,null,null,null,null,"Falta Orçamento",null,{"$f":"VLOOKUP(A1639,'[1]Mapa de Preços'!$A$16:$D$2988,4,0)","v":0}]
[1625,null,{"$f":"IF('Requisição de Compra'!J1651=\"\",\"\",VLOOKUP(A1640,'Requisição de Compra'!$I$28:$J$3000,2,0))","v":""},null,null,null,null,null,null,"Falta Orçamento",null,{"$f":"VLOOKUP(A1640,'[1]Mapa de Preços'!$A$16:$D$2988,4,0)","v":0}]
[1626,null,{"$f":"IF('Requisição de Compra'!J1652=\"\",\"\",VLOOKUP(A1641,'Requisição de Compra'!$I$28:$J$3000,2,0))","v":""},null,null,null,null,null,null,"Falta Orçamento",null,{"$f":"VLOOKUP(A1641,'[1]Mapa de Preços'!$A$16:$D$2988,4,0)","v":0}]
[1627,null,{"$f":"IF('Requisição de Compra'!J1653=\"\",\"\",VLOOKUP(A1642,'Requisição de Compra'!$I$28:$J$3000,2,0))","v":""},null,null,null,null,null,null,"Falta Orçamento",null,{"$f":"VLOOKUP(A1642,'[1]Mapa de Preços'!$A$16:$D$2988,4,0)","v":0}]
[1628,null,{"$f":"IF('Requisição de Compra'!J1654=\"\",\"\",VLOOKUP(A1643,'Requisição de Compra'!$I$28:$J$3000,2,0))","v":""},null,null,null,null,null,null,"Falta Orçamento",null,{"$f":"VLOOKUP(A1643,'[1]Mapa de Preços'!$A$16:$D$2988,4,0)","v":0}]
[1629,null,{"$f":"IF('Requisição de Compra'!J1655=\"\",\"\",VLOOKUP(A1644,'Requisição de Compra'!$I$28:$J$3000,2,0))","v":""},null,null,null,null,null,null,"Falta Orçamento",null,{"$f":"VLOOKUP(A1644,'[1]Mapa de Preços'!$A$16:$D$2988,4,0)","v":0}]
[1630,null,{"$f":"IF('Requisição de Compra'!J1656=\"\",\"\",VLOOKUP(A1645,'Requisição de Compra'!$I$28:$J$3000,2,0))","v":""},null,null,null,null,null,null,"Falta Orçamento",null,{"$f":"VLOOKUP(A1645,'[1]Mapa de Preços'!$A$16:$D$2988,4,0)","v":0}]
[1631,null,{"$f":"IF('Requisição de Compra'!J1657=\"\",\"\",VLOOKUP(A1646,'Requisição de Compra'!$I$28:$J$3000,2,0))","v":""},null,null,null,null,null,null,"Falta Orçamento",null,{"$f":"VLOOKUP(A1646,'[1]Mapa de Preços'!$A$16:$D$2988,4,0)","v":0}]
[1632,null,{"$f":"IF('Requisição de Compra'!J1658=\"\",\"\",VLOOKUP(A1647,'Requisição de Compra'!$I$28:$J$3000,2,0))","v":""},null,null,null,null,null,null,"Falta Orçamento",null,{"$f":"VLOOKUP(A1647,'[1]Mapa de Preços'!$A$16:$D$2988,4,0)","v":0}]
[1633,null,{"$f":"IF('Requisição de Compra'!J1659=\"\",\"\",VLOOKUP(A1648,'Requisição de Compra'!$I$28:$J$3000,2,0))","v":""},null,null,null,null,null,null,"Falta Orçamento",null,{"$f":"VLOOKUP(A1648,'[1]Mapa de Preços'!$A$16:$D$2988,4,0)","v":0}]
[1634,null,{"$f":"IF('Requisição de Compra'!J1660=\"\",\"\",VLOOKUP(A1649,'Requisição de Compra'!$I$28:$J$3000,2,0))","v":""},null,null,null,null,null,null,"Falta Orçamento",null,{"$f":"VLOOKUP(A1649,'[1]Mapa de Preços'!$A$16:$D$2988,4,0)","v":0}]
[1635,null,{"$f":"IF('Requisição de Compra'!J1661=\"\",\"\",VLOOKUP(A1650,'Requisição de Compra'!$I$28:$J$3000,2,0))","v":""},null,null,null,null,null,null,"Falta Orçamento",null,{"$f":"VLOOKUP(A1650,'[1]Mapa de Preços'!$A$16:$D$2988,4,0)","v":0}]
[1636,null,{"$f":"IF('Requisição de Compra'!J1662=\"\",\"\",VLOOKUP(A1651,'Requisição de Compra'!$I$28:$J$3000,2,0))","v":""},null,null,null,null,null,null,"Falta Orçamento",null,{"$f":"VLOOKUP(A1651,'[1]Mapa de Preços'!$A$16:$D$2988,4,0)","v":0}]
[1637,null,{"$f":"IF('Requisição de Compra'!J1663=\"\",\"\",VLOOKUP(A1652,'Requisição de Compra'!$I$28:$J$3000,2,0))","v":""},null,null,null,null,null,null,"Falta Orçamento",null,{"$f":"VLOOKUP(A1652,'[1]Mapa de Preços'!$A$16:$D$2988,4,0)","v":0}]
[1638,null,{"$f":"IF('Requisição de Compra'!J1664=\"\",\"\",VLOOKUP(A1653,'Requisição de Compra'!$I$28:$J$3000,2,0))","v":""},null,null,null,null,null,null,"Falta Orçamento",null,{"$f":"VLOOKUP(A1653,'[1]Mapa de Preços'!$A$16:$D$2988,4,0)","v":0}]
[1639,null,{"$f":"IF('Requisição de Compra'!J1665=\"\",\"\",VLOOKUP(A1654,'Requisição de Compra'!$I$28:$J$3000,2,0))","v":""},null,null,null,null,null,null,"Falta Orçamento",null,{"$f":"VLOOKUP(A1654,'[1]Mapa de Preços'!$A$16:$D$2988,4,0)","v":0}]
[1640,null,{"$f":"IF('Requisição de Compra'!J1666=\"\",\"\",VLOOKUP(A1655,'Requisição de Compra'!$I$28:$J$3000,2,0))","v":""},null,null,null,null,null,null,"Falta Orçamento",null,{"$f":"VLOOKUP(A1655,'[1]Mapa de Preços'!$A$16:$D$2988,4,0)","v":0}]
[1641,null,{"$f":"IF('Requisição de Compra'!J1667=\"\",\"\",VLOOKUP(A1656,'Requisição de Compra'!$I$28:$J$3000,2,0))","v":""},null,null,null,null,null,null,"Falta Orçamento",null,{"$f":"VLOOKUP(A1656,'[1]Mapa de Preços'!$A$16:$D$2988,4,0)","v":0}]
[1642,null,{"$f":"IF('Requisição de Compra'!J1668=\"\",\"\",VLOOKUP(A1657,'Requisição de Compra'!$I$28:$J$3000,2,0))","v":""},null,null,null,null,null,null,"Falta Orçamento",null,{"$f":"VLOOKUP(A1657,'[1]Mapa de Preços'!$A$16:$D$2988,4,0)","v":0}]
[1643,null,{"$f":"IF('Requisição de Compra'!J1669=\"\",\"\",VLOOKUP(A1658,'Requisição de Compra'!$I$28:$J$3000,2,0))","v":""},null,null,null,null,null,null,"Falta Orçamento",null,{"$f":"VLOOKUP(A1658,'[1]Mapa de Preços'!$A$16:$D$2988,4,0)","v":0}]
[1644,null,{"$f":"IF('Requisição de Compra'!J1670=\"\",\"\",VLOOKUP(A1659,'Requisição de Compra'!$I$28:$J$3000,2,0))","v":""},null,null,null,null,null,null,"Falta Orçamento",null,{"$f":"VLOOKUP(A1659,'[1]Mapa de Preços'!$A$16:$D$2988,4,0)","v":0}]
[1645,null,{"$f":"IF('Requisição de Compra'!J1671=\"\",\"\",VLOOKUP(A1660,'Requisição de Compra'!$I$28:$J$3000,2,0))","v":""},null,null,null,null,null,null,"Falta Orçamento",null,{"$f":"VLOOKUP(A1660,'[1]Mapa de Preços'!$A$16:$D$2988,4,0)","v":0}]
[1646,null,{"$f":"IF('Requisição de Compra'!J1672=\"\",\"\",VLOOKUP(A1661,'Requisição de Compra'!$I$28:$J$3000,2,0))","v":""},null,null,null,null,null,null,"Falta Orçamento",null,{"$f":"VLOOKUP(A1661,'[1]Mapa de Preços'!$A$16:$D$2988,4,0)","v":0}]
[1647,null,{"$f":"IF('Requisição de Compra'!J1673=\"\",\"\",VLOOKUP(A1662,'Requisição de Compra'!$I$28:$J$3000,2,0))","v":""},null,null,null,null,null,null,"Falta Orçamento",null,{"$f":"VLOOKUP(A1662,'[1]Mapa de Preços'!$A$16:$D$2988,4,0)","v":0}]
[1648,null,{"$f":"IF('Requisição de Compra'!J1674=\"\",\"\",VLOOKUP(A1663,'Requisição de Compra'!$I$28:$J$3000,2,0))","v":""},null,null,null,null,null,null,"Falta Orçamento",null,{"$f":"VLOOKUP(A1663,'[1]Mapa de Preços'!$A$16:$D$2988,4,0)","v":0}]
[1649,null,{"$f":"IF('Requisição de Compra'!J1675=\"\",\"\",VLOOKUP(A1664,'Requisição de Compra'!$I$28:$J$3000,2,0))","v":""},null,null,null,null,null,null,"Falta Orçamento",null,{"$f":"VLOOKUP(A1664,'[1]Mapa de Preços'!$A$16:$D$2988,4,0)","v":0}]
[1650,null,{"$f":"IF('Requisição de Compra'!J1676=\"\",\"\",VLOOKUP(A1665,'Requisição de Compra'!$I$28:$J$3000,2,0))","v":""},null,null,null,null,null,null,"Falta Orçamento",null,{"$f":"VLOOKUP(A1665,'[1]Mapa de Preços'!$A$16:$D$2988,4,0)","v":0}]
[1651,null,{"$f":"IF('Requisição de Compra'!J1677=\"\",\"\",VLOOKUP(A1666,'Requisição de Compra'!$I$28:$J$3000,2,0))","v":""},null,null,null,null,null,null,"Falta Orçamento",null,{"$f":"VLOOKUP(A1666,'[1]Mapa de Preços'!$A$16:$D$2988,4,0)","v":0}]
[1652,null,{"$f":"IF('Requisição de Compra'!J1678=\"\",\"\",VLOOKUP(A1667,'Requisição de Compra'!$I$28:$J$3000,2,0))","v":""},null,null,null,null,null,null,"Falta Orçamento",null,{"$f":"VLOOKUP(A1667,'[1]Mapa de Preços'!$A$16:$D$2988,4,0)","v":0}]
[1653,null,{"$f":"IF('Requisição de Compra'!J1679=\"\",\"\",VLOOKUP(A1668,'Requisição de Compra'!$I$28:$J$3000,2,0))","v":""},null,null,null,null,null,null,"Falta Orçamento",null,{"$f":"VLOOKUP(A1668,'[1]Mapa de Preços'!$A$16:$D$2988,4,0)","v":0}]
[1654,null,{"$f":"IF('Requisição de Compra'!J1680=\"\",\"\",VLOOKUP(A1669,'Requisição de Compra'!$I$28:$J$3000,2,0))","v":""},null,null,null,null,null,null,"Falta Orçamento",null,{"$f":"VLOOKUP(A1669,'[1]Mapa de Preços'!$A$16:$D$2988,4,0)","v":0}]
[1655,null,{"$f":"IF('Requisição de Compra'!J1681=\"\",\"\",VLOOKUP(A1670,'Requisição de Compra'!$I$28:$J$3000,2,0))","v":""},null,null,null,null,null,null,"Falta Orçamento",null,{"$f":"VLOOKUP(A1670,'[1]Mapa de Preços'!$A$16:$D$2988,4,0)","v":0}]
[1656,null,{"$f":"IF('Requisição de Compra'!J1682=\"\",\"\",VLOOKUP(A1671,'Requisição de Compra'!$I$28:$J$3000,2,0))","v":""},null,null,null,null,null,null,"Falta Orçamento",null,{"$f":"VLOOKUP(A1671,'[1]Mapa de Preços'!$A$16:$D$2988,4,0)","v":0}]
[1657,null,{"$f":"IF('Requisição de Compra'!J1683=\"\",\"\",VLOOKUP(A1672,'Requisição de Compra'!$I$28:$J$3000,2,0))","v":""},null,null,null,null,null,null,"Falta Orçamento",null,{"$f":"VLOOKUP(A1672,'[1]Mapa de Preços'!$A$16:$D$2988,4,0)","v":0}]
[1658,null,{"$f":"IF('Requisição de Compra'!J1684=\"\",\"\",VLOOKUP(A1673,'Requisição de Compra'!$I$28:$J$3000,2,0))","v":""},null,null,null,null,null,null,"Falta Orçamento",null,{"$f":"VLOOKUP(A1673,'[1]Mapa de Preços'!$A$16:$D$2988,4,0)","v":0}]
[1659,null,{"$f":"IF('Requisição de Compra'!J1685=\"\",\"\",VLOOKUP(A1674,'Requisição de Compra'!$I$28:$J$3000,2,0))","v":""},null,null,null,null,null,null,"Falta Orçamento",null,{"$f":"VLOOKUP(A1674,'[1]Mapa de Preços'!$A$16:$D$2988,4,0)","v":0}]
[1660,null,{"$f":"IF('Requisição de Compra'!J1686=\"\",\"\",VLOOKUP(A1675,'Requisição de Compra'!$I$28:$J$3000,2,0))","v":""},null,null,null,null,null,null,"Falta Orçamento",null,{"$f":"VLOOKUP(A1675,'[1]Mapa de Preços'!$A$16:$D$2988,4,0)","v":0}]
[1661,null,{"$f":"IF('Requisição de Compra'!J1687=\"\",\"\",VLOOKUP(A1676,'Requisição de Compra'!$I$28:$J$3000,2,0))","v":""},null,null,null,null,null,null,"Falta Orçamento",null,{"$f":"VLOOKUP(A1676,'[1]Mapa de Preços'!$A$16:$D$2988,4,0)","v":0}]
[1662,null,{"$f":"IF('Requisição de Compra'!J1688=\"\",\"\",VLOOKUP(A1677,'Requisição de Compra'!$I$28:$J$3000,2,0))","v":""},null,null,null,null,null,null,"Falta Orçamento",null,{"$f":"VLOOKUP(A1677,'[1]Mapa de Preços'!$A$16:$D$2988,4,0)","v":0}]
[1663,null,{"$f":"IF('Requisição de Compra'!J1689=\"\",\"\",VLOOKUP(A1678,'Requisição de Compra'!$I$28:$J$3000,2,0))","v":""},null,null,null,null,null,null,"Falta Orçamento",null,{"$f":"VLOOKUP(A1678,'[1]Mapa de Preços'!$A$16:$D$2988,4,0)","v":0}]
[1664,null,{"$f":"IF('Requisição de Compra'!J1690=\"\",\"\",VLOOKUP(A1679,'Requisição de Compra'!$I$28:$J$3000,2,0))","v":""},null,null,null,null,null,null,"Falta Orçamento",null,{"$f":"VLOOKUP(A1679,'[1]Mapa de Preços'!$A$16:$D$2988,4,0)","v":0}]
[1665,null,{"$f":"IF('Requisição de Compra'!J1691=\"\",\"\",VLOOKUP(A1680,'Requisição de Compra'!$I$28:$J$3000,2,0))","v":""},null,null,null,null,null,null,"Falta Orçamento",null,{"$f":"VLOOKUP(A1680,'[1]Mapa de Preços'!$A$16:$D$2988,4,0)","v":0}]
[1666,null,{"$f":"IF('Requisição de Compra'!J1692=\"\",\"\",VLOOKUP(A1681,'Requisição de Compra'!$I$28:$J$3000,2,0))","v":""},null,null,null,null,null,null,{"$f":"IF(AND(D1681<>\"\",F1681<>\"\",H1681<>\"\"),AVERAGE(D1681:H1681),\"Falta Orçamento\")","v":"Falta Orçamento"},null,{"$f":"VLOOKUP(A1681,'[1]Mapa de Preços'!$A$16:$D$2988,4,0)","v":0}]
[1667,null,{"$f":"IF('Requisição de Compra'!J1693=\"\",\"\",VLOOKUP(A1682,'Requisição de Compra'!$I$28:$J$3000,2,0))","v":""},null,null,null,null,null,null,"Falta Orçamento",null,{"$f":"VLOOKUP(A1682,'[1]Mapa de Preços'!$A$16:$D$2988,4,0)","v":0}]
[1668,null,{"$f":"IF('Requisição de Compra'!J1694=\"\",\"\",VLOOKUP(A1683,'Requisição de Compra'!$I$28:$J$3000,2,0))","v":""},null,null,null,null,null,null,"Falta Orçamento",null,{"$f":"VLOOKUP(A1683,'[1]Mapa de Preços'!$A$16:$D$2988,4,0)","v":0}]
[1669,null,{"$f":"IF('Requisição de Compra'!J1695=\"\",\"\",VLOOKUP(A1684,'Requisição de Compra'!$I$28:$J$3000,2,0))","v":""},null,null,null,null,null,null,"Falta Orçamento",null,{"$f":"VLOOKUP(A1684,'[1]Mapa de Preços'!$A$16:$D$2988,4,0)","v":0}]
[1670,null,{"$f":"IF('Requisição de Compra'!J1696=\"\",\"\",VLOOKUP(A1685,'Requisição de Compra'!$I$28:$J$3000,2,0))","v":""},null,null,null,null,null,null,"Falta Orçamento",null,{"$f":"VLOOKUP(A1685,'[1]Mapa de Preços'!$A$16:$D$2988,4,0)","v":0}]
[1671,null,{"$f":"IF('Requisição de Compra'!J1697=\"\",\"\",VLOOKUP(A1686,'Requisição de Compra'!$I$28:$J$3000,2,0))","v":""},null,null,null,null,null,null,"Falta Orçamento",null,{"$f":"VLOOKUP(A1686,'[1]Mapa de Preços'!$A$16:$D$2988,4,0)","v":0}]
[1672,null,{"$f":"IF('Requisição de Compra'!J1698=\"\",\"\",VLOOKUP(A1687,'Requisição de Compra'!$I$28:$J$3000,2,0))","v":""},null,null,null,null,null,null,"Falta Orçamento",null,{"$f":"VLOOKUP(A1687,'[1]Mapa de Preços'!$A$16:$D$2988,4,0)","v":0}]
[1673,null,{"$f":"IF('Requisição de Compra'!J1699=\"\",\"\",VLOOKUP(A1688,'Requisição de Compra'!$I$28:$J$3000,2,0))","v":""},null,null,null,null,null,null,"Falta Orçamento",null,{"$f":"VLOOKUP(A1688,'[1]Mapa de Preços'!$A$16:$D$2988,4,0)","v":0}]
[1674,null,{"$f":"IF('Requisição de Compra'!J1700=\"\",\"\",VLOOKUP(A1689,'Requisição de Compra'!$I$28:$J$3000,2,0))","v":""},null,null,null,null,null,null,"Falta Orçamento",null,{"$f":"VLOOKUP(A1689,'[1]Mapa de Preços'!$A$16:$D$2988,4,0)","v":0}]
[1675,null,{"$f":"IF('Requisição de Compra'!J1701=\"\",\"\",VLOOKUP(A1690,'Requisição de Compra'!$I$28:$J$3000,2,0))","v":""},null,null,null,null,null,null,"Falta Orçamento",null,{"$f":"VLOOKUP(A1690,'[1]Mapa de Preços'!$A$16:$D$2988,4,0)","v":0}]
[1676,null,{"$f":"IF('Requisição de Compra'!J1702=\"\",\"\",VLOOKUP(A1691,'Requisição de Compra'!$I$28:$J$3000,2,0))","v":""},null,null,null,null,null,null,"Falta Orçamento",null,{"$f":"VLOOKUP(A1691,'[1]Mapa de Preços'!$A$16:$D$2988,4,0)","v":0}]
[1677,null,{"$f":"IF('Requisição de Compra'!J1703=\"\",\"\",VLOOKUP(A1692,'Requisição de Compra'!$I$28:$J$3000,2,0))","v":""},null,null,null,null,null,null,"Falta Orçamento",null,{"$f":"VLOOKUP(A1692,'[1]Mapa de Preços'!$A$16:$D$2988,4,0)","v":0}]
[1678,null,{"$f":"IF('Requisição de Compra'!J1704=\"\",\"\",VLOOKUP(A1693,'Requisição de Compra'!$I$28:$J$3000,2,0))","v":""},null,null,null,null,null,null,"Falta Orçamento",null,{"$f":"VLOOKUP(A1693,'[1]Mapa de Preços'!$A$16:$D$2988,4,0)","v":0}]
[1679,null,{"$f":"IF('Requisição de Compra'!J1705=\"\",\"\",VLOOKUP(A1694,'Requisição de Compra'!$I$28:$J$3000,2,0))","v":""},null,null,null,null,null,null,"Falta Orçamento",null,{"$f":"VLOOKUP(A1694,'[1]Mapa de Preços'!$A$16:$D$2988,4,0)","v":0}]
[1680,null,{"$f":"IF('Requisição de Compra'!J1706=\"\",\"\",VLOOKUP(A1695,'Requisição de Compra'!$I$28:$J$3000,2,0))","v":""},null,null,null,null,null,null,"Falta Orçamento",null,{"$f":"VLOOKUP(A1695,'[1]Mapa de Preços'!$A$16:$D$2988,4,0)","v":0}]
[1681,null,{"$f":"IF('Requisição de Compra'!J1707=\"\",\"\",VLOOKUP(A1696,'Requisição de Compra'!$I$28:$J$3000,2,0))","v":""},null,null,null,null,null,null,"Falta Orçamento",null,{"$f":"VLOOKUP(A1696,'[1]Mapa de Preços'!$A$16:$D$2988,4,0)","v":0}]
[1682,null,{"$f":"IF('Requisição de Compra'!J1708=\"\",\"\",VLOOKUP(A1697,'Requisição de Compra'!$I$28:$J$3000,2,0))","v":""},null,null,null,null,null,null,"Falta Orçamento",null,{"$f":"VLOOKUP(A1697,'[1]Mapa de Preços'!$A$16:$D$2988,4,0)","v":0}]
[1683,null,{"$f":"IF('Requisição de Compra'!J1709=\"\",\"\",VLOOKUP(A1698,'Requisição de Compra'!$I$28:$J$3000,2,0))","v":""},null,null,null,null,null,null,"Falta Orçamento",null,{"$f":"VLOOKUP(A1698,'[1]Mapa de Preços'!$A$16:$D$2988,4,0)","v":0}]
[1684,null,{"$f":"IF('Requisição de Compra'!J1710=\"\",\"\",VLOOKUP(A1699,'Requisição de Compra'!$I$28:$J$3000,2,0))","v":""},null,null,null,null,null,null,"Falta Orçamento",null,{"$f":"VLOOKUP(A1699,'[1]Mapa de Preços'!$A$16:$D$2988,4,0)","v":0}]
[1685,null,{"$f":"IF('Requisição de Compra'!J1711=\"\",\"\",VLOOKUP(A1700,'Requisição de Compra'!$I$28:$J$3000,2,0))","v":""},null,null,null,null,null,null,"Falta Orçamento",null,{"$f":"VLOOKUP(A1700,'[1]Mapa de Preços'!$A$16:$D$2988,4,0)","v":0}]
[1686,null,{"$f":"IF('Requisição de Compra'!J1712=\"\",\"\",VLOOKUP(A1701,'Requisição de Compra'!$I$28:$J$3000,2,0))","v":""},null,null,null,null,null,null,"Falta Orçamento",null,{"$f":"VLOOKUP(A1701,'[1]Mapa de Preços'!$A$16:$D$2988,4,0)","v":0}]
[1687,null,{"$f":"IF('Requisição de Compra'!J1713=\"\",\"\",VLOOKUP(A1702,'Requisição de Compra'!$I$28:$J$3000,2,0))","v":""},null,null,null,null,null,null,"Falta Orçamento",null,{"$f":"VLOOKUP(A1702,'[1]Mapa de Preços'!$A$16:$D$2988,4,0)","v":0}]
[1688,null,{"$f":"IF('Requisição de Compra'!J1714=\"\",\"\",VLOOKUP(A1703,'Requisição de Compra'!$I$28:$J$3000,2,0))","v":""},null,null,null,null,null,null,"Falta Orçamento",null,{"$f":"VLOOKUP(A1703,'[1]Mapa de Preços'!$A$16:$D$2988,4,0)","v":0}]
[1689,null,{"$f":"IF('Requisição de Compra'!J1715=\"\",\"\",VLOOKUP(A1704,'Requisição de Compra'!$I$28:$J$3000,2,0))","v":""},null,null,null,null,null,null,"Falta Orçamento",null,{"$f":"VLOOKUP(A1704,'[1]Mapa de Preços'!$A$16:$D$2988,4,0)","v":0}]
[1690,null,{"$f":"IF('Requisição de Compra'!J1716=\"\",\"\",VLOOKUP(A1705,'Requisição de Compra'!$I$28:$J$3000,2,0))","v":""},null,null,null,null,null,null,"Falta Orçamento",null,{"$f":"VLOOKUP(A1705,'[1]Mapa de Preços'!$A$16:$D$2988,4,0)","v":0}]
[1691,null,{"$f":"IF('Requisição de Compra'!J1717=\"\",\"\",VLOOKUP(A1706,'Requisição de Compra'!$I$28:$J$3000,2,0))","v":""},null,null,null,null,null,null,"Falta Orçamento",null,{"$f":"VLOOKUP(A1706,'[1]Mapa de Preços'!$A$16:$D$2988,4,0)","v":0}]
[1692,null,{"$f":"IF('Requisição de Compra'!J1718=\"\",\"\",VLOOKUP(A1707,'Requisição de Compra'!$I$28:$J$3000,2,0))","v":""},null,null,null,null,null,null,"Falta Orçamento",null,{"$f":"VLOOKUP(A1707,'[1]Mapa de Preços'!$A$16:$D$2988,4,0)","v":0}]
[1693,null,{"$f":"IF('Requisição de Compra'!J1719=\"\",\"\",VLOOKUP(A1708,'Requisição de Compra'!$I$28:$J$3000,2,0))","v":""},null,null,null,null,null,null,"Falta Orçamento",null,{"$f":"VLOOKUP(A1708,'[1]Mapa de Preços'!$A$16:$D$2988,4,0)","v":0}]
[1694,null,{"$f":"IF('Requisição de Compra'!J1720=\"\",\"\",VLOOKUP(A1709,'Requisição de Compra'!$I$28:$J$3000,2,0))","v":""},null,null,null,null,null,null,"Falta Orçamento",null,{"$f":"VLOOKUP(A1709,'[1]Mapa de Preços'!$A$16:$D$2988,4,0)","v":0}]
[1695,null,{"$f":"IF('Requisição de Compra'!J1721=\"\",\"\",VLOOKUP(A1710,'Requisição de Compra'!$I$28:$J$3000,2,0))","v":""},null,null,null,null,null,null,"Falta Orçamento",null,{"$f":"VLOOKUP(A1710,'[1]Mapa de Preços'!$A$16:$D$2988,4,0)","v":0}]
[1696,null,{"$f":"IF('Requisição de Compra'!J1722=\"\",\"\",VLOOKUP(A1711,'Requisição de Compra'!$I$28:$J$3000,2,0))","v":""},null,null,null,null,null,null,"Falta Orçamento",null,{"$f":"VLOOKUP(A1711,'[1]Mapa de Preços'!$A$16:$D$2988,4,0)","v":0}]
[1697,null,{"$f":"IF('Requisição de Compra'!J1723=\"\",\"\",VLOOKUP(A1712,'Requisição de Compra'!$I$28:$J$3000,2,0))","v":""},null,null,null,null,null,null,"Falta Orçamento",null,{"$f":"VLOOKUP(A1712,'[1]Mapa de Preços'!$A$16:$D$2988,4,0)","v":0}]
[1698,null,{"$f":"IF('Requisição de Compra'!J1724=\"\",\"\",VLOOKUP(A1713,'Requisição de Compra'!$I$28:$J$3000,2,0))","v":""},null,null,null,null,null,null,"Falta Orçamento",null,{"$f":"VLOOKUP(A1713,'[1]Mapa de Preços'!$A$16:$D$2988,4,0)","v":0}]
[1699,null,{"$f":"IF('Requisição de Compra'!J1725=\"\",\"\",VLOOKUP(A1714,'Requisição de Compra'!$I$28:$J$3000,2,0))","v":""},null,null,null,null,null,null,"Falta Orçamento",null,{"$f":"VLOOKUP(A1714,'[1]Mapa de Preços'!$A$16:$D$2988,4,0)","v":0}]
[1700,null,{"$f":"IF('Requisição de Compra'!J1726=\"\",\"\",VLOOKUP(A1715,'Requisição de Compra'!$I$28:$J$3000,2,0))","v":""},null,null,null,null,null,null,"Falta Orçamento",null,{"$f":"VLOOKUP(A1715,'[1]Mapa de Preços'!$A$16:$D$2988,4,0)","v":0}]
[1701,null,{"$f":"IF('Requisição de Compra'!J1727=\"\",\"\",VLOOKUP(A1716,'Requisição de Compra'!$I$28:$J$3000,2,0))","v":""},null,null,null,null,null,null,"Falta Orçamento",null,{"$f":"VLOOKUP(A1716,'[1]Mapa de Preços'!$A$16:$D$2988,4,0)","v":0}]
[1702,null,{"$f":"IF('Requisição de Compra'!J1728=\"\",\"\",VLOOKUP(A1717,'Requisição de Compra'!$I$28:$J$3000,2,0))","v":""},null,null,null,null,null,null,"Falta Orçamento",null,{"$f":"VLOOKUP(A1717,'[1]Mapa de Preços'!$A$16:$D$2988,4,0)","v":0}]
[1703,null,{"$f":"IF('Requisição de Compra'!J1729=\"\",\"\",VLOOKUP(A1718,'Requisição de Compra'!$I$28:$J$3000,2,0))","v":""},null,null,null,null,null,null,"Falta Orçamento",null,{"$f":"VLOOKUP(A1718,'[1]Mapa de Preços'!$A$16:$D$2988,4,0)","v":0}]
[1704,null,{"$f":"IF('Requisição de Compra'!J1730=\"\",\"\",VLOOKUP(A1719,'Requisição de Compra'!$I$28:$J$3000,2,0))","v":""},null,null,null,null,null,null,"Falta Orçamento",null,{"$f":"VLOOKUP(A1719,'[1]Mapa de Preços'!$A$16:$D$2988,4,0)","v":0}]
[1705,null,{"$f":"IF('Requisição de Compra'!J1731=\"\",\"\",VLOOKUP(A1720,'Requisição de Compra'!$I$28:$J$3000,2,0))","v":""},null,null,null,null,null,null,"Falta Orçamento",null,{"$f":"VLOOKUP(A1720,'[1]Mapa de Preços'!$A$16:$D$2988,4,0)","v":0}]
[1706,null,{"$f":"IF('Requisição de Compra'!J1732=\"\",\"\",VLOOKUP(A1721,'Requisição de Compra'!$I$28:$J$3000,2,0))","v":""},null,null,null,null,null,null,"Falta Orçamento",null,{"$f":"VLOOKUP(A1721,'[1]Mapa de Preços'!$A$16:$D$2988,4,0)","v":0}]
[1707,null,{"$f":"IF('Requisição de Compra'!J1733=\"\",\"\",VLOOKUP(A1722,'Requisição de Compra'!$I$28:$J$3000,2,0))","v":""},null,null,null,null,null,null,"Falta Orçamento",null,{"$f":"VLOOKUP(A1722,'[1]Mapa de Preços'!$A$16:$D$2988,4,0)","v":0}]
[1708,null,{"$f":"IF('Requisição de Compra'!J1734=\"\",\"\",VLOOKUP(A1723,'Requisição de Compra'!$I$28:$J$3000,2,0))","v":""},null,null,null,null,null,null,"Falta Orçamento",null,{"$f":"VLOOKUP(A1723,'[1]Mapa de Preços'!$A$16:$D$2988,4,0)","v":0}]
[1709,null,{"$f":"IF('Requisição de Compra'!J1735=\"\",\"\",VLOOKUP(A1724,'Requisição de Compra'!$I$28:$J$3000,2,0))","v":""},null,null,null,null,null,null,"Falta Orçamento",null,{"$f":"VLOOKUP(A1724,'[1]Mapa de Preços'!$A$16:$D$2988,4,0)","v":0}]
[1710,null,{"$f":"IF('Requisição de Compra'!J1736=\"\",\"\",VLOOKUP(A1725,'Requisição de Compra'!$I$28:$J$3000,2,0))","v":""},null,null,null,null,null,null,"Falta Orçamento",null,{"$f":"VLOOKUP(A1725,'[1]Mapa de Preços'!$A$16:$D$2988,4,0)","v":0}]
[1711,null,{"$f":"IF('Requisição de Compra'!J1737=\"\",\"\",VLOOKUP(A1726,'Requisição de Compra'!$I$28:$J$3000,2,0))","v":""},null,null,null,null,null,null,"Falta Orçamento",null,{"$f":"VLOOKUP(A1726,'[1]Mapa de Preços'!$A$16:$D$2988,4,0)","v":0}]
[1712,null,{"$f":"IF('Requisição de Compra'!J1738=\"\",\"\",VLOOKUP(A1727,'Requisição de Compra'!$I$28:$J$3000,2,0))","v":""},null,null,null,null,null,null,"Falta Orçamento",null,{"$f":"VLOOKUP(A1727,'[1]Mapa de Preços'!$A$16:$D$2988,4,0)","v":0}]
[1713,null,{"$f":"IF('Requisição de Compra'!J1739=\"\",\"\",VLOOKUP(A1728,'Requisição de Compra'!$I$28:$J$3000,2,0))","v":""},null,null,null,null,null,null,"Falta Orçamento",null,{"$f":"VLOOKUP(A1728,'[1]Mapa de Preços'!$A$16:$D$2988,4,0)","v":0}]
[1714,null,{"$f":"IF('Requisição de Compra'!J1740=\"\",\"\",VLOOKUP(A1729,'Requisição de Compra'!$I$28:$J$3000,2,0))","v":""},null,null,null,null,null,null,"Falta Orçamento",null,{"$f":"VLOOKUP(A1729,'[1]Mapa de Preços'!$A$16:$D$2988,4,0)","v":0}]
[1715,null,{"$f":"IF('Requisição de Compra'!J1741=\"\",\"\",VLOOKUP(A1730,'Requisição de Compra'!$I$28:$J$3000,2,0))","v":""},null,null,null,null,null,null,"Falta Orçamento",null,{"$f":"VLOOKUP(A1730,'[1]Mapa de Preços'!$A$16:$D$2988,4,0)","v":0}]
[1716,null,{"$f":"IF('Requisição de Compra'!J1742=\"\",\"\",VLOOKUP(A1731,'Requisição de Compra'!$I$28:$J$3000,2,0))","v":""},null,null,null,null,null,null,"Falta Orçamento",null,{"$f":"VLOOKUP(A1731,'[1]Mapa de Preços'!$A$16:$D$2988,4,0)","v":0}]
[1717,null,{"$f":"IF('Requisição de Compra'!J1743=\"\",\"\",VLOOKUP(A1732,'Requisição de Compra'!$I$28:$J$3000,2,0))","v":""},null,null,null,null,null,null,"Falta Orçamento",null,{"$f":"VLOOKUP(A1732,'[1]Mapa de Preços'!$A$16:$D$2988,4,0)","v":0}]
[1718,null,{"$f":"IF('Requisição de Compra'!J1744=\"\",\"\",VLOOKUP(A1733,'Requisição de Compra'!$I$28:$J$3000,2,0))","v":""},null,null,null,null,null,null,"Falta Orçamento",null,{"$f":"VLOOKUP(A1733,'[1]Mapa de Preços'!$A$16:$D$2988,4,0)","v":0}]
[1719,null,{"$f":"IF('Requisição de Compra'!J1745=\"\",\"\",VLOOKUP(A1734,'Requisição de Compra'!$I$28:$J$3000,2,0))","v":""},null,null,null,null,null,null,"Falta Orçamento",null,{"$f":"VLOOKUP(A1734,'[1]Mapa de Preços'!$A$16:$D$2988,4,0)","v":0}]
[1720,null,{"$f":"IF('Requisição de Compra'!J1746=\"\",\"\",VLOOKUP(A1735,'Requisição de Compra'!$I$28:$J$3000,2,0))","v":""},null,null,null,null,null,null,"Falta Orçamento",null,{"$f":"VLOOKUP(A1735,'[1]Mapa de Preços'!$A$16:$D$2988,4,0)","v":0}]
[1721,null,{"$f":"IF('Requisição de Compra'!J1747=\"\",\"\",VLOOKUP(A1736,'Requisição de Compra'!$I$28:$J$3000,2,0))","v":""},null,null,null,null,null,null,"Falta Orçamento",null,{"$f":"VLOOKUP(A1736,'[1]Mapa de Preços'!$A$16:$D$2988,4,0)","v":0}]
[1722,null,{"$f":"IF('Requisição de Compra'!J1748=\"\",\"\",VLOOKUP(A1737,'Requisição de Compra'!$I$28:$J$3000,2,0))","v":""},null,null,null,null,null,null,"Falta Orçamento",null,{"$f":"VLOOKUP(A1737,'[1]Mapa de Preços'!$A$16:$D$2988,4,0)","v":0}]
[1723,null,{"$f":"IF('Requisição de Compra'!J1749=\"\",\"\",VLOOKUP(A1738,'Requisição de Compra'!$I$28:$J$3000,2,0))","v":""},null,null,null,null,null,null,"Falta Orçamento",null,{"$f":"VLOOKUP(A1738,'[1]Mapa de Preços'!$A$16:$D$2988,4,0)","v":0}]
[1724,null,{"$f":"IF('Requisição de Compra'!J1750=\"\",\"\",VLOOKUP(A1739,'Requisição de Compra'!$I$28:$J$3000,2,0))","v":""},null,null,null,null,null,null,"Falta Orçamento",null,{"$f":"VLOOKUP(A1739,'[1]Mapa de Preços'!$A$16:$D$2988,4,0)","v":0}]
[1725,null,{"$f":"IF('Requisição de Compra'!J1751=\"\",\"\",VLOOKUP(A1740,'Requisição de Compra'!$I$28:$J$3000,2,0))","v":""},null,null,null,null,null,null,"Falta Orçamento",null,{"$f":"VLOOKUP(A1740,'[1]Mapa de Preços'!$A$16:$D$2988,4,0)","v":0}]
[1726,null,{"$f":"IF('Requisição de Compra'!J1752=\"\",\"\",VLOOKUP(A1741,'Requisição de Compra'!$I$28:$J$3000,2,0))","v":""},null,null,null,null,null,null,"Falta Orçamento",null,{"$f":"VLOOKUP(A1741,'[1]Mapa de Preços'!$A$16:$D$2988,4,0)","v":0}]
[1727,null,{"$f":"IF('Requisição de Compra'!J1753=\"\",\"\",VLOOKUP(A1742,'Requisição de Compra'!$I$28:$J$3000,2,0))","v":""},null,null,null,null,null,null,"Falta Orçamento",null,{"$f":"VLOOKUP(A1742,'[1]Mapa de Preços'!$A$16:$D$2988,4,0)","v":0}]
[1728,null,{"$f":"IF('Requisição de Compra'!J1754=\"\",\"\",VLOOKUP(A1743,'Requisição de Compra'!$I$28:$J$3000,2,0))","v":""},null,null,null,null,null,null,"Falta Orçamento",null,{"$f":"VLOOKUP(A1743,'[1]Mapa de Preços'!$A$16:$D$2988,4,0)","v":0}]
[1729,null,{"$f":"IF('Requisição de Compra'!J1755=\"\",\"\",VLOOKUP(A1744,'Requisição de Compra'!$I$28:$J$3000,2,0))","v":""},null,null,null,null,null,null,"Falta Orçamento",null,{"$f":"VLOOKUP(A1744,'[1]Mapa de Preços'!$A$16:$D$2988,4,0)","v":0}]
[1730,null,{"$f":"IF('Requisição de Compra'!J1756=\"\",\"\",VLOOKUP(A1745,'Requisição de Compra'!$I$28:$J$3000,2,0))","v":""},null,null,null,null,null,null,{"$f":"IF(AND(D1745<>\"\",F1745<>\"\",H1745<>\"\"),AVERAGE(D1745:H1745),\"Falta Orçamento\")","v":"Falta Orçamento"},null,{"$f":"VLOOKUP(A1745,'[1]Mapa de Preços'!$A$16:$D$2988,4,0)","v":0}]
[1731,null,{"$f":"IF('Requisição de Compra'!J1757=\"\",\"\",VLOOKUP(A1746,'Requisição de Compra'!$I$28:$J$3000,2,0))","v":""},null,null,null,null,null,null,"Falta Orçamento",null,{"$f":"VLOOKUP(A1746,'[1]Mapa de Preços'!$A$16:$D$2988,4,0)","v":0}]
[1732,null,{"$f":"IF('Requisição de Compra'!J1758=\"\",\"\",VLOOKUP(A1747,'Requisição de Compra'!$I$28:$J$3000,2,0))","v":""},null,null,null,null,null,null,"Falta Orçamento",null,{"$f":"VLOOKUP(A1747,'[1]Mapa de Preços'!$A$16:$D$2988,4,0)","v":0}]
[1733,null,{"$f":"IF('Requisição de Compra'!J1759=\"\",\"\",VLOOKUP(A1748,'Requisição de Compra'!$I$28:$J$3000,2,0))","v":""},null,null,null,null,null,null,"Falta Orçamento",null,{"$f":"VLOOKUP(A1748,'[1]Mapa de Preços'!$A$16:$D$2988,4,0)","v":0}]
[1734,null,{"$f":"IF('Requisição de Compra'!J1760=\"\",\"\",VLOOKUP(A1749,'Requisição de Compra'!$I$28:$J$3000,2,0))","v":""},null,null,null,null,null,null,"Falta Orçamento",null,{"$f":"VLOOKUP(A1749,'[1]Mapa de Preços'!$A$16:$D$2988,4,0)","v":0}]
[1735,null,{"$f":"IF('Requisição de Compra'!J1761=\"\",\"\",VLOOKUP(A1750,'Requisição de Compra'!$I$28:$J$3000,2,0))","v":""},null,null,null,null,null,null,"Falta Orçamento",null,{"$f":"VLOOKUP(A1750,'[1]Mapa de Preços'!$A$16:$D$2988,4,0)","v":0}]
[1736,null,{"$f":"IF('Requisição de Compra'!J1762=\"\",\"\",VLOOKUP(A1751,'Requisição de Compra'!$I$28:$J$3000,2,0))","v":""},null,null,null,null,null,null,"Falta Orçamento",null,{"$f":"VLOOKUP(A1751,'[1]Mapa de Preços'!$A$16:$D$2988,4,0)","v":0}]
[1737,null,{"$f":"IF('Requisição de Compra'!J1763=\"\",\"\",VLOOKUP(A1752,'Requisição de Compra'!$I$28:$J$3000,2,0))","v":""},null,null,null,null,null,null,"Falta Orçamento",null,{"$f":"VLOOKUP(A1752,'[1]Mapa de Preços'!$A$16:$D$2988,4,0)","v":0}]
[1738,null,{"$f":"IF('Requisição de Compra'!J1764=\"\",\"\",VLOOKUP(A1753,'Requisição de Compra'!$I$28:$J$3000,2,0))","v":""},null,null,null,null,null,null,"Falta Orçamento",null,{"$f":"VLOOKUP(A1753,'[1]Mapa de Preços'!$A$16:$D$2988,4,0)","v":0}]
[1739,null,{"$f":"IF('Requisição de Compra'!J1765=\"\",\"\",VLOOKUP(A1754,'Requisição de Compra'!$I$28:$J$3000,2,0))","v":""},null,null,null,null,null,null,"Falta Orçamento",null,{"$f":"VLOOKUP(A1754,'[1]Mapa de Preços'!$A$16:$D$2988,4,0)","v":0}]
[1740,null,{"$f":"IF('Requisição de Compra'!J1766=\"\",\"\",VLOOKUP(A1755,'Requisição de Compra'!$I$28:$J$3000,2,0))","v":""},null,null,null,null,null,null,"Falta Orçamento",null,{"$f":"VLOOKUP(A1755,'[1]Mapa de Preços'!$A$16:$D$2988,4,0)","v":0}]
[1741,null,{"$f":"IF('Requisição de Compra'!J1767=\"\",\"\",VLOOKUP(A1756,'Requisição de Compra'!$I$28:$J$3000,2,0))","v":""},null,null,null,null,null,null,"Falta Orçamento",null,{"$f":"VLOOKUP(A1756,'[1]Mapa de Preços'!$A$16:$D$2988,4,0)","v":0}]
[1742,null,{"$f":"IF('Requisição de Compra'!J1768=\"\",\"\",VLOOKUP(A1757,'Requisição de Compra'!$I$28:$J$3000,2,0))","v":""},null,null,null,null,null,null,"Falta Orçamento",null,{"$f":"VLOOKUP(A1757,'[1]Mapa de Preços'!$A$16:$D$2988,4,0)","v":0}]
[1743,null,{"$f":"IF('Requisição de Compra'!J1769=\"\",\"\",VLOOKUP(A1758,'Requisição de Compra'!$I$28:$J$3000,2,0))","v":""},null,null,null,null,null,null,"Falta Orçamento",null,{"$f":"VLOOKUP(A1758,'[1]Mapa de Preços'!$A$16:$D$2988,4,0)","v":0}]
[1744,null,{"$f":"IF('Requisição de Compra'!J1770=\"\",\"\",VLOOKUP(A1759,'Requisição de Compra'!$I$28:$J$3000,2,0))","v":""},null,null,null,null,null,null,"Falta Orçamento",null,{"$f":"VLOOKUP(A1759,'[1]Mapa de Preços'!$A$16:$D$2988,4,0)","v":0}]
[1745,null,{"$f":"IF('Requisição de Compra'!J1771=\"\",\"\",VLOOKUP(A1760,'Requisição de Compra'!$I$28:$J$3000,2,0))","v":""},null,null,null,null,null,null,"Falta Orçamento",null,{"$f":"VLOOKUP(A1760,'[1]Mapa de Preços'!$A$16:$D$2988,4,0)","v":0}]
[1746,null,{"$f":"IF('Requisição de Compra'!J1772=\"\",\"\",VLOOKUP(A1761,'Requisição de Compra'!$I$28:$J$3000,2,0))","v":""},null,null,null,null,null,null,"Falta Orçamento",null,{"$f":"VLOOKUP(A1761,'[1]Mapa de Preços'!$A$16:$D$2988,4,0)","v":0}]
[1747,null,{"$f":"IF('Requisição de Compra'!J1773=\"\",\"\",VLOOKUP(A1762,'Requisição de Compra'!$I$28:$J$3000,2,0))","v":""},null,null,null,null,null,null,"Falta Orçamento",null,{"$f":"VLOOKUP(A1762,'[1]Mapa de Preços'!$A$16:$D$2988,4,0)","v":0}]
[1748,null,{"$f":"IF('Requisição de Compra'!J1774=\"\",\"\",VLOOKUP(A1763,'Requisição de Compra'!$I$28:$J$3000,2,0))","v":""},null,null,null,null,null,null,"Falta Orçamento",null,{"$f":"VLOOKUP(A1763,'[1]Mapa de Preços'!$A$16:$D$2988,4,0)","v":0}]
[1749,null,{"$f":"IF('Requisição de Compra'!J1775=\"\",\"\",VLOOKUP(A1764,'Requisição de Compra'!$I$28:$J$3000,2,0))","v":""},null,null,null,null,null,null,"Falta Orçamento",null,{"$f":"VLOOKUP(A1764,'[1]Mapa de Preços'!$A$16:$D$2988,4,0)","v":0}]
[1750,null,{"$f":"IF('Requisição de Compra'!J1776=\"\",\"\",VLOOKUP(A1765,'Requisição de Compra'!$I$28:$J$3000,2,0))","v":""},null,null,null,null,null,null,"Falta Orçamento",null,{"$f":"VLOOKUP(A1765,'[1]Mapa de Preços'!$A$16:$D$2988,4,0)","v":0}]
[1751,null,{"$f":"IF('Requisição de Compra'!J1777=\"\",\"\",VLOOKUP(A1766,'Requisição de Compra'!$I$28:$J$3000,2,0))","v":""},null,null,null,null,null,null,"Falta Orçamento",null,{"$f":"VLOOKUP(A1766,'[1]Mapa de Preços'!$A$16:$D$2988,4,0)","v":0}]
[1752,null,{"$f":"IF('Requisição de Compra'!J1778=\"\",\"\",VLOOKUP(A1767,'Requisição de Compra'!$I$28:$J$3000,2,0))","v":""},null,null,null,null,null,null,"Falta Orçamento",null,{"$f":"VLOOKUP(A1767,'[1]Mapa de Preços'!$A$16:$D$2988,4,0)","v":0}]
[1753,null,{"$f":"IF('Requisição de Compra'!J1779=\"\",\"\",VLOOKUP(A1768,'Requisição de Compra'!$I$28:$J$3000,2,0))","v":""},null,null,null,null,null,null,"Falta Orçamento",null,{"$f":"VLOOKUP(A1768,'[1]Mapa de Preços'!$A$16:$D$2988,4,0)","v":0}]
[1754,null,{"$f":"IF('Requisição de Compra'!J1780=\"\",\"\",VLOOKUP(A1769,'Requisição de Compra'!$I$28:$J$3000,2,0))","v":""},null,null,null,null,null,null,"Falta Orçamento",null,{"$f":"VLOOKUP(A1769,'[1]Mapa de Preços'!$A$16:$D$2988,4,0)","v":0}]
[1755,null,{"$f":"IF('Requisição de Compra'!J1781=\"\",\"\",VLOOKUP(A1770,'Requisição de Compra'!$I$28:$J$3000,2,0))","v":""},null,null,null,null,null,null,"Falta Orçamento",null,{"$f":"VLOOKUP(A1770,'[1]Mapa de Preços'!$A$16:$D$2988,4,0)","v":0}]
[1756,null,{"$f":"IF('Requisição de Compra'!J1782=\"\",\"\",VLOOKUP(A1771,'Requisição de Compra'!$I$28:$J$3000,2,0))","v":""},null,null,null,null,null,null,"Falta Orçamento",null,{"$f":"VLOOKUP(A1771,'[1]Mapa de Preços'!$A$16:$D$2988,4,0)","v":0}]
[1757,null,{"$f":"IF('Requisição de Compra'!J1783=\"\",\"\",VLOOKUP(A1772,'Requisição de Compra'!$I$28:$J$3000,2,0))","v":""},null,null,null,null,null,null,"Falta Orçamento",null,{"$f":"VLOOKUP(A1772,'[1]Mapa de Preços'!$A$16:$D$2988,4,0)","v":0}]
[1758,null,{"$f":"IF('Requisição de Compra'!J1784=\"\",\"\",VLOOKUP(A1773,'Requisição de Compra'!$I$28:$J$3000,2,0))","v":""},null,null,null,null,null,null,"Falta Orçamento",null,{"$f":"VLOOKUP(A1773,'[1]Mapa de Preços'!$A$16:$D$2988,4,0)","v":0}]
[1759,null,{"$f":"IF('Requisição de Compra'!J1785=\"\",\"\",VLOOKUP(A1774,'Requisição de Compra'!$I$28:$J$3000,2,0))","v":""},null,null,null,null,null,null,"Falta Orçamento",null,{"$f":"VLOOKUP(A1774,'[1]Mapa de Preços'!$A$16:$D$2988,4,0)","v":0}]
[1760,null,{"$f":"IF('Requisição de Compra'!J1786=\"\",\"\",VLOOKUP(A1775,'Requisição de Compra'!$I$28:$J$3000,2,0))","v":""},null,null,null,null,null,null,"Falta Orçamento",null,{"$f":"VLOOKUP(A1775,'[1]Mapa de Preços'!$A$16:$D$2988,4,0)","v":0}]
[1761,null,{"$f":"IF('Requisição de Compra'!J1787=\"\",\"\",VLOOKUP(A1776,'Requisição de Compra'!$I$28:$J$3000,2,0))","v":""},null,null,null,null,null,null,"Falta Orçamento",null,{"$f":"VLOOKUP(A1776,'[1]Mapa de Preços'!$A$16:$D$2988,4,0)","v":0}]
[1762,null,{"$f":"IF('Requisição de Compra'!J1788=\"\",\"\",VLOOKUP(A1777,'Requisição de Compra'!$I$28:$J$3000,2,0))","v":""},null,null,null,null,null,null,"Falta Orçamento",null,{"$f":"VLOOKUP(A1777,'[1]Mapa de Preços'!$A$16:$D$2988,4,0)","v":0}]
[1763,null,{"$f":"IF('Requisição de Compra'!J1789=\"\",\"\",VLOOKUP(A1778,'Requisição de Compra'!$I$28:$J$3000,2,0))","v":""},null,null,null,null,null,null,"Falta Orçamento",null,{"$f":"VLOOKUP(A1778,'[1]Mapa de Preços'!$A$16:$D$2988,4,0)","v":0}]
[1764,null,{"$f":"IF('Requisição de Compra'!J1790=\"\",\"\",VLOOKUP(A1779,'Requisição de Compra'!$I$28:$J$3000,2,0))","v":""},null,null,null,null,null,null,"Falta Orçamento",null,{"$f":"VLOOKUP(A1779,'[1]Mapa de Preços'!$A$16:$D$2988,4,0)","v":0}]
[1765,null,{"$f":"IF('Requisição de Compra'!J1791=\"\",\"\",VLOOKUP(A1780,'Requisição de Compra'!$I$28:$J$3000,2,0))","v":""},null,null,null,null,null,null,"Falta Orçamento",null,{"$f":"VLOOKUP(A1780,'[1]Mapa de Preços'!$A$16:$D$2988,4,0)","v":0}]
[1766,null,{"$f":"IF('Requisição de Compra'!J1792=\"\",\"\",VLOOKUP(A1781,'Requisição de Compra'!$I$28:$J$3000,2,0))","v":""},null,null,null,null,null,null,"Falta Orçamento",null,{"$f":"VLOOKUP(A1781,'[1]Mapa de Preços'!$A$16:$D$2988,4,0)","v":0}]
[1767,null,{"$f":"IF('Requisição de Compra'!J1793=\"\",\"\",VLOOKUP(A1782,'Requisição de Compra'!$I$28:$J$3000,2,0))","v":""},null,null,null,null,null,null,"Falta Orçamento",null,{"$f":"VLOOKUP(A1782,'[1]Mapa de Preços'!$A$16:$D$2988,4,0)","v":0}]
[1768,null,{"$f":"IF('Requisição de Compra'!J1794=\"\",\"\",VLOOKUP(A1783,'Requisição de Compra'!$I$28:$J$3000,2,0))","v":""},null,null,null,null,null,null,"Falta Orçamento",null,{"$f":"VLOOKUP(A1783,'[1]Mapa de Preços'!$A$16:$D$2988,4,0)","v":0}]
[1769,null,{"$f":"IF('Requisição de Compra'!J1795=\"\",\"\",VLOOKUP(A1784,'Requisição de Compra'!$I$28:$J$3000,2,0))","v":""},null,null,null,null,null,null,"Falta Orçamento",null,{"$f":"VLOOKUP(A1784,'[1]Mapa de Preços'!$A$16:$D$2988,4,0)","v":0}]
[1770,null,{"$f":"IF('Requisição de Compra'!J1796=\"\",\"\",VLOOKUP(A1785,'Requisição de Compra'!$I$28:$J$3000,2,0))","v":""},null,null,null,null,null,null,"Falta Orçamento",null,{"$f":"VLOOKUP(A1785,'[1]Mapa de Preços'!$A$16:$D$2988,4,0)","v":0}]
[1771,null,{"$f":"IF('Requisição de Compra'!J1797=\"\",\"\",VLOOKUP(A1786,'Requisição de Compra'!$I$28:$J$3000,2,0))","v":""},null,null,null,null,null,null,"Falta Orçamento",null,{"$f":"VLOOKUP(A1786,'[1]Mapa de Preços'!$A$16:$D$2988,4,0)","v":0}]
[1772,null,{"$f":"IF('Requisição de Compra'!J1798=\"\",\"\",VLOOKUP(A1787,'Requisição de Compra'!$I$28:$J$3000,2,0))","v":""},null,null,null,null,null,null,"Falta Orçamento",null,{"$f":"VLOOKUP(A1787,'[1]Mapa de Preços'!$A$16:$D$2988,4,0)","v":0}]
[1773,null,{"$f":"IF('Requisição de Compra'!J1799=\"\",\"\",VLOOKUP(A1788,'Requisição de Compra'!$I$28:$J$3000,2,0))","v":""},null,null,null,null,null,null,"Falta Orçamento",null,{"$f":"VLOOKUP(A1788,'[1]Mapa de Preços'!$A$16:$D$2988,4,0)","v":0}]
[1774,null,{"$f":"IF('Requisição de Compra'!J1800=\"\",\"\",VLOOKUP(A1789,'Requisição de Compra'!$I$28:$J$3000,2,0))","v":""},null,null,null,null,null,null,"Falta Orçamento",null,{"$f":"VLOOKUP(A1789,'[1]Mapa de Preços'!$A$16:$D$2988,4,0)","v":0}]
[1775,null,{"$f":"IF('Requisição de Compra'!J1801=\"\",\"\",VLOOKUP(A1790,'Requisição de Compra'!$I$28:$J$3000,2,0))","v":""},null,null,null,null,null,null,"Falta Orçamento",null,{"$f":"VLOOKUP(A1790,'[1]Mapa de Preços'!$A$16:$D$2988,4,0)","v":0}]
[1776,null,{"$f":"IF('Requisição de Compra'!J1802=\"\",\"\",VLOOKUP(A1791,'Requisição de Compra'!$I$28:$J$3000,2,0))","v":""},null,null,null,null,null,null,"Falta Orçamento",null,{"$f":"VLOOKUP(A1791,'[1]Mapa de Preços'!$A$16:$D$2988,4,0)","v":0}]
[1777,null,{"$f":"IF('Requisição de Compra'!J1803=\"\",\"\",VLOOKUP(A1792,'Requisição de Compra'!$I$28:$J$3000,2,0))","v":""},null,null,null,null,null,null,"Falta Orçamento",null,{"$f":"VLOOKUP(A1792,'[1]Mapa de Preços'!$A$16:$D$2988,4,0)","v":0}]
[1778,null,{"$f":"IF('Requisição de Compra'!J1804=\"\",\"\",VLOOKUP(A1793,'Requisição de Compra'!$I$28:$J$3000,2,0))","v":""},null,null,null,null,null,null,"Falta Orçamento",null,{"$f":"VLOOKUP(A1793,'[1]Mapa de Preços'!$A$16:$D$2988,4,0)","v":0}]
[1779,null,{"$f":"IF('Requisição de Compra'!J1805=\"\",\"\",VLOOKUP(A1794,'Requisição de Compra'!$I$28:$J$3000,2,0))","v":""},null,null,null,null,null,null,"Falta Orçamento",null,{"$f":"VLOOKUP(A1794,'[1]Mapa de Preços'!$A$16:$D$2988,4,0)","v":0}]
[1780,null,{"$f":"IF('Requisição de Compra'!J1806=\"\",\"\",VLOOKUP(A1795,'Requisição de Compra'!$I$28:$J$3000,2,0))","v":""},null,null,null,null,null,null,"Falta Orçamento",null,{"$f":"VLOOKUP(A1795,'[1]Mapa de Preços'!$A$16:$D$2988,4,0)","v":0}]
[1781,null,{"$f":"IF('Requisição de Compra'!J1807=\"\",\"\",VLOOKUP(A1796,'Requisição de Compra'!$I$28:$J$3000,2,0))","v":""},null,null,null,null,null,null,"Falta Orçamento",null,{"$f":"VLOOKUP(A1796,'[1]Mapa de Preços'!$A$16:$D$2988,4,0)","v":0}]
[1782,null,{"$f":"IF('Requisição de Compra'!J1808=\"\",\"\",VLOOKUP(A1797,'Requisição de Compra'!$I$28:$J$3000,2,0))","v":""},null,null,null,null,null,null,"Falta Orçamento",null,{"$f":"VLOOKUP(A1797,'[1]Mapa de Preços'!$A$16:$D$2988,4,0)","v":0}]
[1783,null,{"$f":"IF('Requisição de Compra'!J1809=\"\",\"\",VLOOKUP(A1798,'Requisição de Compra'!$I$28:$J$3000,2,0))","v":""},null,null,null,null,null,null,"Falta Orçamento",null,{"$f":"VLOOKUP(A1798,'[1]Mapa de Preços'!$A$16:$D$2988,4,0)","v":0}]
[1784,null,{"$f":"IF('Requisição de Compra'!J1810=\"\",\"\",VLOOKUP(A1799,'Requisição de Compra'!$I$28:$J$3000,2,0))","v":""},null,null,null,null,null,null,"Falta Orçamento",null,{"$f":"VLOOKUP(A1799,'[1]Mapa de Preços'!$A$16:$D$2988,4,0)","v":0}]
[1785,null,{"$f":"IF('Requisição de Compra'!J1811=\"\",\"\",VLOOKUP(A1800,'Requisição de Compra'!$I$28:$J$3000,2,0))","v":""},null,null,null,null,null,null,"Falta Orçamento",null,{"$f":"VLOOKUP(A1800,'[1]Mapa de Preços'!$A$16:$D$2988,4,0)","v":0}]
[1786,null,{"$f":"IF('Requisição de Compra'!J1812=\"\",\"\",VLOOKUP(A1801,'Requisição de Compra'!$I$28:$J$3000,2,0))","v":""},null,null,null,null,null,null,"Falta Orçamento",null,{"$f":"VLOOKUP(A1801,'[1]Mapa de Preços'!$A$16:$D$2988,4,0)","v":0}]
[1787,null,{"$f":"IF('Requisição de Compra'!J1813=\"\",\"\",VLOOKUP(A1802,'Requisição de Compra'!$I$28:$J$3000,2,0))","v":""},null,null,null,null,null,null,"Falta Orçamento",null,{"$f":"VLOOKUP(A1802,'[1]Mapa de Preços'!$A$16:$D$2988,4,0)","v":0}]
[1788,null,{"$f":"IF('Requisição de Compra'!J1814=\"\",\"\",VLOOKUP(A1803,'Requisição de Compra'!$I$28:$J$3000,2,0))","v":""},null,null,null,null,null,null,"Falta Orçamento",null,{"$f":"VLOOKUP(A1803,'[1]Mapa de Preços'!$A$16:$D$2988,4,0)","v":0}]
[1789,null,{"$f":"IF('Requisição de Compra'!J1815=\"\",\"\",VLOOKUP(A1804,'Requisição de Compra'!$I$28:$J$3000,2,0))","v":""},null,null,null,null,null,null,"Falta Orçamento",null,{"$f":"VLOOKUP(A1804,'[1]Mapa de Preços'!$A$16:$D$2988,4,0)","v":0}]
[1790,null,{"$f":"IF('Requisição de Compra'!J1816=\"\",\"\",VLOOKUP(A1805,'Requisição de Compra'!$I$28:$J$3000,2,0))","v":""},null,null,null,null,null,null,"Falta Orçamento",null,{"$f":"VLOOKUP(A1805,'[1]Mapa de Preços'!$A$16:$D$2988,4,0)","v":0}]
[1791,null,{"$f":"IF('Requisição de Compra'!J1817=\"\",\"\",VLOOKUP(A1806,'Requisição de Compra'!$I$28:$J$3000,2,0))","v":""},null,null,null,null,null,null,"Falta Orçamento",null,{"$f":"VLOOKUP(A1806,'[1]Mapa de Preços'!$A$16:$D$2988,4,0)","v":0}]
[1792,null,{"$f":"IF('Requisição de Compra'!J1818=\"\",\"\",VLOOKUP(A1807,'Requisição de Compra'!$I$28:$J$3000,2,0))","v":""},null,null,null,null,null,null,"Falta Orçamento",null,{"$f":"VLOOKUP(A1807,'[1]Mapa de Preços'!$A$16:$D$2988,4,0)","v":0}]
[1793,null,{"$f":"IF('Requisição de Compra'!J1819=\"\",\"\",VLOOKUP(A1808,'Requisição de Compra'!$I$28:$J$3000,2,0))","v":""},null,null,null,null,null,null,"Falta Orçamento",null,{"$f":"VLOOKUP(A1808,'[1]Mapa de Preços'!$A$16:$D$2988,4,0)","v":0}]
[1794,null,{"$f":"IF('Requisição de Compra'!J1820=\"\",\"\",VLOOKUP(A1809,'Requisição de Compra'!$I$28:$J$3000,2,0))","v":""},null,null,null,null,null,null,{"$f":"IF(AND(D1809<>\"\",F1809<>\"\",H1809<>\"\"),AVERAGE(D1809:H1809),\"Falta Orçamento\")","v":"Falta Orçamento"},null,{"$f":"VLOOKUP(A1809,'[1]Mapa de Preços'!$A$16:$D$2988,4,0)","v":0}]
[1795,null,{"$f":"IF('Requisição de Compra'!J1821=\"\",\"\",VLOOKUP(A1810,'Requisição de Compra'!$I$28:$J$3000,2,0))","v":""},null,null,null,null,null,null,"Falta Orçamento",null,{"$f":"VLOOKUP(A1810,'[1]Mapa de Preços'!$A$16:$D$2988,4,0)","v":0}]
[1796,null,{"$f":"IF('Requisição de Compra'!J1822=\"\",\"\",VLOOKUP(A1811,'Requisição de Compra'!$I$28:$J$3000,2,0))","v":""},null,null,null,null,null,null,"Falta Orçamento",null,{"$f":"VLOOKUP(A1811,'[1]Mapa de Preços'!$A$16:$D$2988,4,0)","v":0}]
[1797,null,{"$f":"IF('Requisição de Compra'!J1823=\"\",\"\",VLOOKUP(A1812,'Requisição de Compra'!$I$28:$J$3000,2,0))","v":""},null,null,null,null,null,null,"Falta Orçamento",null,{"$f":"VLOOKUP(A1812,'[1]Mapa de Preços'!$A$16:$D$2988,4,0)","v":0}]
[1798,null,{"$f":"IF('Requisição de Compra'!J1824=\"\",\"\",VLOOKUP(A1813,'Requisição de Compra'!$I$28:$J$3000,2,0))","v":""},null,null,null,null,null,null,"Falta Orçamento",null,{"$f":"VLOOKUP(A1813,'[1]Mapa de Preços'!$A$16:$D$2988,4,0)","v":0}]
[1799,null,{"$f":"IF('Requisição de Compra'!J1825=\"\",\"\",VLOOKUP(A1814,'Requisição de Compra'!$I$28:$J$3000,2,0))","v":""},null,null,null,null,null,null,"Falta Orçamento",null,{"$f":"VLOOKUP(A1814,'[1]Mapa de Preços'!$A$16:$D$2988,4,0)","v":0}]
[1800,null,{"$f":"IF('Requisição de Compra'!J1826=\"\",\"\",VLOOKUP(A1815,'Requisição de Compra'!$I$28:$J$3000,2,0))","v":""},null,null,null,null,null,null,"Falta Orçamento",null,{"$f":"VLOOKUP(A1815,'[1]Mapa de Preços'!$A$16:$D$2988,4,0)","v":0}]
[1801,null,{"$f":"IF('Requisição de Compra'!J1827=\"\",\"\",VLOOKUP(A1816,'Requisição de Compra'!$I$28:$J$3000,2,0))","v":""},null,null,null,null,null,null,"Falta Orçamento",null,{"$f":"VLOOKUP(A1816,'[1]Mapa de Preços'!$A$16:$D$2988,4,0)","v":0}]
[1802,null,{"$f":"IF('Requisição de Compra'!J1828=\"\",\"\",VLOOKUP(A1817,'Requisição de Compra'!$I$28:$J$3000,2,0))","v":""},null,null,null,null,null,null,"Falta Orçamento",null,{"$f":"VLOOKUP(A1817,'[1]Mapa de Preços'!$A$16:$D$2988,4,0)","v":0}]
[1803,null,{"$f":"IF('Requisição de Compra'!J1829=\"\",\"\",VLOOKUP(A1818,'Requisição de Compra'!$I$28:$J$3000,2,0))","v":""},null,null,null,null,null,null,"Falta Orçamento",null,{"$f":"VLOOKUP(A1818,'[1]Mapa de Preços'!$A$16:$D$2988,4,0)","v":0}]
[1804,null,{"$f":"IF('Requisição de Compra'!J1830=\"\",\"\",VLOOKUP(A1819,'Requisição de Compra'!$I$28:$J$3000,2,0))","v":""},null,null,null,null,null,null,"Falta Orçamento",null,{"$f":"VLOOKUP(A1819,'[1]Mapa de Preços'!$A$16:$D$2988,4,0)","v":0}]
[1805,null,{"$f":"IF('Requisição de Compra'!J1831=\"\",\"\",VLOOKUP(A1820,'Requisição de Compra'!$I$28:$J$3000,2,0))","v":""},null,null,null,null,null,null,"Falta Orçamento",null,{"$f":"VLOOKUP(A1820,'[1]Mapa de Preços'!$A$16:$D$2988,4,0)","v":0}]
[1806,null,{"$f":"IF('Requisição de Compra'!J1832=\"\",\"\",VLOOKUP(A1821,'Requisição de Compra'!$I$28:$J$3000,2,0))","v":""},null,null,null,null,null,null,"Falta Orçamento",null,{"$f":"VLOOKUP(A1821,'[1]Mapa de Preços'!$A$16:$D$2988,4,0)","v":0}]
[1807,null,{"$f":"IF('Requisição de Compra'!J1833=\"\",\"\",VLOOKUP(A1822,'Requisição de Compra'!$I$28:$J$3000,2,0))","v":""},null,null,null,null,null,null,"Falta Orçamento",null,{"$f":"VLOOKUP(A1822,'[1]Mapa de Preços'!$A$16:$D$2988,4,0)","v":0}]
[1808,null,{"$f":"IF('Requisição de Compra'!J1834=\"\",\"\",VLOOKUP(A1823,'Requisição de Compra'!$I$28:$J$3000,2,0))","v":""},null,null,null,null,null,null,"Falta Orçamento",null,{"$f":"VLOOKUP(A1823,'[1]Mapa de Preços'!$A$16:$D$2988,4,0)","v":0}]
[1809,null,{"$f":"IF('Requisição de Compra'!J1835=\"\",\"\",VLOOKUP(A1824,'Requisição de Compra'!$I$28:$J$3000,2,0))","v":""},null,null,null,null,null,null,"Falta Orçamento",null,{"$f":"VLOOKUP(A1824,'[1]Mapa de Preços'!$A$16:$D$2988,4,0)","v":0}]
[1810,null,{"$f":"IF('Requisição de Compra'!J1836=\"\",\"\",VLOOKUP(A1825,'Requisição de Compra'!$I$28:$J$3000,2,0))","v":""},null,null,null,null,null,null,"Falta Orçamento",null,{"$f":"VLOOKUP(A1825,'[1]Mapa de Preços'!$A$16:$D$2988,4,0)","v":0}]
[1811,null,{"$f":"IF('Requisição de Compra'!J1837=\"\",\"\",VLOOKUP(A1826,'Requisição de Compra'!$I$28:$J$3000,2,0))","v":""},null,null,null,null,null,null,"Falta Orçamento",null,{"$f":"VLOOKUP(A1826,'[1]Mapa de Preços'!$A$16:$D$2988,4,0)","v":0}]
[1812,null,{"$f":"IF('Requisição de Compra'!J1838=\"\",\"\",VLOOKUP(A1827,'Requisição de Compra'!$I$28:$J$3000,2,0))","v":""},null,null,null,null,null,null,"Falta Orçamento",null,{"$f":"VLOOKUP(A1827,'[1]Mapa de Preços'!$A$16:$D$2988,4,0)","v":0}]
[1813,null,{"$f":"IF('Requisição de Compra'!J1839=\"\",\"\",VLOOKUP(A1828,'Requisição de Compra'!$I$28:$J$3000,2,0))","v":""},null,null,null,null,null,null,"Falta Orçamento",null,{"$f":"VLOOKUP(A1828,'[1]Mapa de Preços'!$A$16:$D$2988,4,0)","v":0}]
[1814,null,{"$f":"IF('Requisição de Compra'!J1840=\"\",\"\",VLOOKUP(A1829,'Requisição de Compra'!$I$28:$J$3000,2,0))","v":""},null,null,null,null,null,null,"Falta Orçamento",null,{"$f":"VLOOKUP(A1829,'[1]Mapa de Preços'!$A$16:$D$2988,4,0)","v":0}]
[1815,null,{"$f":"IF('Requisição de Compra'!J1841=\"\",\"\",VLOOKUP(A1830,'Requisição de Compra'!$I$28:$J$3000,2,0))","v":""},null,null,null,null,null,null,"Falta Orçamento",null,{"$f":"VLOOKUP(A1830,'[1]Mapa de Preços'!$A$16:$D$2988,4,0)","v":0}]
[1816,null,{"$f":"IF('Requisição de Compra'!J1842=\"\",\"\",VLOOKUP(A1831,'Requisição de Compra'!$I$28:$J$3000,2,0))","v":""},null,null,null,null,null,null,"Falta Orçamento",null,{"$f":"VLOOKUP(A1831,'[1]Mapa de Preços'!$A$16:$D$2988,4,0)","v":0}]
[1817,null,{"$f":"IF('Requisição de Compra'!J1843=\"\",\"\",VLOOKUP(A1832,'Requisição de Compra'!$I$28:$J$3000,2,0))","v":""},null,null,null,null,null,null,"Falta Orçamento",null,{"$f":"VLOOKUP(A1832,'[1]Mapa de Preços'!$A$16:$D$2988,4,0)","v":0}]
[1818,null,{"$f":"IF('Requisição de Compra'!J1844=\"\",\"\",VLOOKUP(A1833,'Requisição de Compra'!$I$28:$J$3000,2,0))","v":""},null,null,null,null,null,null,"Falta Orçamento",null,{"$f":"VLOOKUP(A1833,'[1]Mapa de Preços'!$A$16:$D$2988,4,0)","v":0}]
[1819,null,{"$f":"IF('Requisição de Compra'!J1845=\"\",\"\",VLOOKUP(A1834,'Requisição de Compra'!$I$28:$J$3000,2,0))","v":""},null,null,null,null,null,null,"Falta Orçamento",null,{"$f":"VLOOKUP(A1834,'[1]Mapa de Preços'!$A$16:$D$2988,4,0)","v":0}]
[1820,null,{"$f":"IF('Requisição de Compra'!J1846=\"\",\"\",VLOOKUP(A1835,'Requisição de Compra'!$I$28:$J$3000,2,0))","v":""},null,null,null,null,null,null,"Falta Orçamento",null,{"$f":"VLOOKUP(A1835,'[1]Mapa de Preços'!$A$16:$D$2988,4,0)","v":0}]
[1821,null,{"$f":"IF('Requisição de Compra'!J1847=\"\",\"\",VLOOKUP(A1836,'Requisição de Compra'!$I$28:$J$3000,2,0))","v":""},null,null,null,null,null,null,"Falta Orçamento",null,{"$f":"VLOOKUP(A1836,'[1]Mapa de Preços'!$A$16:$D$2988,4,0)","v":0}]
[1822,null,{"$f":"IF('Requisição de Compra'!J1848=\"\",\"\",VLOOKUP(A1837,'Requisição de Compra'!$I$28:$J$3000,2,0))","v":""},null,null,null,null,null,null,"Falta Orçamento",null,{"$f":"VLOOKUP(A1837,'[1]Mapa de Preços'!$A$16:$D$2988,4,0)","v":0}]
[1823,null,{"$f":"IF('Requisição de Compra'!J1849=\"\",\"\",VLOOKUP(A1838,'Requisição de Compra'!$I$28:$J$3000,2,0))","v":""},null,null,null,null,null,null,"Falta Orçamento",null,{"$f":"VLOOKUP(A1838,'[1]Mapa de Preços'!$A$16:$D$2988,4,0)","v":0}]
[1824,null,{"$f":"IF('Requisição de Compra'!J1850=\"\",\"\",VLOOKUP(A1839,'Requisição de Compra'!$I$28:$J$3000,2,0))","v":""},null,null,null,null,null,null,"Falta Orçamento",null,{"$f":"VLOOKUP(A1839,'[1]Mapa de Preços'!$A$16:$D$2988,4,0)","v":0}]
[1825,null,{"$f":"IF('Requisição de Compra'!J1851=\"\",\"\",VLOOKUP(A1840,'Requisição de Compra'!$I$28:$J$3000,2,0))","v":""},null,null,null,null,null,null,"Falta Orçamento",null,{"$f":"VLOOKUP(A1840,'[1]Mapa de Preços'!$A$16:$D$2988,4,0)","v":0}]
[1826,null,{"$f":"IF('Requisição de Compra'!J1852=\"\",\"\",VLOOKUP(A1841,'Requisição de Compra'!$I$28:$J$3000,2,0))","v":""},null,null,null,null,null,null,"Falta Orçamento",null,{"$f":"VLOOKUP(A1841,'[1]Mapa de Preços'!$A$16:$D$2988,4,0)","v":0}]
[1827,null,{"$f":"IF('Requisição de Compra'!J1853=\"\",\"\",VLOOKUP(A1842,'Requisição de Compra'!$I$28:$J$3000,2,0))","v":""},null,null,null,null,null,null,"Falta Orçamento",null,{"$f":"VLOOKUP(A1842,'[1]Mapa de Preços'!$A$16:$D$2988,4,0)","v":0}]
[1828,null,{"$f":"IF('Requisição de Compra'!J1854=\"\",\"\",VLOOKUP(A1843,'Requisição de Compra'!$I$28:$J$3000,2,0))","v":""},null,null,null,null,null,null,"Falta Orçamento",null,{"$f":"VLOOKUP(A1843,'[1]Mapa de Preços'!$A$16:$D$2988,4,0)","v":0}]
[1829,null,{"$f":"IF('Requisição de Compra'!J1855=\"\",\"\",VLOOKUP(A1844,'Requisição de Compra'!$I$28:$J$3000,2,0))","v":""},null,null,null,null,null,null,"Falta Orçamento",null,{"$f":"VLOOKUP(A1844,'[1]Mapa de Preços'!$A$16:$D$2988,4,0)","v":0}]
[1830,null,{"$f":"IF('Requisição de Compra'!J1856=\"\",\"\",VLOOKUP(A1845,'Requisição de Compra'!$I$28:$J$3000,2,0))","v":""},null,null,null,null,null,null,"Falta Orçamento",null,{"$f":"VLOOKUP(A1845,'[1]Mapa de Preços'!$A$16:$D$2988,4,0)","v":0}]
[1831,null,{"$f":"IF('Requisição de Compra'!J1857=\"\",\"\",VLOOKUP(A1846,'Requisição de Compra'!$I$28:$J$3000,2,0))","v":""},null,null,null,null,null,null,"Falta Orçamento",null,{"$f":"VLOOKUP(A1846,'[1]Mapa de Preços'!$A$16:$D$2988,4,0)","v":0}]
[1832,null,{"$f":"IF('Requisição de Compra'!J1858=\"\",\"\",VLOOKUP(A1847,'Requisição de Compra'!$I$28:$J$3000,2,0))","v":""},null,null,null,null,null,null,"Falta Orçamento",null,{"$f":"VLOOKUP(A1847,'[1]Mapa de Preços'!$A$16:$D$2988,4,0)","v":0}]
[1833,null,{"$f":"IF('Requisição de Compra'!J1859=\"\",\"\",VLOOKUP(A1848,'Requisição de Compra'!$I$28:$J$3000,2,0))","v":""},null,null,null,null,null,null,"Falta Orçamento",null,{"$f":"VLOOKUP(A1848,'[1]Mapa de Preços'!$A$16:$D$2988,4,0)","v":0}]
[1834,null,{"$f":"IF('Requisição de Compra'!J1860=\"\",\"\",VLOOKUP(A1849,'Requisição de Compra'!$I$28:$J$3000,2,0))","v":""},null,null,null,null,null,null,"Falta Orçamento",null,{"$f":"VLOOKUP(A1849,'[1]Mapa de Preços'!$A$16:$D$2988,4,0)","v":0}]
[1835,null,{"$f":"IF('Requisição de Compra'!J1861=\"\",\"\",VLOOKUP(A1850,'Requisição de Compra'!$I$28:$J$3000,2,0))","v":""},null,null,null,null,null,null,"Falta Orçamento",null,{"$f":"VLOOKUP(A1850,'[1]Mapa de Preços'!$A$16:$D$2988,4,0)","v":0}]
[1836,null,{"$f":"IF('Requisição de Compra'!J1862=\"\",\"\",VLOOKUP(A1851,'Requisição de Compra'!$I$28:$J$3000,2,0))","v":""},null,null,null,null,null,null,"Falta Orçamento",null,{"$f":"VLOOKUP(A1851,'[1]Mapa de Preços'!$A$16:$D$2988,4,0)","v":0}]
[1837,null,{"$f":"IF('Requisição de Compra'!J1863=\"\",\"\",VLOOKUP(A1852,'Requisição de Compra'!$I$28:$J$3000,2,0))","v":""},null,null,null,null,null,null,"Falta Orçamento",null,{"$f":"VLOOKUP(A1852,'[1]Mapa de Preços'!$A$16:$D$2988,4,0)","v":0}]
[1838,null,{"$f":"IF('Requisição de Compra'!J1864=\"\",\"\",VLOOKUP(A1853,'Requisição de Compra'!$I$28:$J$3000,2,0))","v":""},null,null,null,null,null,null,"Falta Orçamento",null,{"$f":"VLOOKUP(A1853,'[1]Mapa de Preços'!$A$16:$D$2988,4,0)","v":0}]
[1839,null,{"$f":"IF('Requisição de Compra'!J1865=\"\",\"\",VLOOKUP(A1854,'Requisição de Compra'!$I$28:$J$3000,2,0))","v":""},null,null,null,null,null,null,"Falta Orçamento",null,{"$f":"VLOOKUP(A1854,'[1]Mapa de Preços'!$A$16:$D$2988,4,0)","v":0}]
[1840,null,{"$f":"IF('Requisição de Compra'!J1866=\"\",\"\",VLOOKUP(A1855,'Requisição de Compra'!$I$28:$J$3000,2,0))","v":""},null,null,null,null,null,null,"Falta Orçamento",null,{"$f":"VLOOKUP(A1855,'[1]Mapa de Preços'!$A$16:$D$2988,4,0)","v":0}]
[1841,null,{"$f":"IF('Requisição de Compra'!J1867=\"\",\"\",VLOOKUP(A1856,'Requisição de Compra'!$I$28:$J$3000,2,0))","v":""},null,null,null,null,null,null,"Falta Orçamento",null,{"$f":"VLOOKUP(A1856,'[1]Mapa de Preços'!$A$16:$D$2988,4,0)","v":0}]
[1842,null,{"$f":"IF('Requisição de Compra'!J1868=\"\",\"\",VLOOKUP(A1857,'Requisição de Compra'!$I$28:$J$3000,2,0))","v":""},null,null,null,null,null,null,"Falta Orçamento",null,{"$f":"VLOOKUP(A1857,'[1]Mapa de Preços'!$A$16:$D$2988,4,0)","v":0}]
[1843,null,{"$f":"IF('Requisição de Compra'!J1869=\"\",\"\",VLOOKUP(A1858,'Requisição de Compra'!$I$28:$J$3000,2,0))","v":""},null,null,null,null,null,null,"Falta Orçamento",null,{"$f":"VLOOKUP(A1858,'[1]Mapa de Preços'!$A$16:$D$2988,4,0)","v":0}]
[1844,null,{"$f":"IF('Requisição de Compra'!J1870=\"\",\"\",VLOOKUP(A1859,'Requisição de Compra'!$I$28:$J$3000,2,0))","v":""},null,null,null,null,null,null,"Falta Orçamento",null,{"$f":"VLOOKUP(A1859,'[1]Mapa de Preços'!$A$16:$D$2988,4,0)","v":0}]
[1845,null,{"$f":"IF('Requisição de Compra'!J1871=\"\",\"\",VLOOKUP(A1860,'Requisição de Compra'!$I$28:$J$3000,2,0))","v":""},null,null,null,null,null,null,"Falta Orçamento",null,{"$f":"VLOOKUP(A1860,'[1]Mapa de Preços'!$A$16:$D$2988,4,0)","v":0}]
[1846,null,{"$f":"IF('Requisição de Compra'!J1872=\"\",\"\",VLOOKUP(A1861,'Requisição de Compra'!$I$28:$J$3000,2,0))","v":""},null,null,null,null,null,null,"Falta Orçamento",null,{"$f":"VLOOKUP(A1861,'[1]Mapa de Preços'!$A$16:$D$2988,4,0)","v":0}]
[1847,null,{"$f":"IF('Requisição de Compra'!J1873=\"\",\"\",VLOOKUP(A1862,'Requisição de Compra'!$I$28:$J$3000,2,0))","v":""},null,null,null,null,null,null,"Falta Orçamento",null,{"$f":"VLOOKUP(A1862,'[1]Mapa de Preços'!$A$16:$D$2988,4,0)","v":0}]
[1848,null,{"$f":"IF('Requisição de Compra'!J1874=\"\",\"\",VLOOKUP(A1863,'Requisição de Compra'!$I$28:$J$3000,2,0))","v":""},null,null,null,null,null,null,"Falta Orçamento",null,{"$f":"VLOOKUP(A1863,'[1]Mapa de Preços'!$A$16:$D$2988,4,0)","v":0}]
[1849,null,{"$f":"IF('Requisição de Compra'!J1875=\"\",\"\",VLOOKUP(A1864,'Requisição de Compra'!$I$28:$J$3000,2,0))","v":""},null,null,null,null,null,null,"Falta Orçamento",null,{"$f":"VLOOKUP(A1864,'[1]Mapa de Preços'!$A$16:$D$2988,4,0)","v":0}]
[1850,null,{"$f":"IF('Requisição de Compra'!J1876=\"\",\"\",VLOOKUP(A1865,'Requisição de Compra'!$I$28:$J$3000,2,0))","v":""},null,null,null,null,null,null,"Falta Orçamento",null,{"$f":"VLOOKUP(A1865,'[1]Mapa de Preços'!$A$16:$D$2988,4,0)","v":0}]
[1851,null,{"$f":"IF('Requisição de Compra'!J1877=\"\",\"\",VLOOKUP(A1866,'Requisição de Compra'!$I$28:$J$3000,2,0))","v":""},null,null,null,null,null,null,"Falta Orçamento",null,{"$f":"VLOOKUP(A1866,'[1]Mapa de Preços'!$A$16:$D$2988,4,0)","v":0}]
[1852,null,{"$f":"IF('Requisição de Compra'!J1878=\"\",\"\",VLOOKUP(A1867,'Requisição de Compra'!$I$28:$J$3000,2,0))","v":""},null,null,null,null,null,null,"Falta Orçamento",null,{"$f":"VLOOKUP(A1867,'[1]Mapa de Preços'!$A$16:$D$2988,4,0)","v":0}]
[1853,null,{"$f":"IF('Requisição de Compra'!J1879=\"\",\"\",VLOOKUP(A1868,'Requisição de Compra'!$I$28:$J$3000,2,0))","v":""},null,null,null,null,null,null,"Falta Orçamento",null,{"$f":"VLOOKUP(A1868,'[1]Mapa de Preços'!$A$16:$D$2988,4,0)","v":0}]
[1854,null,{"$f":"IF('Requisição de Compra'!J1880=\"\",\"\",VLOOKUP(A1869,'Requisição de Compra'!$I$28:$J$3000,2,0))","v":""},null,null,null,null,null,null,"Falta Orçamento",null,{"$f":"VLOOKUP(A1869,'[1]Mapa de Preços'!$A$16:$D$2988,4,0)","v":0}]
[1855,null,{"$f":"IF('Requisição de Compra'!J1881=\"\",\"\",VLOOKUP(A1870,'Requisição de Compra'!$I$28:$J$3000,2,0))","v":""},null,null,null,null,null,null,"Falta Orçamento",null,{"$f":"VLOOKUP(A1870,'[1]Mapa de Preços'!$A$16:$D$2988,4,0)","v":0}]
[1856,null,{"$f":"IF('Requisição de Compra'!J1882=\"\",\"\",VLOOKUP(A1871,'Requisição de Compra'!$I$28:$J$3000,2,0))","v":""},null,null,null,null,null,null,"Falta Orçamento",null,{"$f":"VLOOKUP(A1871,'[1]Mapa de Preços'!$A$16:$D$2988,4,0)","v":0}]
[1857,null,{"$f":"IF('Requisição de Compra'!J1883=\"\",\"\",VLOOKUP(A1872,'Requisição de Compra'!$I$28:$J$3000,2,0))","v":""},null,null,null,null,null,null,"Falta Orçamento",null,{"$f":"VLOOKUP(A1872,'[1]Mapa de Preços'!$A$16:$D$2988,4,0)","v":0}]
[1858,null,{"$f":"IF('Requisição de Compra'!J1884=\"\",\"\",VLOOKUP(A1873,'Requisição de Compra'!$I$28:$J$3000,2,0))","v":""},null,null,null,null,null,null,{"$f":"IF(AND(D1873<>\"\",F1873<>\"\",H1873<>\"\"),AVERAGE(D1873:H1873),\"Falta Orçamento\")","v":"Falta Orçamento"},null,{"$f":"VLOOKUP(A1873,'[1]Mapa de Preços'!$A$16:$D$2988,4,0)","v":0}]
[1859,null,{"$f":"IF('Requisição de Compra'!J1885=\"\",\"\",VLOOKUP(A1874,'Requisição de Compra'!$I$28:$J$3000,2,0))","v":""},null,null,null,null,null,null,"Falta Orçamento",null,{"$f":"VLOOKUP(A1874,'[1]Mapa de Preços'!$A$16:$D$2988,4,0)","v":0}]
[1860,null,{"$f":"IF('Requisição de Compra'!J1886=\"\",\"\",VLOOKUP(A1875,'Requisição de Compra'!$I$28:$J$3000,2,0))","v":""},null,null,null,null,null,null,"Falta Orçamento",null,{"$f":"VLOOKUP(A1875,'[1]Mapa de Preços'!$A$16:$D$2988,4,0)","v":0}]
[1861,null,{"$f":"IF('Requisição de Compra'!J1887=\"\",\"\",VLOOKUP(A1876,'Requisição de Compra'!$I$28:$J$3000,2,0))","v":""},null,null,null,null,null,null,"Falta Orçamento",null,{"$f":"VLOOKUP(A1876,'[1]Mapa de Preços'!$A$16:$D$2988,4,0)","v":0}]
[1862,null,{"$f":"IF('Requisição de Compra'!J1888=\"\",\"\",VLOOKUP(A1877,'Requisição de Compra'!$I$28:$J$3000,2,0))","v":""},null,null,null,null,null,null,"Falta Orçamento",null,{"$f":"VLOOKUP(A1877,'[1]Mapa de Preços'!$A$16:$D$2988,4,0)","v":0}]
[1863,null,{"$f":"IF('Requisição de Compra'!J1889=\"\",\"\",VLOOKUP(A1878,'Requisição de Compra'!$I$28:$J$3000,2,0))","v":""},null,null,null,null,null,null,"Falta Orçamento",null,{"$f":"VLOOKUP(A1878,'[1]Mapa de Preços'!$A$16:$D$2988,4,0)","v":0}]
[1864,null,{"$f":"IF('Requisição de Compra'!J1890=\"\",\"\",VLOOKUP(A1879,'Requisição de Compra'!$I$28:$J$3000,2,0))","v":""},null,null,null,null,null,null,"Falta Orçamento",null,{"$f":"VLOOKUP(A1879,'[1]Mapa de Preços'!$A$16:$D$2988,4,0)","v":0}]
[1865,null,{"$f":"IF('Requisição de Compra'!J1891=\"\",\"\",VLOOKUP(A1880,'Requisição de Compra'!$I$28:$J$3000,2,0))","v":""},null,null,null,null,null,null,"Falta Orçamento",null,{"$f":"VLOOKUP(A1880,'[1]Mapa de Preços'!$A$16:$D$2988,4,0)","v":0}]
[1866,null,{"$f":"IF('Requisição de Compra'!J1892=\"\",\"\",VLOOKUP(A1881,'Requisição de Compra'!$I$28:$J$3000,2,0))","v":""},null,null,null,null,null,null,"Falta Orçamento",null,{"$f":"VLOOKUP(A1881,'[1]Mapa de Preços'!$A$16:$D$2988,4,0)","v":0}]
[1867,null,{"$f":"IF('Requisição de Compra'!J1893=\"\",\"\",VLOOKUP(A1882,'Requisição de Compra'!$I$28:$J$3000,2,0))","v":""},null,null,null,null,null,null,"Falta Orçamento",null,{"$f":"VLOOKUP(A1882,'[1]Mapa de Preços'!$A$16:$D$2988,4,0)","v":0}]
[1868,null,{"$f":"IF('Requisição de Compra'!J1894=\"\",\"\",VLOOKUP(A1883,'Requisição de Compra'!$I$28:$J$3000,2,0))","v":""},null,null,null,null,null,null,"Falta Orçamento",null,{"$f":"VLOOKUP(A1883,'[1]Mapa de Preços'!$A$16:$D$2988,4,0)","v":0}]
[1869,null,{"$f":"IF('Requisição de Compra'!J1895=\"\",\"\",VLOOKUP(A1884,'Requisição de Compra'!$I$28:$J$3000,2,0))","v":""},null,null,null,null,null,null,"Falta Orçamento",null,{"$f":"VLOOKUP(A1884,'[1]Mapa de Preços'!$A$16:$D$2988,4,0)","v":0}]
[1870,null,{"$f":"IF('Requisição de Compra'!J1896=\"\",\"\",VLOOKUP(A1885,'Requisição de Compra'!$I$28:$J$3000,2,0))","v":""},null,null,null,null,null,null,"Falta Orçamento",null,{"$f":"VLOOKUP(A1885,'[1]Mapa de Preços'!$A$16:$D$2988,4,0)","v":0}]
[1871,null,{"$f":"IF('Requisição de Compra'!J1897=\"\",\"\",VLOOKUP(A1886,'Requisição de Compra'!$I$28:$J$3000,2,0))","v":""},null,null,null,null,null,null,"Falta Orçamento",null,{"$f":"VLOOKUP(A1886,'[1]Mapa de Preços'!$A$16:$D$2988,4,0)","v":0}]
[1872,null,{"$f":"IF('Requisição de Compra'!J1898=\"\",\"\",VLOOKUP(A1887,'Requisição de Compra'!$I$28:$J$3000,2,0))","v":""},null,null,null,null,null,null,"Falta Orçamento",null,{"$f":"VLOOKUP(A1887,'[1]Mapa de Preços'!$A$16:$D$2988,4,0)","v":0}]
[1873,null,{"$f":"IF('Requisição de Compra'!J1899=\"\",\"\",VLOOKUP(A1888,'Requisição de Compra'!$I$28:$J$3000,2,0))","v":""},null,null,null,null,null,null,"Falta Orçamento",null,{"$f":"VLOOKUP(A1888,'[1]Mapa de Preços'!$A$16:$D$2988,4,0)","v":0}]
[1874,null,{"$f":"IF('Requisição de Compra'!J1900=\"\",\"\",VLOOKUP(A1889,'Requisição de Compra'!$I$28:$J$3000,2,0))","v":""},null,null,null,null,null,null,"Falta Orçamento",null,{"$f":"VLOOKUP(A1889,'[1]Mapa de Preços'!$A$16:$D$2988,4,0)","v":0}]
[1875,null,{"$f":"IF('Requisição de Compra'!J1901=\"\",\"\",VLOOKUP(A1890,'Requisição de Compra'!$I$28:$J$3000,2,0))","v":""},null,null,null,null,null,null,"Falta Orçamento",null,{"$f":"VLOOKUP(A1890,'[1]Mapa de Preços'!$A$16:$D$2988,4,0)","v":0}]
[1876,null,{"$f":"IF('Requisição de Compra'!J1902=\"\",\"\",VLOOKUP(A1891,'Requisição de Compra'!$I$28:$J$3000,2,0))","v":""},null,null,null,null,null,null,"Falta Orçamento",null,{"$f":"VLOOKUP(A1891,'[1]Mapa de Preços'!$A$16:$D$2988,4,0)","v":0}]
[1877,null,{"$f":"IF('Requisição de Compra'!J1903=\"\",\"\",VLOOKUP(A1892,'Requisição de Compra'!$I$28:$J$3000,2,0))","v":""},null,null,null,null,null,null,"Falta Orçamento",null,{"$f":"VLOOKUP(A1892,'[1]Mapa de Preços'!$A$16:$D$2988,4,0)","v":0}]
[1878,null,{"$f":"IF('Requisição de Compra'!J1904=\"\",\"\",VLOOKUP(A1893,'Requisição de Compra'!$I$28:$J$3000,2,0))","v":""},null,null,null,null,null,null,"Falta Orçamento",null,{"$f":"VLOOKUP(A1893,'[1]Mapa de Preços'!$A$16:$D$2988,4,0)","v":0}]
[1879,null,{"$f":"IF('Requisição de Compra'!J1905=\"\",\"\",VLOOKUP(A1894,'Requisição de Compra'!$I$28:$J$3000,2,0))","v":""},null,null,null,null,null,null,"Falta Orçamento",null,{"$f":"VLOOKUP(A1894,'[1]Mapa de Preços'!$A$16:$D$2988,4,0)","v":0}]
[1880,null,{"$f":"IF('Requisição de Compra'!J1906=\"\",\"\",VLOOKUP(A1895,'Requisição de Compra'!$I$28:$J$3000,2,0))","v":""},null,null,null,null,null,null,"Falta Orçamento",null,{"$f":"VLOOKUP(A1895,'[1]Mapa de Preços'!$A$16:$D$2988,4,0)","v":0}]
[1881,null,{"$f":"IF('Requisição de Compra'!J1907=\"\",\"\",VLOOKUP(A1896,'Requisição de Compra'!$I$28:$J$3000,2,0))","v":""},null,null,null,null,null,null,"Falta Orçamento",null,{"$f":"VLOOKUP(A1896,'[1]Mapa de Preços'!$A$16:$D$2988,4,0)","v":0}]
[1882,null,{"$f":"IF('Requisição de Compra'!J1908=\"\",\"\",VLOOKUP(A1897,'Requisição de Compra'!$I$28:$J$3000,2,0))","v":""},null,null,null,null,null,null,"Falta Orçamento",null,{"$f":"VLOOKUP(A1897,'[1]Mapa de Preços'!$A$16:$D$2988,4,0)","v":0}]
[1883,null,{"$f":"IF('Requisição de Compra'!J1909=\"\",\"\",VLOOKUP(A1898,'Requisição de Compra'!$I$28:$J$3000,2,0))","v":""},null,null,null,null,null,null,"Falta Orçamento",null,{"$f":"VLOOKUP(A1898,'[1]Mapa de Preços'!$A$16:$D$2988,4,0)","v":0}]
[1884,null,{"$f":"IF('Requisição de Compra'!J1910=\"\",\"\",VLOOKUP(A1899,'Requisição de Compra'!$I$28:$J$3000,2,0))","v":""},null,null,null,null,null,null,"Falta Orçamento",null,{"$f":"VLOOKUP(A1899,'[1]Mapa de Preços'!$A$16:$D$2988,4,0)","v":0}]
[1885,null,{"$f":"IF('Requisição de Compra'!J1911=\"\",\"\",VLOOKUP(A1900,'Requisição de Compra'!$I$28:$J$3000,2,0))","v":""},null,null,null,null,null,null,"Falta Orçamento",null,{"$f":"VLOOKUP(A1900,'[1]Mapa de Preços'!$A$16:$D$2988,4,0)","v":0}]
[1886,null,{"$f":"IF('Requisição de Compra'!J1912=\"\",\"\",VLOOKUP(A1901,'Requisição de Compra'!$I$28:$J$3000,2,0))","v":""},null,null,null,null,null,null,"Falta Orçamento",null,{"$f":"VLOOKUP(A1901,'[1]Mapa de Preços'!$A$16:$D$2988,4,0)","v":0}]
[1887,null,{"$f":"IF('Requisição de Compra'!J1913=\"\",\"\",VLOOKUP(A1902,'Requisição de Compra'!$I$28:$J$3000,2,0))","v":""},null,null,null,null,null,null,"Falta Orçamento",null,{"$f":"VLOOKUP(A1902,'[1]Mapa de Preços'!$A$16:$D$2988,4,0)","v":0}]
[1888,null,{"$f":"IF('Requisição de Compra'!J1914=\"\",\"\",VLOOKUP(A1903,'Requisição de Compra'!$I$28:$J$3000,2,0))","v":""},null,null,null,null,null,null,"Falta Orçamento",null,{"$f":"VLOOKUP(A1903,'[1]Mapa de Preços'!$A$16:$D$2988,4,0)","v":0}]
[1889,null,{"$f":"IF('Requisição de Compra'!J1915=\"\",\"\",VLOOKUP(A1904,'Requisição de Compra'!$I$28:$J$3000,2,0))","v":""},null,null,null,null,null,null,"Falta Orçamento",null,{"$f":"VLOOKUP(A1904,'[1]Mapa de Preços'!$A$16:$D$2988,4,0)","v":0}]
[1890,null,{"$f":"IF('Requisição de Compra'!J1916=\"\",\"\",VLOOKUP(A1905,'Requisição de Compra'!$I$28:$J$3000,2,0))","v":""},null,null,null,null,null,null,"Falta Orçamento",null,{"$f":"VLOOKUP(A1905,'[1]Mapa de Preços'!$A$16:$D$2988,4,0)","v":0}]
[1891,null,{"$f":"IF('Requisição de Compra'!J1917=\"\",\"\",VLOOKUP(A1906,'Requisição de Compra'!$I$28:$J$3000,2,0))","v":""},null,null,null,null,null,null,"Falta Orçamento",null,{"$f":"VLOOKUP(A1906,'[1]Mapa de Preços'!$A$16:$D$2988,4,0)","v":0}]
[1892,null,{"$f":"IF('Requisição de Compra'!J1918=\"\",\"\",VLOOKUP(A1907,'Requisição de Compra'!$I$28:$J$3000,2,0))","v":""},null,null,null,null,null,null,"Falta Orçamento",null,{"$f":"VLOOKUP(A1907,'[1]Mapa de Preços'!$A$16:$D$2988,4,0)","v":0}]
[1893,null,{"$f":"IF('Requisição de Compra'!J1919=\"\",\"\",VLOOKUP(A1908,'Requisição de Compra'!$I$28:$J$3000,2,0))","v":""},null,null,null,null,null,null,"Falta Orçamento",null,{"$f":"VLOOKUP(A1908,'[1]Mapa de Preços'!$A$16:$D$2988,4,0)","v":0}]
[1894,null,{"$f":"IF('Requisição de Compra'!J1920=\"\",\"\",VLOOKUP(A1909,'Requisição de Compra'!$I$28:$J$3000,2,0))","v":""},null,null,null,null,null,null,"Falta Orçamento",null,{"$f":"VLOOKUP(A1909,'[1]Mapa de Preços'!$A$16:$D$2988,4,0)","v":0}]
[1895,null,{"$f":"IF('Requisição de Compra'!J1921=\"\",\"\",VLOOKUP(A1910,'Requisição de Compra'!$I$28:$J$3000,2,0))","v":""},null,null,null,null,null,null,"Falta Orçamento",null,{"$f":"VLOOKUP(A1910,'[1]Mapa de Preços'!$A$16:$D$2988,4,0)","v":0}]
[1896,null,{"$f":"IF('Requisição de Compra'!J1922=\"\",\"\",VLOOKUP(A1911,'Requisição de Compra'!$I$28:$J$3000,2,0))","v":""},null,null,null,null,null,null,"Falta Orçamento",null,{"$f":"VLOOKUP(A1911,'[1]Mapa de Preços'!$A$16:$D$2988,4,0)","v":0}]
[1897,null,{"$f":"IF('Requisição de Compra'!J1923=\"\",\"\",VLOOKUP(A1912,'Requisição de Compra'!$I$28:$J$3000,2,0))","v":""},null,null,null,null,null,null,"Falta Orçamento",null,{"$f":"VLOOKUP(A1912,'[1]Mapa de Preços'!$A$16:$D$2988,4,0)","v":0}]
[1898,null,{"$f":"IF('Requisição de Compra'!J1924=\"\",\"\",VLOOKUP(A1913,'Requisição de Compra'!$I$28:$J$3000,2,0))","v":""},null,null,null,null,null,null,"Falta Orçamento",null,{"$f":"VLOOKUP(A1913,'[1]Mapa de Preços'!$A$16:$D$2988,4,0)","v":0}]
[1899,null,{"$f":"IF('Requisição de Compra'!J1925=\"\",\"\",VLOOKUP(A1914,'Requisição de Compra'!$I$28:$J$3000,2,0))","v":""},null,null,null,null,null,null,"Falta Orçamento",null,{"$f":"VLOOKUP(A1914,'[1]Mapa de Preços'!$A$16:$D$2988,4,0)","v":0}]
[1900,null,{"$f":"IF('Requisição de Compra'!J1926=\"\",\"\",VLOOKUP(A1915,'Requisição de Compra'!$I$28:$J$3000,2,0))","v":""},null,null,null,null,null,null,"Falta Orçamento",null,{"$f":"VLOOKUP(A1915,'[1]Mapa de Preços'!$A$16:$D$2988,4,0)","v":0}]
[1901,null,{"$f":"IF('Requisição de Compra'!J1927=\"\",\"\",VLOOKUP(A1916,'Requisição de Compra'!$I$28:$J$3000,2,0))","v":""},null,null,null,null,null,null,"Falta Orçamento",null,{"$f":"VLOOKUP(A1916,'[1]Mapa de Preços'!$A$16:$D$2988,4,0)","v":0}]
[1902,null,{"$f":"IF('Requisição de Compra'!J1928=\"\",\"\",VLOOKUP(A1917,'Requisição de Compra'!$I$28:$J$3000,2,0))","v":""},null,null,null,null,null,null,"Falta Orçamento",null,{"$f":"VLOOKUP(A1917,'[1]Mapa de Preços'!$A$16:$D$2988,4,0)","v":0}]
[1903,null,{"$f":"IF('Requisição de Compra'!J1929=\"\",\"\",VLOOKUP(A1918,'Requisição de Compra'!$I$28:$J$3000,2,0))","v":""},null,null,null,null,null,null,"Falta Orçamento",null,{"$f":"VLOOKUP(A1918,'[1]Mapa de Preços'!$A$16:$D$2988,4,0)","v":0}]
[1904,null,{"$f":"IF('Requisição de Compra'!J1930=\"\",\"\",VLOOKUP(A1919,'Requisição de Compra'!$I$28:$J$3000,2,0))","v":""},null,null,null,null,null,null,"Falta Orçamento",null,{"$f":"VLOOKUP(A1919,'[1]Mapa de Preços'!$A$16:$D$2988,4,0)","v":0}]
[1905,null,{"$f":"IF('Requisição de Compra'!J1931=\"\",\"\",VLOOKUP(A1920,'Requisição de Compra'!$I$28:$J$3000,2,0))","v":""},null,null,null,null,null,null,"Falta Orçamento",null,{"$f":"VLOOKUP(A1920,'[1]Mapa de Preços'!$A$16:$D$2988,4,0)","v":0}]
[1906,null,{"$f":"IF('Requisição de Compra'!J1932=\"\",\"\",VLOOKUP(A1921,'Requisição de Compra'!$I$28:$J$3000,2,0))","v":""},null,null,null,null,null,null,"Falta Orçamento",null,{"$f":"VLOOKUP(A1921,'[1]Mapa de Preços'!$A$16:$D$2988,4,0)","v":0}]
[1907,null,{"$f":"IF('Requisição de Compra'!J1933=\"\",\"\",VLOOKUP(A1922,'Requisição de Compra'!$I$28:$J$3000,2,0))","v":""},null,null,null,null,null,null,"Falta Orçamento",null,{"$f":"VLOOKUP(A1922,'[1]Mapa de Preços'!$A$16:$D$2988,4,0)","v":0}]
[1908,null,{"$f":"IF('Requisição de Compra'!J1934=\"\",\"\",VLOOKUP(A1923,'Requisição de Compra'!$I$28:$J$3000,2,0))","v":""},null,null,null,null,null,null,"Falta Orçamento",null,{"$f":"VLOOKUP(A1923,'[1]Mapa de Preços'!$A$16:$D$2988,4,0)","v":0}]
[1909,null,{"$f":"IF('Requisição de Compra'!J1935=\"\",\"\",VLOOKUP(A1924,'Requisição de Compra'!$I$28:$J$3000,2,0))","v":""},null,null,null,null,null,null,"Falta Orçamento",null,{"$f":"VLOOKUP(A1924,'[1]Mapa de Preços'!$A$16:$D$2988,4,0)","v":0}]
[1910,null,{"$f":"IF('Requisição de Compra'!J1936=\"\",\"\",VLOOKUP(A1925,'Requisição de Compra'!$I$28:$J$3000,2,0))","v":""},null,null,null,null,null,null,"Falta Orçamento",null,{"$f":"VLOOKUP(A1925,'[1]Mapa de Preços'!$A$16:$D$2988,4,0)","v":0}]
[1911,null,{"$f":"IF('Requisição de Compra'!J1937=\"\",\"\",VLOOKUP(A1926,'Requisição de Compra'!$I$28:$J$3000,2,0))","v":""},null,null,null,null,null,null,"Falta Orçamento",null,{"$f":"VLOOKUP(A1926,'[1]Mapa de Preços'!$A$16:$D$2988,4,0)","v":0}]
[1912,null,{"$f":"IF('Requisição de Compra'!J1938=\"\",\"\",VLOOKUP(A1927,'Requisição de Compra'!$I$28:$J$3000,2,0))","v":""},null,null,null,null,null,null,"Falta Orçamento",null,{"$f":"VLOOKUP(A1927,'[1]Mapa de Preços'!$A$16:$D$2988,4,0)","v":0}]
[1913,null,{"$f":"IF('Requisição de Compra'!J1939=\"\",\"\",VLOOKUP(A1928,'Requisição de Compra'!$I$28:$J$3000,2,0))","v":""},null,null,null,null,null,null,"Falta Orçamento",null,{"$f":"VLOOKUP(A1928,'[1]Mapa de Preços'!$A$16:$D$2988,4,0)","v":0}]
[1914,null,{"$f":"IF('Requisição de Compra'!J1940=\"\",\"\",VLOOKUP(A1929,'Requisição de Compra'!$I$28:$J$3000,2,0))","v":""},null,null,null,null,null,null,"Falta Orçamento",null,{"$f":"VLOOKUP(A1929,'[1]Mapa de Preços'!$A$16:$D$2988,4,0)","v":0}]
[1915,null,{"$f":"IF('Requisição de Compra'!J1941=\"\",\"\",VLOOKUP(A1930,'Requisição de Compra'!$I$28:$J$3000,2,0))","v":""},null,null,null,null,null,null,"Falta Orçamento",null,{"$f":"VLOOKUP(A1930,'[1]Mapa de Preços'!$A$16:$D$2988,4,0)","v":0}]
[1916,null,{"$f":"IF('Requisição de Compra'!J1942=\"\",\"\",VLOOKUP(A1931,'Requisição de Compra'!$I$28:$J$3000,2,0))","v":""},null,null,null,null,null,null,"Falta Orçamento",null,{"$f":"VLOOKUP(A1931,'[1]Mapa de Preços'!$A$16:$D$2988,4,0)","v":0}]
[1917,null,{"$f":"IF('Requisição de Compra'!J1943=\"\",\"\",VLOOKUP(A1932,'Requisição de Compra'!$I$28:$J$3000,2,0))","v":""},null,null,null,null,null,null,"Falta Orçamento",null,{"$f":"VLOOKUP(A1932,'[1]Mapa de Preços'!$A$16:$D$2988,4,0)","v":0}]
[1918,null,{"$f":"IF('Requisição de Compra'!J1944=\"\",\"\",VLOOKUP(A1933,'Requisição de Compra'!$I$28:$J$3000,2,0))","v":""},null,null,null,null,null,null,"Falta Orçamento",null,{"$f":"VLOOKUP(A1933,'[1]Mapa de Preços'!$A$16:$D$2988,4,0)","v":0}]
[1919,null,{"$f":"IF('Requisição de Compra'!J1945=\"\",\"\",VLOOKUP(A1934,'Requisição de Compra'!$I$28:$J$3000,2,0))","v":""},null,null,null,null,null,null,"Falta Orçamento",null,{"$f":"VLOOKUP(A1934,'[1]Mapa de Preços'!$A$16:$D$2988,4,0)","v":0}]
[1920,null,{"$f":"IF('Requisição de Compra'!J1946=\"\",\"\",VLOOKUP(A1935,'Requisição de Compra'!$I$28:$J$3000,2,0))","v":""},null,null,null,null,null,null,"Falta Orçamento",null,{"$f":"VLOOKUP(A1935,'[1]Mapa de Preços'!$A$16:$D$2988,4,0)","v":0}]
[1921,null,{"$f":"IF('Requisição de Compra'!J1947=\"\",\"\",VLOOKUP(A1936,'Requisição de Compra'!$I$28:$J$3000,2,0))","v":""},null,null,null,null,null,null,"Falta Orçamento",null,{"$f":"VLOOKUP(A1936,'[1]Mapa de Preços'!$A$16:$D$2988,4,0)","v":0}]
[1922,null,{"$f":"IF('Requisição de Compra'!J1948=\"\",\"\",VLOOKUP(A1937,'Requisição de Compra'!$I$28:$J$3000,2,0))","v":""},null,null,null,null,null,null,{"$f":"IF(AND(D1937<>\"\",F1937<>\"\",H1937<>\"\"),AVERAGE(D1937:H1937),\"Falta Orçamento\")","v":"Falta Orçamento"},null,{"$f":"VLOOKUP(A1937,'[1]Mapa de Preços'!$A$16:$D$2988,4,0)","v":0}]
[1923,null,{"$f":"IF('Requisição de Compra'!J1949=\"\",\"\",VLOOKUP(A1938,'Requisição de Compra'!$I$28:$J$3000,2,0))","v":""},null,null,null,null,null,null,"Falta Orçamento",null,{"$f":"VLOOKUP(A1938,'[1]Mapa de Preços'!$A$16:$D$2988,4,0)","v":0}]
[1924,null,{"$f":"IF('Requisição de Compra'!J1950=\"\",\"\",VLOOKUP(A1939,'Requisição de Compra'!$I$28:$J$3000,2,0))","v":""},null,null,null,null,null,null,"Falta Orçamento",null,{"$f":"VLOOKUP(A1939,'[1]Mapa de Preços'!$A$16:$D$2988,4,0)","v":0}]
[1925,null,{"$f":"IF('Requisição de Compra'!J1951=\"\",\"\",VLOOKUP(A1940,'Requisição de Compra'!$I$28:$J$3000,2,0))","v":""},null,null,null,null,null,null,"Falta Orçamento",null,{"$f":"VLOOKUP(A1940,'[1]Mapa de Preços'!$A$16:$D$2988,4,0)","v":0}]
[1926,null,{"$f":"IF('Requisição de Compra'!J1952=\"\",\"\",VLOOKUP(A1941,'Requisição de Compra'!$I$28:$J$3000,2,0))","v":""},null,null,null,null,null,null,"Falta Orçamento",null,{"$f":"VLOOKUP(A1941,'[1]Mapa de Preços'!$A$16:$D$2988,4,0)","v":0}]
[1927,null,{"$f":"IF('Requisição de Compra'!J1953=\"\",\"\",VLOOKUP(A1942,'Requisição de Compra'!$I$28:$J$3000,2,0))","v":""},null,null,null,null,null,null,"Falta Orçamento",null,{"$f":"VLOOKUP(A1942,'[1]Mapa de Preços'!$A$16:$D$2988,4,0)","v":0}]
[1928,null,{"$f":"IF('Requisição de Compra'!J1954=\"\",\"\",VLOOKUP(A1943,'Requisição de Compra'!$I$28:$J$3000,2,0))","v":""},null,null,null,null,null,null,"Falta Orçamento",null,{"$f":"VLOOKUP(A1943,'[1]Mapa de Preços'!$A$16:$D$2988,4,0)","v":0}]
[1929,null,{"$f":"IF('Requisição de Compra'!J1955=\"\",\"\",VLOOKUP(A1944,'Requisição de Compra'!$I$28:$J$3000,2,0))","v":""},null,null,null,null,null,null,"Falta Orçamento",null,{"$f":"VLOOKUP(A1944,'[1]Mapa de Preços'!$A$16:$D$2988,4,0)","v":0}]
[1930,null,{"$f":"IF('Requisição de Compra'!J1956=\"\",\"\",VLOOKUP(A1945,'Requisição de Compra'!$I$28:$J$3000,2,0))","v":""},null,null,null,null,null,null,"Falta Orçamento",null,{"$f":"VLOOKUP(A1945,'[1]Mapa de Preços'!$A$16:$D$2988,4,0)","v":0}]
[1931,null,{"$f":"IF('Requisição de Compra'!J1957=\"\",\"\",VLOOKUP(A1946,'Requisição de Compra'!$I$28:$J$3000,2,0))","v":""},null,null,null,null,null,null,"Falta Orçamento",null,{"$f":"VLOOKUP(A1946,'[1]Mapa de Preços'!$A$16:$D$2988,4,0)","v":0}]
[1932,null,{"$f":"IF('Requisição de Compra'!J1958=\"\",\"\",VLOOKUP(A1947,'Requisição de Compra'!$I$28:$J$3000,2,0))","v":""},null,null,null,null,null,null,"Falta Orçamento",null,{"$f":"VLOOKUP(A1947,'[1]Mapa de Preços'!$A$16:$D$2988,4,0)","v":0}]
[1933,null,{"$f":"IF('Requisição de Compra'!J1959=\"\",\"\",VLOOKUP(A1948,'Requisição de Compra'!$I$28:$J$3000,2,0))","v":""},null,null,null,null,null,null,"Falta Orçamento",null,{"$f":"VLOOKUP(A1948,'[1]Mapa de Preços'!$A$16:$D$2988,4,0)","v":0}]
[1934,null,{"$f":"IF('Requisição de Compra'!J1960=\"\",\"\",VLOOKUP(A1949,'Requisição de Compra'!$I$28:$J$3000,2,0))","v":""},null,null,null,null,null,null,"Falta Orçamento",null,{"$f":"VLOOKUP(A1949,'[1]Mapa de Preços'!$A$16:$D$2988,4,0)","v":0}]
[1935,null,{"$f":"IF('Requisição de Compra'!J1961=\"\",\"\",VLOOKUP(A1950,'Requisição de Compra'!$I$28:$J$3000,2,0))","v":""},null,null,null,null,null,null,"Falta Orçamento",null,{"$f":"VLOOKUP(A1950,'[1]Mapa de Preços'!$A$16:$D$2988,4,0)","v":0}]
[1936,null,{"$f":"IF('Requisição de Compra'!J1962=\"\",\"\",VLOOKUP(A1951,'Requisição de Compra'!$I$28:$J$3000,2,0))","v":""},null,null,null,null,null,null,"Falta Orçamento",null,{"$f":"VLOOKUP(A1951,'[1]Mapa de Preços'!$A$16:$D$2988,4,0)","v":0}]
[1937,null,{"$f":"IF('Requisição de Compra'!J1963=\"\",\"\",VLOOKUP(A1952,'Requisição de Compra'!$I$28:$J$3000,2,0))","v":""},null,null,null,null,null,null,"Falta Orçamento",null,{"$f":"VLOOKUP(A1952,'[1]Mapa de Preços'!$A$16:$D$2988,4,0)","v":0}]
[1938,null,{"$f":"IF('Requisição de Compra'!J1964=\"\",\"\",VLOOKUP(A1953,'Requisição de Compra'!$I$28:$J$3000,2,0))","v":""},null,null,null,null,null,null,"Falta Orçamento",null,{"$f":"VLOOKUP(A1953,'[1]Mapa de Preços'!$A$16:$D$2988,4,0)","v":0}]
[1939,null,{"$f":"IF('Requisição de Compra'!J1965=\"\",\"\",VLOOKUP(A1954,'Requisição de Compra'!$I$28:$J$3000,2,0))","v":""},null,null,null,null,null,null,"Falta Orçamento",null,{"$f":"VLOOKUP(A1954,'[1]Mapa de Preços'!$A$16:$D$2988,4,0)","v":0}]
[1940,null,{"$f":"IF('Requisição de Compra'!J1966=\"\",\"\",VLOOKUP(A1955,'Requisição de Compra'!$I$28:$J$3000,2,0))","v":""},null,null,null,null,null,null,"Falta Orçamento",null,{"$f":"VLOOKUP(A1955,'[1]Mapa de Preços'!$A$16:$D$2988,4,0)","v":0}]
[1941,null,{"$f":"IF('Requisição de Compra'!J1967=\"\",\"\",VLOOKUP(A1956,'Requisição de Compra'!$I$28:$J$3000,2,0))","v":""},null,null,null,null,null,null,"Falta Orçamento",null,{"$f":"VLOOKUP(A1956,'[1]Mapa de Preços'!$A$16:$D$2988,4,0)","v":0}]
[1942,null,{"$f":"IF('Requisição de Compra'!J1968=\"\",\"\",VLOOKUP(A1957,'Requisição de Compra'!$I$28:$J$3000,2,0))","v":""},null,null,null,null,null,null,"Falta Orçamento",null,{"$f":"VLOOKUP(A1957,'[1]Mapa de Preços'!$A$16:$D$2988,4,0)","v":0}]
[1943,null,{"$f":"IF('Requisição de Compra'!J1969=\"\",\"\",VLOOKUP(A1958,'Requisição de Compra'!$I$28:$J$3000,2,0))","v":""},null,null,null,null,null,null,"Falta Orçamento",null,{"$f":"VLOOKUP(A1958,'[1]Mapa de Preços'!$A$16:$D$2988,4,0)","v":0}]
[1944,null,{"$f":"IF('Requisição de Compra'!J1970=\"\",\"\",VLOOKUP(A1959,'Requisição de Compra'!$I$28:$J$3000,2,0))","v":""},null,null,null,null,null,null,"Falta Orçamento",null,{"$f":"VLOOKUP(A1959,'[1]Mapa de Preços'!$A$16:$D$2988,4,0)","v":0}]
[1945,null,{"$f":"IF('Requisição de Compra'!J1971=\"\",\"\",VLOOKUP(A1960,'Requisição de Compra'!$I$28:$J$3000,2,0))","v":""},null,null,null,null,null,null,"Falta Orçamento",null,{"$f":"VLOOKUP(A1960,'[1]Mapa de Preços'!$A$16:$D$2988,4,0)","v":0}]
[1946,null,{"$f":"IF('Requisição de Compra'!J1972=\"\",\"\",VLOOKUP(A1961,'Requisição de Compra'!$I$28:$J$3000,2,0))","v":""},null,null,null,null,null,null,"Falta Orçamento",null,{"$f":"VLOOKUP(A1961,'[1]Mapa de Preços'!$A$16:$D$2988,4,0)","v":0}]
[1947,null,{"$f":"IF('Requisição de Compra'!J1973=\"\",\"\",VLOOKUP(A1962,'Requisição de Compra'!$I$28:$J$3000,2,0))","v":""},null,null,null,null,null,null,"Falta Orçamento",null,{"$f":"VLOOKUP(A1962,'[1]Mapa de Preços'!$A$16:$D$2988,4,0)","v":0}]
[1948,null,{"$f":"IF('Requisição de Compra'!J1974=\"\",\"\",VLOOKUP(A1963,'Requisição de Compra'!$I$28:$J$3000,2,0))","v":""},null,null,null,null,null,null,"Falta Orçamento",null,{"$f":"VLOOKUP(A1963,'[1]Mapa de Preços'!$A$16:$D$2988,4,0)","v":0}]
[1949,null,{"$f":"IF('Requisição de Compra'!J1975=\"\",\"\",VLOOKUP(A1964,'Requisição de Compra'!$I$28:$J$3000,2,0))","v":""},null,null,null,null,null,null,"Falta Orçamento",null,{"$f":"VLOOKUP(A1964,'[1]Mapa de Preços'!$A$16:$D$2988,4,0)","v":0}]
[1950,null,{"$f":"IF('Requisição de Compra'!J1976=\"\",\"\",VLOOKUP(A1965,'Requisição de Compra'!$I$28:$J$3000,2,0))","v":""},null,null,null,null,null,null,"Falta Orçamento",null,{"$f":"VLOOKUP(A1965,'[1]Mapa de Preços'!$A$16:$D$2988,4,0)","v":0}]
[1951,null,{"$f":"IF('Requisição de Compra'!J1977=\"\",\"\",VLOOKUP(A1966,'Requisição de Compra'!$I$28:$J$3000,2,0))","v":""},null,null,null,null,null,null,"Falta Orçamento",null,{"$f":"VLOOKUP(A1966,'[1]Mapa de Preços'!$A$16:$D$2988,4,0)","v":0}]
[1952,null,{"$f":"IF('Requisição de Compra'!J1978=\"\",\"\",VLOOKUP(A1967,'Requisição de Compra'!$I$28:$J$3000,2,0))","v":""},null,null,null,null,null,null,"Falta Orçamento",null,{"$f":"VLOOKUP(A1967,'[1]Mapa de Preços'!$A$16:$D$2988,4,0)","v":0}]
[1953,null,{"$f":"IF('Requisição de Compra'!J1979=\"\",\"\",VLOOKUP(A1968,'Requisição de Compra'!$I$28:$J$3000,2,0))","v":""},null,null,null,null,null,null,"Falta Orçamento",null,{"$f":"VLOOKUP(A1968,'[1]Mapa de Preços'!$A$16:$D$2988,4,0)","v":0}]
[1954,null,{"$f":"IF('Requisição de Compra'!J1980=\"\",\"\",VLOOKUP(A1969,'Requisição de Compra'!$I$28:$J$3000,2,0))","v":""},null,null,null,null,null,null,"Falta Orçamento",null,{"$f":"VLOOKUP(A1969,'[1]Mapa de Preços'!$A$16:$D$2988,4,0)","v":0}]
[1955,null,{"$f":"IF('Requisição de Compra'!J1981=\"\",\"\",VLOOKUP(A1970,'Requisição de Compra'!$I$28:$J$3000,2,0))","v":""},null,null,null,null,null,null,"Falta Orçamento",null,{"$f":"VLOOKUP(A1970,'[1]Mapa de Preços'!$A$16:$D$2988,4,0)","v":0}]
[1956,null,{"$f":"IF('Requisição de Compra'!J1982=\"\",\"\",VLOOKUP(A1971,'Requisição de Compra'!$I$28:$J$3000,2,0))","v":""},null,null,null,null,null,null,"Falta Orçamento",null,{"$f":"VLOOKUP(A1971,'[1]Mapa de Preços'!$A$16:$D$2988,4,0)","v":0}]
[1957,null,{"$f":"IF('Requisição de Compra'!J1983=\"\",\"\",VLOOKUP(A1972,'Requisição de Compra'!$I$28:$J$3000,2,0))","v":""},null,null,null,null,null,null,"Falta Orçamento",null,{"$f":"VLOOKUP(A1972,'[1]Mapa de Preços'!$A$16:$D$2988,4,0)","v":0}]
[1958,null,{"$f":"IF('Requisição de Compra'!J1984=\"\",\"\",VLOOKUP(A1973,'Requisição de Compra'!$I$28:$J$3000,2,0))","v":""},null,null,null,null,null,null,"Falta Orçamento",null,{"$f":"VLOOKUP(A1973,'[1]Mapa de Preços'!$A$16:$D$2988,4,0)","v":0}]
[1959,null,{"$f":"IF('Requisição de Compra'!J1985=\"\",\"\",VLOOKUP(A1974,'Requisição de Compra'!$I$28:$J$3000,2,0))","v":""},null,null,null,null,null,null,"Falta Orçamento",null,{"$f":"VLOOKUP(A1974,'[1]Mapa de Preços'!$A$16:$D$2988,4,0)","v":0}]
[1960,null,{"$f":"IF('Requisição de Compra'!J1986=\"\",\"\",VLOOKUP(A1975,'Requisição de Compra'!$I$28:$J$3000,2,0))","v":""},null,null,null,null,null,null,"Falta Orçamento",null,{"$f":"VLOOKUP(A1975,'[1]Mapa de Preços'!$A$16:$D$2988,4,0)","v":0}]
[1961,null,{"$f":"IF('Requisição de Compra'!J1987=\"\",\"\",VLOOKUP(A1976,'Requisição de Compra'!$I$28:$J$3000,2,0))","v":""},null,null,null,null,null,null,"Falta Orçamento",null,{"$f":"VLOOKUP(A1976,'[1]Mapa de Preços'!$A$16:$D$2988,4,0)","v":0}]
[1962,null,{"$f":"IF('Requisição de Compra'!J1988=\"\",\"\",VLOOKUP(A1977,'Requisição de Compra'!$I$28:$J$3000,2,0))","v":""},null,null,null,null,null,null,"Falta Orçamento",null,{"$f":"VLOOKUP(A1977,'[1]Mapa de Preços'!$A$16:$D$2988,4,0)","v":0}]
[1963,null,{"$f":"IF('Requisição de Compra'!J1989=\"\",\"\",VLOOKUP(A1978,'Requisição de Compra'!$I$28:$J$3000,2,0))","v":""},null,null,null,null,null,null,"Falta Orçamento",null,{"$f":"VLOOKUP(A1978,'[1]Mapa de Preços'!$A$16:$D$2988,4,0)","v":0}]
[1964,null,{"$f":"IF('Requisição de Compra'!J1990=\"\",\"\",VLOOKUP(A1979,'Requisição de Compra'!$I$28:$J$3000,2,0))","v":""},null,null,null,null,null,null,"Falta Orçamento",null,{"$f":"VLOOKUP(A1979,'[1]Mapa de Preços'!$A$16:$D$2988,4,0)","v":0}]
[1965,null,{"$f":"IF('Requisição de Compra'!J1991=\"\",\"\",VLOOKUP(A1980,'Requisição de Compra'!$I$28:$J$3000,2,0))","v":""},null,null,null,null,null,null,"Falta Orçamento",null,{"$f":"VLOOKUP(A1980,'[1]Mapa de Preços'!$A$16:$D$2988,4,0)","v":0}]
[1966,null,{"$f":"IF('Requisição de Compra'!J1992=\"\",\"\",VLOOKUP(A1981,'Requisição de Compra'!$I$28:$J$3000,2,0))","v":""},null,null,null,null,null,null,"Falta Orçamento",null,{"$f":"VLOOKUP(A1981,'[1]Mapa de Preços'!$A$16:$D$2988,4,0)","v":0}]
[1967,null,{"$f":"IF('Requisição de Compra'!J1993=\"\",\"\",VLOOKUP(A1982,'Requisição de Compra'!$I$28:$J$3000,2,0))","v":""},null,null,null,null,null,null,"Falta Orçamento",null,{"$f":"VLOOKUP(A1982,'[1]Mapa de Preços'!$A$16:$D$2988,4,0)","v":0}]
[1968,null,{"$f":"IF('Requisição de Compra'!J1994=\"\",\"\",VLOOKUP(A1983,'Requisição de Compra'!$I$28:$J$3000,2,0))","v":""},null,null,null,null,null,null,"Falta Orçamento",null,{"$f":"VLOOKUP(A1983,'[1]Mapa de Preços'!$A$16:$D$2988,4,0)","v":0}]
[1969,null,{"$f":"IF('Requisição de Compra'!J1995=\"\",\"\",VLOOKUP(A1984,'Requisição de Compra'!$I$28:$J$3000,2,0))","v":""},null,null,null,null,null,null,"Falta Orçamento",null,{"$f":"VLOOKUP(A1984,'[1]Mapa de Preços'!$A$16:$D$2988,4,0)","v":0}]
[1970,null,{"$f":"IF('Requisição de Compra'!J1996=\"\",\"\",VLOOKUP(A1985,'Requisição de Compra'!$I$28:$J$3000,2,0))","v":""},null,null,null,null,null,null,"Falta Orçamento",null,{"$f":"VLOOKUP(A1985,'[1]Mapa de Preços'!$A$16:$D$2988,4,0)","v":0}]
[1971,null,{"$f":"IF('Requisição de Compra'!J1997=\"\",\"\",VLOOKUP(A1986,'Requisição de Compra'!$I$28:$J$3000,2,0))","v":""},null,null,null,null,null,null,"Falta Orçamento",null,{"$f":"VLOOKUP(A1986,'[1]Mapa de Preços'!$A$16:$D$2988,4,0)","v":0}]
[1972,null,{"$f":"IF('Requisição de Compra'!J1998=\"\",\"\",VLOOKUP(A1987,'Requisição de Compra'!$I$28:$J$3000,2,0))","v":""},null,null,null,null,null,null,"Falta Orçamento",null,{"$f":"VLOOKUP(A1987,'[1]Mapa de Preços'!$A$16:$D$2988,4,0)","v":0}]
[1973,null,{"$f":"IF('Requisição de Compra'!J1999=\"\",\"\",VLOOKUP(A1988,'Requisição de Compra'!$I$28:$J$3000,2,0))","v":""},null,null,null,null,null,null,"Falta Orçamento",null,{"$f":"VLOOKUP(A1988,'[1]Mapa de Preços'!$A$16:$D$2988,4,0)","v":0}]
[1974,null,{"$f":"IF('Requisição de Compra'!J2000=\"\",\"\",VLOOKUP(A1989,'Requisição de Compra'!$I$28:$J$3000,2,0))","v":""},null,null,null,null,null,null,"Falta Orçamento",null,{"$f":"VLOOKUP(A1989,'[1]Mapa de Preços'!$A$16:$D$2988,4,0)","v":0}]
[1975,null,{"$f":"IF('Requisição de Compra'!J2001=\"\",\"\",VLOOKUP(A1990,'Requisição de Compra'!$I$28:$J$3000,2,0))","v":""},null,null,null,null,null,null,"Falta Orçamento",null,{"$f":"VLOOKUP(A1990,'[1]Mapa de Preços'!$A$16:$D$2988,4,0)","v":0}]
[1976,null,{"$f":"IF('Requisição de Compra'!J2002=\"\",\"\",VLOOKUP(A1991,'Requisição de Compra'!$I$28:$J$3000,2,0))","v":""},null,null,null,null,null,null,"Falta Orçamento",null,{"$f":"VLOOKUP(A1991,'[1]Mapa de Preços'!$A$16:$D$2988,4,0)","v":0}]
[1977,null,{"$f":"IF('Requisição de Compra'!J2003=\"\",\"\",VLOOKUP(A1992,'Requisição de Compra'!$I$28:$J$3000,2,0))","v":""},null,null,null,null,null,null,"Falta Orçamento",null,{"$f":"VLOOKUP(A1992,'[1]Mapa de Preços'!$A$16:$D$2988,4,0)","v":0}]
[1978,null,{"$f":"IF('Requisição de Compra'!J2004=\"\",\"\",VLOOKUP(A1993,'Requisição de Compra'!$I$28:$J$3000,2,0))","v":""},null,null,null,null,null,null,"Falta Orçamento",null,{"$f":"VLOOKUP(A1993,'[1]Mapa de Preços'!$A$16:$D$2988,4,0)","v":0}]
[1979,null,{"$f":"IF('Requisição de Compra'!J2005=\"\",\"\",VLOOKUP(A1994,'Requisição de Compra'!$I$28:$J$3000,2,0))","v":""},null,null,null,null,null,null,"Falta Orçamento",null,{"$f":"VLOOKUP(A1994,'[1]Mapa de Preços'!$A$16:$D$2988,4,0)","v":0}]
[1980,null,{"$f":"IF('Requisição de Compra'!J2006=\"\",\"\",VLOOKUP(A1995,'Requisição de Compra'!$I$28:$J$3000,2,0))","v":""},null,null,null,null,null,null,"Falta Orçamento",null,{"$f":"VLOOKUP(A1995,'[1]Mapa de Preços'!$A$16:$D$2988,4,0)","v":0}]
[1981,null,{"$f":"IF('Requisição de Compra'!J2007=\"\",\"\",VLOOKUP(A1996,'Requisição de Compra'!$I$28:$J$3000,2,0))","v":""},null,null,null,null,null,null,"Falta Orçamento",null,{"$f":"VLOOKUP(A1996,'[1]Mapa de Preços'!$A$16:$D$2988,4,0)","v":0}]
[1982,null,{"$f":"IF('Requisição de Compra'!J2008=\"\",\"\",VLOOKUP(A1997,'Requisição de Compra'!$I$28:$J$3000,2,0))","v":""},null,null,null,null,null,null,"Falta Orçamento",null,{"$f":"VLOOKUP(A1997,'[1]Mapa de Preços'!$A$16:$D$2988,4,0)","v":0}]
[1983,null,{"$f":"IF('Requisição de Compra'!J2009=\"\",\"\",VLOOKUP(A1998,'Requisição de Compra'!$I$28:$J$3000,2,0))","v":""},null,null,null,null,null,null,"Falta Orçamento",null,{"$f":"VLOOKUP(A1998,'[1]Mapa de Preços'!$A$16:$D$2988,4,0)","v":0}]
[1984,null,{"$f":"IF('Requisição de Compra'!J2010=\"\",\"\",VLOOKUP(A1999,'Requisição de Compra'!$I$28:$J$3000,2,0))","v":""},null,null,null,null,null,null,"Falta Orçamento",null,{"$f":"VLOOKUP(A1999,'[1]Mapa de Preços'!$A$16:$D$2988,4,0)","v":0}]
[1985,null,{"$f":"IF('Requisição de Compra'!J2011=\"\",\"\",VLOOKUP(A2000,'Requisição de Compra'!$I$28:$J$3000,2,0))","v":""},null,null,null,null,null,null,"Falta Orçamento",null,{"$f":"VLOOKUP(A2000,'[1]Mapa de Preços'!$A$16:$D$2988,4,0)","v":0}]
[1986,null,{"$f":"IF('Requisição de Compra'!J2012=\"\",\"\",VLOOKUP(A2001,'Requisição de Compra'!$I$28:$J$3000,2,0))","v":""},null,null,null,null,null,null,{"$f":"IF(AND(D2001<>\"\",F2001<>\"\",H2001<>\"\"),AVERAGE(D2001:H2001),\"Falta Orçamento\")","v":"Falta Orçamento"},null,{"$f":"VLOOKUP(A2001,'[1]Mapa de Preços'!$A$16:$D$2988,4,0)","v":0}]
[1987,null,{"$f":"IF('Requisição de Compra'!J2013=\"\",\"\",VLOOKUP(A2002,'Requisição de Compra'!$I$28:$J$3000,2,0))","v":""},null,null,null,null,null,null,"Falta Orçamento",null,{"$f":"VLOOKUP(A2002,'[1]Mapa de Preços'!$A$16:$D$2988,4,0)","v":0}]
[1988,null,{"$f":"IF('Requisição de Compra'!J2014=\"\",\"\",VLOOKUP(A2003,'Requisição de Compra'!$I$28:$J$3000,2,0))","v":""},null,null,null,null,null,null,"Falta Orçamento",null,{"$f":"VLOOKUP(A2003,'[1]Mapa de Preços'!$A$16:$D$2988,4,0)","v":0}]
[1989,null,{"$f":"IF('Requisição de Compra'!J2015=\"\",\"\",VLOOKUP(A2004,'Requisição de Compra'!$I$28:$J$3000,2,0))","v":""},null,null,null,null,null,null,"Falta Orçamento",null,{"$f":"VLOOKUP(A2004,'[1]Mapa de Preços'!$A$16:$D$2988,4,0)","v":0}]
[1990,null,{"$f":"IF('Requisição de Compra'!J2016=\"\",\"\",VLOOKUP(A2005,'Requisição de Compra'!$I$28:$J$3000,2,0))","v":""},null,null,null,null,null,null,"Falta Orçamento",null,{"$f":"VLOOKUP(A2005,'[1]Mapa de Preços'!$A$16:$D$2988,4,0)","v":0}]
[1991,null,{"$f":"IF('Requisição de Compra'!J2017=\"\",\"\",VLOOKUP(A2006,'Requisição de Compra'!$I$28:$J$3000,2,0))","v":""},null,null,null,null,null,null,"Falta Orçamento",null,{"$f":"VLOOKUP(A2006,'[1]Mapa de Preços'!$A$16:$D$2988,4,0)","v":0}]
[1992,null,{"$f":"IF('Requisição de Compra'!J2018=\"\",\"\",VLOOKUP(A2007,'Requisição de Compra'!$I$28:$J$3000,2,0))","v":""},null,null,null,null,null,null,"Falta Orçamento",null,{"$f":"VLOOKUP(A2007,'[1]Mapa de Preços'!$A$16:$D$2988,4,0)","v":0}]
[1993,null,{"$f":"IF('Requisição de Compra'!J2019=\"\",\"\",VLOOKUP(A2008,'Requisição de Compra'!$I$28:$J$3000,2,0))","v":""},null,null,null,null,null,null,"Falta Orçamento",null,{"$f":"VLOOKUP(A2008,'[1]Mapa de Preços'!$A$16:$D$2988,4,0)","v":0}]
[1994,null,{"$f":"IF('Requisição de Compra'!J2020=\"\",\"\",VLOOKUP(A2009,'Requisição de Compra'!$I$28:$J$3000,2,0))","v":""},null,null,null,null,null,null,"Falta Orçamento",null,{"$f":"VLOOKUP(A2009,'[1]Mapa de Preços'!$A$16:$D$2988,4,0)","v":0}]
[1995,null,{"$f":"IF('Requisição de Compra'!J2021=\"\",\"\",VLOOKUP(A2010,'Requisição de Compra'!$I$28:$J$3000,2,0))","v":""},null,null,null,null,null,null,"Falta Orçamento",null,{"$f":"VLOOKUP(A2010,'[1]Mapa de Preços'!$A$16:$D$2988,4,0)","v":0}]
[1996,null,{"$f":"IF('Requisição de Compra'!J2022=\"\",\"\",VLOOKUP(A2011,'Requisição de Compra'!$I$28:$J$3000,2,0))","v":""},null,null,null,null,null,null,"Falta Orçamento",null,{"$f":"VLOOKUP(A2011,'[1]Mapa de Preços'!$A$16:$D$2988,4,0)","v":0}]
[1997,null,{"$f":"IF('Requisição de Compra'!J2023=\"\",\"\",VLOOKUP(A2012,'Requisição de Compra'!$I$28:$J$3000,2,0))","v":""},null,null,null,null,null,null,"Falta Orçamento",null,{"$f":"VLOOKUP(A2012,'[1]Mapa de Preços'!$A$16:$D$2988,4,0)","v":0}]
[1998,null,{"$f":"IF('Requisição de Compra'!J2024=\"\",\"\",VLOOKUP(A2013,'Requisição de Compra'!$I$28:$J$3000,2,0))","v":""},null,null,null,null,null,null,"Falta Orçamento",null,{"$f":"VLOOKUP(A2013,'[1]Mapa de Preços'!$A$16:$D$2988,4,0)","v":0}]
[1999,null,{"$f":"IF('Requisição de Compra'!J2025=\"\",\"\",VLOOKUP(A2014,'Requisição de Compra'!$I$28:$J$3000,2,0))","v":""},null,null,null,null,null,null,"Falta Orçamento",null,{"$f":"VLOOKUP(A2014,'[1]Mapa de Preços'!$A$16:$D$2988,4,0)","v":0}]
[2000,null,{"$f":"IF('Requisição de Compra'!J2026=\"\",\"\",VLOOKUP(A2015,'Requisição de Compra'!$I$28:$J$3000,2,0))","v":""},null,null,null,null,null,null,"Falta Orçamento",null,{"$f":"VLOOKUP(A2015,'[1]Mapa de Preços'!$A$16:$D$2988,4,0)","v":0}]
[2001,null,{"$f":"IF('Requisição de Compra'!J2027=\"\",\"\",VLOOKUP(A2016,'Requisição de Compra'!$I$28:$J$3000,2,0))","v":""},null,null,null,null,null,null,"Falta Orçamento",null,{"$f":"VLOOKUP(A2016,'[1]Mapa de Preços'!$A$16:$D$2988,4,0)","v":0}]
[2002,null,{"$f":"IF('Requisição de Compra'!J2028=\"\",\"\",VLOOKUP(A2017,'Requisição de Compra'!$I$28:$J$3000,2,0))","v":""},null,null,null,null,null,null,"Falta Orçamento",null,{"$f":"VLOOKUP(A2017,'[1]Mapa de Preços'!$A$16:$D$2988,4,0)","v":0}]
[2003,null,{"$f":"IF('Requisição de Compra'!J2029=\"\",\"\",VLOOKUP(A2018,'Requisição de Compra'!$I$28:$J$3000,2,0))","v":""},null,null,null,null,null,null,"Falta Orçamento",null,{"$f":"VLOOKUP(A2018,'[1]Mapa de Preços'!$A$16:$D$2988,4,0)","v":0}]
[2004,null,{"$f":"IF('Requisição de Compra'!J2030=\"\",\"\",VLOOKUP(A2019,'Requisição de Compra'!$I$28:$J$3000,2,0))","v":""},null,null,null,null,null,null,"Falta Orçamento",null,{"$f":"VLOOKUP(A2019,'[1]Mapa de Preços'!$A$16:$D$2988,4,0)","v":0}]
[2005,null,{"$f":"IF('Requisição de Compra'!J2031=\"\",\"\",VLOOKUP(A2020,'Requisição de Compra'!$I$28:$J$3000,2,0))","v":""},null,null,null,null,null,null,"Falta Orçamento",null,{"$f":"VLOOKUP(A2020,'[1]Mapa de Preços'!$A$16:$D$2988,4,0)","v":0}]
[2006,null,{"$f":"IF('Requisição de Compra'!J2032=\"\",\"\",VLOOKUP(A2021,'Requisição de Compra'!$I$28:$J$3000,2,0))","v":""},null,null,null,null,null,null,"Falta Orçamento",null,{"$f":"VLOOKUP(A2021,'[1]Mapa de Preços'!$A$16:$D$2988,4,0)","v":0}]
[2007,null,{"$f":"IF('Requisição de Compra'!J2033=\"\",\"\",VLOOKUP(A2022,'Requisição de Compra'!$I$28:$J$3000,2,0))","v":""},null,null,null,null,null,null,"Falta Orçamento",null,{"$f":"VLOOKUP(A2022,'[1]Mapa de Preços'!$A$16:$D$2988,4,0)","v":0}]
[2008,null,{"$f":"IF('Requisição de Compra'!J2034=\"\",\"\",VLOOKUP(A2023,'Requisição de Compra'!$I$28:$J$3000,2,0))","v":""},null,null,null,null,null,null,"Falta Orçamento",null,{"$f":"VLOOKUP(A2023,'[1]Mapa de Preços'!$A$16:$D$2988,4,0)","v":0}]
[2009,null,{"$f":"IF('Requisição de Compra'!J2035=\"\",\"\",VLOOKUP(A2024,'Requisição de Compra'!$I$28:$J$3000,2,0))","v":""},null,null,null,null,null,null,"Falta Orçamento",null,{"$f":"VLOOKUP(A2024,'[1]Mapa de Preços'!$A$16:$D$2988,4,0)","v":0}]
[2010,null,{"$f":"IF('Requisição de Compra'!J2036=\"\",\"\",VLOOKUP(A2025,'Requisição de Compra'!$I$28:$J$3000,2,0))","v":""},null,null,null,null,null,null,"Falta Orçamento",null,{"$f":"VLOOKUP(A2025,'[1]Mapa de Preços'!$A$16:$D$2988,4,0)","v":0}]
[2011,null,{"$f":"IF('Requisição de Compra'!J2037=\"\",\"\",VLOOKUP(A2026,'Requisição de Compra'!$I$28:$J$3000,2,0))","v":""},null,null,null,null,null,null,"Falta Orçamento",null,{"$f":"VLOOKUP(A2026,'[1]Mapa de Preços'!$A$16:$D$2988,4,0)","v":0}]
[2012,null,{"$f":"IF('Requisição de Compra'!J2038=\"\",\"\",VLOOKUP(A2027,'Requisição de Compra'!$I$28:$J$3000,2,0))","v":""},null,null,null,null,null,null,"Falta Orçamento",null,{"$f":"VLOOKUP(A2027,'[1]Mapa de Preços'!$A$16:$D$2988,4,0)","v":0}]
[2013,null,{"$f":"IF('Requisição de Compra'!J2039=\"\",\"\",VLOOKUP(A2028,'Requisição de Compra'!$I$28:$J$3000,2,0))","v":""},null,null,null,null,null,null,"Falta Orçamento",null,{"$f":"VLOOKUP(A2028,'[1]Mapa de Preços'!$A$16:$D$2988,4,0)","v":0}]
[2014,null,{"$f":"IF('Requisição de Compra'!J2040=\"\",\"\",VLOOKUP(A2029,'Requisição de Compra'!$I$28:$J$3000,2,0))","v":""},null,null,null,null,null,null,"Falta Orçamento",null,{"$f":"VLOOKUP(A2029,'[1]Mapa de Preços'!$A$16:$D$2988,4,0)","v":0}]
[2015,null,{"$f":"IF('Requisição de Compra'!J2041=\"\",\"\",VLOOKUP(A2030,'Requisição de Compra'!$I$28:$J$3000,2,0))","v":""},null,null,null,null,null,null,"Falta Orçamento",null,{"$f":"VLOOKUP(A2030,'[1]Mapa de Preços'!$A$16:$D$2988,4,0)","v":0}]
[2016,null,{"$f":"IF('Requisição de Compra'!J2042=\"\",\"\",VLOOKUP(A2031,'Requisição de Compra'!$I$28:$J$3000,2,0))","v":""},null,null,null,null,null,null,"Falta Orçamento",null,{"$f":"VLOOKUP(A2031,'[1]Mapa de Preços'!$A$16:$D$2988,4,0)","v":0}]
[2017,null,{"$f":"IF('Requisição de Compra'!J2043=\"\",\"\",VLOOKUP(A2032,'Requisição de Compra'!$I$28:$J$3000,2,0))","v":""},null,null,null,null,null,null,"Falta Orçamento",null,{"$f":"VLOOKUP(A2032,'[1]Mapa de Preços'!$A$16:$D$2988,4,0)","v":0}]
[2018,null,{"$f":"IF('Requisição de Compra'!J2044=\"\",\"\",VLOOKUP(A2033,'Requisição de Compra'!$I$28:$J$3000,2,0))","v":""},null,null,null,null,null,null,"Falta Orçamento",null,{"$f":"VLOOKUP(A2033,'[1]Mapa de Preços'!$A$16:$D$2988,4,0)","v":0}]
[2019,null,{"$f":"IF('Requisição de Compra'!J2045=\"\",\"\",VLOOKUP(A2034,'Requisição de Compra'!$I$28:$J$3000,2,0))","v":""},null,null,null,null,null,null,"Falta Orçamento",null,{"$f":"VLOOKUP(A2034,'[1]Mapa de Preços'!$A$16:$D$2988,4,0)","v":0}]
[2020,null,{"$f":"IF('Requisição de Compra'!J2046=\"\",\"\",VLOOKUP(A2035,'Requisição de Compra'!$I$28:$J$3000,2,0))","v":""},null,null,null,null,null,null,"Falta Orçamento",null,{"$f":"VLOOKUP(A2035,'[1]Mapa de Preços'!$A$16:$D$2988,4,0)","v":0}]
[2021,null,{"$f":"IF('Requisição de Compra'!J2047=\"\",\"\",VLOOKUP(A2036,'Requisição de Compra'!$I$28:$J$3000,2,0))","v":""},null,null,null,null,null,null,"Falta Orçamento",null,{"$f":"VLOOKUP(A2036,'[1]Mapa de Preços'!$A$16:$D$2988,4,0)","v":0}]
[2022,null,{"$f":"IF('Requisição de Compra'!J2048=\"\",\"\",VLOOKUP(A2037,'Requisição de Compra'!$I$28:$J$3000,2,0))","v":""},null,null,null,null,null,null,"Falta Orçamento",null,{"$f":"VLOOKUP(A2037,'[1]Mapa de Preços'!$A$16:$D$2988,4,0)","v":0}]
[2023,null,{"$f":"IF('Requisição de Compra'!J2049=\"\",\"\",VLOOKUP(A2038,'Requisição de Compra'!$I$28:$J$3000,2,0))","v":""},null,null,null,null,null,null,"Falta Orçamento",null,{"$f":"VLOOKUP(A2038,'[1]Mapa de Preços'!$A$16:$D$2988,4,0)","v":0}]
[2024,null,{"$f":"IF('Requisição de Compra'!J2050=\"\",\"\",VLOOKUP(A2039,'Requisição de Compra'!$I$28:$J$3000,2,0))","v":""},null,null,null,null,null,null,"Falta Orçamento",null,{"$f":"VLOOKUP(A2039,'[1]Mapa de Preços'!$A$16:$D$2988,4,0)","v":0}]
[2025,null,{"$f":"IF('Requisição de Compra'!J2051=\"\",\"\",VLOOKUP(A2040,'Requisição de Compra'!$I$28:$J$3000,2,0))","v":""},null,null,null,null,null,null,"Falta Orçamento",null,{"$f":"VLOOKUP(A2040,'[1]Mapa de Preços'!$A$16:$D$2988,4,0)","v":0}]
[2026,null,{"$f":"IF('Requisição de Compra'!J2052=\"\",\"\",VLOOKUP(A2041,'Requisição de Compra'!$I$28:$J$3000,2,0))","v":""},null,null,null,null,null,null,"Falta Orçamento",null,{"$f":"VLOOKUP(A2041,'[1]Mapa de Preços'!$A$16:$D$2988,4,0)","v":0}]
[2027,null,{"$f":"IF('Requisição de Compra'!J2053=\"\",\"\",VLOOKUP(A2042,'Requisição de Compra'!$I$28:$J$3000,2,0))","v":""},null,null,null,null,null,null,"Falta Orçamento",null,{"$f":"VLOOKUP(A2042,'[1]Mapa de Preços'!$A$16:$D$2988,4,0)","v":0}]
[2028,null,{"$f":"IF('Requisição de Compra'!J2054=\"\",\"\",VLOOKUP(A2043,'Requisição de Compra'!$I$28:$J$3000,2,0))","v":""},null,null,null,null,null,null,"Falta Orçamento",null,{"$f":"VLOOKUP(A2043,'[1]Mapa de Preços'!$A$16:$D$2988,4,0)","v":0}]
[2029,null,{"$f":"IF('Requisição de Compra'!J2055=\"\",\"\",VLOOKUP(A2044,'Requisição de Compra'!$I$28:$J$3000,2,0))","v":""},null,null,null,null,null,null,"Falta Orçamento",null,{"$f":"VLOOKUP(A2044,'[1]Mapa de Preços'!$A$16:$D$2988,4,0)","v":0}]
[2030,null,{"$f":"IF('Requisição de Compra'!J2056=\"\",\"\",VLOOKUP(A2045,'Requisição de Compra'!$I$28:$J$3000,2,0))","v":""},null,null,null,null,null,null,"Falta Orçamento",null,{"$f":"VLOOKUP(A2045,'[1]Mapa de Preços'!$A$16:$D$2988,4,0)","v":0}]
[2031,null,{"$f":"IF('Requisição de Compra'!J2057=\"\",\"\",VLOOKUP(A2046,'Requisição de Compra'!$I$28:$J$3000,2,0))","v":""},null,null,null,null,null,null,"Falta Orçamento",null,{"$f":"VLOOKUP(A2046,'[1]Mapa de Preços'!$A$16:$D$2988,4,0)","v":0}]
[2032,null,{"$f":"IF('Requisição de Compra'!J2058=\"\",\"\",VLOOKUP(A2047,'Requisição de Compra'!$I$28:$J$3000,2,0))","v":""},null,null,null,null,null,null,"Falta Orçamento",null,{"$f":"VLOOKUP(A2047,'[1]Mapa de Preços'!$A$16:$D$2988,4,0)","v":0}]
[2033,null,{"$f":"IF('Requisição de Compra'!J2059=\"\",\"\",VLOOKUP(A2048,'Requisição de Compra'!$I$28:$J$3000,2,0))","v":""},null,null,null,null,null,null,"Falta Orçamento",null,{"$f":"VLOOKUP(A2048,'[1]Mapa de Preços'!$A$16:$D$2988,4,0)","v":0}]
[2034,null,{"$f":"IF('Requisição de Compra'!J2060=\"\",\"\",VLOOKUP(A2049,'Requisição de Compra'!$I$28:$J$3000,2,0))","v":""},null,null,null,null,null,null,"Falta Orçamento",null,{"$f":"VLOOKUP(A2049,'[1]Mapa de Preços'!$A$16:$D$2988,4,0)","v":0}]
[2035,null,{"$f":"IF('Requisição de Compra'!J2061=\"\",\"\",VLOOKUP(A2050,'Requisição de Compra'!$I$28:$J$3000,2,0))","v":""},null,null,null,null,null,null,"Falta Orçamento",null,{"$f":"VLOOKUP(A2050,'[1]Mapa de Preços'!$A$16:$D$2988,4,0)","v":0}]
[2036,null,{"$f":"IF('Requisição de Compra'!J2062=\"\",\"\",VLOOKUP(A2051,'Requisição de Compra'!$I$28:$J$3000,2,0))","v":""},null,null,null,null,null,null,"Falta Orçamento",null,{"$f":"VLOOKUP(A2051,'[1]Mapa de Preços'!$A$16:$D$2988,4,0)","v":0}]
[2037,null,{"$f":"IF('Requisição de Compra'!J2063=\"\",\"\",VLOOKUP(A2052,'Requisição de Compra'!$I$28:$J$3000,2,0))","v":""},null,null,null,null,null,null,"Falta Orçamento",null,{"$f":"VLOOKUP(A2052,'[1]Mapa de Preços'!$A$16:$D$2988,4,0)","v":0}]
[2038,null,{"$f":"IF('Requisição de Compra'!J2064=\"\",\"\",VLOOKUP(A2053,'Requisição de Compra'!$I$28:$J$3000,2,0))","v":""},null,null,null,null,null,null,"Falta Orçamento",null,{"$f":"VLOOKUP(A2053,'[1]Mapa de Preços'!$A$16:$D$2988,4,0)","v":0}]
[2039,null,{"$f":"IF('Requisição de Compra'!J2065=\"\",\"\",VLOOKUP(A2054,'Requisição de Compra'!$I$28:$J$3000,2,0))","v":""},null,null,null,null,null,null,"Falta Orçamento",null,{"$f":"VLOOKUP(A2054,'[1]Mapa de Preços'!$A$16:$D$2988,4,0)","v":0}]
[2040,null,{"$f":"IF('Requisição de Compra'!J2066=\"\",\"\",VLOOKUP(A2055,'Requisição de Compra'!$I$28:$J$3000,2,0))","v":""},null,null,null,null,null,null,"Falta Orçamento",null,{"$f":"VLOOKUP(A2055,'[1]Mapa de Preços'!$A$16:$D$2988,4,0)","v":0}]
[2041,null,{"$f":"IF('Requisição de Compra'!J2067=\"\",\"\",VLOOKUP(A2056,'Requisição de Compra'!$I$28:$J$3000,2,0))","v":""},null,null,null,null,null,null,"Falta Orçamento",null,{"$f":"VLOOKUP(A2056,'[1]Mapa de Preços'!$A$16:$D$2988,4,0)","v":0}]
[2042,null,{"$f":"IF('Requisição de Compra'!J2068=\"\",\"\",VLOOKUP(A2057,'Requisição de Compra'!$I$28:$J$3000,2,0))","v":""},null,null,null,null,null,null,"Falta Orçamento",null,{"$f":"VLOOKUP(A2057,'[1]Mapa de Preços'!$A$16:$D$2988,4,0)","v":0}]
[2043,null,{"$f":"IF('Requisição de Compra'!J2069=\"\",\"\",VLOOKUP(A2058,'Requisição de Compra'!$I$28:$J$3000,2,0))","v":""},null,null,null,null,null,null,"Falta Orçamento",null,{"$f":"VLOOKUP(A2058,'[1]Mapa de Preços'!$A$16:$D$2988,4,0)","v":0}]
[2044,null,{"$f":"IF('Requisição de Compra'!J2070=\"\",\"\",VLOOKUP(A2059,'Requisição de Compra'!$I$28:$J$3000,2,0))","v":""},null,null,null,null,null,null,"Falta Orçamento",null,{"$f":"VLOOKUP(A2059,'[1]Mapa de Preços'!$A$16:$D$2988,4,0)","v":0}]
[2045,null,{"$f":"IF('Requisição de Compra'!J2071=\"\",\"\",VLOOKUP(A2060,'Requisição de Compra'!$I$28:$J$3000,2,0))","v":""},null,null,null,null,null,null,"Falta Orçamento",null,{"$f":"VLOOKUP(A2060,'[1]Mapa de Preços'!$A$16:$D$2988,4,0)","v":0}]
[2046,null,{"$f":"IF('Requisição de Compra'!J2072=\"\",\"\",VLOOKUP(A2061,'Requisição de Compra'!$I$28:$J$3000,2,0))","v":""},null,null,null,null,null,null,"Falta Orçamento",null,{"$f":"VLOOKUP(A2061,'[1]Mapa de Preços'!$A$16:$D$2988,4,0)","v":0}]
[2047,null,{"$f":"IF('Requisição de Compra'!J2073=\"\",\"\",VLOOKUP(A2062,'Requisição de Compra'!$I$28:$J$3000,2,0))","v":""},null,null,null,null,null,null,"Falta Orçamento",null,{"$f":"VLOOKUP(A2062,'[1]Mapa de Preços'!$A$16:$D$2988,4,0)","v":0}]
[2048,null,{"$f":"IF('Requisição de Compra'!J2074=\"\",\"\",VLOOKUP(A2063,'Requisição de Compra'!$I$28:$J$3000,2,0))","v":""},null,null,null,null,null,null,"Falta Orçamento",null,{"$f":"VLOOKUP(A2063,'[1]Mapa de Preços'!$A$16:$D$2988,4,0)","v":0}]
[2049,null,{"$f":"IF('Requisição de Compra'!J2075=\"\",\"\",VLOOKUP(A2064,'Requisição de Compra'!$I$28:$J$3000,2,0))","v":""},null,null,null,null,null,null,"Falta Orçamento",null,{"$f":"VLOOKUP(A2064,'[1]Mapa de Preços'!$A$16:$D$2988,4,0)","v":0}]
[2050,null,{"$f":"IF('Requisição de Compra'!J2076=\"\",\"\",VLOOKUP(A2065,'Requisição de Compra'!$I$28:$J$3000,2,0))","v":""},null,null,null,null,null,null,{"$f":"IF(AND(D2065<>\"\",F2065<>\"\",H2065<>\"\"),AVERAGE(D2065:H2065),\"Falta Orçamento\")","v":"Falta Orçamento"},null,{"$f":"VLOOKUP(A2065,'[1]Mapa de Preços'!$A$16:$D$2988,4,0)","v":0}]
[2051,null,{"$f":"IF('Requisição de Compra'!J2077=\"\",\"\",VLOOKUP(A2066,'Requisição de Compra'!$I$28:$J$3000,2,0))","v":""},null,null,null,null,null,null,"Falta Orçamento",null,{"$f":"VLOOKUP(A2066,'[1]Mapa de Preços'!$A$16:$D$2988,4,0)","v":0}]
[2052,null,{"$f":"IF('Requisição de Compra'!J2078=\"\",\"\",VLOOKUP(A2067,'Requisição de Compra'!$I$28:$J$3000,2,0))","v":""},null,null,null,null,null,null,"Falta Orçamento",null,{"$f":"VLOOKUP(A2067,'[1]Mapa de Preços'!$A$16:$D$2988,4,0)","v":0}]
[2053,null,{"$f":"IF('Requisição de Compra'!J2079=\"\",\"\",VLOOKUP(A2068,'Requisição de Compra'!$I$28:$J$3000,2,0))","v":""},null,null,null,null,null,null,"Falta Orçamento",null,{"$f":"VLOOKUP(A2068,'[1]Mapa de Preços'!$A$16:$D$2988,4,0)","v":0}]
[2054,null,{"$f":"IF('Requisição de Compra'!J2080=\"\",\"\",VLOOKUP(A2069,'Requisição de Compra'!$I$28:$J$3000,2,0))","v":""},null,null,null,null,null,null,"Falta Orçamento",null,{"$f":"VLOOKUP(A2069,'[1]Mapa de Preços'!$A$16:$D$2988,4,0)","v":0}]
[2055,null,{"$f":"IF('Requisição de Compra'!J2081=\"\",\"\",VLOOKUP(A2070,'Requisição de Compra'!$I$28:$J$3000,2,0))","v":""},null,null,null,null,null,null,"Falta Orçamento",null,{"$f":"VLOOKUP(A2070,'[1]Mapa de Preços'!$A$16:$D$2988,4,0)","v":0}]
[2056,null,{"$f":"IF('Requisição de Compra'!J2082=\"\",\"\",VLOOKUP(A2071,'Requisição de Compra'!$I$28:$J$3000,2,0))","v":""},null,null,null,null,null,null,"Falta Orçamento",null,{"$f":"VLOOKUP(A2071,'[1]Mapa de Preços'!$A$16:$D$2988,4,0)","v":0}]
[2057,null,{"$f":"IF('Requisição de Compra'!J2083=\"\",\"\",VLOOKUP(A2072,'Requisição de Compra'!$I$28:$J$3000,2,0))","v":""},null,null,null,null,null,null,"Falta Orçamento",null,{"$f":"VLOOKUP(A2072,'[1]Mapa de Preços'!$A$16:$D$2988,4,0)","v":0}]
[2058,null,{"$f":"IF('Requisição de Compra'!J2084=\"\",\"\",VLOOKUP(A2073,'Requisição de Compra'!$I$28:$J$3000,2,0))","v":""},null,null,null,null,null,null,"Falta Orçamento",null,{"$f":"VLOOKUP(A2073,'[1]Mapa de Preços'!$A$16:$D$2988,4,0)","v":0}]
[2059,null,{"$f":"IF('Requisição de Compra'!J2085=\"\",\"\",VLOOKUP(A2074,'Requisição de Compra'!$I$28:$J$3000,2,0))","v":""},null,null,null,null,null,null,"Falta Orçamento",null,{"$f":"VLOOKUP(A2074,'[1]Mapa de Preços'!$A$16:$D$2988,4,0)","v":0}]
[2060,null,{"$f":"IF('Requisição de Compra'!J2086=\"\",\"\",VLOOKUP(A2075,'Requisição de Compra'!$I$28:$J$3000,2,0))","v":""},null,null,null,null,null,null,"Falta Orçamento",null,{"$f":"VLOOKUP(A2075,'[1]Mapa de Preços'!$A$16:$D$2988,4,0)","v":0}]
[2061,null,{"$f":"IF('Requisição de Compra'!J2087=\"\",\"\",VLOOKUP(A2076,'Requisição de Compra'!$I$28:$J$3000,2,0))","v":""},null,null,null,null,null,null,"Falta Orçamento",null,{"$f":"VLOOKUP(A2076,'[1]Mapa de Preços'!$A$16:$D$2988,4,0)","v":0}]
[2062,null,{"$f":"IF('Requisição de Compra'!J2088=\"\",\"\",VLOOKUP(A2077,'Requisição de Compra'!$I$28:$J$3000,2,0))","v":""},null,null,null,null,null,null,"Falta Orçamento",null,{"$f":"VLOOKUP(A2077,'[1]Mapa de Preços'!$A$16:$D$2988,4,0)","v":0}]
[2063,null,{"$f":"IF('Requisição de Compra'!J2089=\"\",\"\",VLOOKUP(A2078,'Requisição de Compra'!$I$28:$J$3000,2,0))","v":""},null,null,null,null,null,null,"Falta Orçamento",null,{"$f":"VLOOKUP(A2078,'[1]Mapa de Preços'!$A$16:$D$2988,4,0)","v":0}]
[2064,null,{"$f":"IF('Requisição de Compra'!J2090=\"\",\"\",VLOOKUP(A2079,'Requisição de Compra'!$I$28:$J$3000,2,0))","v":""},null,null,null,null,null,null,"Falta Orçamento",null,{"$f":"VLOOKUP(A2079,'[1]Mapa de Preços'!$A$16:$D$2988,4,0)","v":0}]
[2065,null,{"$f":"IF('Requisição de Compra'!J2091=\"\",\"\",VLOOKUP(A2080,'Requisição de Compra'!$I$28:$J$3000,2,0))","v":""},null,null,null,null,null,null,"Falta Orçamento",null,{"$f":"VLOOKUP(A2080,'[1]Mapa de Preços'!$A$16:$D$2988,4,0)","v":0}]
[2066,null,{"$f":"IF('Requisição de Compra'!J2092=\"\",\"\",VLOOKUP(A2081,'Requisição de Compra'!$I$28:$J$3000,2,0))","v":""},null,null,null,null,null,null,"Falta Orçamento",null,{"$f":"VLOOKUP(A2081,'[1]Mapa de Preços'!$A$16:$D$2988,4,0)","v":0}]
[2067,null,{"$f":"IF('Requisição de Compra'!J2093=\"\",\"\",VLOOKUP(A2082,'Requisição de Compra'!$I$28:$J$3000,2,0))","v":""},null,null,null,null,null,null,"Falta Orçamento",null,{"$f":"VLOOKUP(A2082,'[1]Mapa de Preços'!$A$16:$D$2988,4,0)","v":0}]
[2068,null,{"$f":"IF('Requisição de Compra'!J2094=\"\",\"\",VLOOKUP(A2083,'Requisição de Compra'!$I$28:$J$3000,2,0))","v":""},null,null,null,null,null,null,"Falta Orçamento",null,{"$f":"VLOOKUP(A2083,'[1]Mapa de Preços'!$A$16:$D$2988,4,0)","v":0}]
[2069,null,{"$f":"IF('Requisição de Compra'!J2095=\"\",\"\",VLOOKUP(A2084,'Requisição de Compra'!$I$28:$J$3000,2,0))","v":""},null,null,null,null,null,null,"Falta Orçamento",null,{"$f":"VLOOKUP(A2084,'[1]Mapa de Preços'!$A$16:$D$2988,4,0)","v":0}]
[2070,null,{"$f":"IF('Requisição de Compra'!J2096=\"\",\"\",VLOOKUP(A2085,'Requisição de Compra'!$I$28:$J$3000,2,0))","v":""},null,null,null,null,null,null,"Falta Orçamento",null,{"$f":"VLOOKUP(A2085,'[1]Mapa de Preços'!$A$16:$D$2988,4,0)","v":0}]
[2071,null,{"$f":"IF('Requisição de Compra'!J2097=\"\",\"\",VLOOKUP(A2086,'Requisição de Compra'!$I$28:$J$3000,2,0))","v":""},null,null,null,null,null,null,"Falta Orçamento",null,{"$f":"VLOOKUP(A2086,'[1]Mapa de Preços'!$A$16:$D$2988,4,0)","v":0}]
[2072,null,{"$f":"IF('Requisição de Compra'!J2098=\"\",\"\",VLOOKUP(A2087,'Requisição de Compra'!$I$28:$J$3000,2,0))","v":""},null,null,null,null,null,null,"Falta Orçamento",null,{"$f":"VLOOKUP(A2087,'[1]Mapa de Preços'!$A$16:$D$2988,4,0)","v":0}]
[2073,null,{"$f":"IF('Requisição de Compra'!J2099=\"\",\"\",VLOOKUP(A2088,'Requisição de Compra'!$I$28:$J$3000,2,0))","v":""},null,null,null,null,null,null,"Falta Orçamento",null,{"$f":"VLOOKUP(A2088,'[1]Mapa de Preços'!$A$16:$D$2988,4,0)","v":0}]
[2074,null,{"$f":"IF('Requisição de Compra'!J2100=\"\",\"\",VLOOKUP(A2089,'Requisição de Compra'!$I$28:$J$3000,2,0))","v":""},null,null,null,null,null,null,"Falta Orçamento",null,{"$f":"VLOOKUP(A2089,'[1]Mapa de Preços'!$A$16:$D$2988,4,0)","v":0}]
[2075,null,{"$f":"IF('Requisição de Compra'!J2101=\"\",\"\",VLOOKUP(A2090,'Requisição de Compra'!$I$28:$J$3000,2,0))","v":""},null,null,null,null,null,null,"Falta Orçamento",null,{"$f":"VLOOKUP(A2090,'[1]Mapa de Preços'!$A$16:$D$2988,4,0)","v":0}]
[2076,null,{"$f":"IF('Requisição de Compra'!J2102=\"\",\"\",VLOOKUP(A2091,'Requisição de Compra'!$I$28:$J$3000,2,0))","v":""},null,null,null,null,null,null,"Falta Orçamento",null,{"$f":"VLOOKUP(A2091,'[1]Mapa de Preços'!$A$16:$D$2988,4,0)","v":0}]
[2077,null,{"$f":"IF('Requisição de Compra'!J2103=\"\",\"\",VLOOKUP(A2092,'Requisição de Compra'!$I$28:$J$3000,2,0))","v":""},null,null,null,null,null,null,"Falta Orçamento",null,{"$f":"VLOOKUP(A2092,'[1]Mapa de Preços'!$A$16:$D$2988,4,0)","v":0}]
[2078,null,{"$f":"IF('Requisição de Compra'!J2104=\"\",\"\",VLOOKUP(A2093,'Requisição de Compra'!$I$28:$J$3000,2,0))","v":""},null,null,null,null,null,null,"Falta Orçamento",null,{"$f":"VLOOKUP(A2093,'[1]Mapa de Preços'!$A$16:$D$2988,4,0)","v":0}]
[2079,null,{"$f":"IF('Requisição de Compra'!J2105=\"\",\"\",VLOOKUP(A2094,'Requisição de Compra'!$I$28:$J$3000,2,0))","v":""},null,null,null,null,null,null,"Falta Orçamento",null,{"$f":"VLOOKUP(A2094,'[1]Mapa de Preços'!$A$16:$D$2988,4,0)","v":0}]
[2080,null,{"$f":"IF('Requisição de Compra'!J2106=\"\",\"\",VLOOKUP(A2095,'Requisição de Compra'!$I$28:$J$3000,2,0))","v":""},null,null,null,null,null,null,"Falta Orçamento",null,{"$f":"VLOOKUP(A2095,'[1]Mapa de Preços'!$A$16:$D$2988,4,0)","v":0}]
[2081,null,{"$f":"IF('Requisição de Compra'!J2107=\"\",\"\",VLOOKUP(A2096,'Requisição de Compra'!$I$28:$J$3000,2,0))","v":""},null,null,null,null,null,null,"Falta Orçamento",null,{"$f":"VLOOKUP(A2096,'[1]Mapa de Preços'!$A$16:$D$2988,4,0)","v":0}]
[2082,null,{"$f":"IF('Requisição de Compra'!J2108=\"\",\"\",VLOOKUP(A2097,'Requisição de Compra'!$I$28:$J$3000,2,0))","v":""},null,null,null,null,null,null,"Falta Orçamento",null,{"$f":"VLOOKUP(A2097,'[1]Mapa de Preços'!$A$16:$D$2988,4,0)","v":0}]
[2083,null,{"$f":"IF('Requisição de Compra'!J2109=\"\",\"\",VLOOKUP(A2098,'Requisição de Compra'!$I$28:$J$3000,2,0))","v":""},null,null,null,null,null,null,"Falta Orçamento",null,{"$f":"VLOOKUP(A2098,'[1]Mapa de Preços'!$A$16:$D$2988,4,0)","v":0}]
[2084,null,{"$f":"IF('Requisição de Compra'!J2110=\"\",\"\",VLOOKUP(A2099,'Requisição de Compra'!$I$28:$J$3000,2,0))","v":""},null,null,null,null,null,null,"Falta Orçamento",null,{"$f":"VLOOKUP(A2099,'[1]Mapa de Preços'!$A$16:$D$2988,4,0)","v":0}]
[2085,null,{"$f":"IF('Requisição de Compra'!J2111=\"\",\"\",VLOOKUP(A2100,'Requisição de Compra'!$I$28:$J$3000,2,0))","v":""},null,null,null,null,null,null,"Falta Orçamento",null,{"$f":"VLOOKUP(A2100,'[1]Mapa de Preços'!$A$16:$D$2988,4,0)","v":0}]
[2086,null,{"$f":"IF('Requisição de Compra'!J2112=\"\",\"\",VLOOKUP(A2101,'Requisição de Compra'!$I$28:$J$3000,2,0))","v":""},null,null,null,null,null,null,"Falta Orçamento",null,{"$f":"VLOOKUP(A2101,'[1]Mapa de Preços'!$A$16:$D$2988,4,0)","v":0}]
[2087,null,{"$f":"IF('Requisição de Compra'!J2113=\"\",\"\",VLOOKUP(A2102,'Requisição de Compra'!$I$28:$J$3000,2,0))","v":""},null,null,null,null,null,null,"Falta Orçamento",null,{"$f":"VLOOKUP(A2102,'[1]Mapa de Preços'!$A$16:$D$2988,4,0)","v":0}]
[2088,null,{"$f":"IF('Requisição de Compra'!J2114=\"\",\"\",VLOOKUP(A2103,'Requisição de Compra'!$I$28:$J$3000,2,0))","v":""},null,null,null,null,null,null,"Falta Orçamento",null,{"$f":"VLOOKUP(A2103,'[1]Mapa de Preços'!$A$16:$D$2988,4,0)","v":0}]
[2089,null,{"$f":"IF('Requisição de Compra'!J2115=\"\",\"\",VLOOKUP(A2104,'Requisição de Compra'!$I$28:$J$3000,2,0))","v":""},null,null,null,null,null,null,"Falta Orçamento",null,{"$f":"VLOOKUP(A2104,'[1]Mapa de Preços'!$A$16:$D$2988,4,0)","v":0}]
[2090,null,{"$f":"IF('Requisição de Compra'!J2116=\"\",\"\",VLOOKUP(A2105,'Requisição de Compra'!$I$28:$J$3000,2,0))","v":""},null,null,null,null,null,null,"Falta Orçamento",null,{"$f":"VLOOKUP(A2105,'[1]Mapa de Preços'!$A$16:$D$2988,4,0)","v":0}]
[2091,null,{"$f":"IF('Requisição de Compra'!J2117=\"\",\"\",VLOOKUP(A2106,'Requisição de Compra'!$I$28:$J$3000,2,0))","v":""},null,null,null,null,null,null,"Falta Orçamento",null,{"$f":"VLOOKUP(A2106,'[1]Mapa de Preços'!$A$16:$D$2988,4,0)","v":0}]
[2092,null,{"$f":"IF('Requisição de Compra'!J2118=\"\",\"\",VLOOKUP(A2107,'Requisição de Compra'!$I$28:$J$3000,2,0))","v":""},null,null,null,null,null,null,"Falta Orçamento",null,{"$f":"VLOOKUP(A2107,'[1]Mapa de Preços'!$A$16:$D$2988,4,0)","v":0}]
[2093,null,{"$f":"IF('Requisição de Compra'!J2119=\"\",\"\",VLOOKUP(A2108,'Requisição de Compra'!$I$28:$J$3000,2,0))","v":""},null,null,null,null,null,null,"Falta Orçamento",null,{"$f":"VLOOKUP(A2108,'[1]Mapa de Preços'!$A$16:$D$2988,4,0)","v":0}]
[2094,null,{"$f":"IF('Requisição de Compra'!J2120=\"\",\"\",VLOOKUP(A2109,'Requisição de Compra'!$I$28:$J$3000,2,0))","v":""},null,null,null,null,null,null,"Falta Orçamento",null,{"$f":"VLOOKUP(A2109,'[1]Mapa de Preços'!$A$16:$D$2988,4,0)","v":0}]
[2095,null,{"$f":"IF('Requisição de Compra'!J2121=\"\",\"\",VLOOKUP(A2110,'Requisição de Compra'!$I$28:$J$3000,2,0))","v":""},null,null,null,null,null,null,"Falta Orçamento",null,{"$f":"VLOOKUP(A2110,'[1]Mapa de Preços'!$A$16:$D$2988,4,0)","v":0}]
[2096,null,{"$f":"IF('Requisição de Compra'!J2122=\"\",\"\",VLOOKUP(A2111,'Requisição de Compra'!$I$28:$J$3000,2,0))","v":""},null,null,null,null,null,null,"Falta Orçamento",null,{"$f":"VLOOKUP(A2111,'[1]Mapa de Preços'!$A$16:$D$2988,4,0)","v":0}]
[2097,null,{"$f":"IF('Requisição de Compra'!J2123=\"\",\"\",VLOOKUP(A2112,'Requisição de Compra'!$I$28:$J$3000,2,0))","v":""},null,null,null,null,null,null,"Falta Orçamento",null,{"$f":"VLOOKUP(A2112,'[1]Mapa de Preços'!$A$16:$D$2988,4,0)","v":0}]
[2098,null,{"$f":"IF('Requisição de Compra'!J2124=\"\",\"\",VLOOKUP(A2113,'Requisição de Compra'!$I$28:$J$3000,2,0))","v":""},null,null,null,null,null,null,"Falta Orçamento",null,{"$f":"VLOOKUP(A2113,'[1]Mapa de Preços'!$A$16:$D$2988,4,0)","v":0}]
[2099,null,{"$f":"IF('Requisição de Compra'!J2125=\"\",\"\",VLOOKUP(A2114,'Requisição de Compra'!$I$28:$J$3000,2,0))","v":""},null,null,null,null,null,null,"Falta Orçamento",null,{"$f":"VLOOKUP(A2114,'[1]Mapa de Preços'!$A$16:$D$2988,4,0)","v":0}]
[2100,null,{"$f":"IF('Requisição de Compra'!J2126=\"\",\"\",VLOOKUP(A2115,'Requisição de Compra'!$I$28:$J$3000,2,0))","v":""},null,null,null,null,null,null,"Falta Orçamento",null,{"$f":"VLOOKUP(A2115,'[1]Mapa de Preços'!$A$16:$D$2988,4,0)","v":0}]
[2101,null,{"$f":"IF('Requisição de Compra'!J2127=\"\",\"\",VLOOKUP(A2116,'Requisição de Compra'!$I$28:$J$3000,2,0))","v":""},null,null,null,null,null,null,"Falta Orçamento",null,{"$f":"VLOOKUP(A2116,'[1]Mapa de Preços'!$A$16:$D$2988,4,0)","v":0}]
[2102,null,{"$f":"IF('Requisição de Compra'!J2128=\"\",\"\",VLOOKUP(A2117,'Requisição de Compra'!$I$28:$J$3000,2,0))","v":""},null,null,null,null,null,null,"Falta Orçamento",null,{"$f":"VLOOKUP(A2117,'[1]Mapa de Preços'!$A$16:$D$2988,4,0)","v":0}]
[2103,null,{"$f":"IF('Requisição de Compra'!J2129=\"\",\"\",VLOOKUP(A2118,'Requisição de Compra'!$I$28:$J$3000,2,0))","v":""},null,null,null,null,null,null,"Falta Orçamento",null,{"$f":"VLOOKUP(A2118,'[1]Mapa de Preços'!$A$16:$D$2988,4,0)","v":0}]
[2104,null,{"$f":"IF('Requisição de Compra'!J2130=\"\",\"\",VLOOKUP(A2119,'Requisição de Compra'!$I$28:$J$3000,2,0))","v":""},null,null,null,null,null,null,"Falta Orçamento",null,{"$f":"VLOOKUP(A2119,'[1]Mapa de Preços'!$A$16:$D$2988,4,0)","v":0}]
[2105,null,{"$f":"IF('Requisição de Compra'!J2131=\"\",\"\",VLOOKUP(A2120,'Requisição de Compra'!$I$28:$J$3000,2,0))","v":""},null,null,null,null,null,null,"Falta Orçamento",null,{"$f":"VLOOKUP(A2120,'[1]Mapa de Preços'!$A$16:$D$2988,4,0)","v":0}]
[2106,null,{"$f":"IF('Requisição de Compra'!J2132=\"\",\"\",VLOOKUP(A2121,'Requisição de Compra'!$I$28:$J$3000,2,0))","v":""},null,null,null,null,null,null,"Falta Orçamento",null,{"$f":"VLOOKUP(A2121,'[1]Mapa de Preços'!$A$16:$D$2988,4,0)","v":0}]
[2107,null,{"$f":"IF('Requisição de Compra'!J2133=\"\",\"\",VLOOKUP(A2122,'Requisição de Compra'!$I$28:$J$3000,2,0))","v":""},null,null,null,null,null,null,"Falta Orçamento",null,{"$f":"VLOOKUP(A2122,'[1]Mapa de Preços'!$A$16:$D$2988,4,0)","v":0}]
[2108,null,{"$f":"IF('Requisição de Compra'!J2134=\"\",\"\",VLOOKUP(A2123,'Requisição de Compra'!$I$28:$J$3000,2,0))","v":""},null,null,null,null,null,null,"Falta Orçamento",null,{"$f":"VLOOKUP(A2123,'[1]Mapa de Preços'!$A$16:$D$2988,4,0)","v":0}]
[2109,null,{"$f":"IF('Requisição de Compra'!J2135=\"\",\"\",VLOOKUP(A2124,'Requisição de Compra'!$I$28:$J$3000,2,0))","v":""},null,null,null,null,null,null,"Falta Orçamento",null,{"$f":"VLOOKUP(A2124,'[1]Mapa de Preços'!$A$16:$D$2988,4,0)","v":0}]
[2110,null,{"$f":"IF('Requisição de Compra'!J2136=\"\",\"\",VLOOKUP(A2125,'Requisição de Compra'!$I$28:$J$3000,2,0))","v":""},null,null,null,null,null,null,"Falta Orçamento",null,{"$f":"VLOOKUP(A2125,'[1]Mapa de Preços'!$A$16:$D$2988,4,0)","v":0}]
[2111,null,{"$f":"IF('Requisição de Compra'!J2137=\"\",\"\",VLOOKUP(A2126,'Requisição de Compra'!$I$28:$J$3000,2,0))","v":""},null,null,null,null,null,null,"Falta Orçamento",null,{"$f":"VLOOKUP(A2126,'[1]Mapa de Preços'!$A$16:$D$2988,4,0)","v":0}]
[2112,null,{"$f":"IF('Requisição de Compra'!J2138=\"\",\"\",VLOOKUP(A2127,'Requisição de Compra'!$I$28:$J$3000,2,0))","v":""},null,null,null,null,null,null,"Falta Orçamento",null,{"$f":"VLOOKUP(A2127,'[1]Mapa de Preços'!$A$16:$D$2988,4,0)","v":0}]
[2113,null,{"$f":"IF('Requisição de Compra'!J2139=\"\",\"\",VLOOKUP(A2128,'Requisição de Compra'!$I$28:$J$3000,2,0))","v":""},null,null,null,null,null,null,"Falta Orçamento",null,{"$f":"VLOOKUP(A2128,'[1]Mapa de Preços'!$A$16:$D$2988,4,0)","v":0}]
[2114,null,{"$f":"IF('Requisição de Compra'!J2140=\"\",\"\",VLOOKUP(A2129,'Requisição de Compra'!$I$28:$J$3000,2,0))","v":""},null,null,null,null,null,null,{"$f":"IF(AND(D2129<>\"\",F2129<>\"\",H2129<>\"\"),AVERAGE(D2129:H2129),\"Falta Orçamento\")","v":"Falta Orçamento"},null,{"$f":"VLOOKUP(A2129,'[1]Mapa de Preços'!$A$16:$D$2988,4,0)","v":0}]
[2115,null,{"$f":"IF('Requisição de Compra'!J2141=\"\",\"\",VLOOKUP(A2130,'Requisição de Compra'!$I$28:$J$3000,2,0))","v":""},null,null,null,null,null,null,"Falta Orçamento",null,{"$f":"VLOOKUP(A2130,'[1]Mapa de Preços'!$A$16:$D$2988,4,0)","v":0}]
[2116,null,{"$f":"IF('Requisição de Compra'!J2142=\"\",\"\",VLOOKUP(A2131,'Requisição de Compra'!$I$28:$J$3000,2,0))","v":""},null,null,null,null,null,null,"Falta Orçamento",null,{"$f":"VLOOKUP(A2131,'[1]Mapa de Preços'!$A$16:$D$2988,4,0)","v":0}]
[2117,null,{"$f":"IF('Requisição de Compra'!J2143=\"\",\"\",VLOOKUP(A2132,'Requisição de Compra'!$I$28:$J$3000,2,0))","v":""},null,null,null,null,null,null,"Falta Orçamento",null,{"$f":"VLOOKUP(A2132,'[1]Mapa de Preços'!$A$16:$D$2988,4,0)","v":0}]
[2118,null,{"$f":"IF('Requisição de Compra'!J2144=\"\",\"\",VLOOKUP(A2133,'Requisição de Compra'!$I$28:$J$3000,2,0))","v":""},null,null,null,null,null,null,"Falta Orçamento",null,{"$f":"VLOOKUP(A2133,'[1]Mapa de Preços'!$A$16:$D$2988,4,0)","v":0}]
[2119,null,{"$f":"IF('Requisição de Compra'!J2145=\"\",\"\",VLOOKUP(A2134,'Requisição de Compra'!$I$28:$J$3000,2,0))","v":""},null,null,null,null,null,null,"Falta Orçamento",null,{"$f":"VLOOKUP(A2134,'[1]Mapa de Preços'!$A$16:$D$2988,4,0)","v":0}]
[2120,null,{"$f":"IF('Requisição de Compra'!J2146=\"\",\"\",VLOOKUP(A2135,'Requisição de Compra'!$I$28:$J$3000,2,0))","v":""},null,null,null,null,null,null,"Falta Orçamento",null,{"$f":"VLOOKUP(A2135,'[1]Mapa de Preços'!$A$16:$D$2988,4,0)","v":0}]
[2121,null,{"$f":"IF('Requisição de Compra'!J2147=\"\",\"\",VLOOKUP(A2136,'Requisição de Compra'!$I$28:$J$3000,2,0))","v":""},null,null,null,null,null,null,"Falta Orçamento",null,{"$f":"VLOOKUP(A2136,'[1]Mapa de Preços'!$A$16:$D$2988,4,0)","v":0}]
[2122,null,{"$f":"IF('Requisição de Compra'!J2148=\"\",\"\",VLOOKUP(A2137,'Requisição de Compra'!$I$28:$J$3000,2,0))","v":""},null,null,null,null,null,null,"Falta Orçamento",null,{"$f":"VLOOKUP(A2137,'[1]Mapa de Preços'!$A$16:$D$2988,4,0)","v":0}]
[2123,null,{"$f":"IF('Requisição de Compra'!J2149=\"\",\"\",VLOOKUP(A2138,'Requisição de Compra'!$I$28:$J$3000,2,0))","v":""},null,null,null,null,null,null,"Falta Orçamento",null,{"$f":"VLOOKUP(A2138,'[1]Mapa de Preços'!$A$16:$D$2988,4,0)","v":0}]
[2124,null,{"$f":"IF('Requisição de Compra'!J2150=\"\",\"\",VLOOKUP(A2139,'Requisição de Compra'!$I$28:$J$3000,2,0))","v":""},null,null,null,null,null,null,"Falta Orçamento",null,{"$f":"VLOOKUP(A2139,'[1]Mapa de Preços'!$A$16:$D$2988,4,0)","v":0}]
[2125,null,{"$f":"IF('Requisição de Compra'!J2151=\"\",\"\",VLOOKUP(A2140,'Requisição de Compra'!$I$28:$J$3000,2,0))","v":""},null,null,null,null,null,null,"Falta Orçamento",null,{"$f":"VLOOKUP(A2140,'[1]Mapa de Preços'!$A$16:$D$2988,4,0)","v":0}]
[2126,null,{"$f":"IF('Requisição de Compra'!J2152=\"\",\"\",VLOOKUP(A2141,'Requisição de Compra'!$I$28:$J$3000,2,0))","v":""},null,null,null,null,null,null,"Falta Orçamento",null,{"$f":"VLOOKUP(A2141,'[1]Mapa de Preços'!$A$16:$D$2988,4,0)","v":0}]
[2127,null,{"$f":"IF('Requisição de Compra'!J2153=\"\",\"\",VLOOKUP(A2142,'Requisição de Compra'!$I$28:$J$3000,2,0))","v":""},null,null,null,null,null,null,"Falta Orçamento",null,{"$f":"VLOOKUP(A2142,'[1]Mapa de Preços'!$A$16:$D$2988,4,0)","v":0}]
[2128,null,{"$f":"IF('Requisição de Compra'!J2154=\"\",\"\",VLOOKUP(A2143,'Requisição de Compra'!$I$28:$J$3000,2,0))","v":""},null,null,null,null,null,null,"Falta Orçamento",null,{"$f":"VLOOKUP(A2143,'[1]Mapa de Preços'!$A$16:$D$2988,4,0)","v":0}]
[2129,null,{"$f":"IF('Requisição de Compra'!J2155=\"\",\"\",VLOOKUP(A2144,'Requisição de Compra'!$I$28:$J$3000,2,0))","v":""},null,null,null,null,null,null,"Falta Orçamento",null,{"$f":"VLOOKUP(A2144,'[1]Mapa de Preços'!$A$16:$D$2988,4,0)","v":0}]
[2130,null,{"$f":"IF('Requisição de Compra'!J2156=\"\",\"\",VLOOKUP(A2145,'Requisição de Compra'!$I$28:$J$3000,2,0))","v":""},null,null,null,null,null,null,"Falta Orçamento",null,{"$f":"VLOOKUP(A2145,'[1]Mapa de Preços'!$A$16:$D$2988,4,0)","v":0}]
[2131,null,{"$f":"IF('Requisição de Compra'!J2157=\"\",\"\",VLOOKUP(A2146,'Requisição de Compra'!$I$28:$J$3000,2,0))","v":""},null,null,null,null,null,null,"Falta Orçamento",null,{"$f":"VLOOKUP(A2146,'[1]Mapa de Preços'!$A$16:$D$2988,4,0)","v":0}]
[2132,null,{"$f":"IF('Requisição de Compra'!J2158=\"\",\"\",VLOOKUP(A2147,'Requisição de Compra'!$I$28:$J$3000,2,0))","v":""},null,null,null,null,null,null,"Falta Orçamento",null,{"$f":"VLOOKUP(A2147,'[1]Mapa de Preços'!$A$16:$D$2988,4,0)","v":0}]
[2133,null,{"$f":"IF('Requisição de Compra'!J2159=\"\",\"\",VLOOKUP(A2148,'Requisição de Compra'!$I$28:$J$3000,2,0))","v":""},null,null,null,null,null,null,"Falta Orçamento",null,{"$f":"VLOOKUP(A2148,'[1]Mapa de Preços'!$A$16:$D$2988,4,0)","v":0}]
[2134,null,{"$f":"IF('Requisição de Compra'!J2160=\"\",\"\",VLOOKUP(A2149,'Requisição de Compra'!$I$28:$J$3000,2,0))","v":""},null,null,null,null,null,null,"Falta Orçamento",null,{"$f":"VLOOKUP(A2149,'[1]Mapa de Preços'!$A$16:$D$2988,4,0)","v":0}]
[2135,null,{"$f":"IF('Requisição de Compra'!J2161=\"\",\"\",VLOOKUP(A2150,'Requisição de Compra'!$I$28:$J$3000,2,0))","v":""},null,null,null,null,null,null,"Falta Orçamento",null,{"$f":"VLOOKUP(A2150,'[1]Mapa de Preços'!$A$16:$D$2988,4,0)","v":0}]
[2136,null,{"$f":"IF('Requisição de Compra'!J2162=\"\",\"\",VLOOKUP(A2151,'Requisição de Compra'!$I$28:$J$3000,2,0))","v":""},null,null,null,null,null,null,"Falta Orçamento",null,{"$f":"VLOOKUP(A2151,'[1]Mapa de Preços'!$A$16:$D$2988,4,0)","v":0}]
[2137,null,{"$f":"IF('Requisição de Compra'!J2163=\"\",\"\",VLOOKUP(A2152,'Requisição de Compra'!$I$28:$J$3000,2,0))","v":""},null,null,null,null,null,null,"Falta Orçamento",null,{"$f":"VLOOKUP(A2152,'[1]Mapa de Preços'!$A$16:$D$2988,4,0)","v":0}]
[2138,null,{"$f":"IF('Requisição de Compra'!J2164=\"\",\"\",VLOOKUP(A2153,'Requisição de Compra'!$I$28:$J$3000,2,0))","v":""},null,null,null,null,null,null,"Falta Orçamento",null,{"$f":"VLOOKUP(A2153,'[1]Mapa de Preços'!$A$16:$D$2988,4,0)","v":0}]
[2139,null,{"$f":"IF('Requisição de Compra'!J2165=\"\",\"\",VLOOKUP(A2154,'Requisição de Compra'!$I$28:$J$3000,2,0))","v":""},null,null,null,null,null,null,"Falta Orçamento",null,{"$f":"VLOOKUP(A2154,'[1]Mapa de Preços'!$A$16:$D$2988,4,0)","v":0}]
[2140,null,{"$f":"IF('Requisição de Compra'!J2166=\"\",\"\",VLOOKUP(A2155,'Requisição de Compra'!$I$28:$J$3000,2,0))","v":""},null,null,null,null,null,null,"Falta Orçamento",null,{"$f":"VLOOKUP(A2155,'[1]Mapa de Preços'!$A$16:$D$2988,4,0)","v":0}]
[2141,null,{"$f":"IF('Requisição de Compra'!J2167=\"\",\"\",VLOOKUP(A2156,'Requisição de Compra'!$I$28:$J$3000,2,0))","v":""},null,null,null,null,null,null,"Falta Orçamento",null,{"$f":"VLOOKUP(A2156,'[1]Mapa de Preços'!$A$16:$D$2988,4,0)","v":0}]
[2142,null,{"$f":"IF('Requisição de Compra'!J2168=\"\",\"\",VLOOKUP(A2157,'Requisição de Compra'!$I$28:$J$3000,2,0))","v":""},null,null,null,null,null,null,"Falta Orçamento",null,{"$f":"VLOOKUP(A2157,'[1]Mapa de Preços'!$A$16:$D$2988,4,0)","v":0}]
[2143,null,{"$f":"IF('Requisição de Compra'!J2169=\"\",\"\",VLOOKUP(A2158,'Requisição de Compra'!$I$28:$J$3000,2,0))","v":""},null,null,null,null,null,null,"Falta Orçamento",null,{"$f":"VLOOKUP(A2158,'[1]Mapa de Preços'!$A$16:$D$2988,4,0)","v":0}]
[2144,null,{"$f":"IF('Requisição de Compra'!J2170=\"\",\"\",VLOOKUP(A2159,'Requisição de Compra'!$I$28:$J$3000,2,0))","v":""},null,null,null,null,null,null,"Falta Orçamento",null,{"$f":"VLOOKUP(A2159,'[1]Mapa de Preços'!$A$16:$D$2988,4,0)","v":0}]
[2145,null,{"$f":"IF('Requisição de Compra'!J2171=\"\",\"\",VLOOKUP(A2160,'Requisição de Compra'!$I$28:$J$3000,2,0))","v":""},null,null,null,null,null,null,"Falta Orçamento",null,{"$f":"VLOOKUP(A2160,'[1]Mapa de Preços'!$A$16:$D$2988,4,0)","v":0}]
[2146,null,{"$f":"IF('Requisição de Compra'!J2172=\"\",\"\",VLOOKUP(A2161,'Requisição de Compra'!$I$28:$J$3000,2,0))","v":""},null,null,null,null,null,null,"Falta Orçamento",null,{"$f":"VLOOKUP(A2161,'[1]Mapa de Preços'!$A$16:$D$2988,4,0)","v":0}]
[2147,null,{"$f":"IF('Requisição de Compra'!J2173=\"\",\"\",VLOOKUP(A2162,'Requisição de Compra'!$I$28:$J$3000,2,0))","v":""},null,null,null,null,null,null,"Falta Orçamento",null,{"$f":"VLOOKUP(A2162,'[1]Mapa de Preços'!$A$16:$D$2988,4,0)","v":0}]
[2148,null,{"$f":"IF('Requisição de Compra'!J2174=\"\",\"\",VLOOKUP(A2163,'Requisição de Compra'!$I$28:$J$3000,2,0))","v":""},null,null,null,null,null,null,"Falta Orçamento",null,{"$f":"VLOOKUP(A2163,'[1]Mapa de Preços'!$A$16:$D$2988,4,0)","v":0}]
[2149,null,{"$f":"IF('Requisição de Compra'!J2175=\"\",\"\",VLOOKUP(A2164,'Requisição de Compra'!$I$28:$J$3000,2,0))","v":""},null,null,null,null,null,null,"Falta Orçamento",null,{"$f":"VLOOKUP(A2164,'[1]Mapa de Preços'!$A$16:$D$2988,4,0)","v":0}]
[2150,null,{"$f":"IF('Requisição de Compra'!J2176=\"\",\"\",VLOOKUP(A2165,'Requisição de Compra'!$I$28:$J$3000,2,0))","v":""},null,null,null,null,null,null,"Falta Orçamento",null,{"$f":"VLOOKUP(A2165,'[1]Mapa de Preços'!$A$16:$D$2988,4,0)","v":0}]
[2151,null,{"$f":"IF('Requisição de Compra'!J2177=\"\",\"\",VLOOKUP(A2166,'Requisição de Compra'!$I$28:$J$3000,2,0))","v":""},null,null,null,null,null,null,"Falta Orçamento",null,{"$f":"VLOOKUP(A2166,'[1]Mapa de Preços'!$A$16:$D$2988,4,0)","v":0}]
[2152,null,{"$f":"IF('Requisição de Compra'!J2178=\"\",\"\",VLOOKUP(A2167,'Requisição de Compra'!$I$28:$J$3000,2,0))","v":""},null,null,null,null,null,null,"Falta Orçamento",null,{"$f":"VLOOKUP(A2167,'[1]Mapa de Preços'!$A$16:$D$2988,4,0)","v":0}]
[2153,null,{"$f":"IF('Requisição de Compra'!J2179=\"\",\"\",VLOOKUP(A2168,'Requisição de Compra'!$I$28:$J$3000,2,0))","v":""},null,null,null,null,null,null,"Falta Orçamento",null,{"$f":"VLOOKUP(A2168,'[1]Mapa de Preços'!$A$16:$D$2988,4,0)","v":0}]
[2154,null,{"$f":"IF('Requisição de Compra'!J2180=\"\",\"\",VLOOKUP(A2169,'Requisição de Compra'!$I$28:$J$3000,2,0))","v":""},null,null,null,null,null,null,"Falta Orçamento",null,{"$f":"VLOOKUP(A2169,'[1]Mapa de Preços'!$A$16:$D$2988,4,0)","v":0}]
[2155,null,{"$f":"IF('Requisição de Compra'!J2181=\"\",\"\",VLOOKUP(A2170,'Requisição de Compra'!$I$28:$J$3000,2,0))","v":""},null,null,null,null,null,null,"Falta Orçamento",null,{"$f":"VLOOKUP(A2170,'[1]Mapa de Preços'!$A$16:$D$2988,4,0)","v":0}]
[2156,null,{"$f":"IF('Requisição de Compra'!J2182=\"\",\"\",VLOOKUP(A2171,'Requisição de Compra'!$I$28:$J$3000,2,0))","v":""},null,null,null,null,null,null,"Falta Orçamento",null,{"$f":"VLOOKUP(A2171,'[1]Mapa de Preços'!$A$16:$D$2988,4,0)","v":0}]
[2157,null,{"$f":"IF('Requisição de Compra'!J2183=\"\",\"\",VLOOKUP(A2172,'Requisição de Compra'!$I$28:$J$3000,2,0))","v":""},null,null,null,null,null,null,"Falta Orçamento",null,{"$f":"VLOOKUP(A2172,'[1]Mapa de Preços'!$A$16:$D$2988,4,0)","v":0}]
[2158,null,{"$f":"IF('Requisição de Compra'!J2184=\"\",\"\",VLOOKUP(A2173,'Requisição de Compra'!$I$28:$J$3000,2,0))","v":""},null,null,null,null,null,null,"Falta Orçamento",null,{"$f":"VLOOKUP(A2173,'[1]Mapa de Preços'!$A$16:$D$2988,4,0)","v":0}]
[2159,null,{"$f":"IF('Requisição de Compra'!J2185=\"\",\"\",VLOOKUP(A2174,'Requisição de Compra'!$I$28:$J$3000,2,0))","v":""},null,null,null,null,null,null,"Falta Orçamento",null,{"$f":"VLOOKUP(A2174,'[1]Mapa de Preços'!$A$16:$D$2988,4,0)","v":0}]
[2160,null,{"$f":"IF('Requisição de Compra'!J2186=\"\",\"\",VLOOKUP(A2175,'Requisição de Compra'!$I$28:$J$3000,2,0))","v":""},null,null,null,null,null,null,"Falta Orçamento",null,{"$f":"VLOOKUP(A2175,'[1]Mapa de Preços'!$A$16:$D$2988,4,0)","v":0}]
[2161,null,{"$f":"IF('Requisição de Compra'!J2187=\"\",\"\",VLOOKUP(A2176,'Requisição de Compra'!$I$28:$J$3000,2,0))","v":""},null,null,null,null,null,null,"Falta Orçamento",null,{"$f":"VLOOKUP(A2176,'[1]Mapa de Preços'!$A$16:$D$2988,4,0)","v":0}]
[2162,null,{"$f":"IF('Requisição de Compra'!J2188=\"\",\"\",VLOOKUP(A2177,'Requisição de Compra'!$I$28:$J$3000,2,0))","v":""},null,null,null,null,null,null,"Falta Orçamento",null,{"$f":"VLOOKUP(A2177,'[1]Mapa de Preços'!$A$16:$D$2988,4,0)","v":0}]
[2163,null,{"$f":"IF('Requisição de Compra'!J2189=\"\",\"\",VLOOKUP(A2178,'Requisição de Compra'!$I$28:$J$3000,2,0))","v":""},null,null,null,null,null,null,"Falta Orçamento",null,{"$f":"VLOOKUP(A2178,'[1]Mapa de Preços'!$A$16:$D$2988,4,0)","v":0}]
[2164,null,{"$f":"IF('Requisição de Compra'!J2190=\"\",\"\",VLOOKUP(A2179,'Requisição de Compra'!$I$28:$J$3000,2,0))","v":""},null,null,null,null,null,null,"Falta Orçamento",null,{"$f":"VLOOKUP(A2179,'[1]Mapa de Preços'!$A$16:$D$2988,4,0)","v":0}]
[2165,null,{"$f":"IF('Requisição de Compra'!J2191=\"\",\"\",VLOOKUP(A2180,'Requisição de Compra'!$I$28:$J$3000,2,0))","v":""},null,null,null,null,null,null,"Falta Orçamento",null,{"$f":"VLOOKUP(A2180,'[1]Mapa de Preços'!$A$16:$D$2988,4,0)","v":0}]
[2166,null,{"$f":"IF('Requisição de Compra'!J2192=\"\",\"\",VLOOKUP(A2181,'Requisição de Compra'!$I$28:$J$3000,2,0))","v":""},null,null,null,null,null,null,"Falta Orçamento",null,{"$f":"VLOOKUP(A2181,'[1]Mapa de Preços'!$A$16:$D$2988,4,0)","v":0}]
[2167,null,{"$f":"IF('Requisição de Compra'!J2193=\"\",\"\",VLOOKUP(A2182,'Requisição de Compra'!$I$28:$J$3000,2,0))","v":""},null,null,null,null,null,null,"Falta Orçamento",null,{"$f":"VLOOKUP(A2182,'[1]Mapa de Preços'!$A$16:$D$2988,4,0)","v":0}]
[2168,null,{"$f":"IF('Requisição de Compra'!J2194=\"\",\"\",VLOOKUP(A2183,'Requisição de Compra'!$I$28:$J$3000,2,0))","v":""},null,null,null,null,null,null,"Falta Orçamento",null,{"$f":"VLOOKUP(A2183,'[1]Mapa de Preços'!$A$16:$D$2988,4,0)","v":0}]
[2169,null,{"$f":"IF('Requisição de Compra'!J2195=\"\",\"\",VLOOKUP(A2184,'Requisição de Compra'!$I$28:$J$3000,2,0))","v":""},null,null,null,null,null,null,"Falta Orçamento",null,{"$f":"VLOOKUP(A2184,'[1]Mapa de Preços'!$A$16:$D$2988,4,0)","v":0}]
[2170,null,{"$f":"IF('Requisição de Compra'!J2196=\"\",\"\",VLOOKUP(A2185,'Requisição de Compra'!$I$28:$J$3000,2,0))","v":""},null,null,null,null,null,null,"Falta Orçamento",null,{"$f":"VLOOKUP(A2185,'[1]Mapa de Preços'!$A$16:$D$2988,4,0)","v":0}]
[2171,null,{"$f":"IF('Requisição de Compra'!J2197=\"\",\"\",VLOOKUP(A2186,'Requisição de Compra'!$I$28:$J$3000,2,0))","v":""},null,null,null,null,null,null,"Falta Orçamento",null,{"$f":"VLOOKUP(A2186,'[1]Mapa de Preços'!$A$16:$D$2988,4,0)","v":0}]
[2172,null,{"$f":"IF('Requisição de Compra'!J2198=\"\",\"\",VLOOKUP(A2187,'Requisição de Compra'!$I$28:$J$3000,2,0))","v":""},null,null,null,null,null,null,"Falta Orçamento",null,{"$f":"VLOOKUP(A2187,'[1]Mapa de Preços'!$A$16:$D$2988,4,0)","v":0}]
[2173,null,{"$f":"IF('Requisição de Compra'!J2199=\"\",\"\",VLOOKUP(A2188,'Requisição de Compra'!$I$28:$J$3000,2,0))","v":""},null,null,null,null,null,null,"Falta Orçamento",null,{"$f":"VLOOKUP(A2188,'[1]Mapa de Preços'!$A$16:$D$2988,4,0)","v":0}]
[2174,null,{"$f":"IF('Requisição de Compra'!J2200=\"\",\"\",VLOOKUP(A2189,'Requisição de Compra'!$I$28:$J$3000,2,0))","v":""},null,null,null,null,null,null,"Falta Orçamento",null,{"$f":"VLOOKUP(A2189,'[1]Mapa de Preços'!$A$16:$D$2988,4,0)","v":0}]
[2175,null,{"$f":"IF('Requisição de Compra'!J2201=\"\",\"\",VLOOKUP(A2190,'Requisição de Compra'!$I$28:$J$3000,2,0))","v":""},null,null,null,null,null,null,"Falta Orçamento",null,{"$f":"VLOOKUP(A2190,'[1]Mapa de Preços'!$A$16:$D$2988,4,0)","v":0}]
[2176,null,{"$f":"IF('Requisição de Compra'!J2202=\"\",\"\",VLOOKUP(A2191,'Requisição de Compra'!$I$28:$J$3000,2,0))","v":""},null,null,null,null,null,null,"Falta Orçamento",null,{"$f":"VLOOKUP(A2191,'[1]Mapa de Preços'!$A$16:$D$2988,4,0)","v":0}]
[2177,null,{"$f":"IF('Requisição de Compra'!J2203=\"\",\"\",VLOOKUP(A2192,'Requisição de Compra'!$I$28:$J$3000,2,0))","v":""},null,null,null,null,null,null,"Falta Orçamento",null,{"$f":"VLOOKUP(A2192,'[1]Mapa de Preços'!$A$16:$D$2988,4,0)","v":0}]
[2178,null,{"$f":"IF('Requisição de Compra'!J2204=\"\",\"\",VLOOKUP(A2193,'Requisição de Compra'!$I$28:$J$3000,2,0))","v":""},null,null,null,null,null,null,{"$f":"IF(AND(D2193<>\"\",F2193<>\"\",H2193<>\"\"),AVERAGE(D2193:H2193),\"Falta Orçamento\")","v":"Falta Orçamento"},null,{"$f":"VLOOKUP(A2193,'[1]Mapa de Preços'!$A$16:$D$2988,4,0)","v":0}]
[2179,null,{"$f":"IF('Requisição de Compra'!J2205=\"\",\"\",VLOOKUP(A2194,'Requisição de Compra'!$I$28:$J$3000,2,0))","v":""},null,null,null,null,null,null,"Falta Orçamento",null,{"$f":"VLOOKUP(A2194,'[1]Mapa de Preços'!$A$16:$D$2988,4,0)","v":0}]
[2180,null,{"$f":"IF('Requisição de Compra'!J2206=\"\",\"\",VLOOKUP(A2195,'Requisição de Compra'!$I$28:$J$3000,2,0))","v":""},null,null,null,null,null,null,"Falta Orçamento",null,{"$f":"VLOOKUP(A2195,'[1]Mapa de Preços'!$A$16:$D$2988,4,0)","v":0}]
[2181,null,{"$f":"IF('Requisição de Compra'!J2207=\"\",\"\",VLOOKUP(A2196,'Requisição de Compra'!$I$28:$J$3000,2,0))","v":""},null,null,null,null,null,null,"Falta Orçamento",null,{"$f":"VLOOKUP(A2196,'[1]Mapa de Preços'!$A$16:$D$2988,4,0)","v":0}]
[2182,null,{"$f":"IF('Requisição de Compra'!J2208=\"\",\"\",VLOOKUP(A2197,'Requisição de Compra'!$I$28:$J$3000,2,0))","v":""},null,null,null,null,null,null,"Falta Orçamento",null,{"$f":"VLOOKUP(A2197,'[1]Mapa de Preços'!$A$16:$D$2988,4,0)","v":0}]
[2183,null,{"$f":"IF('Requisição de Compra'!J2209=\"\",\"\",VLOOKUP(A2198,'Requisição de Compra'!$I$28:$J$3000,2,0))","v":""},null,null,null,null,null,null,"Falta Orçamento",null,{"$f":"VLOOKUP(A2198,'[1]Mapa de Preços'!$A$16:$D$2988,4,0)","v":0}]
[2184,null,{"$f":"IF('Requisição de Compra'!J2210=\"\",\"\",VLOOKUP(A2199,'Requisição de Compra'!$I$28:$J$3000,2,0))","v":""},null,null,null,null,null,null,"Falta Orçamento",null,{"$f":"VLOOKUP(A2199,'[1]Mapa de Preços'!$A$16:$D$2988,4,0)","v":0}]
[2185,null,{"$f":"IF('Requisição de Compra'!J2211=\"\",\"\",VLOOKUP(A2200,'Requisição de Compra'!$I$28:$J$3000,2,0))","v":""},null,null,null,null,null,null,"Falta Orçamento",null,{"$f":"VLOOKUP(A2200,'[1]Mapa de Preços'!$A$16:$D$2988,4,0)","v":0}]
[2186,null,{"$f":"IF('Requisição de Compra'!J2212=\"\",\"\",VLOOKUP(A2201,'Requisição de Compra'!$I$28:$J$3000,2,0))","v":""},null,null,null,null,null,null,"Falta Orçamento",null,{"$f":"VLOOKUP(A2201,'[1]Mapa de Preços'!$A$16:$D$2988,4,0)","v":0}]
[2187,null,{"$f":"IF('Requisição de Compra'!J2213=\"\",\"\",VLOOKUP(A2202,'Requisição de Compra'!$I$28:$J$3000,2,0))","v":""},null,null,null,null,null,null,"Falta Orçamento",null,{"$f":"VLOOKUP(A2202,'[1]Mapa de Preços'!$A$16:$D$2988,4,0)","v":0}]
[2188,null,{"$f":"IF('Requisição de Compra'!J2214=\"\",\"\",VLOOKUP(A2203,'Requisição de Compra'!$I$28:$J$3000,2,0))","v":""},null,null,null,null,null,null,"Falta Orçamento",null,{"$f":"VLOOKUP(A2203,'[1]Mapa de Preços'!$A$16:$D$2988,4,0)","v":0}]
[2189,null,{"$f":"IF('Requisição de Compra'!J2215=\"\",\"\",VLOOKUP(A2204,'Requisição de Compra'!$I$28:$J$3000,2,0))","v":""},null,null,null,null,null,null,"Falta Orçamento",null,{"$f":"VLOOKUP(A2204,'[1]Mapa de Preços'!$A$16:$D$2988,4,0)","v":0}]
[2190,null,{"$f":"IF('Requisição de Compra'!J2216=\"\",\"\",VLOOKUP(A2205,'Requisição de Compra'!$I$28:$J$3000,2,0))","v":""},null,null,null,null,null,null,"Falta Orçamento",null,{"$f":"VLOOKUP(A2205,'[1]Mapa de Preços'!$A$16:$D$2988,4,0)","v":0}]
[2191,null,{"$f":"IF('Requisição de Compra'!J2217=\"\",\"\",VLOOKUP(A2206,'Requisição de Compra'!$I$28:$J$3000,2,0))","v":""},null,null,null,null,null,null,"Falta Orçamento",null,{"$f":"VLOOKUP(A2206,'[1]Mapa de Preços'!$A$16:$D$2988,4,0)","v":0}]
[2192,null,{"$f":"IF('Requisição de Compra'!J2218=\"\",\"\",VLOOKUP(A2207,'Requisição de Compra'!$I$28:$J$3000,2,0))","v":""},null,null,null,null,null,null,"Falta Orçamento",null,{"$f":"VLOOKUP(A2207,'[1]Mapa de Preços'!$A$16:$D$2988,4,0)","v":0}]
[2193,null,{"$f":"IF('Requisição de Compra'!J2219=\"\",\"\",VLOOKUP(A2208,'Requisição de Compra'!$I$28:$J$3000,2,0))","v":""},null,null,null,null,null,null,"Falta Orçamento",null,{"$f":"VLOOKUP(A2208,'[1]Mapa de Preços'!$A$16:$D$2988,4,0)","v":0}]
[2194,null,{"$f":"IF('Requisição de Compra'!J2220=\"\",\"\",VLOOKUP(A2209,'Requisição de Compra'!$I$28:$J$3000,2,0))","v":""},null,null,null,null,null,null,"Falta Orçamento",null,{"$f":"VLOOKUP(A2209,'[1]Mapa de Preços'!$A$16:$D$2988,4,0)","v":0}]
[2195,null,{"$f":"IF('Requisição de Compra'!J2221=\"\",\"\",VLOOKUP(A2210,'Requisição de Compra'!$I$28:$J$3000,2,0))","v":""},null,null,null,null,null,null,"Falta Orçamento",null,{"$f":"VLOOKUP(A2210,'[1]Mapa de Preços'!$A$16:$D$2988,4,0)","v":0}]
[2196,null,{"$f":"IF('Requisição de Compra'!J2222=\"\",\"\",VLOOKUP(A2211,'Requisição de Compra'!$I$28:$J$3000,2,0))","v":""},null,null,null,null,null,null,"Falta Orçamento",null,{"$f":"VLOOKUP(A2211,'[1]Mapa de Preços'!$A$16:$D$2988,4,0)","v":0}]
[2197,null,{"$f":"IF('Requisição de Compra'!J2223=\"\",\"\",VLOOKUP(A2212,'Requisição de Compra'!$I$28:$J$3000,2,0))","v":""},null,null,null,null,null,null,"Falta Orçamento",null,{"$f":"VLOOKUP(A2212,'[1]Mapa de Preços'!$A$16:$D$2988,4,0)","v":0}]
[2198,null,{"$f":"IF('Requisição de Compra'!J2224=\"\",\"\",VLOOKUP(A2213,'Requisição de Compra'!$I$28:$J$3000,2,0))","v":""},null,null,null,null,null,null,"Falta Orçamento",null,{"$f":"VLOOKUP(A2213,'[1]Mapa de Preços'!$A$16:$D$2988,4,0)","v":0}]
[2199,null,{"$f":"IF('Requisição de Compra'!J2225=\"\",\"\",VLOOKUP(A2214,'Requisição de Compra'!$I$28:$J$3000,2,0))","v":""},null,null,null,null,null,null,"Falta Orçamento",null,{"$f":"VLOOKUP(A2214,'[1]Mapa de Preços'!$A$16:$D$2988,4,0)","v":0}]
[2200,null,{"$f":"IF('Requisição de Compra'!J2226=\"\",\"\",VLOOKUP(A2215,'Requisição de Compra'!$I$28:$J$3000,2,0))","v":""},null,null,null,null,null,null,"Falta Orçamento",null,{"$f":"VLOOKUP(A2215,'[1]Mapa de Preços'!$A$16:$D$2988,4,0)","v":0}]
[2201,null,{"$f":"IF('Requisição de Compra'!J2227=\"\",\"\",VLOOKUP(A2216,'Requisição de Compra'!$I$28:$J$3000,2,0))","v":""},null,null,null,null,null,null,"Falta Orçamento",null,{"$f":"VLOOKUP(A2216,'[1]Mapa de Preços'!$A$16:$D$2988,4,0)","v":0}]
[2202,null,{"$f":"IF('Requisição de Compra'!J2228=\"\",\"\",VLOOKUP(A2217,'Requisição de Compra'!$I$28:$J$3000,2,0))","v":""},null,null,null,null,null,null,"Falta Orçamento",null,{"$f":"VLOOKUP(A2217,'[1]Mapa de Preços'!$A$16:$D$2988,4,0)","v":0}]
[2203,null,{"$f":"IF('Requisição de Compra'!J2229=\"\",\"\",VLOOKUP(A2218,'Requisição de Compra'!$I$28:$J$3000,2,0))","v":""},null,null,null,null,null,null,"Falta Orçamento",null,{"$f":"VLOOKUP(A2218,'[1]Mapa de Preços'!$A$16:$D$2988,4,0)","v":0}]
[2204,null,{"$f":"IF('Requisição de Compra'!J2230=\"\",\"\",VLOOKUP(A2219,'Requisição de Compra'!$I$28:$J$3000,2,0))","v":""},null,null,null,null,null,null,"Falta Orçamento",null,{"$f":"VLOOKUP(A2219,'[1]Mapa de Preços'!$A$16:$D$2988,4,0)","v":0}]
[2205,null,{"$f":"IF('Requisição de Compra'!J2231=\"\",\"\",VLOOKUP(A2220,'Requisição de Compra'!$I$28:$J$3000,2,0))","v":""},null,null,null,null,null,null,"Falta Orçamento",null,{"$f":"VLOOKUP(A2220,'[1]Mapa de Preços'!$A$16:$D$2988,4,0)","v":0}]
[2206,null,{"$f":"IF('Requisição de Compra'!J2232=\"\",\"\",VLOOKUP(A2221,'Requisição de Compra'!$I$28:$J$3000,2,0))","v":""},null,null,null,null,null,null,"Falta Orçamento",null,{"$f":"VLOOKUP(A2221,'[1]Mapa de Preços'!$A$16:$D$2988,4,0)","v":0}]
[2207,null,{"$f":"IF('Requisição de Compra'!J2233=\"\",\"\",VLOOKUP(A2222,'Requisição de Compra'!$I$28:$J$3000,2,0))","v":""},null,null,null,null,null,null,"Falta Orçamento",null,{"$f":"VLOOKUP(A2222,'[1]Mapa de Preços'!$A$16:$D$2988,4,0)","v":0}]
[2208,null,{"$f":"IF('Requisição de Compra'!J2234=\"\",\"\",VLOOKUP(A2223,'Requisição de Compra'!$I$28:$J$3000,2,0))","v":""},null,null,null,null,null,null,"Falta Orçamento",null,{"$f":"VLOOKUP(A2223,'[1]Mapa de Preços'!$A$16:$D$2988,4,0)","v":0}]
[2209,null,{"$f":"IF('Requisição de Compra'!J2235=\"\",\"\",VLOOKUP(A2224,'Requisição de Compra'!$I$28:$J$3000,2,0))","v":""},null,null,null,null,null,null,"Falta Orçamento",null,{"$f":"VLOOKUP(A2224,'[1]Mapa de Preços'!$A$16:$D$2988,4,0)","v":0}]
[2210,null,{"$f":"IF('Requisição de Compra'!J2236=\"\",\"\",VLOOKUP(A2225,'Requisição de Compra'!$I$28:$J$3000,2,0))","v":""},null,null,null,null,null,null,"Falta Orçamento",null,{"$f":"VLOOKUP(A2225,'[1]Mapa de Preços'!$A$16:$D$2988,4,0)","v":0}]
[2211,null,{"$f":"IF('Requisição de Compra'!J2237=\"\",\"\",VLOOKUP(A2226,'Requisição de Compra'!$I$28:$J$3000,2,0))","v":""},null,null,null,null,null,null,"Falta Orçamento",null,{"$f":"VLOOKUP(A2226,'[1]Mapa de Preços'!$A$16:$D$2988,4,0)","v":0}]
[2212,null,{"$f":"IF('Requisição de Compra'!J2238=\"\",\"\",VLOOKUP(A2227,'Requisição de Compra'!$I$28:$J$3000,2,0))","v":""},null,null,null,null,null,null,"Falta Orçamento",null,{"$f":"VLOOKUP(A2227,'[1]Mapa de Preços'!$A$16:$D$2988,4,0)","v":0}]
[2213,null,{"$f":"IF('Requisição de Compra'!J2239=\"\",\"\",VLOOKUP(A2228,'Requisição de Compra'!$I$28:$J$3000,2,0))","v":""},null,null,null,null,null,null,"Falta Orçamento",null,{"$f":"VLOOKUP(A2228,'[1]Mapa de Preços'!$A$16:$D$2988,4,0)","v":0}]
[2214,null,{"$f":"IF('Requisição de Compra'!J2240=\"\",\"\",VLOOKUP(A2229,'Requisição de Compra'!$I$28:$J$3000,2,0))","v":""},null,null,null,null,null,null,"Falta Orçamento",null,{"$f":"VLOOKUP(A2229,'[1]Mapa de Preços'!$A$16:$D$2988,4,0)","v":0}]
[2215,null,{"$f":"IF('Requisição de Compra'!J2241=\"\",\"\",VLOOKUP(A2230,'Requisição de Compra'!$I$28:$J$3000,2,0))","v":""},null,null,null,null,null,null,"Falta Orçamento",null,{"$f":"VLOOKUP(A2230,'[1]Mapa de Preços'!$A$16:$D$2988,4,0)","v":0}]
[2216,null,{"$f":"IF('Requisição de Compra'!J2242=\"\",\"\",VLOOKUP(A2231,'Requisição de Compra'!$I$28:$J$3000,2,0))","v":""},null,null,null,null,null,null,"Falta Orçamento",null,{"$f":"VLOOKUP(A2231,'[1]Mapa de Preços'!$A$16:$D$2988,4,0)","v":0}]
[2217,null,{"$f":"IF('Requisição de Compra'!J2243=\"\",\"\",VLOOKUP(A2232,'Requisição de Compra'!$I$28:$J$3000,2,0))","v":""},null,null,null,null,null,null,"Falta Orçamento",null,{"$f":"VLOOKUP(A2232,'[1]Mapa de Preços'!$A$16:$D$2988,4,0)","v":0}]
[2218,null,{"$f":"IF('Requisição de Compra'!J2244=\"\",\"\",VLOOKUP(A2233,'Requisição de Compra'!$I$28:$J$3000,2,0))","v":""},null,null,null,null,null,null,"Falta Orçamento",null,{"$f":"VLOOKUP(A2233,'[1]Mapa de Preços'!$A$16:$D$2988,4,0)","v":0}]
[2219,null,{"$f":"IF('Requisição de Compra'!J2245=\"\",\"\",VLOOKUP(A2234,'Requisição de Compra'!$I$28:$J$3000,2,0))","v":""},null,null,null,null,null,null,"Falta Orçamento",null,{"$f":"VLOOKUP(A2234,'[1]Mapa de Preços'!$A$16:$D$2988,4,0)","v":0}]
[2220,null,{"$f":"IF('Requisição de Compra'!J2246=\"\",\"\",VLOOKUP(A2235,'Requisição de Compra'!$I$28:$J$3000,2,0))","v":""},null,null,null,null,null,null,"Falta Orçamento",null,{"$f":"VLOOKUP(A2235,'[1]Mapa de Preços'!$A$16:$D$2988,4,0)","v":0}]
[2221,null,{"$f":"IF('Requisição de Compra'!J2247=\"\",\"\",VLOOKUP(A2236,'Requisição de Compra'!$I$28:$J$3000,2,0))","v":""},null,null,null,null,null,null,"Falta Orçamento",null,{"$f":"VLOOKUP(A2236,'[1]Mapa de Preços'!$A$16:$D$2988,4,0)","v":0}]
[2222,null,{"$f":"IF('Requisição de Compra'!J2248=\"\",\"\",VLOOKUP(A2237,'Requisição de Compra'!$I$28:$J$3000,2,0))","v":""},null,null,null,null,null,null,"Falta Orçamento",null,{"$f":"VLOOKUP(A2237,'[1]Mapa de Preços'!$A$16:$D$2988,4,0)","v":0}]
[2223,null,{"$f":"IF('Requisição de Compra'!J2249=\"\",\"\",VLOOKUP(A2238,'Requisição de Compra'!$I$28:$J$3000,2,0))","v":""},null,null,null,null,null,null,"Falta Orçamento",null,{"$f":"VLOOKUP(A2238,'[1]Mapa de Preços'!$A$16:$D$2988,4,0)","v":0}]
[2224,null,{"$f":"IF('Requisição de Compra'!J2250=\"\",\"\",VLOOKUP(A2239,'Requisição de Compra'!$I$28:$J$3000,2,0))","v":""},null,null,null,null,null,null,"Falta Orçamento",null,{"$f":"VLOOKUP(A2239,'[1]Mapa de Preços'!$A$16:$D$2988,4,0)","v":0}]
[2225,null,{"$f":"IF('Requisição de Compra'!J2251=\"\",\"\",VLOOKUP(A2240,'Requisição de Compra'!$I$28:$J$3000,2,0))","v":""},null,null,null,null,null,null,"Falta Orçamento",null,{"$f":"VLOOKUP(A2240,'[1]Mapa de Preços'!$A$16:$D$2988,4,0)","v":0}]
[2226,null,{"$f":"IF('Requisição de Compra'!J2252=\"\",\"\",VLOOKUP(A2241,'Requisição de Compra'!$I$28:$J$3000,2,0))","v":""},null,null,null,null,null,null,"Falta Orçamento",null,{"$f":"VLOOKUP(A2241,'[1]Mapa de Preços'!$A$16:$D$2988,4,0)","v":0}]
[2227,null,{"$f":"IF('Requisição de Compra'!J2253=\"\",\"\",VLOOKUP(A2242,'Requisição de Compra'!$I$28:$J$3000,2,0))","v":""},null,null,null,null,null,null,"Falta Orçamento",null,{"$f":"VLOOKUP(A2242,'[1]Mapa de Preços'!$A$16:$D$2988,4,0)","v":0}]
[2228,null,{"$f":"IF('Requisição de Compra'!J2254=\"\",\"\",VLOOKUP(A2243,'Requisição de Compra'!$I$28:$J$3000,2,0))","v":""},null,null,null,null,null,null,"Falta Orçamento",null,{"$f":"VLOOKUP(A2243,'[1]Mapa de Preços'!$A$16:$D$2988,4,0)","v":0}]
[2229,null,{"$f":"IF('Requisição de Compra'!J2255=\"\",\"\",VLOOKUP(A2244,'Requisição de Compra'!$I$28:$J$3000,2,0))","v":""},null,null,null,null,null,null,"Falta Orçamento",null,{"$f":"VLOOKUP(A2244,'[1]Mapa de Preços'!$A$16:$D$2988,4,0)","v":0}]
[2230,null,{"$f":"IF('Requisição de Compra'!J2256=\"\",\"\",VLOOKUP(A2245,'Requisição de Compra'!$I$28:$J$3000,2,0))","v":""},null,null,null,null,null,null,"Falta Orçamento",null,{"$f":"VLOOKUP(A2245,'[1]Mapa de Preços'!$A$16:$D$2988,4,0)","v":0}]
[2231,null,{"$f":"IF('Requisição de Compra'!J2257=\"\",\"\",VLOOKUP(A2246,'Requisição de Compra'!$I$28:$J$3000,2,0))","v":""},null,null,null,null,null,null,"Falta Orçamento",null,{"$f":"VLOOKUP(A2246,'[1]Mapa de Preços'!$A$16:$D$2988,4,0)","v":0}]
[2232,null,{"$f":"IF('Requisição de Compra'!J2258=\"\",\"\",VLOOKUP(A2247,'Requisição de Compra'!$I$28:$J$3000,2,0))","v":""},null,null,null,null,null,null,"Falta Orçamento",null,{"$f":"VLOOKUP(A2247,'[1]Mapa de Preços'!$A$16:$D$2988,4,0)","v":0}]
[2233,null,{"$f":"IF('Requisição de Compra'!J2259=\"\",\"\",VLOOKUP(A2248,'Requisição de Compra'!$I$28:$J$3000,2,0))","v":""},null,null,null,null,null,null,"Falta Orçamento",null,{"$f":"VLOOKUP(A2248,'[1]Mapa de Preços'!$A$16:$D$2988,4,0)","v":0}]
[2234,null,{"$f":"IF('Requisição de Compra'!J2260=\"\",\"\",VLOOKUP(A2249,'Requisição de Compra'!$I$28:$J$3000,2,0))","v":""},null,null,null,null,null,null,"Falta Orçamento",null,{"$f":"VLOOKUP(A2249,'[1]Mapa de Preços'!$A$16:$D$2988,4,0)","v":0}]
[2235,null,{"$f":"IF('Requisição de Compra'!J2261=\"\",\"\",VLOOKUP(A2250,'Requisição de Compra'!$I$28:$J$3000,2,0))","v":""},null,null,null,null,null,null,"Falta Orçamento",null,{"$f":"VLOOKUP(A2250,'[1]Mapa de Preços'!$A$16:$D$2988,4,0)","v":0}]
[2236,null,{"$f":"IF('Requisição de Compra'!J2262=\"\",\"\",VLOOKUP(A2251,'Requisição de Compra'!$I$28:$J$3000,2,0))","v":""},null,null,null,null,null,null,"Falta Orçamento",null,{"$f":"VLOOKUP(A2251,'[1]Mapa de Preços'!$A$16:$D$2988,4,0)","v":0}]
[2237,null,{"$f":"IF('Requisição de Compra'!J2263=\"\",\"\",VLOOKUP(A2252,'Requisição de Compra'!$I$28:$J$3000,2,0))","v":""},null,null,null,null,null,null,"Falta Orçamento",null,{"$f":"VLOOKUP(A2252,'[1]Mapa de Preços'!$A$16:$D$2988,4,0)","v":0}]
[2238,null,{"$f":"IF('Requisição de Compra'!J2264=\"\",\"\",VLOOKUP(A2253,'Requisição de Compra'!$I$28:$J$3000,2,0))","v":""},null,null,null,null,null,null,"Falta Orçamento",null,{"$f":"VLOOKUP(A2253,'[1]Mapa de Preços'!$A$16:$D$2988,4,0)","v":0}]
[2239,null,{"$f":"IF('Requisição de Compra'!J2265=\"\",\"\",VLOOKUP(A2254,'Requisição de Compra'!$I$28:$J$3000,2,0))","v":""},null,null,null,null,null,null,"Falta Orçamento",null,{"$f":"VLOOKUP(A2254,'[1]Mapa de Preços'!$A$16:$D$2988,4,0)","v":0}]
[2240,null,{"$f":"IF('Requisição de Compra'!J2266=\"\",\"\",VLOOKUP(A2255,'Requisição de Compra'!$I$28:$J$3000,2,0))","v":""},null,null,null,null,null,null,"Falta Orçamento",null,{"$f":"VLOOKUP(A2255,'[1]Mapa de Preços'!$A$16:$D$2988,4,0)","v":0}]
[2241,null,{"$f":"IF('Requisição de Compra'!J2267=\"\",\"\",VLOOKUP(A2256,'Requisição de Compra'!$I$28:$J$3000,2,0))","v":""},null,null,null,null,null,null,"Falta Orçamento",null,{"$f":"VLOOKUP(A2256,'[1]Mapa de Preços'!$A$16:$D$2988,4,0)","v":0}]
[2242,null,{"$f":"IF('Requisição de Compra'!J2268=\"\",\"\",VLOOKUP(A2257,'Requisição de Compra'!$I$28:$J$3000,2,0))","v":""},null,null,null,null,null,null,{"$f":"IF(AND(D2257<>\"\",F2257<>\"\",H2257<>\"\"),AVERAGE(D2257:H2257),\"Falta Orçamento\")","v":"Falta Orçamento"},null,{"$f":"VLOOKUP(A2257,'[1]Mapa de Preços'!$A$16:$D$2988,4,0)","v":0}]
[2243,null,{"$f":"IF('Requisição de Compra'!J2269=\"\",\"\",VLOOKUP(A2258,'Requisição de Compra'!$I$28:$J$3000,2,0))","v":""},null,null,null,null,null,null,"Falta Orçamento",null,{"$f":"VLOOKUP(A2258,'[1]Mapa de Preços'!$A$16:$D$2988,4,0)","v":0}]
[2244,null,{"$f":"IF('Requisição de Compra'!J2270=\"\",\"\",VLOOKUP(A2259,'Requisição de Compra'!$I$28:$J$3000,2,0))","v":""},null,null,null,null,null,null,"Falta Orçamento",null,{"$f":"VLOOKUP(A2259,'[1]Mapa de Preços'!$A$16:$D$2988,4,0)","v":0}]
[2245,null,{"$f":"IF('Requisição de Compra'!J2271=\"\",\"\",VLOOKUP(A2260,'Requisição de Compra'!$I$28:$J$3000,2,0))","v":""},null,null,null,null,null,null,"Falta Orçamento",null,{"$f":"VLOOKUP(A2260,'[1]Mapa de Preços'!$A$16:$D$2988,4,0)","v":0}]
[2246,null,{"$f":"IF('Requisição de Compra'!J2272=\"\",\"\",VLOOKUP(A2261,'Requisição de Compra'!$I$28:$J$3000,2,0))","v":""},null,null,null,null,null,null,"Falta Orçamento",null,{"$f":"VLOOKUP(A2261,'[1]Mapa de Preços'!$A$16:$D$2988,4,0)","v":0}]
[2247,null,{"$f":"IF('Requisição de Compra'!J2273=\"\",\"\",VLOOKUP(A2262,'Requisição de Compra'!$I$28:$J$3000,2,0))","v":""},null,null,null,null,null,null,"Falta Orçamento",null,{"$f":"VLOOKUP(A2262,'[1]Mapa de Preços'!$A$16:$D$2988,4,0)","v":0}]
[2248,null,{"$f":"IF('Requisição de Compra'!J2274=\"\",\"\",VLOOKUP(A2263,'Requisição de Compra'!$I$28:$J$3000,2,0))","v":""},null,null,null,null,null,null,"Falta Orçamento",null,{"$f":"VLOOKUP(A2263,'[1]Mapa de Preços'!$A$16:$D$2988,4,0)","v":0}]
[2249,null,{"$f":"IF('Requisição de Compra'!J2275=\"\",\"\",VLOOKUP(A2264,'Requisição de Compra'!$I$28:$J$3000,2,0))","v":""},null,null,null,null,null,null,"Falta Orçamento",null,{"$f":"VLOOKUP(A2264,'[1]Mapa de Preços'!$A$16:$D$2988,4,0)","v":0}]
[2250,null,{"$f":"IF('Requisição de Compra'!J2276=\"\",\"\",VLOOKUP(A2265,'Requisição de Compra'!$I$28:$J$3000,2,0))","v":""},null,null,null,null,null,null,"Falta Orçamento",null,{"$f":"VLOOKUP(A2265,'[1]Mapa de Preços'!$A$16:$D$2988,4,0)","v":0}]
[2251,null,{"$f":"IF('Requisição de Compra'!J2277=\"\",\"\",VLOOKUP(A2266,'Requisição de Compra'!$I$28:$J$3000,2,0))","v":""},null,null,null,null,null,null,"Falta Orçamento",null,{"$f":"VLOOKUP(A2266,'[1]Mapa de Preços'!$A$16:$D$2988,4,0)","v":0}]
[2252,null,{"$f":"IF('Requisição de Compra'!J2278=\"\",\"\",VLOOKUP(A2267,'Requisição de Compra'!$I$28:$J$3000,2,0))","v":""},null,null,null,null,null,null,"Falta Orçamento",null,{"$f":"VLOOKUP(A2267,'[1]Mapa de Preços'!$A$16:$D$2988,4,0)","v":0}]
[2253,null,{"$f":"IF('Requisição de Compra'!J2279=\"\",\"\",VLOOKUP(A2268,'Requisição de Compra'!$I$28:$J$3000,2,0))","v":""},null,null,null,null,null,null,"Falta Orçamento",null,{"$f":"VLOOKUP(A2268,'[1]Mapa de Preços'!$A$16:$D$2988,4,0)","v":0}]
[2254,null,{"$f":"IF('Requisição de Compra'!J2280=\"\",\"\",VLOOKUP(A2269,'Requisição de Compra'!$I$28:$J$3000,2,0))","v":""},null,null,null,null,null,null,"Falta Orçamento",null,{"$f":"VLOOKUP(A2269,'[1]Mapa de Preços'!$A$16:$D$2988,4,0)","v":0}]
[2255,null,{"$f":"IF('Requisição de Compra'!J2281=\"\",\"\",VLOOKUP(A2270,'Requisição de Compra'!$I$28:$J$3000,2,0))","v":""},null,null,null,null,null,null,"Falta Orçamento",null,{"$f":"VLOOKUP(A2270,'[1]Mapa de Preços'!$A$16:$D$2988,4,0)","v":0}]
[2256,null,{"$f":"IF('Requisição de Compra'!J2282=\"\",\"\",VLOOKUP(A2271,'Requisição de Compra'!$I$28:$J$3000,2,0))","v":""},null,null,null,null,null,null,"Falta Orçamento",null,{"$f":"VLOOKUP(A2271,'[1]Mapa de Preços'!$A$16:$D$2988,4,0)","v":0}]
[2257,null,{"$f":"IF('Requisição de Compra'!J2283=\"\",\"\",VLOOKUP(A2272,'Requisição de Compra'!$I$28:$J$3000,2,0))","v":""},null,null,null,null,null,null,"Falta Orçamento",null,{"$f":"VLOOKUP(A2272,'[1]Mapa de Preços'!$A$16:$D$2988,4,0)","v":0}]
[2258,null,{"$f":"IF('Requisição de Compra'!J2284=\"\",\"\",VLOOKUP(A2273,'Requisição de Compra'!$I$28:$J$3000,2,0))","v":""},null,null,null,null,null,null,"Falta Orçamento",null,{"$f":"VLOOKUP(A2273,'[1]Mapa de Preços'!$A$16:$D$2988,4,0)","v":0}]
[2259,null,{"$f":"IF('Requisição de Compra'!J2285=\"\",\"\",VLOOKUP(A2274,'Requisição de Compra'!$I$28:$J$3000,2,0))","v":""},null,null,null,null,null,null,"Falta Orçamento",null,{"$f":"VLOOKUP(A2274,'[1]Mapa de Preços'!$A$16:$D$2988,4,0)","v":0}]
[2260,null,{"$f":"IF('Requisição de Compra'!J2286=\"\",\"\",VLOOKUP(A2275,'Requisição de Compra'!$I$28:$J$3000,2,0))","v":""},null,null,null,null,null,null,"Falta Orçamento",null,{"$f":"VLOOKUP(A2275,'[1]Mapa de Preços'!$A$16:$D$2988,4,0)","v":0}]
[2261,null,{"$f":"IF('Requisição de Compra'!J2287=\"\",\"\",VLOOKUP(A2276,'Requisição de Compra'!$I$28:$J$3000,2,0))","v":""},null,null,null,null,null,null,"Falta Orçamento",null,{"$f":"VLOOKUP(A2276,'[1]Mapa de Preços'!$A$16:$D$2988,4,0)","v":0}]
[2262,null,{"$f":"IF('Requisição de Compra'!J2288=\"\",\"\",VLOOKUP(A2277,'Requisição de Compra'!$I$28:$J$3000,2,0))","v":""},null,null,null,null,null,null,"Falta Orçamento",null,{"$f":"VLOOKUP(A2277,'[1]Mapa de Preços'!$A$16:$D$2988,4,0)","v":0}]
[2263,null,{"$f":"IF('Requisição de Compra'!J2289=\"\",\"\",VLOOKUP(A2278,'Requisição de Compra'!$I$28:$J$3000,2,0))","v":""},null,null,null,null,null,null,"Falta Orçamento",null,{"$f":"VLOOKUP(A2278,'[1]Mapa de Preços'!$A$16:$D$2988,4,0)","v":0}]
[2264,null,{"$f":"IF('Requisição de Compra'!J2290=\"\",\"\",VLOOKUP(A2279,'Requisição de Compra'!$I$28:$J$3000,2,0))","v":""},null,null,null,null,null,null,"Falta Orçamento",null,{"$f":"VLOOKUP(A2279,'[1]Mapa de Preços'!$A$16:$D$2988,4,0)","v":0}]
[2265,null,{"$f":"IF('Requisição de Compra'!J2291=\"\",\"\",VLOOKUP(A2280,'Requisição de Compra'!$I$28:$J$3000,2,0))","v":""},null,null,null,null,null,null,"Falta Orçamento",null,{"$f":"VLOOKUP(A2280,'[1]Mapa de Preços'!$A$16:$D$2988,4,0)","v":0}]
[2266,null,{"$f":"IF('Requisição de Compra'!J2292=\"\",\"\",VLOOKUP(A2281,'Requisição de Compra'!$I$28:$J$3000,2,0))","v":""},null,null,null,null,null,null,"Falta Orçamento",null,{"$f":"VLOOKUP(A2281,'[1]Mapa de Preços'!$A$16:$D$2988,4,0)","v":0}]
[2267,null,{"$f":"IF('Requisição de Compra'!J2293=\"\",\"\",VLOOKUP(A2282,'Requisição de Compra'!$I$28:$J$3000,2,0))","v":""},null,null,null,null,null,null,"Falta Orçamento",null,{"$f":"VLOOKUP(A2282,'[1]Mapa de Preços'!$A$16:$D$2988,4,0)","v":0}]
[2268,null,{"$f":"IF('Requisição de Compra'!J2294=\"\",\"\",VLOOKUP(A2283,'Requisição de Compra'!$I$28:$J$3000,2,0))","v":""},null,null,null,null,null,null,"Falta Orçamento",null,{"$f":"VLOOKUP(A2283,'[1]Mapa de Preços'!$A$16:$D$2988,4,0)","v":0}]
[2269,null,{"$f":"IF('Requisição de Compra'!J2295=\"\",\"\",VLOOKUP(A2284,'Requisição de Compra'!$I$28:$J$3000,2,0))","v":""},null,null,null,null,null,null,"Falta Orçamento",null,{"$f":"VLOOKUP(A2284,'[1]Mapa de Preços'!$A$16:$D$2988,4,0)","v":0}]
[2270,null,{"$f":"IF('Requisição de Compra'!J2296=\"\",\"\",VLOOKUP(A2285,'Requisição de Compra'!$I$28:$J$3000,2,0))","v":""},null,null,null,null,null,null,"Falta Orçamento",null,{"$f":"VLOOKUP(A2285,'[1]Mapa de Preços'!$A$16:$D$2988,4,0)","v":0}]
[2271,null,{"$f":"IF('Requisição de Compra'!J2297=\"\",\"\",VLOOKUP(A2286,'Requisição de Compra'!$I$28:$J$3000,2,0))","v":""},null,null,null,null,null,null,"Falta Orçamento",null,{"$f":"VLOOKUP(A2286,'[1]Mapa de Preços'!$A$16:$D$2988,4,0)","v":0}]
[2272,null,{"$f":"IF('Requisição de Compra'!J2298=\"\",\"\",VLOOKUP(A2287,'Requisição de Compra'!$I$28:$J$3000,2,0))","v":""},null,null,null,null,null,null,"Falta Orçamento",null,{"$f":"VLOOKUP(A2287,'[1]Mapa de Preços'!$A$16:$D$2988,4,0)","v":0}]
[2273,null,{"$f":"IF('Requisição de Compra'!J2299=\"\",\"\",VLOOKUP(A2288,'Requisição de Compra'!$I$28:$J$3000,2,0))","v":""},null,null,null,null,null,null,"Falta Orçamento",null,{"$f":"VLOOKUP(A2288,'[1]Mapa de Preços'!$A$16:$D$2988,4,0)","v":0}]
[2274,null,{"$f":"IF('Requisição de Compra'!J2300=\"\",\"\",VLOOKUP(A2289,'Requisição de Compra'!$I$28:$J$3000,2,0))","v":""},null,null,null,null,null,null,"Falta Orçamento",null,{"$f":"VLOOKUP(A2289,'[1]Mapa de Preços'!$A$16:$D$2988,4,0)","v":0}]
[2275,null,{"$f":"IF('Requisição de Compra'!J2301=\"\",\"\",VLOOKUP(A2290,'Requisição de Compra'!$I$28:$J$3000,2,0))","v":""},null,null,null,null,null,null,"Falta Orçamento",null,{"$f":"VLOOKUP(A2290,'[1]Mapa de Preços'!$A$16:$D$2988,4,0)","v":0}]
[2276,null,{"$f":"IF('Requisição de Compra'!J2302=\"\",\"\",VLOOKUP(A2291,'Requisição de Compra'!$I$28:$J$3000,2,0))","v":""},null,null,null,null,null,null,"Falta Orçamento",null,{"$f":"VLOOKUP(A2291,'[1]Mapa de Preços'!$A$16:$D$2988,4,0)","v":0}]
[2277,null,{"$f":"IF('Requisição de Compra'!J2303=\"\",\"\",VLOOKUP(A2292,'Requisição de Compra'!$I$28:$J$3000,2,0))","v":""},null,null,null,null,null,null,"Falta Orçamento",null,{"$f":"VLOOKUP(A2292,'[1]Mapa de Preços'!$A$16:$D$2988,4,0)","v":0}]
[2278,null,{"$f":"IF('Requisição de Compra'!J2304=\"\",\"\",VLOOKUP(A2293,'Requisição de Compra'!$I$28:$J$3000,2,0))","v":""},null,null,null,null,null,null,"Falta Orçamento",null,{"$f":"VLOOKUP(A2293,'[1]Mapa de Preços'!$A$16:$D$2988,4,0)","v":0}]
[2279,null,{"$f":"IF('Requisição de Compra'!J2305=\"\",\"\",VLOOKUP(A2294,'Requisição de Compra'!$I$28:$J$3000,2,0))","v":""},null,null,null,null,null,null,"Falta Orçamento",null,{"$f":"VLOOKUP(A2294,'[1]Mapa de Preços'!$A$16:$D$2988,4,0)","v":0}]
[2280,null,{"$f":"IF('Requisição de Compra'!J2306=\"\",\"\",VLOOKUP(A2295,'Requisição de Compra'!$I$28:$J$3000,2,0))","v":""},null,null,null,null,null,null,"Falta Orçamento",null,{"$f":"VLOOKUP(A2295,'[1]Mapa de Preços'!$A$16:$D$2988,4,0)","v":0}]
[2281,null,{"$f":"IF('Requisição de Compra'!J2307=\"\",\"\",VLOOKUP(A2296,'Requisição de Compra'!$I$28:$J$3000,2,0))","v":""},null,null,null,null,null,null,"Falta Orçamento",null,{"$f":"VLOOKUP(A2296,'[1]Mapa de Preços'!$A$16:$D$2988,4,0)","v":0}]
[2282,null,{"$f":"IF('Requisição de Compra'!J2308=\"\",\"\",VLOOKUP(A2297,'Requisição de Compra'!$I$28:$J$3000,2,0))","v":""},null,null,null,null,null,null,"Falta Orçamento",null,{"$f":"VLOOKUP(A2297,'[1]Mapa de Preços'!$A$16:$D$2988,4,0)","v":0}]
[2283,null,{"$f":"IF('Requisição de Compra'!J2309=\"\",\"\",VLOOKUP(A2298,'Requisição de Compra'!$I$28:$J$3000,2,0))","v":""},null,null,null,null,null,null,"Falta Orçamento",null,{"$f":"VLOOKUP(A2298,'[1]Mapa de Preços'!$A$16:$D$2988,4,0)","v":0}]
[2284,null,{"$f":"IF('Requisição de Compra'!J2310=\"\",\"\",VLOOKUP(A2299,'Requisição de Compra'!$I$28:$J$3000,2,0))","v":""},null,null,null,null,null,null,"Falta Orçamento",null,{"$f":"VLOOKUP(A2299,'[1]Mapa de Preços'!$A$16:$D$2988,4,0)","v":0}]
[2285,null,{"$f":"IF('Requisição de Compra'!J2311=\"\",\"\",VLOOKUP(A2300,'Requisição de Compra'!$I$28:$J$3000,2,0))","v":""},null,null,null,null,null,null,"Falta Orçamento",null,{"$f":"VLOOKUP(A2300,'[1]Mapa de Preços'!$A$16:$D$2988,4,0)","v":0}]
[2286,null,{"$f":"IF('Requisição de Compra'!J2312=\"\",\"\",VLOOKUP(A2301,'Requisição de Compra'!$I$28:$J$3000,2,0))","v":""},null,null,null,null,null,null,"Falta Orçamento",null,{"$f":"VLOOKUP(A2301,'[1]Mapa de Preços'!$A$16:$D$2988,4,0)","v":0}]
[2287,null,{"$f":"IF('Requisição de Compra'!J2313=\"\",\"\",VLOOKUP(A2302,'Requisição de Compra'!$I$28:$J$3000,2,0))","v":""},null,null,null,null,null,null,"Falta Orçamento",null,{"$f":"VLOOKUP(A2302,'[1]Mapa de Preços'!$A$16:$D$2988,4,0)","v":0}]
[2288,null,{"$f":"IF('Requisição de Compra'!J2314=\"\",\"\",VLOOKUP(A2303,'Requisição de Compra'!$I$28:$J$3000,2,0))","v":""},null,null,null,null,null,null,"Falta Orçamento",null,{"$f":"VLOOKUP(A2303,'[1]Mapa de Preços'!$A$16:$D$2988,4,0)","v":0}]
[2289,null,{"$f":"IF('Requisição de Compra'!J2315=\"\",\"\",VLOOKUP(A2304,'Requisição de Compra'!$I$28:$J$3000,2,0))","v":""},null,null,null,null,null,null,"Falta Orçamento",null,{"$f":"VLOOKUP(A2304,'[1]Mapa de Preços'!$A$16:$D$2988,4,0)","v":0}]
[2290,null,{"$f":"IF('Requisição de Compra'!J2316=\"\",\"\",VLOOKUP(A2305,'Requisição de Compra'!$I$28:$J$3000,2,0))","v":""},null,null,null,null,null,null,"Falta Orçamento",null,{"$f":"VLOOKUP(A2305,'[1]Mapa de Preços'!$A$16:$D$2988,4,0)","v":0}]
[2291,null,{"$f":"IF('Requisição de Compra'!J2317=\"\",\"\",VLOOKUP(A2306,'Requisição de Compra'!$I$28:$J$3000,2,0))","v":""},null,null,null,null,null,null,"Falta Orçamento",null,{"$f":"VLOOKUP(A2306,'[1]Mapa de Preços'!$A$16:$D$2988,4,0)","v":0}]
[2292,null,{"$f":"IF('Requisição de Compra'!J2318=\"\",\"\",VLOOKUP(A2307,'Requisição de Compra'!$I$28:$J$3000,2,0))","v":""},null,null,null,null,null,null,"Falta Orçamento",null,{"$f":"VLOOKUP(A2307,'[1]Mapa de Preços'!$A$16:$D$2988,4,0)","v":0}]
[2293,null,{"$f":"IF('Requisição de Compra'!J2319=\"\",\"\",VLOOKUP(A2308,'Requisição de Compra'!$I$28:$J$3000,2,0))","v":""},null,null,null,null,null,null,"Falta Orçamento",null,{"$f":"VLOOKUP(A2308,'[1]Mapa de Preços'!$A$16:$D$2988,4,0)","v":0}]
[2294,null,{"$f":"IF('Requisição de Compra'!J2320=\"\",\"\",VLOOKUP(A2309,'Requisição de Compra'!$I$28:$J$3000,2,0))","v":""},null,null,null,null,null,null,"Falta Orçamento",null,{"$f":"VLOOKUP(A2309,'[1]Mapa de Preços'!$A$16:$D$2988,4,0)","v":0}]
[2295,null,{"$f":"IF('Requisição de Compra'!J2321=\"\",\"\",VLOOKUP(A2310,'Requisição de Compra'!$I$28:$J$3000,2,0))","v":""},null,null,null,null,null,null,"Falta Orçamento",null,{"$f":"VLOOKUP(A2310,'[1]Mapa de Preços'!$A$16:$D$2988,4,0)","v":0}]
[2296,null,{"$f":"IF('Requisição de Compra'!J2322=\"\",\"\",VLOOKUP(A2311,'Requisição de Compra'!$I$28:$J$3000,2,0))","v":""},null,null,null,null,null,null,"Falta Orçamento",null,{"$f":"VLOOKUP(A2311,'[1]Mapa de Preços'!$A$16:$D$2988,4,0)","v":0}]
[2297,null,{"$f":"IF('Requisição de Compra'!J2323=\"\",\"\",VLOOKUP(A2312,'Requisição de Compra'!$I$28:$J$3000,2,0))","v":""},null,null,null,null,null,null,"Falta Orçamento",null,{"$f":"VLOOKUP(A2312,'[1]Mapa de Preços'!$A$16:$D$2988,4,0)","v":0}]
[2298,null,{"$f":"IF('Requisição de Compra'!J2324=\"\",\"\",VLOOKUP(A2313,'Requisição de Compra'!$I$28:$J$3000,2,0))","v":""},null,null,null,null,null,null,"Falta Orçamento",null,{"$f":"VLOOKUP(A2313,'[1]Mapa de Preços'!$A$16:$D$2988,4,0)","v":0}]
[2299,null,{"$f":"IF('Requisição de Compra'!J2325=\"\",\"\",VLOOKUP(A2314,'Requisição de Compra'!$I$28:$J$3000,2,0))","v":""},null,null,null,null,null,null,"Falta Orçamento",null,{"$f":"VLOOKUP(A2314,'[1]Mapa de Preços'!$A$16:$D$2988,4,0)","v":0}]
[2300,null,{"$f":"IF('Requisição de Compra'!J2326=\"\",\"\",VLOOKUP(A2315,'Requisição de Compra'!$I$28:$J$3000,2,0))","v":""},null,null,null,null,null,null,"Falta Orçamento",null,{"$f":"VLOOKUP(A2315,'[1]Mapa de Preços'!$A$16:$D$2988,4,0)","v":0}]
[2301,null,{"$f":"IF('Requisição de Compra'!J2327=\"\",\"\",VLOOKUP(A2316,'Requisição de Compra'!$I$28:$J$3000,2,0))","v":""},null,null,null,null,null,null,"Falta Orçamento",null,{"$f":"VLOOKUP(A2316,'[1]Mapa de Preços'!$A$16:$D$2988,4,0)","v":0}]
[2302,null,{"$f":"IF('Requisição de Compra'!J2328=\"\",\"\",VLOOKUP(A2317,'Requisição de Compra'!$I$28:$J$3000,2,0))","v":""},null,null,null,null,null,null,"Falta Orçamento",null,{"$f":"VLOOKUP(A2317,'[1]Mapa de Preços'!$A$16:$D$2988,4,0)","v":0}]
[2303,null,{"$f":"IF('Requisição de Compra'!J2329=\"\",\"\",VLOOKUP(A2318,'Requisição de Compra'!$I$28:$J$3000,2,0))","v":""},null,null,null,null,null,null,"Falta Orçamento",null,{"$f":"VLOOKUP(A2318,'[1]Mapa de Preços'!$A$16:$D$2988,4,0)","v":0}]
[2304,null,{"$f":"IF('Requisição de Compra'!J2330=\"\",\"\",VLOOKUP(A2319,'Requisição de Compra'!$I$28:$J$3000,2,0))","v":""},null,null,null,null,null,null,"Falta Orçamento",null,{"$f":"VLOOKUP(A2319,'[1]Mapa de Preços'!$A$16:$D$2988,4,0)","v":0}]
[2305,null,{"$f":"IF('Requisição de Compra'!J2331=\"\",\"\",VLOOKUP(A2320,'Requisição de Compra'!$I$28:$J$3000,2,0))","v":""},null,null,null,null,null,null,"Falta Orçamento",null,{"$f":"VLOOKUP(A2320,'[1]Mapa de Preços'!$A$16:$D$2988,4,0)","v":0}]
[2306,null,{"$f":"IF('Requisição de Compra'!J2332=\"\",\"\",VLOOKUP(A2321,'Requisição de Compra'!$I$28:$J$3000,2,0))","v":""},null,null,null,null,null,null,{"$f":"IF(AND(D2321<>\"\",F2321<>\"\",H2321<>\"\"),AVERAGE(D2321:H2321),\"Falta Orçamento\")","v":"Falta Orçamento"},null,{"$f":"VLOOKUP(A2321,'[1]Mapa de Preços'!$A$16:$D$2988,4,0)","v":0}]
[2307,null,{"$f":"IF('Requisição de Compra'!J2333=\"\",\"\",VLOOKUP(A2322,'Requisição de Compra'!$I$28:$J$3000,2,0))","v":""},null,null,null,null,null,null,"Falta Orçamento",null,{"$f":"VLOOKUP(A2322,'[1]Mapa de Preços'!$A$16:$D$2988,4,0)","v":0}]
[2308,null,{"$f":"IF('Requisição de Compra'!J2334=\"\",\"\",VLOOKUP(A2323,'Requisição de Compra'!$I$28:$J$3000,2,0))","v":""},null,null,null,null,null,null,"Falta Orçamento",null,{"$f":"VLOOKUP(A2323,'[1]Mapa de Preços'!$A$16:$D$2988,4,0)","v":0}]
[2309,null,{"$f":"IF('Requisição de Compra'!J2335=\"\",\"\",VLOOKUP(A2324,'Requisição de Compra'!$I$28:$J$3000,2,0))","v":""},null,null,null,null,null,null,"Falta Orçamento",null,{"$f":"VLOOKUP(A2324,'[1]Mapa de Preços'!$A$16:$D$2988,4,0)","v":0}]
[2310,null,{"$f":"IF('Requisição de Compra'!J2336=\"\",\"\",VLOOKUP(A2325,'Requisição de Compra'!$I$28:$J$3000,2,0))","v":""},null,null,null,null,null,null,"Falta Orçamento",null,{"$f":"VLOOKUP(A2325,'[1]Mapa de Preços'!$A$16:$D$2988,4,0)","v":0}]
[2311,null,{"$f":"IF('Requisição de Compra'!J2337=\"\",\"\",VLOOKUP(A2326,'Requisição de Compra'!$I$28:$J$3000,2,0))","v":""},null,null,null,null,null,null,"Falta Orçamento",null,{"$f":"VLOOKUP(A2326,'[1]Mapa de Preços'!$A$16:$D$2988,4,0)","v":0}]
[2312,null,{"$f":"IF('Requisição de Compra'!J2338=\"\",\"\",VLOOKUP(A2327,'Requisição de Compra'!$I$28:$J$3000,2,0))","v":""},null,null,null,null,null,null,"Falta Orçamento",null,{"$f":"VLOOKUP(A2327,'[1]Mapa de Preços'!$A$16:$D$2988,4,0)","v":0}]
[2313,null,{"$f":"IF('Requisição de Compra'!J2339=\"\",\"\",VLOOKUP(A2328,'Requisição de Compra'!$I$28:$J$3000,2,0))","v":""},null,null,null,null,null,null,"Falta Orçamento",null,{"$f":"VLOOKUP(A2328,'[1]Mapa de Preços'!$A$16:$D$2988,4,0)","v":0}]
[2314,null,{"$f":"IF('Requisição de Compra'!J2340=\"\",\"\",VLOOKUP(A2329,'Requisição de Compra'!$I$28:$J$3000,2,0))","v":""},null,null,null,null,null,null,"Falta Orçamento",null,{"$f":"VLOOKUP(A2329,'[1]Mapa de Preços'!$A$16:$D$2988,4,0)","v":0}]
[2315,null,{"$f":"IF('Requisição de Compra'!J2341=\"\",\"\",VLOOKUP(A2330,'Requisição de Compra'!$I$28:$J$3000,2,0))","v":""},null,null,null,null,null,null,"Falta Orçamento",null,{"$f":"VLOOKUP(A2330,'[1]Mapa de Preços'!$A$16:$D$2988,4,0)","v":0}]
[2316,null,{"$f":"IF('Requisição de Compra'!J2342=\"\",\"\",VLOOKUP(A2331,'Requisição de Compra'!$I$28:$J$3000,2,0))","v":""},null,null,null,null,null,null,"Falta Orçamento",null,{"$f":"VLOOKUP(A2331,'[1]Mapa de Preços'!$A$16:$D$2988,4,0)","v":0}]
[2317,null,{"$f":"IF('Requisição de Compra'!J2343=\"\",\"\",VLOOKUP(A2332,'Requisição de Compra'!$I$28:$J$3000,2,0))","v":""},null,null,null,null,null,null,"Falta Orçamento",null,{"$f":"VLOOKUP(A2332,'[1]Mapa de Preços'!$A$16:$D$2988,4,0)","v":0}]
[2318,null,{"$f":"IF('Requisição de Compra'!J2344=\"\",\"\",VLOOKUP(A2333,'Requisição de Compra'!$I$28:$J$3000,2,0))","v":""},null,null,null,null,null,null,"Falta Orçamento",null,{"$f":"VLOOKUP(A2333,'[1]Mapa de Preços'!$A$16:$D$2988,4,0)","v":0}]
[2319,null,{"$f":"IF('Requisição de Compra'!J2345=\"\",\"\",VLOOKUP(A2334,'Requisição de Compra'!$I$28:$J$3000,2,0))","v":""},null,null,null,null,null,null,"Falta Orçamento",null,{"$f":"VLOOKUP(A2334,'[1]Mapa de Preços'!$A$16:$D$2988,4,0)","v":0}]
[2320,null,{"$f":"IF('Requisição de Compra'!J2346=\"\",\"\",VLOOKUP(A2335,'Requisição de Compra'!$I$28:$J$3000,2,0))","v":""},null,null,null,null,null,null,"Falta Orçamento",null,{"$f":"VLOOKUP(A2335,'[1]Mapa de Preços'!$A$16:$D$2988,4,0)","v":0}]
[2321,null,{"$f":"IF('Requisição de Compra'!J2347=\"\",\"\",VLOOKUP(A2336,'Requisição de Compra'!$I$28:$J$3000,2,0))","v":""},null,null,null,null,null,null,"Falta Orçamento",null,{"$f":"VLOOKUP(A2336,'[1]Mapa de Preços'!$A$16:$D$2988,4,0)","v":0}]
[2322,null,{"$f":"IF('Requisição de Compra'!J2348=\"\",\"\",VLOOKUP(A2337,'Requisição de Compra'!$I$28:$J$3000,2,0))","v":""},null,null,null,null,null,null,"Falta Orçamento",null,{"$f":"VLOOKUP(A2337,'[1]Mapa de Preços'!$A$16:$D$2988,4,0)","v":0}]
[2323,null,{"$f":"IF('Requisição de Compra'!J2349=\"\",\"\",VLOOKUP(A2338,'Requisição de Compra'!$I$28:$J$3000,2,0))","v":""},null,null,null,null,null,null,"Falta Orçamento",null,{"$f":"VLOOKUP(A2338,'[1]Mapa de Preços'!$A$16:$D$2988,4,0)","v":0}]
[2324,null,{"$f":"IF('Requisição de Compra'!J2350=\"\",\"\",VLOOKUP(A2339,'Requisição de Compra'!$I$28:$J$3000,2,0))","v":""},null,null,null,null,null,null,"Falta Orçamento",null,{"$f":"VLOOKUP(A2339,'[1]Mapa de Preços'!$A$16:$D$2988,4,0)","v":0}]
[2325,null,{"$f":"IF('Requisição de Compra'!J2351=\"\",\"\",VLOOKUP(A2340,'Requisição de Compra'!$I$28:$J$3000,2,0))","v":""},null,null,null,null,null,null,"Falta Orçamento",null,{"$f":"VLOOKUP(A2340,'[1]Mapa de Preços'!$A$16:$D$2988,4,0)","v":0}]
[2326,null,{"$f":"IF('Requisição de Compra'!J2352=\"\",\"\",VLOOKUP(A2341,'Requisição de Compra'!$I$28:$J$3000,2,0))","v":""},null,null,null,null,null,null,"Falta Orçamento",null,{"$f":"VLOOKUP(A2341,'[1]Mapa de Preços'!$A$16:$D$2988,4,0)","v":0}]
[2327,null,{"$f":"IF('Requisição de Compra'!J2353=\"\",\"\",VLOOKUP(A2342,'Requisição de Compra'!$I$28:$J$3000,2,0))","v":""},null,null,null,null,null,null,"Falta Orçamento",null,{"$f":"VLOOKUP(A2342,'[1]Mapa de Preços'!$A$16:$D$2988,4,0)","v":0}]
[2328,null,{"$f":"IF('Requisição de Compra'!J2354=\"\",\"\",VLOOKUP(A2343,'Requisição de Compra'!$I$28:$J$3000,2,0))","v":""},null,null,null,null,null,null,"Falta Orçamento",null,{"$f":"VLOOKUP(A2343,'[1]Mapa de Preços'!$A$16:$D$2988,4,0)","v":0}]
[2329,null,{"$f":"IF('Requisição de Compra'!J2355=\"\",\"\",VLOOKUP(A2344,'Requisição de Compra'!$I$28:$J$3000,2,0))","v":""},null,null,null,null,null,null,"Falta Orçamento",null,{"$f":"VLOOKUP(A2344,'[1]Mapa de Preços'!$A$16:$D$2988,4,0)","v":0}]
[2330,null,{"$f":"IF('Requisição de Compra'!J2356=\"\",\"\",VLOOKUP(A2345,'Requisição de Compra'!$I$28:$J$3000,2,0))","v":""},null,null,null,null,null,null,"Falta Orçamento",null,{"$f":"VLOOKUP(A2345,'[1]Mapa de Preços'!$A$16:$D$2988,4,0)","v":0}]
[2331,null,{"$f":"IF('Requisição de Compra'!J2357=\"\",\"\",VLOOKUP(A2346,'Requisição de Compra'!$I$28:$J$3000,2,0))","v":""},null,null,null,null,null,null,"Falta Orçamento",null,{"$f":"VLOOKUP(A2346,'[1]Mapa de Preços'!$A$16:$D$2988,4,0)","v":0}]
[2332,null,{"$f":"IF('Requisição de Compra'!J2358=\"\",\"\",VLOOKUP(A2347,'Requisição de Compra'!$I$28:$J$3000,2,0))","v":""},null,null,null,null,null,null,"Falta Orçamento",null,{"$f":"VLOOKUP(A2347,'[1]Mapa de Preços'!$A$16:$D$2988,4,0)","v":0}]
[2333,null,{"$f":"IF('Requisição de Compra'!J2359=\"\",\"\",VLOOKUP(A2348,'Requisição de Compra'!$I$28:$J$3000,2,0))","v":""},null,null,null,null,null,null,"Falta Orçamento",null,{"$f":"VLOOKUP(A2348,'[1]Mapa de Preços'!$A$16:$D$2988,4,0)","v":0}]
[2334,null,{"$f":"IF('Requisição de Compra'!J2360=\"\",\"\",VLOOKUP(A2349,'Requisição de Compra'!$I$28:$J$3000,2,0))","v":""},null,null,null,null,null,null,"Falta Orçamento",null,{"$f":"VLOOKUP(A2349,'[1]Mapa de Preços'!$A$16:$D$2988,4,0)","v":0}]
[2335,null,{"$f":"IF('Requisição de Compra'!J2361=\"\",\"\",VLOOKUP(A2350,'Requisição de Compra'!$I$28:$J$3000,2,0))","v":""},null,null,null,null,null,null,"Falta Orçamento",null,{"$f":"VLOOKUP(A2350,'[1]Mapa de Preços'!$A$16:$D$2988,4,0)","v":0}]
[2336,null,{"$f":"IF('Requisição de Compra'!J2362=\"\",\"\",VLOOKUP(A2351,'Requisição de Compra'!$I$28:$J$3000,2,0))","v":""},null,null,null,null,null,null,"Falta Orçamento",null,{"$f":"VLOOKUP(A2351,'[1]Mapa de Preços'!$A$16:$D$2988,4,0)","v":0}]
[2337,null,{"$f":"IF('Requisição de Compra'!J2363=\"\",\"\",VLOOKUP(A2352,'Requisição de Compra'!$I$28:$J$3000,2,0))","v":""},null,null,null,null,null,null,"Falta Orçamento",null,{"$f":"VLOOKUP(A2352,'[1]Mapa de Preços'!$A$16:$D$2988,4,0)","v":0}]
[2338,null,{"$f":"IF('Requisição de Compra'!J2364=\"\",\"\",VLOOKUP(A2353,'Requisição de Compra'!$I$28:$J$3000,2,0))","v":""},null,null,null,null,null,null,"Falta Orçamento",null,{"$f":"VLOOKUP(A2353,'[1]Mapa de Preços'!$A$16:$D$2988,4,0)","v":0}]
[2339,null,{"$f":"IF('Requisição de Compra'!J2365=\"\",\"\",VLOOKUP(A2354,'Requisição de Compra'!$I$28:$J$3000,2,0))","v":""},null,null,null,null,null,null,"Falta Orçamento",null,{"$f":"VLOOKUP(A2354,'[1]Mapa de Preços'!$A$16:$D$2988,4,0)","v":0}]
[2340,null,{"$f":"IF('Requisição de Compra'!J2366=\"\",\"\",VLOOKUP(A2355,'Requisição de Compra'!$I$28:$J$3000,2,0))","v":""},null,null,null,null,null,null,"Falta Orçamento",null,{"$f":"VLOOKUP(A2355,'[1]Mapa de Preços'!$A$16:$D$2988,4,0)","v":0}]
[2341,null,{"$f":"IF('Requisição de Compra'!J2367=\"\",\"\",VLOOKUP(A2356,'Requisição de Compra'!$I$28:$J$3000,2,0))","v":""},null,null,null,null,null,null,"Falta Orçamento",null,{"$f":"VLOOKUP(A2356,'[1]Mapa de Preços'!$A$16:$D$2988,4,0)","v":0}]
[2342,null,{"$f":"IF('Requisição de Compra'!J2368=\"\",\"\",VLOOKUP(A2357,'Requisição de Compra'!$I$28:$J$3000,2,0))","v":""},null,null,null,null,null,null,"Falta Orçamento",null,{"$f":"VLOOKUP(A2357,'[1]Mapa de Preços'!$A$16:$D$2988,4,0)","v":0}]
[2343,null,{"$f":"IF('Requisição de Compra'!J2369=\"\",\"\",VLOOKUP(A2358,'Requisição de Compra'!$I$28:$J$3000,2,0))","v":""},null,null,null,null,null,null,"Falta Orçamento",null,{"$f":"VLOOKUP(A2358,'[1]Mapa de Preços'!$A$16:$D$2988,4,0)","v":0}]
[2344,null,{"$f":"IF('Requisição de Compra'!J2370=\"\",\"\",VLOOKUP(A2359,'Requisição de Compra'!$I$28:$J$3000,2,0))","v":""},null,null,null,null,null,null,"Falta Orçamento",null,{"$f":"VLOOKUP(A2359,'[1]Mapa de Preços'!$A$16:$D$2988,4,0)","v":0}]
[2345,null,{"$f":"IF('Requisição de Compra'!J2371=\"\",\"\",VLOOKUP(A2360,'Requisição de Compra'!$I$28:$J$3000,2,0))","v":""},null,null,null,null,null,null,"Falta Orçamento",null,{"$f":"VLOOKUP(A2360,'[1]Mapa de Preços'!$A$16:$D$2988,4,0)","v":0}]
[2346,null,{"$f":"IF('Requisição de Compra'!J2372=\"\",\"\",VLOOKUP(A2361,'Requisição de Compra'!$I$28:$J$3000,2,0))","v":""},null,null,null,null,null,null,"Falta Orçamento",null,{"$f":"VLOOKUP(A2361,'[1]Mapa de Preços'!$A$16:$D$2988,4,0)","v":0}]
[2347,null,{"$f":"IF('Requisição de Compra'!J2373=\"\",\"\",VLOOKUP(A2362,'Requisição de Compra'!$I$28:$J$3000,2,0))","v":""},null,null,null,null,null,null,"Falta Orçamento",null,{"$f":"VLOOKUP(A2362,'[1]Mapa de Preços'!$A$16:$D$2988,4,0)","v":0}]
[2348,null,{"$f":"IF('Requisição de Compra'!J2374=\"\",\"\",VLOOKUP(A2363,'Requisição de Compra'!$I$28:$J$3000,2,0))","v":""},null,null,null,null,null,null,"Falta Orçamento",null,{"$f":"VLOOKUP(A2363,'[1]Mapa de Preços'!$A$16:$D$2988,4,0)","v":0}]
[2349,null,{"$f":"IF('Requisição de Compra'!J2375=\"\",\"\",VLOOKUP(A2364,'Requisição de Compra'!$I$28:$J$3000,2,0))","v":""},null,null,null,null,null,null,"Falta Orçamento",null,{"$f":"VLOOKUP(A2364,'[1]Mapa de Preços'!$A$16:$D$2988,4,0)","v":0}]
[2350,null,{"$f":"IF('Requisição de Compra'!J2376=\"\",\"\",VLOOKUP(A2365,'Requisição de Compra'!$I$28:$J$3000,2,0))","v":""},null,null,null,null,null,null,"Falta Orçamento",null,{"$f":"VLOOKUP(A2365,'[1]Mapa de Preços'!$A$16:$D$2988,4,0)","v":0}]
[2351,null,{"$f":"IF('Requisição de Compra'!J2377=\"\",\"\",VLOOKUP(A2366,'Requisição de Compra'!$I$28:$J$3000,2,0))","v":""},null,null,null,null,null,null,"Falta Orçamento",null,{"$f":"VLOOKUP(A2366,'[1]Mapa de Preços'!$A$16:$D$2988,4,0)","v":0}]
[2352,null,{"$f":"IF('Requisição de Compra'!J2378=\"\",\"\",VLOOKUP(A2367,'Requisição de Compra'!$I$28:$J$3000,2,0))","v":""},null,null,null,null,null,null,"Falta Orçamento",null,{"$f":"VLOOKUP(A2367,'[1]Mapa de Preços'!$A$16:$D$2988,4,0)","v":0}]
[2353,null,{"$f":"IF('Requisição de Compra'!J2379=\"\",\"\",VLOOKUP(A2368,'Requisição de Compra'!$I$28:$J$3000,2,0))","v":""},null,null,null,null,null,null,"Falta Orçamento",null,{"$f":"VLOOKUP(A2368,'[1]Mapa de Preços'!$A$16:$D$2988,4,0)","v":0}]
[2354,null,{"$f":"IF('Requisição de Compra'!J2380=\"\",\"\",VLOOKUP(A2369,'Requisição de Compra'!$I$28:$J$3000,2,0))","v":""},null,null,null,null,null,null,"Falta Orçamento",null,{"$f":"VLOOKUP(A2369,'[1]Mapa de Preços'!$A$16:$D$2988,4,0)","v":0}]
[2355,null,{"$f":"IF('Requisição de Compra'!J2381=\"\",\"\",VLOOKUP(A2370,'Requisição de Compra'!$I$28:$J$3000,2,0))","v":""},null,null,null,null,null,null,"Falta Orçamento",null,{"$f":"VLOOKUP(A2370,'[1]Mapa de Preços'!$A$16:$D$2988,4,0)","v":0}]
[2356,null,{"$f":"IF('Requisição de Compra'!J2382=\"\",\"\",VLOOKUP(A2371,'Requisição de Compra'!$I$28:$J$3000,2,0))","v":""},null,null,null,null,null,null,"Falta Orçamento",null,{"$f":"VLOOKUP(A2371,'[1]Mapa de Preços'!$A$16:$D$2988,4,0)","v":0}]
[2357,null,{"$f":"IF('Requisição de Compra'!J2383=\"\",\"\",VLOOKUP(A2372,'Requisição de Compra'!$I$28:$J$3000,2,0))","v":""},null,null,null,null,null,null,"Falta Orçamento",null,{"$f":"VLOOKUP(A2372,'[1]Mapa de Preços'!$A$16:$D$2988,4,0)","v":0}]
[2358,null,{"$f":"IF('Requisição de Compra'!J2384=\"\",\"\",VLOOKUP(A2373,'Requisição de Compra'!$I$28:$J$3000,2,0))","v":""},null,null,null,null,null,null,"Falta Orçamento",null,{"$f":"VLOOKUP(A2373,'[1]Mapa de Preços'!$A$16:$D$2988,4,0)","v":0}]
[2359,null,{"$f":"IF('Requisição de Compra'!J2385=\"\",\"\",VLOOKUP(A2374,'Requisição de Compra'!$I$28:$J$3000,2,0))","v":""},null,null,null,null,null,null,"Falta Orçamento",null,{"$f":"VLOOKUP(A2374,'[1]Mapa de Preços'!$A$16:$D$2988,4,0)","v":0}]
[2360,null,{"$f":"IF('Requisição de Compra'!J2386=\"\",\"\",VLOOKUP(A2375,'Requisição de Compra'!$I$28:$J$3000,2,0))","v":""},null,null,null,null,null,null,"Falta Orçamento",null,{"$f":"VLOOKUP(A2375,'[1]Mapa de Preços'!$A$16:$D$2988,4,0)","v":0}]
[2361,null,{"$f":"IF('Requisição de Compra'!J2387=\"\",\"\",VLOOKUP(A2376,'Requisição de Compra'!$I$28:$J$3000,2,0))","v":""},null,null,null,null,null,null,"Falta Orçamento",null,{"$f":"VLOOKUP(A2376,'[1]Mapa de Preços'!$A$16:$D$2988,4,0)","v":0}]
[2362,null,{"$f":"IF('Requisição de Compra'!J2388=\"\",\"\",VLOOKUP(A2377,'Requisição de Compra'!$I$28:$J$3000,2,0))","v":""},null,null,null,null,null,null,"Falta Orçamento",null,{"$f":"VLOOKUP(A2377,'[1]Mapa de Preços'!$A$16:$D$2988,4,0)","v":0}]
[2363,null,{"$f":"IF('Requisição de Compra'!J2389=\"\",\"\",VLOOKUP(A2378,'Requisição de Compra'!$I$28:$J$3000,2,0))","v":""},null,null,null,null,null,null,"Falta Orçamento",null,{"$f":"VLOOKUP(A2378,'[1]Mapa de Preços'!$A$16:$D$2988,4,0)","v":0}]
[2364,null,{"$f":"IF('Requisição de Compra'!J2390=\"\",\"\",VLOOKUP(A2379,'Requisição de Compra'!$I$28:$J$3000,2,0))","v":""},null,null,null,null,null,null,"Falta Orçamento",null,{"$f":"VLOOKUP(A2379,'[1]Mapa de Preços'!$A$16:$D$2988,4,0)","v":0}]
[2365,null,{"$f":"IF('Requisição de Compra'!J2391=\"\",\"\",VLOOKUP(A2380,'Requisição de Compra'!$I$28:$J$3000,2,0))","v":""},null,null,null,null,null,null,"Falta Orçamento",null,{"$f":"VLOOKUP(A2380,'[1]Mapa de Preços'!$A$16:$D$2988,4,0)","v":0}]
[2366,null,{"$f":"IF('Requisição de Compra'!J2392=\"\",\"\",VLOOKUP(A2381,'Requisição de Compra'!$I$28:$J$3000,2,0))","v":""},null,null,null,null,null,null,"Falta Orçamento",null,{"$f":"VLOOKUP(A2381,'[1]Mapa de Preços'!$A$16:$D$2988,4,0)","v":0}]
[2367,null,{"$f":"IF('Requisição de Compra'!J2393=\"\",\"\",VLOOKUP(A2382,'Requisição de Compra'!$I$28:$J$3000,2,0))","v":""},null,null,null,null,null,null,"Falta Orçamento",null,{"$f":"VLOOKUP(A2382,'[1]Mapa de Preços'!$A$16:$D$2988,4,0)","v":0}]
[2368,null,{"$f":"IF('Requisição de Compra'!J2394=\"\",\"\",VLOOKUP(A2383,'Requisição de Compra'!$I$28:$J$3000,2,0))","v":""},null,null,null,null,null,null,"Falta Orçamento",null,{"$f":"VLOOKUP(A2383,'[1]Mapa de Preços'!$A$16:$D$2988,4,0)","v":0}]
[2369,null,{"$f":"IF('Requisição de Compra'!J2395=\"\",\"\",VLOOKUP(A2384,'Requisição de Compra'!$I$28:$J$3000,2,0))","v":""},null,null,null,null,null,null,"Falta Orçamento",null,{"$f":"VLOOKUP(A2384,'[1]Mapa de Preços'!$A$16:$D$2988,4,0)","v":0}]
[2370,null,{"$f":"IF('Requisição de Compra'!J2396=\"\",\"\",VLOOKUP(A2385,'Requisição de Compra'!$I$28:$J$3000,2,0))","v":""},null,null,null,null,null,null,{"$f":"IF(AND(D2385<>\"\",F2385<>\"\",H2385<>\"\"),AVERAGE(D2385:H2385),\"Falta Orçamento\")","v":"Falta Orçamento"},null,{"$f":"VLOOKUP(A2385,'[1]Mapa de Preços'!$A$16:$D$2988,4,0)","v":0}]
[2371,null,{"$f":"IF('Requisição de Compra'!J2397=\"\",\"\",VLOOKUP(A2386,'Requisição de Compra'!$I$28:$J$3000,2,0))","v":""},null,null,null,null,null,null,"Falta Orçamento",null,{"$f":"VLOOKUP(A2386,'[1]Mapa de Preços'!$A$16:$D$2988,4,0)","v":0}]
[2372,null,{"$f":"IF('Requisição de Compra'!J2398=\"\",\"\",VLOOKUP(A2387,'Requisição de Compra'!$I$28:$J$3000,2,0))","v":""},null,null,null,null,null,null,"Falta Orçamento",null,{"$f":"VLOOKUP(A2387,'[1]Mapa de Preços'!$A$16:$D$2988,4,0)","v":0}]
[2373,null,{"$f":"IF('Requisição de Compra'!J2399=\"\",\"\",VLOOKUP(A2388,'Requisição de Compra'!$I$28:$J$3000,2,0))","v":""},null,null,null,null,null,null,"Falta Orçamento",null,{"$f":"VLOOKUP(A2388,'[1]Mapa de Preços'!$A$16:$D$2988,4,0)","v":0}]
[2374,null,{"$f":"IF('Requisição de Compra'!J2400=\"\",\"\",VLOOKUP(A2389,'Requisição de Compra'!$I$28:$J$3000,2,0))","v":""},null,null,null,null,null,null,"Falta Orçamento",null,{"$f":"VLOOKUP(A2389,'[1]Mapa de Preços'!$A$16:$D$2988,4,0)","v":0}]
[2375,null,{"$f":"IF('Requisição de Compra'!J2401=\"\",\"\",VLOOKUP(A2390,'Requisição de Compra'!$I$28:$J$3000,2,0))","v":""},null,null,null,null,null,null,"Falta Orçamento",null,{"$f":"VLOOKUP(A2390,'[1]Mapa de Preços'!$A$16:$D$2988,4,0)","v":0}]
[2376,null,{"$f":"IF('Requisição de Compra'!J2402=\"\",\"\",VLOOKUP(A2391,'Requisição de Compra'!$I$28:$J$3000,2,0))","v":""},null,null,null,null,null,null,"Falta Orçamento",null,{"$f":"VLOOKUP(A2391,'[1]Mapa de Preços'!$A$16:$D$2988,4,0)","v":0}]
[2377,null,{"$f":"IF('Requisição de Compra'!J2403=\"\",\"\",VLOOKUP(A2392,'Requisição de Compra'!$I$28:$J$3000,2,0))","v":""},null,null,null,null,null,null,"Falta Orçamento",null,{"$f":"VLOOKUP(A2392,'[1]Mapa de Preços'!$A$16:$D$2988,4,0)","v":0}]
[2378,null,{"$f":"IF('Requisição de Compra'!J2404=\"\",\"\",VLOOKUP(A2393,'Requisição de Compra'!$I$28:$J$3000,2,0))","v":""},null,null,null,null,null,null,"Falta Orçamento",null,{"$f":"VLOOKUP(A2393,'[1]Mapa de Preços'!$A$16:$D$2988,4,0)","v":0}]
[2379,null,{"$f":"IF('Requisição de Compra'!J2405=\"\",\"\",VLOOKUP(A2394,'Requisição de Compra'!$I$28:$J$3000,2,0))","v":""},null,null,null,null,null,null,"Falta Orçamento",null,{"$f":"VLOOKUP(A2394,'[1]Mapa de Preços'!$A$16:$D$2988,4,0)","v":0}]
[2380,null,{"$f":"IF('Requisição de Compra'!J2406=\"\",\"\",VLOOKUP(A2395,'Requisição de Compra'!$I$28:$J$3000,2,0))","v":""},null,null,null,null,null,null,"Falta Orçamento",null,{"$f":"VLOOKUP(A2395,'[1]Mapa de Preços'!$A$16:$D$2988,4,0)","v":0}]
[2381,null,{"$f":"IF('Requisição de Compra'!J2407=\"\",\"\",VLOOKUP(A2396,'Requisição de Compra'!$I$28:$J$3000,2,0))","v":""},null,null,null,null,null,null,"Falta Orçamento",null,{"$f":"VLOOKUP(A2396,'[1]Mapa de Preços'!$A$16:$D$2988,4,0)","v":0}]
[2382,null,{"$f":"IF('Requisição de Compra'!J2408=\"\",\"\",VLOOKUP(A2397,'Requisição de Compra'!$I$28:$J$3000,2,0))","v":""},null,null,null,null,null,null,"Falta Orçamento",null,{"$f":"VLOOKUP(A2397,'[1]Mapa de Preços'!$A$16:$D$2988,4,0)","v":0}]
[2383,null,{"$f":"IF('Requisição de Compra'!J2409=\"\",\"\",VLOOKUP(A2398,'Requisição de Compra'!$I$28:$J$3000,2,0))","v":""},null,null,null,null,null,null,"Falta Orçamento",null,{"$f":"VLOOKUP(A2398,'[1]Mapa de Preços'!$A$16:$D$2988,4,0)","v":0}]
[2384,null,{"$f":"IF('Requisição de Compra'!J2410=\"\",\"\",VLOOKUP(A2399,'Requisição de Compra'!$I$28:$J$3000,2,0))","v":""},null,null,null,null,null,null,"Falta Orçamento",null,{"$f":"VLOOKUP(A2399,'[1]Mapa de Preços'!$A$16:$D$2988,4,0)","v":0}]
[2385,null,{"$f":"IF('Requisição de Compra'!J2411=\"\",\"\",VLOOKUP(A2400,'Requisição de Compra'!$I$28:$J$3000,2,0))","v":""},null,null,null,null,null,null,"Falta Orçamento",null,{"$f":"VLOOKUP(A2400,'[1]Mapa de Preços'!$A$16:$D$2988,4,0)","v":0}]
[2386,null,{"$f":"IF('Requisição de Compra'!J2412=\"\",\"\",VLOOKUP(A2401,'Requisição de Compra'!$I$28:$J$3000,2,0))","v":""},null,null,null,null,null,null,"Falta Orçamento",null,{"$f":"VLOOKUP(A2401,'[1]Mapa de Preços'!$A$16:$D$2988,4,0)","v":0}]
[2387,null,{"$f":"IF('Requisição de Compra'!J2413=\"\",\"\",VLOOKUP(A2402,'Requisição de Compra'!$I$28:$J$3000,2,0))","v":""},null,null,null,null,null,null,"Falta Orçamento",null,{"$f":"VLOOKUP(A2402,'[1]Mapa de Preços'!$A$16:$D$2988,4,0)","v":0}]
[2388,null,{"$f":"IF('Requisição de Compra'!J2414=\"\",\"\",VLOOKUP(A2403,'Requisição de Compra'!$I$28:$J$3000,2,0))","v":""},null,null,null,null,null,null,"Falta Orçamento",null,{"$f":"VLOOKUP(A2403,'[1]Mapa de Preços'!$A$16:$D$2988,4,0)","v":0}]
[2389,null,{"$f":"IF('Requisição de Compra'!J2415=\"\",\"\",VLOOKUP(A2404,'Requisição de Compra'!$I$28:$J$3000,2,0))","v":""},null,null,null,null,null,null,"Falta Orçamento",null,{"$f":"VLOOKUP(A2404,'[1]Mapa de Preços'!$A$16:$D$2988,4,0)","v":0}]
[2390,null,{"$f":"IF('Requisição de Compra'!J2416=\"\",\"\",VLOOKUP(A2405,'Requisição de Compra'!$I$28:$J$3000,2,0))","v":""},null,null,null,null,null,null,"Falta Orçamento",null,{"$f":"VLOOKUP(A2405,'[1]Mapa de Preços'!$A$16:$D$2988,4,0)","v":0}]
[2391,null,{"$f":"IF('Requisição de Compra'!J2417=\"\",\"\",VLOOKUP(A2406,'Requisição de Compra'!$I$28:$J$3000,2,0))","v":""},null,null,null,null,null,null,"Falta Orçamento",null,{"$f":"VLOOKUP(A2406,'[1]Mapa de Preços'!$A$16:$D$2988,4,0)","v":0}]
[2392,null,{"$f":"IF('Requisição de Compra'!J2418=\"\",\"\",VLOOKUP(A2407,'Requisição de Compra'!$I$28:$J$3000,2,0))","v":""},null,null,null,null,null,null,"Falta Orçamento",null,{"$f":"VLOOKUP(A2407,'[1]Mapa de Preços'!$A$16:$D$2988,4,0)","v":0}]
[2393,null,{"$f":"IF('Requisição de Compra'!J2419=\"\",\"\",VLOOKUP(A2408,'Requisição de Compra'!$I$28:$J$3000,2,0))","v":""},null,null,null,null,null,null,"Falta Orçamento",null,{"$f":"VLOOKUP(A2408,'[1]Mapa de Preços'!$A$16:$D$2988,4,0)","v":0}]
[2394,null,{"$f":"IF('Requisição de Compra'!J2420=\"\",\"\",VLOOKUP(A2409,'Requisição de Compra'!$I$28:$J$3000,2,0))","v":""},null,null,null,null,null,null,"Falta Orçamento",null,{"$f":"VLOOKUP(A2409,'[1]Mapa de Preços'!$A$16:$D$2988,4,0)","v":0}]
[2395,null,{"$f":"IF('Requisição de Compra'!J2421=\"\",\"\",VLOOKUP(A2410,'Requisição de Compra'!$I$28:$J$3000,2,0))","v":""},null,null,null,null,null,null,"Falta Orçamento",null,{"$f":"VLOOKUP(A2410,'[1]Mapa de Preços'!$A$16:$D$2988,4,0)","v":0}]
[2396,null,{"$f":"IF('Requisição de Compra'!J2422=\"\",\"\",VLOOKUP(A2411,'Requisição de Compra'!$I$28:$J$3000,2,0))","v":""},null,null,null,null,null,null,"Falta Orçamento",null,{"$f":"VLOOKUP(A2411,'[1]Mapa de Preços'!$A$16:$D$2988,4,0)","v":0}]
[2397,null,{"$f":"IF('Requisição de Compra'!J2423=\"\",\"\",VLOOKUP(A2412,'Requisição de Compra'!$I$28:$J$3000,2,0))","v":""},null,null,null,null,null,null,"Falta Orçamento",null,{"$f":"VLOOKUP(A2412,'[1]Mapa de Preços'!$A$16:$D$2988,4,0)","v":0}]
[2398,null,{"$f":"IF('Requisição de Compra'!J2424=\"\",\"\",VLOOKUP(A2413,'Requisição de Compra'!$I$28:$J$3000,2,0))","v":""},null,null,null,null,null,null,"Falta Orçamento",null,{"$f":"VLOOKUP(A2413,'[1]Mapa de Preços'!$A$16:$D$2988,4,0)","v":0}]
[2399,null,{"$f":"IF('Requisição de Compra'!J2425=\"\",\"\",VLOOKUP(A2414,'Requisição de Compra'!$I$28:$J$3000,2,0))","v":""},null,null,null,null,null,null,"Falta Orçamento",null,{"$f":"VLOOKUP(A2414,'[1]Mapa de Preços'!$A$16:$D$2988,4,0)","v":0}]
[2400,null,{"$f":"IF('Requisição de Compra'!J2426=\"\",\"\",VLOOKUP(A2415,'Requisição de Compra'!$I$28:$J$3000,2,0))","v":""},null,null,null,null,null,null,"Falta Orçamento",null,{"$f":"VLOOKUP(A2415,'[1]Mapa de Preços'!$A$16:$D$2988,4,0)","v":0}]
[2401,null,{"$f":"IF('Requisição de Compra'!J2427=\"\",\"\",VLOOKUP(A2416,'Requisição de Compra'!$I$28:$J$3000,2,0))","v":""},null,null,null,null,null,null,"Falta Orçamento",null,{"$f":"VLOOKUP(A2416,'[1]Mapa de Preços'!$A$16:$D$2988,4,0)","v":0}]
[2402,null,{"$f":"IF('Requisição de Compra'!J2428=\"\",\"\",VLOOKUP(A2417,'Requisição de Compra'!$I$28:$J$3000,2,0))","v":""},null,null,null,null,null,null,"Falta Orçamento",null,{"$f":"VLOOKUP(A2417,'[1]Mapa de Preços'!$A$16:$D$2988,4,0)","v":0}]
[2403,null,{"$f":"IF('Requisição de Compra'!J2429=\"\",\"\",VLOOKUP(A2418,'Requisição de Compra'!$I$28:$J$3000,2,0))","v":""},null,null,null,null,null,null,"Falta Orçamento",null,{"$f":"VLOOKUP(A2418,'[1]Mapa de Preços'!$A$16:$D$2988,4,0)","v":0}]
[2404,null,{"$f":"IF('Requisição de Compra'!J2430=\"\",\"\",VLOOKUP(A2419,'Requisição de Compra'!$I$28:$J$3000,2,0))","v":""},null,null,null,null,null,null,"Falta Orçamento",null,{"$f":"VLOOKUP(A2419,'[1]Mapa de Preços'!$A$16:$D$2988,4,0)","v":0}]
[2405,null,{"$f":"IF('Requisição de Compra'!J2431=\"\",\"\",VLOOKUP(A2420,'Requisição de Compra'!$I$28:$J$3000,2,0))","v":""},null,null,null,null,null,null,"Falta Orçamento",null,{"$f":"VLOOKUP(A2420,'[1]Mapa de Preços'!$A$16:$D$2988,4,0)","v":0}]
[2406,null,{"$f":"IF('Requisição de Compra'!J2432=\"\",\"\",VLOOKUP(A2421,'Requisição de Compra'!$I$28:$J$3000,2,0))","v":""},null,null,null,null,null,null,"Falta Orçamento",null,{"$f":"VLOOKUP(A2421,'[1]Mapa de Preços'!$A$16:$D$2988,4,0)","v":0}]
[2407,null,{"$f":"IF('Requisição de Compra'!J2433=\"\",\"\",VLOOKUP(A2422,'Requisição de Compra'!$I$28:$J$3000,2,0))","v":""},null,null,null,null,null,null,"Falta Orçamento",null,{"$f":"VLOOKUP(A2422,'[1]Mapa de Preços'!$A$16:$D$2988,4,0)","v":0}]
[2408,null,{"$f":"IF('Requisição de Compra'!J2434=\"\",\"\",VLOOKUP(A2423,'Requisição de Compra'!$I$28:$J$3000,2,0))","v":""},null,null,null,null,null,null,"Falta Orçamento",null,{"$f":"VLOOKUP(A2423,'[1]Mapa de Preços'!$A$16:$D$2988,4,0)","v":0}]
[2409,null,{"$f":"IF('Requisição de Compra'!J2435=\"\",\"\",VLOOKUP(A2424,'Requisição de Compra'!$I$28:$J$3000,2,0))","v":""},null,null,null,null,null,null,"Falta Orçamento",null,{"$f":"VLOOKUP(A2424,'[1]Mapa de Preços'!$A$16:$D$2988,4,0)","v":0}]
[2410,null,{"$f":"IF('Requisição de Compra'!J2436=\"\",\"\",VLOOKUP(A2425,'Requisição de Compra'!$I$28:$J$3000,2,0))","v":""},null,null,null,null,null,null,"Falta Orçamento",null,{"$f":"VLOOKUP(A2425,'[1]Mapa de Preços'!$A$16:$D$2988,4,0)","v":0}]
[2411,null,{"$f":"IF('Requisição de Compra'!J2437=\"\",\"\",VLOOKUP(A2426,'Requisição de Compra'!$I$28:$J$3000,2,0))","v":""},null,null,null,null,null,null,"Falta Orçamento",null,{"$f":"VLOOKUP(A2426,'[1]Mapa de Preços'!$A$16:$D$2988,4,0)","v":0}]
[2412,null,{"$f":"IF('Requisição de Compra'!J2438=\"\",\"\",VLOOKUP(A2427,'Requisição de Compra'!$I$28:$J$3000,2,0))","v":""},null,null,null,null,null,null,"Falta Orçamento",null,{"$f":"VLOOKUP(A2427,'[1]Mapa de Preços'!$A$16:$D$2988,4,0)","v":0}]
[2413,null,{"$f":"IF('Requisição de Compra'!J2439=\"\",\"\",VLOOKUP(A2428,'Requisição de Compra'!$I$28:$J$3000,2,0))","v":""},null,null,null,null,null,null,"Falta Orçamento",null,{"$f":"VLOOKUP(A2428,'[1]Mapa de Preços'!$A$16:$D$2988,4,0)","v":0}]
[2414,null,{"$f":"IF('Requisição de Compra'!J2440=\"\",\"\",VLOOKUP(A2429,'Requisição de Compra'!$I$28:$J$3000,2,0))","v":""},null,null,null,null,null,null,"Falta Orçamento",null,{"$f":"VLOOKUP(A2429,'[1]Mapa de Preços'!$A$16:$D$2988,4,0)","v":0}]
[2415,null,{"$f":"IF('Requisição de Compra'!J2441=\"\",\"\",VLOOKUP(A2430,'Requisição de Compra'!$I$28:$J$3000,2,0))","v":""},null,null,null,null,null,null,"Falta Orçamento",null,{"$f":"VLOOKUP(A2430,'[1]Mapa de Preços'!$A$16:$D$2988,4,0)","v":0}]
[2416,null,{"$f":"IF('Requisição de Compra'!J2442=\"\",\"\",VLOOKUP(A2431,'Requisição de Compra'!$I$28:$J$3000,2,0))","v":""},null,null,null,null,null,null,"Falta Orçamento",null,{"$f":"VLOOKUP(A2431,'[1]Mapa de Preços'!$A$16:$D$2988,4,0)","v":0}]
[2417,null,{"$f":"IF('Requisição de Compra'!J2443=\"\",\"\",VLOOKUP(A2432,'Requisição de Compra'!$I$28:$J$3000,2,0))","v":""},null,null,null,null,null,null,"Falta Orçamento",null,{"$f":"VLOOKUP(A2432,'[1]Mapa de Preços'!$A$16:$D$2988,4,0)","v":0}]
[2418,null,{"$f":"IF('Requisição de Compra'!J2444=\"\",\"\",VLOOKUP(A2433,'Requisição de Compra'!$I$28:$J$3000,2,0))","v":""},null,null,null,null,null,null,"Falta Orçamento",null,{"$f":"VLOOKUP(A2433,'[1]Mapa de Preços'!$A$16:$D$2988,4,0)","v":0}]
[2419,null,{"$f":"IF('Requisição de Compra'!J2445=\"\",\"\",VLOOKUP(A2434,'Requisição de Compra'!$I$28:$J$3000,2,0))","v":""},null,null,null,null,null,null,"Falta Orçamento",null,{"$f":"VLOOKUP(A2434,'[1]Mapa de Preços'!$A$16:$D$2988,4,0)","v":0}]
[2420,null,{"$f":"IF('Requisição de Compra'!J2446=\"\",\"\",VLOOKUP(A2435,'Requisição de Compra'!$I$28:$J$3000,2,0))","v":""},null,null,null,null,null,null,"Falta Orçamento",null,{"$f":"VLOOKUP(A2435,'[1]Mapa de Preços'!$A$16:$D$2988,4,0)","v":0}]
[2421,null,{"$f":"IF('Requisição de Compra'!J2447=\"\",\"\",VLOOKUP(A2436,'Requisição de Compra'!$I$28:$J$3000,2,0))","v":""},null,null,null,null,null,null,"Falta Orçamento",null,{"$f":"VLOOKUP(A2436,'[1]Mapa de Preços'!$A$16:$D$2988,4,0)","v":0}]
[2422,null,{"$f":"IF('Requisição de Compra'!J2448=\"\",\"\",VLOOKUP(A2437,'Requisição de Compra'!$I$28:$J$3000,2,0))","v":""},null,null,null,null,null,null,"Falta Orçamento",null,{"$f":"VLOOKUP(A2437,'[1]Mapa de Preços'!$A$16:$D$2988,4,0)","v":0}]
[2423,null,{"$f":"IF('Requisição de Compra'!J2449=\"\",\"\",VLOOKUP(A2438,'Requisição de Compra'!$I$28:$J$3000,2,0))","v":""},null,null,null,null,null,null,"Falta Orçamento",null,{"$f":"VLOOKUP(A2438,'[1]Mapa de Preços'!$A$16:$D$2988,4,0)","v":0}]
[2424,null,{"$f":"IF('Requisição de Compra'!J2450=\"\",\"\",VLOOKUP(A2439,'Requisição de Compra'!$I$28:$J$3000,2,0))","v":""},null,null,null,null,null,null,"Falta Orçamento",null,{"$f":"VLOOKUP(A2439,'[1]Mapa de Preços'!$A$16:$D$2988,4,0)","v":0}]
[2425,null,{"$f":"IF('Requisição de Compra'!J2451=\"\",\"\",VLOOKUP(A2440,'Requisição de Compra'!$I$28:$J$3000,2,0))","v":""},null,null,null,null,null,null,"Falta Orçamento",null,{"$f":"VLOOKUP(A2440,'[1]Mapa de Preços'!$A$16:$D$2988,4,0)","v":0}]
[2426,null,{"$f":"IF('Requisição de Compra'!J2452=\"\",\"\",VLOOKUP(A2441,'Requisição de Compra'!$I$28:$J$3000,2,0))","v":""},null,null,null,null,null,null,"Falta Orçamento",null,{"$f":"VLOOKUP(A2441,'[1]Mapa de Preços'!$A$16:$D$2988,4,0)","v":0}]
[2427,null,{"$f":"IF('Requisição de Compra'!J2453=\"\",\"\",VLOOKUP(A2442,'Requisição de Compra'!$I$28:$J$3000,2,0))","v":""},null,null,null,null,null,null,"Falta Orçamento",null,{"$f":"VLOOKUP(A2442,'[1]Mapa de Preços'!$A$16:$D$2988,4,0)","v":0}]
[2428,null,{"$f":"IF('Requisição de Compra'!J2454=\"\",\"\",VLOOKUP(A2443,'Requisição de Compra'!$I$28:$J$3000,2,0))","v":""},null,null,null,null,null,null,"Falta Orçamento",null,{"$f":"VLOOKUP(A2443,'[1]Mapa de Preços'!$A$16:$D$2988,4,0)","v":0}]
[2429,null,{"$f":"IF('Requisição de Compra'!J2455=\"\",\"\",VLOOKUP(A2444,'Requisição de Compra'!$I$28:$J$3000,2,0))","v":""},null,null,null,null,null,null,"Falta Orçamento",null,{"$f":"VLOOKUP(A2444,'[1]Mapa de Preços'!$A$16:$D$2988,4,0)","v":0}]
[2430,null,{"$f":"IF('Requisição de Compra'!J2456=\"\",\"\",VLOOKUP(A2445,'Requisição de Compra'!$I$28:$J$3000,2,0))","v":""},null,null,null,null,null,null,"Falta Orçamento",null,{"$f":"VLOOKUP(A2445,'[1]Mapa de Preços'!$A$16:$D$2988,4,0)","v":0}]
[2431,null,{"$f":"IF('Requisição de Compra'!J2457=\"\",\"\",VLOOKUP(A2446,'Requisição de Compra'!$I$28:$J$3000,2,0))","v":""},null,null,null,null,null,null,"Falta Orçamento",null,{"$f":"VLOOKUP(A2446,'[1]Mapa de Preços'!$A$16:$D$2988,4,0)","v":0}]
[2432,null,{"$f":"IF('Requisição de Compra'!J2458=\"\",\"\",VLOOKUP(A2447,'Requisição de Compra'!$I$28:$J$3000,2,0))","v":""},null,null,null,null,null,null,"Falta Orçamento",null,{"$f":"VLOOKUP(A2447,'[1]Mapa de Preços'!$A$16:$D$2988,4,0)","v":0}]
[2433,null,{"$f":"IF('Requisição de Compra'!J2459=\"\",\"\",VLOOKUP(A2448,'Requisição de Compra'!$I$28:$J$3000,2,0))","v":""},null,null,null,null,null,null,"Falta Orçamento",null,{"$f":"VLOOKUP(A2448,'[1]Mapa de Preços'!$A$16:$D$2988,4,0)","v":0}]
[2434,null,{"$f":"IF('Requisição de Compra'!J2460=\"\",\"\",VLOOKUP(A2449,'Requisição de Compra'!$I$28:$J$3000,2,0))","v":""},null,null,null,null,null,null,{"$f":"IF(AND(D2449<>\"\",F2449<>\"\",H2449<>\"\"),AVERAGE(D2449:H2449),\"Falta Orçamento\")","v":"Falta Orçamento"},null,{"$f":"VLOOKUP(A2449,'[1]Mapa de Preços'!$A$16:$D$2988,4,0)","v":0}]
[2435,null,{"$f":"IF('Requisição de Compra'!J2461=\"\",\"\",VLOOKUP(A2450,'Requisição de Compra'!$I$28:$J$3000,2,0))","v":""},null,null,null,null,null,null,"Falta Orçamento",null,{"$f":"VLOOKUP(A2450,'[1]Mapa de Preços'!$A$16:$D$2988,4,0)","v":0}]
[2436,null,{"$f":"IF('Requisição de Compra'!J2462=\"\",\"\",VLOOKUP(A2451,'Requisição de Compra'!$I$28:$J$3000,2,0))","v":""},null,null,null,null,null,null,"Falta Orçamento",null,{"$f":"VLOOKUP(A2451,'[1]Mapa de Preços'!$A$16:$D$2988,4,0)","v":0}]
[2437,null,{"$f":"IF('Requisição de Compra'!J2463=\"\",\"\",VLOOKUP(A2452,'Requisição de Compra'!$I$28:$J$3000,2,0))","v":""},null,null,null,null,null,null,"Falta Orçamento",null,{"$f":"VLOOKUP(A2452,'[1]Mapa de Preços'!$A$16:$D$2988,4,0)","v":0}]
[2438,null,{"$f":"IF('Requisição de Compra'!J2464=\"\",\"\",VLOOKUP(A2453,'Requisição de Compra'!$I$28:$J$3000,2,0))","v":""},null,null,null,null,null,null,"Falta Orçamento",null,{"$f":"VLOOKUP(A2453,'[1]Mapa de Preços'!$A$16:$D$2988,4,0)","v":0}]
[2439,null,{"$f":"IF('Requisição de Compra'!J2465=\"\",\"\",VLOOKUP(A2454,'Requisição de Compra'!$I$28:$J$3000,2,0))","v":""},null,null,null,null,null,null,"Falta Orçamento",null,{"$f":"VLOOKUP(A2454,'[1]Mapa de Preços'!$A$16:$D$2988,4,0)","v":0}]
[2440,null,{"$f":"IF('Requisição de Compra'!J2466=\"\",\"\",VLOOKUP(A2455,'Requisição de Compra'!$I$28:$J$3000,2,0))","v":""},null,null,null,null,null,null,"Falta Orçamento",null,{"$f":"VLOOKUP(A2455,'[1]Mapa de Preços'!$A$16:$D$2988,4,0)","v":0}]
[2441,null,{"$f":"IF('Requisição de Compra'!J2467=\"\",\"\",VLOOKUP(A2456,'Requisição de Compra'!$I$28:$J$3000,2,0))","v":""},null,null,null,null,null,null,"Falta Orçamento",null,{"$f":"VLOOKUP(A2456,'[1]Mapa de Preços'!$A$16:$D$2988,4,0)","v":0}]
[2442,null,{"$f":"IF('Requisição de Compra'!J2468=\"\",\"\",VLOOKUP(A2457,'Requisição de Compra'!$I$28:$J$3000,2,0))","v":""},null,null,null,null,null,null,"Falta Orçamento",null,{"$f":"VLOOKUP(A2457,'[1]Mapa de Preços'!$A$16:$D$2988,4,0)","v":0}]
[2443,null,{"$f":"IF('Requisição de Compra'!J2469=\"\",\"\",VLOOKUP(A2458,'Requisição de Compra'!$I$28:$J$3000,2,0))","v":""},null,null,null,null,null,null,"Falta Orçamento",null,{"$f":"VLOOKUP(A2458,'[1]Mapa de Preços'!$A$16:$D$2988,4,0)","v":0}]
[2444,null,{"$f":"IF('Requisição de Compra'!J2470=\"\",\"\",VLOOKUP(A2459,'Requisição de Compra'!$I$28:$J$3000,2,0))","v":""},null,null,null,null,null,null,"Falta Orçamento",null,{"$f":"VLOOKUP(A2459,'[1]Mapa de Preços'!$A$16:$D$2988,4,0)","v":0}]
[2445,null,{"$f":"IF('Requisição de Compra'!J2471=\"\",\"\",VLOOKUP(A2460,'Requisição de Compra'!$I$28:$J$3000,2,0))","v":""},null,null,null,null,null,null,"Falta Orçamento",null,{"$f":"VLOOKUP(A2460,'[1]Mapa de Preços'!$A$16:$D$2988,4,0)","v":0}]
[2446,null,{"$f":"IF('Requisição de Compra'!J2472=\"\",\"\",VLOOKUP(A2461,'Requisição de Compra'!$I$28:$J$3000,2,0))","v":""},null,null,null,null,null,null,"Falta Orçamento",null,{"$f":"VLOOKUP(A2461,'[1]Mapa de Preços'!$A$16:$D$2988,4,0)","v":0}]
[2447,null,{"$f":"IF('Requisição de Compra'!J2473=\"\",\"\",VLOOKUP(A2462,'Requisição de Compra'!$I$28:$J$3000,2,0))","v":""},null,null,null,null,null,null,"Falta Orçamento",null,{"$f":"VLOOKUP(A2462,'[1]Mapa de Preços'!$A$16:$D$2988,4,0)","v":0}]
[2448,null,{"$f":"IF('Requisição de Compra'!J2474=\"\",\"\",VLOOKUP(A2463,'Requisição de Compra'!$I$28:$J$3000,2,0))","v":""},null,null,null,null,null,null,"Falta Orçamento",null,{"$f":"VLOOKUP(A2463,'[1]Mapa de Preços'!$A$16:$D$2988,4,0)","v":0}]
[2449,null,{"$f":"IF('Requisição de Compra'!J2475=\"\",\"\",VLOOKUP(A2464,'Requisição de Compra'!$I$28:$J$3000,2,0))","v":""},null,null,null,null,null,null,"Falta Orçamento",null,{"$f":"VLOOKUP(A2464,'[1]Mapa de Preços'!$A$16:$D$2988,4,0)","v":0}]
[2450,null,{"$f":"IF('Requisição de Compra'!J2476=\"\",\"\",VLOOKUP(A2465,'Requisição de Compra'!$I$28:$J$3000,2,0))","v":""},null,null,null,null,null,null,"Falta Orçamento",null,{"$f":"VLOOKUP(A2465,'[1]Mapa de Preços'!$A$16:$D$2988,4,0)","v":0}]
[2451,null,{"$f":"IF('Requisição de Compra'!J2477=\"\",\"\",VLOOKUP(A2466,'Requisição de Compra'!$I$28:$J$3000,2,0))","v":""},null,null,null,null,null,null,"Falta Orçamento",null,{"$f":"VLOOKUP(A2466,'[1]Mapa de Preços'!$A$16:$D$2988,4,0)","v":0}]
[2452,null,{"$f":"IF('Requisição de Compra'!J2478=\"\",\"\",VLOOKUP(A2467,'Requisição de Compra'!$I$28:$J$3000,2,0))","v":""},null,null,null,null,null,null,"Falta Orçamento",null,{"$f":"VLOOKUP(A2467,'[1]Mapa de Preços'!$A$16:$D$2988,4,0)","v":0}]
[2453,null,{"$f":"IF('Requisição de Compra'!J2479=\"\",\"\",VLOOKUP(A2468,'Requisição de Compra'!$I$28:$J$3000,2,0))","v":""},null,null,null,null,null,null,"Falta Orçamento",null,{"$f":"VLOOKUP(A2468,'[1]Mapa de Preços'!$A$16:$D$2988,4,0)","v":0}]
[2454,null,{"$f":"IF('Requisição de Compra'!J2480=\"\",\"\",VLOOKUP(A2469,'Requisição de Compra'!$I$28:$J$3000,2,0))","v":""},null,null,null,null,null,null,"Falta Orçamento",null,{"$f":"VLOOKUP(A2469,'[1]Mapa de Preços'!$A$16:$D$2988,4,0)","v":0}]
[2455,null,{"$f":"IF('Requisição de Compra'!J2481=\"\",\"\",VLOOKUP(A2470,'Requisição de Compra'!$I$28:$J$3000,2,0))","v":""},null,null,null,null,null,null,"Falta Orçamento",null,{"$f":"VLOOKUP(A2470,'[1]Mapa de Preços'!$A$16:$D$2988,4,0)","v":0}]
[2456,null,{"$f":"IF('Requisição de Compra'!J2482=\"\",\"\",VLOOKUP(A2471,'Requisição de Compra'!$I$28:$J$3000,2,0))","v":""},null,null,null,null,null,null,"Falta Orçamento",null,{"$f":"VLOOKUP(A2471,'[1]Mapa de Preços'!$A$16:$D$2988,4,0)","v":0}]
[2457,null,{"$f":"IF('Requisição de Compra'!J2483=\"\",\"\",VLOOKUP(A2472,'Requisição de Compra'!$I$28:$J$3000,2,0))","v":""},null,null,null,null,null,null,"Falta Orçamento",null,{"$f":"VLOOKUP(A2472,'[1]Mapa de Preços'!$A$16:$D$2988,4,0)","v":0}]
[2458,null,{"$f":"IF('Requisição de Compra'!J2484=\"\",\"\",VLOOKUP(A2473,'Requisição de Compra'!$I$28:$J$3000,2,0))","v":""},null,null,null,null,null,null,"Falta Orçamento",null,{"$f":"VLOOKUP(A2473,'[1]Mapa de Preços'!$A$16:$D$2988,4,0)","v":0}]
[2459,null,{"$f":"IF('Requisição de Compra'!J2485=\"\",\"\",VLOOKUP(A2474,'Requisição de Compra'!$I$28:$J$3000,2,0))","v":""},null,null,null,null,null,null,"Falta Orçamento",null,{"$f":"VLOOKUP(A2474,'[1]Mapa de Preços'!$A$16:$D$2988,4,0)","v":0}]
[2460,null,{"$f":"IF('Requisição de Compra'!J2486=\"\",\"\",VLOOKUP(A2475,'Requisição de Compra'!$I$28:$J$3000,2,0))","v":""},null,null,null,null,null,null,"Falta Orçamento",null,{"$f":"VLOOKUP(A2475,'[1]Mapa de Preços'!$A$16:$D$2988,4,0)","v":0}]
[2461,null,{"$f":"IF('Requisição de Compra'!J2487=\"\",\"\",VLOOKUP(A2476,'Requisição de Compra'!$I$28:$J$3000,2,0))","v":""},null,null,null,null,null,null,"Falta Orçamento",null,{"$f":"VLOOKUP(A2476,'[1]Mapa de Preços'!$A$16:$D$2988,4,0)","v":0}]
[2462,null,{"$f":"IF('Requisição de Compra'!J2488=\"\",\"\",VLOOKUP(A2477,'Requisição de Compra'!$I$28:$J$3000,2,0))","v":""},null,null,null,null,null,null,"Falta Orçamento",null,{"$f":"VLOOKUP(A2477,'[1]Mapa de Preços'!$A$16:$D$2988,4,0)","v":0}]
[2463,null,{"$f":"IF('Requisição de Compra'!J2489=\"\",\"\",VLOOKUP(A2478,'Requisição de Compra'!$I$28:$J$3000,2,0))","v":""},null,null,null,null,null,null,"Falta Orçamento",null,{"$f":"VLOOKUP(A2478,'[1]Mapa de Preços'!$A$16:$D$2988,4,0)","v":0}]
[2464,null,{"$f":"IF('Requisição de Compra'!J2490=\"\",\"\",VLOOKUP(A2479,'Requisição de Compra'!$I$28:$J$3000,2,0))","v":""},null,null,null,null,null,null,"Falta Orçamento",null,{"$f":"VLOOKUP(A2479,'[1]Mapa de Preços'!$A$16:$D$2988,4,0)","v":0}]
[2465,null,{"$f":"IF('Requisição de Compra'!J2491=\"\",\"\",VLOOKUP(A2480,'Requisição de Compra'!$I$28:$J$3000,2,0))","v":""},null,null,null,null,null,null,"Falta Orçamento",null,{"$f":"VLOOKUP(A2480,'[1]Mapa de Preços'!$A$16:$D$2988,4,0)","v":0}]
[2466,null,{"$f":"IF('Requisição de Compra'!J2492=\"\",\"\",VLOOKUP(A2481,'Requisição de Compra'!$I$28:$J$3000,2,0))","v":""},null,null,null,null,null,null,"Falta Orçamento",null,{"$f":"VLOOKUP(A2481,'[1]Mapa de Preços'!$A$16:$D$2988,4,0)","v":0}]
[2467,null,{"$f":"IF('Requisição de Compra'!J2493=\"\",\"\",VLOOKUP(A2482,'Requisição de Compra'!$I$28:$J$3000,2,0))","v":""},null,null,null,null,null,null,"Falta Orçamento",null,{"$f":"VLOOKUP(A2482,'[1]Mapa de Preços'!$A$16:$D$2988,4,0)","v":0}]
[2468,null,{"$f":"IF('Requisição de Compra'!J2494=\"\",\"\",VLOOKUP(A2483,'Requisição de Compra'!$I$28:$J$3000,2,0))","v":""},null,null,null,null,null,null,"Falta Orçamento",null,{"$f":"VLOOKUP(A2483,'[1]Mapa de Preços'!$A$16:$D$2988,4,0)","v":0}]
[2469,null,{"$f":"IF('Requisição de Compra'!J2495=\"\",\"\",VLOOKUP(A2484,'Requisição de Compra'!$I$28:$J$3000,2,0))","v":""},null,null,null,null,null,null,"Falta Orçamento",null,{"$f":"VLOOKUP(A2484,'[1]Mapa de Preços'!$A$16:$D$2988,4,0)","v":0}]
[2470,null,{"$f":"IF('Requisição de Compra'!J2496=\"\",\"\",VLOOKUP(A2485,'Requisição de Compra'!$I$28:$J$3000,2,0))","v":""},null,null,null,null,null,null,"Falta Orçamento",null,{"$f":"VLOOKUP(A2485,'[1]Mapa de Preços'!$A$16:$D$2988,4,0)","v":0}]
[2471,null,{"$f":"IF('Requisição de Compra'!J2497=\"\",\"\",VLOOKUP(A2486,'Requisição de Compra'!$I$28:$J$3000,2,0))","v":""},null,null,null,null,null,null,"Falta Orçamento",null,{"$f":"VLOOKUP(A2486,'[1]Mapa de Preços'!$A$16:$D$2988,4,0)","v":0}]
[2472,null,{"$f":"IF('Requisição de Compra'!J2498=\"\",\"\",VLOOKUP(A2487,'Requisição de Compra'!$I$28:$J$3000,2,0))","v":""},null,null,null,null,null,null,"Falta Orçamento",null,{"$f":"VLOOKUP(A2487,'[1]Mapa de Preços'!$A$16:$D$2988,4,0)","v":0}]
[2473,null,{"$f":"IF('Requisição de Compra'!J2499=\"\",\"\",VLOOKUP(A2488,'Requisição de Compra'!$I$28:$J$3000,2,0))","v":""},null,null,null,null,null,null,"Falta Orçamento",null,{"$f":"VLOOKUP(A2488,'[1]Mapa de Preços'!$A$16:$D$2988,4,0)","v":0}]
[2474,null,{"$f":"IF('Requisição de Compra'!J2500=\"\",\"\",VLOOKUP(A2489,'Requisição de Compra'!$I$28:$J$3000,2,0))","v":""},null,null,null,null,null,null,"Falta Orçamento",null,{"$f":"VLOOKUP(A2489,'[1]Mapa de Preços'!$A$16:$D$2988,4,0)","v":0}]
[2475,null,{"$f":"IF('Requisição de Compra'!J2501=\"\",\"\",VLOOKUP(A2490,'Requisição de Compra'!$I$28:$J$3000,2,0))","v":""},null,null,null,null,null,null,"Falta Orçamento",null,{"$f":"VLOOKUP(A2490,'[1]Mapa de Preços'!$A$16:$D$2988,4,0)","v":0}]
[2476,null,{"$f":"IF('Requisição de Compra'!J2502=\"\",\"\",VLOOKUP(A2491,'Requisição de Compra'!$I$28:$J$3000,2,0))","v":""},null,null,null,null,null,null,"Falta Orçamento",null,{"$f":"VLOOKUP(A2491,'[1]Mapa de Preços'!$A$16:$D$2988,4,0)","v":0}]
[2477,null,{"$f":"IF('Requisição de Compra'!J2503=\"\",\"\",VLOOKUP(A2492,'Requisição de Compra'!$I$28:$J$3000,2,0))","v":""},null,null,null,null,null,null,"Falta Orçamento",null,{"$f":"VLOOKUP(A2492,'[1]Mapa de Preços'!$A$16:$D$2988,4,0)","v":0}]
[2478,null,{"$f":"IF('Requisição de Compra'!J2504=\"\",\"\",VLOOKUP(A2493,'Requisição de Compra'!$I$28:$J$3000,2,0))","v":""},null,null,null,null,null,null,"Falta Orçamento",null,{"$f":"VLOOKUP(A2493,'[1]Mapa de Preços'!$A$16:$D$2988,4,0)","v":0}]
[2479,null,{"$f":"IF('Requisição de Compra'!J2505=\"\",\"\",VLOOKUP(A2494,'Requisição de Compra'!$I$28:$J$3000,2,0))","v":""},null,null,null,null,null,null,"Falta Orçamento",null,{"$f":"VLOOKUP(A2494,'[1]Mapa de Preços'!$A$16:$D$2988,4,0)","v":0}]
[2480,null,{"$f":"IF('Requisição de Compra'!J2506=\"\",\"\",VLOOKUP(A2495,'Requisição de Compra'!$I$28:$J$3000,2,0))","v":""},null,null,null,null,null,null,"Falta Orçamento",null,{"$f":"VLOOKUP(A2495,'[1]Mapa de Preços'!$A$16:$D$2988,4,0)","v":0}]
[2481,null,{"$f":"IF('Requisição de Compra'!J2507=\"\",\"\",VLOOKUP(A2496,'Requisição de Compra'!$I$28:$J$3000,2,0))","v":""},null,null,null,null,null,null,"Falta Orçamento",null,{"$f":"VLOOKUP(A2496,'[1]Mapa de Preços'!$A$16:$D$2988,4,0)","v":0}]
[2482,null,{"$f":"IF('Requisição de Compra'!J2508=\"\",\"\",VLOOKUP(A2497,'Requisição de Compra'!$I$28:$J$3000,2,0))","v":""},null,null,null,null,null,null,"Falta Orçamento",null,{"$f":"VLOOKUP(A2497,'[1]Mapa de Preços'!$A$16:$D$2988,4,0)","v":0}]
[2483,null,{"$f":"IF('Requisição de Compra'!J2509=\"\",\"\",VLOOKUP(A2498,'Requisição de Compra'!$I$28:$J$3000,2,0))","v":""},null,null,null,null,null,null,"Falta Orçamento",null,{"$f":"VLOOKUP(A2498,'[1]Mapa de Preços'!$A$16:$D$2988,4,0)","v":0}]
[2484,null,{"$f":"IF('Requisição de Compra'!J2510=\"\",\"\",VLOOKUP(A2499,'Requisição de Compra'!$I$28:$J$3000,2,0))","v":""},null,null,null,null,null,null,"Falta Orçamento",null,{"$f":"VLOOKUP(A2499,'[1]Mapa de Preços'!$A$16:$D$2988,4,0)","v":0}]
[2485,null,{"$f":"IF('Requisição de Compra'!J2511=\"\",\"\",VLOOKUP(A2500,'Requisição de Compra'!$I$28:$J$3000,2,0))","v":""},null,null,null,null,null,null,"Falta Orçamento",null,{"$f":"VLOOKUP(A2500,'[1]Mapa de Preços'!$A$16:$D$2988,4,0)","v":0}]
[2486,null,{"$f":"IF('Requisição de Compra'!J2512=\"\",\"\",VLOOKUP(A2501,'Requisição de Compra'!$I$28:$J$3000,2,0))","v":""},null,null,null,null,null,null,"Falta Orçamento",null,{"$f":"VLOOKUP(A2501,'[1]Mapa de Preços'!$A$16:$D$2988,4,0)","v":0}]
[2487,null,{"$f":"IF('Requisição de Compra'!J2513=\"\",\"\",VLOOKUP(A2502,'Requisição de Compra'!$I$28:$J$3000,2,0))","v":""},null,null,null,null,null,null,"Falta Orçamento",null,{"$f":"VLOOKUP(A2502,'[1]Mapa de Preços'!$A$16:$D$2988,4,0)","v":0}]
[2488,null,{"$f":"IF('Requisição de Compra'!J2514=\"\",\"\",VLOOKUP(A2503,'Requisição de Compra'!$I$28:$J$3000,2,0))","v":""},null,null,null,null,null,null,"Falta Orçamento",null,{"$f":"VLOOKUP(A2503,'[1]Mapa de Preços'!$A$16:$D$2988,4,0)","v":0}]
[2489,null,{"$f":"IF('Requisição de Compra'!J2515=\"\",\"\",VLOOKUP(A2504,'Requisição de Compra'!$I$28:$J$3000,2,0))","v":""},null,null,null,null,null,null,"Falta Orçamento",null,{"$f":"VLOOKUP(A2504,'[1]Mapa de Preços'!$A$16:$D$2988,4,0)","v":0}]
[2490,null,{"$f":"IF('Requisição de Compra'!J2516=\"\",\"\",VLOOKUP(A2505,'Requisição de Compra'!$I$28:$J$3000,2,0))","v":""},null,null,null,null,null,null,"Falta Orçamento",null,{"$f":"VLOOKUP(A2505,'[1]Mapa de Preços'!$A$16:$D$2988,4,0)","v":0}]
[2491,null,{"$f":"IF('Requisição de Compra'!J2517=\"\",\"\",VLOOKUP(A2506,'Requisição de Compra'!$I$28:$J$3000,2,0))","v":""},null,null,null,null,null,null,"Falta Orçamento",null,{"$f":"VLOOKUP(A2506,'[1]Mapa de Preços'!$A$16:$D$2988,4,0)","v":0}]
[2492,null,{"$f":"IF('Requisição de Compra'!J2518=\"\",\"\",VLOOKUP(A2507,'Requisição de Compra'!$I$28:$J$3000,2,0))","v":""},null,null,null,null,null,null,"Falta Orçamento",null,{"$f":"VLOOKUP(A2507,'[1]Mapa de Preços'!$A$16:$D$2988,4,0)","v":0}]
[2493,null,{"$f":"IF('Requisição de Compra'!J2519=\"\",\"\",VLOOKUP(A2508,'Requisição de Compra'!$I$28:$J$3000,2,0))","v":""},null,null,null,null,null,null,"Falta Orçamento",null,{"$f":"VLOOKUP(A2508,'[1]Mapa de Preços'!$A$16:$D$2988,4,0)","v":0}]
[2494,null,{"$f":"IF('Requisição de Compra'!J2520=\"\",\"\",VLOOKUP(A2509,'Requisição de Compra'!$I$28:$J$3000,2,0))","v":""},null,null,null,null,null,null,"Falta Orçamento",null,{"$f":"VLOOKUP(A2509,'[1]Mapa de Preços'!$A$16:$D$2988,4,0)","v":0}]
[2495,null,{"$f":"IF('Requisição de Compra'!J2521=\"\",\"\",VLOOKUP(A2510,'Requisição de Compra'!$I$28:$J$3000,2,0))","v":""},null,null,null,null,null,null,"Falta Orçamento",null,{"$f":"VLOOKUP(A2510,'[1]Mapa de Preços'!$A$16:$D$2988,4,0)","v":0}]
[2496,null,{"$f":"IF('Requisição de Compra'!J2522=\"\",\"\",VLOOKUP(A2511,'Requisição de Compra'!$I$28:$J$3000,2,0))","v":""},null,null,null,null,null,null,"Falta Orçamento",null,{"$f":"VLOOKUP(A2511,'[1]Mapa de Preços'!$A$16:$D$2988,4,0)","v":0}]
[2497,null,{"$f":"IF('Requisição de Compra'!J2523=\"\",\"\",VLOOKUP(A2512,'Requisição de Compra'!$I$28:$J$3000,2,0))","v":""},null,null,null,null,null,null,"Falta Orçamento",null,{"$f":"VLOOKUP(A2512,'[1]Mapa de Preços'!$A$16:$D$2988,4,0)","v":0}]
[2498,null,{"$f":"IF('Requisição de Compra'!J2524=\"\",\"\",VLOOKUP(A2513,'Requisição de Compra'!$I$28:$J$3000,2,0))","v":""},null,null,null,null,null,null,{"$f":"IF(AND(D2513<>\"\",F2513<>\"\",H2513<>\"\"),AVERAGE(D2513:H2513),\"Falta Orçamento\")","v":"Falta Orçamento"},null,{"$f":"VLOOKUP(A2513,'[1]Mapa de Preços'!$A$16:$D$2988,4,0)","v":0}]
[2499,null,{"$f":"IF('Requisição de Compra'!J2525=\"\",\"\",VLOOKUP(A2514,'Requisição de Compra'!$I$28:$J$3000,2,0))","v":""},null,null,null,null,null,null,"Falta Orçamento",null,{"$f":"VLOOKUP(A2514,'[1]Mapa de Preços'!$A$16:$D$2988,4,0)","v":0}]
[2500,null,{"$f":"IF('Requisição de Compra'!J2526=\"\",\"\",VLOOKUP(A2515,'Requisição de Compra'!$I$28:$J$3000,2,0))","v":""},null,null,null,null,null,null,"Falta Orçamento",null,{"$f":"VLOOKUP(A2515,'[1]Mapa de Preços'!$A$16:$D$2988,4,0)","v":0}]
[2501,null,{"$f":"IF('Requisição de Compra'!J2527=\"\",\"\",VLOOKUP(A2516,'Requisição de Compra'!$I$28:$J$3000,2,0))","v":""},null,null,null,null,null,null,"Falta Orçamento",null,{"$f":"VLOOKUP(A2516,'[1]Mapa de Preços'!$A$16:$D$2988,4,0)","v":0}]
[2502,null,{"$f":"IF('Requisição de Compra'!J2528=\"\",\"\",VLOOKUP(A2517,'Requisição de Compra'!$I$28:$J$3000,2,0))","v":""},null,null,null,null,null,null,"Falta Orçamento",null,{"$f":"VLOOKUP(A2517,'[1]Mapa de Preços'!$A$16:$D$2988,4,0)","v":0}]
[2503,null,{"$f":"IF('Requisição de Compra'!J2529=\"\",\"\",VLOOKUP(A2518,'Requisição de Compra'!$I$28:$J$3000,2,0))","v":""},null,null,null,null,null,null,"Falta Orçamento",null,{"$f":"VLOOKUP(A2518,'[1]Mapa de Preços'!$A$16:$D$2988,4,0)","v":0}]
[2504,null,{"$f":"IF('Requisição de Compra'!J2530=\"\",\"\",VLOOKUP(A2519,'Requisição de Compra'!$I$28:$J$3000,2,0))","v":""},null,null,null,null,null,null,"Falta Orçamento",null,{"$f":"VLOOKUP(A2519,'[1]Mapa de Preços'!$A$16:$D$2988,4,0)","v":0}]
[2505,null,{"$f":"IF('Requisição de Compra'!J2531=\"\",\"\",VLOOKUP(A2520,'Requisição de Compra'!$I$28:$J$3000,2,0))","v":""},null,null,null,null,null,null,"Falta Orçamento",null,{"$f":"VLOOKUP(A2520,'[1]Mapa de Preços'!$A$16:$D$2988,4,0)","v":0}]
[2506,null,{"$f":"IF('Requisição de Compra'!J2532=\"\",\"\",VLOOKUP(A2521,'Requisição de Compra'!$I$28:$J$3000,2,0))","v":""},null,null,null,null,null,null,"Falta Orçamento",null,{"$f":"VLOOKUP(A2521,'[1]Mapa de Preços'!$A$16:$D$2988,4,0)","v":0}]
[2507,null,{"$f":"IF('Requisição de Compra'!J2533=\"\",\"\",VLOOKUP(A2522,'Requisição de Compra'!$I$28:$J$3000,2,0))","v":""},null,null,null,null,null,null,"Falta Orçamento",null,{"$f":"VLOOKUP(A2522,'[1]Mapa de Preços'!$A$16:$D$2988,4,0)","v":0}]
[2508,null,{"$f":"IF('Requisição de Compra'!J2534=\"\",\"\",VLOOKUP(A2523,'Requisição de Compra'!$I$28:$J$3000,2,0))","v":""},null,null,null,null,null,null,"Falta Orçamento",null,{"$f":"VLOOKUP(A2523,'[1]Mapa de Preços'!$A$16:$D$2988,4,0)","v":0}]
[2509,null,{"$f":"IF('Requisição de Compra'!J2535=\"\",\"\",VLOOKUP(A2524,'Requisição de Compra'!$I$28:$J$3000,2,0))","v":""},null,null,null,null,null,null,"Falta Orçamento",null,{"$f":"VLOOKUP(A2524,'[1]Mapa de Preços'!$A$16:$D$2988,4,0)","v":0}]
[2510,null,{"$f":"IF('Requisição de Compra'!J2536=\"\",\"\",VLOOKUP(A2525,'Requisição de Compra'!$I$28:$J$3000,2,0))","v":""},null,null,null,null,null,null,"Falta Orçamento",null,{"$f":"VLOOKUP(A2525,'[1]Mapa de Preços'!$A$16:$D$2988,4,0)","v":0}]
[2511,null,{"$f":"IF('Requisição de Compra'!J2537=\"\",\"\",VLOOKUP(A2526,'Requisição de Compra'!$I$28:$J$3000,2,0))","v":""},null,null,null,null,null,null,"Falta Orçamento",null,{"$f":"VLOOKUP(A2526,'[1]Mapa de Preços'!$A$16:$D$2988,4,0)","v":0}]
[2512,null,{"$f":"IF('Requisição de Compra'!J2538=\"\",\"\",VLOOKUP(A2527,'Requisição de Compra'!$I$28:$J$3000,2,0))","v":""},null,null,null,null,null,null,"Falta Orçamento",null,{"$f":"VLOOKUP(A2527,'[1]Mapa de Preços'!$A$16:$D$2988,4,0)","v":0}]
[2513,null,{"$f":"IF('Requisição de Compra'!J2539=\"\",\"\",VLOOKUP(A2528,'Requisição de Compra'!$I$28:$J$3000,2,0))","v":""},null,null,null,null,null,null,"Falta Orçamento",null,{"$f":"VLOOKUP(A2528,'[1]Mapa de Preços'!$A$16:$D$2988,4,0)","v":0}]
[2514,null,{"$f":"IF('Requisição de Compra'!J2540=\"\",\"\",VLOOKUP(A2529,'Requisição de Compra'!$I$28:$J$3000,2,0))","v":""},null,null,null,null,null,null,"Falta Orçamento",null,{"$f":"VLOOKUP(A2529,'[1]Mapa de Preços'!$A$16:$D$2988,4,0)","v":0}]
[2515,null,{"$f":"IF('Requisição de Compra'!J2541=\"\",\"\",VLOOKUP(A2530,'Requisição de Compra'!$I$28:$J$3000,2,0))","v":""},null,null,null,null,null,null,"Falta Orçamento",null,{"$f":"VLOOKUP(A2530,'[1]Mapa de Preços'!$A$16:$D$2988,4,0)","v":0}]
[2516,null,{"$f":"IF('Requisição de Compra'!J2542=\"\",\"\",VLOOKUP(A2531,'Requisição de Compra'!$I$28:$J$3000,2,0))","v":""},null,null,null,null,null,null,"Falta Orçamento",null,{"$f":"VLOOKUP(A2531,'[1]Mapa de Preços'!$A$16:$D$2988,4,0)","v":0}]
[2517,null,{"$f":"IF('Requisição de Compra'!J2543=\"\",\"\",VLOOKUP(A2532,'Requisição de Compra'!$I$28:$J$3000,2,0))","v":""},null,null,null,null,null,null,"Falta Orçamento",null,{"$f":"VLOOKUP(A2532,'[1]Mapa de Preços'!$A$16:$D$2988,4,0)","v":0}]
[2518,null,{"$f":"IF('Requisição de Compra'!J2544=\"\",\"\",VLOOKUP(A2533,'Requisição de Compra'!$I$28:$J$3000,2,0))","v":""},null,null,null,null,null,null,"Falta Orçamento",null,{"$f":"VLOOKUP(A2533,'[1]Mapa de Preços'!$A$16:$D$2988,4,0)","v":0}]
[2519,null,{"$f":"IF('Requisição de Compra'!J2545=\"\",\"\",VLOOKUP(A2534,'Requisição de Compra'!$I$28:$J$3000,2,0))","v":""},null,null,null,null,null,null,"Falta Orçamento",null,{"$f":"VLOOKUP(A2534,'[1]Mapa de Preços'!$A$16:$D$2988,4,0)","v":0}]
[2520,null,{"$f":"IF('Requisição de Compra'!J2546=\"\",\"\",VLOOKUP(A2535,'Requisição de Compra'!$I$28:$J$3000,2,0))","v":""},null,null,null,null,null,null,"Falta Orçamento",null,{"$f":"VLOOKUP(A2535,'[1]Mapa de Preços'!$A$16:$D$2988,4,0)","v":0}]
[2521,null,{"$f":"IF('Requisição de Compra'!J2547=\"\",\"\",VLOOKUP(A2536,'Requisição de Compra'!$I$28:$J$3000,2,0))","v":""},null,null,null,null,null,null,"Falta Orçamento",null,{"$f":"VLOOKUP(A2536,'[1]Mapa de Preços'!$A$16:$D$2988,4,0)","v":0}]
[2522,null,{"$f":"IF('Requisição de Compra'!J2548=\"\",\"\",VLOOKUP(A2537,'Requisição de Compra'!$I$28:$J$3000,2,0))","v":""},null,null,null,null,null,null,"Falta Orçamento",null,{"$f":"VLOOKUP(A2537,'[1]Mapa de Preços'!$A$16:$D$2988,4,0)","v":0}]
[2523,null,{"$f":"IF('Requisição de Compra'!J2549=\"\",\"\",VLOOKUP(A2538,'Requisição de Compra'!$I$28:$J$3000,2,0))","v":""},null,null,null,null,null,null,"Falta Orçamento",null,{"$f":"VLOOKUP(A2538,'[1]Mapa de Preços'!$A$16:$D$2988,4,0)","v":0}]
[2524,null,{"$f":"IF('Requisição de Compra'!J2550=\"\",\"\",VLOOKUP(A2539,'Requisição de Compra'!$I$28:$J$3000,2,0))","v":""},null,null,null,null,null,null,"Falta Orçamento",null,{"$f":"VLOOKUP(A2539,'[1]Mapa de Preços'!$A$16:$D$2988,4,0)","v":0}]
[2525,null,{"$f":"IF('Requisição de Compra'!J2551=\"\",\"\",VLOOKUP(A2540,'Requisição de Compra'!$I$28:$J$3000,2,0))","v":""},null,null,null,null,null,null,"Falta Orçamento",null,{"$f":"VLOOKUP(A2540,'[1]Mapa de Preços'!$A$16:$D$2988,4,0)","v":0}]
[2526,null,{"$f":"IF('Requisição de Compra'!J2552=\"\",\"\",VLOOKUP(A2541,'Requisição de Compra'!$I$28:$J$3000,2,0))","v":""},null,null,null,null,null,null,"Falta Orçamento",null,{"$f":"VLOOKUP(A2541,'[1]Mapa de Preços'!$A$16:$D$2988,4,0)","v":0}]
[2527,null,{"$f":"IF('Requisição de Compra'!J2553=\"\",\"\",VLOOKUP(A2542,'Requisição de Compra'!$I$28:$J$3000,2,0))","v":""},null,null,null,null,null,null,"Falta Orçamento",null,{"$f":"VLOOKUP(A2542,'[1]Mapa de Preços'!$A$16:$D$2988,4,0)","v":0}]
[2528,null,{"$f":"IF('Requisição de Compra'!J2554=\"\",\"\",VLOOKUP(A2543,'Requisição de Compra'!$I$28:$J$3000,2,0))","v":""},null,null,null,null,null,null,"Falta Orçamento",null,{"$f":"VLOOKUP(A2543,'[1]Mapa de Preços'!$A$16:$D$2988,4,0)","v":0}]
[2529,null,{"$f":"IF('Requisição de Compra'!J2555=\"\",\"\",VLOOKUP(A2544,'Requisição de Compra'!$I$28:$J$3000,2,0))","v":""},null,null,null,null,null,null,"Falta Orçamento",null,{"$f":"VLOOKUP(A2544,'[1]Mapa de Preços'!$A$16:$D$2988,4,0)","v":0}]
[2530,null,{"$f":"IF('Requisição de Compra'!J2556=\"\",\"\",VLOOKUP(A2545,'Requisição de Compra'!$I$28:$J$3000,2,0))","v":""},null,null,null,null,null,null,"Falta Orçamento",null,{"$f":"VLOOKUP(A2545,'[1]Mapa de Preços'!$A$16:$D$2988,4,0)","v":0}]
[2531,null,{"$f":"IF('Requisição de Compra'!J2557=\"\",\"\",VLOOKUP(A2546,'Requisição de Compra'!$I$28:$J$3000,2,0))","v":""},null,null,null,null,null,null,"Falta Orçamento",null,{"$f":"VLOOKUP(A2546,'[1]Mapa de Preços'!$A$16:$D$2988,4,0)","v":0}]
[2532,null,{"$f":"IF('Requisição de Compra'!J2558=\"\",\"\",VLOOKUP(A2547,'Requisição de Compra'!$I$28:$J$3000,2,0))","v":""},null,null,null,null,null,null,"Falta Orçamento",null,{"$f":"VLOOKUP(A2547,'[1]Mapa de Preços'!$A$16:$D$2988,4,0)","v":0}]
[2533,null,{"$f":"IF('Requisição de Compra'!J2559=\"\",\"\",VLOOKUP(A2548,'Requisição de Compra'!$I$28:$J$3000,2,0))","v":""},null,null,null,null,null,null,"Falta Orçamento",null,{"$f":"VLOOKUP(A2548,'[1]Mapa de Preços'!$A$16:$D$2988,4,0)","v":0}]
[2534,null,{"$f":"IF('Requisição de Compra'!J2560=\"\",\"\",VLOOKUP(A2549,'Requisição de Compra'!$I$28:$J$3000,2,0))","v":""},null,null,null,null,null,null,"Falta Orçamento",null,{"$f":"VLOOKUP(A2549,'[1]Mapa de Preços'!$A$16:$D$2988,4,0)","v":0}]
[2535,null,{"$f":"IF('Requisição de Compra'!J2561=\"\",\"\",VLOOKUP(A2550,'Requisição de Compra'!$I$28:$J$3000,2,0))","v":""},null,null,null,null,null,null,"Falta Orçamento",null,{"$f":"VLOOKUP(A2550,'[1]Mapa de Preços'!$A$16:$D$2988,4,0)","v":0}]
[2536,null,{"$f":"IF('Requisição de Compra'!J2562=\"\",\"\",VLOOKUP(A2551,'Requisição de Compra'!$I$28:$J$3000,2,0))","v":""},null,null,null,null,null,null,"Falta Orçamento",null,{"$f":"VLOOKUP(A2551,'[1]Mapa de Preços'!$A$16:$D$2988,4,0)","v":0}]
[2537,null,{"$f":"IF('Requisição de Compra'!J2563=\"\",\"\",VLOOKUP(A2552,'Requisição de Compra'!$I$28:$J$3000,2,0))","v":""},null,null,null,null,null,null,"Falta Orçamento",null,{"$f":"VLOOKUP(A2552,'[1]Mapa de Preços'!$A$16:$D$2988,4,0)","v":0}]
[2538,null,{"$f":"IF('Requisição de Compra'!J2564=\"\",\"\",VLOOKUP(A2553,'Requisição de Compra'!$I$28:$J$3000,2,0))","v":""},null,null,null,null,null,null,"Falta Orçamento",null,{"$f":"VLOOKUP(A2553,'[1]Mapa de Preços'!$A$16:$D$2988,4,0)","v":0}]
[2539,null,{"$f":"IF('Requisição de Compra'!J2565=\"\",\"\",VLOOKUP(A2554,'Requisição de Compra'!$I$28:$J$3000,2,0))","v":""},null,null,null,null,null,null,"Falta Orçamento",null,{"$f":"VLOOKUP(A2554,'[1]Mapa de Preços'!$A$16:$D$2988,4,0)","v":0}]
[2540,null,{"$f":"IF('Requisição de Compra'!J2566=\"\",\"\",VLOOKUP(A2555,'Requisição de Compra'!$I$28:$J$3000,2,0))","v":""},null,null,null,null,null,null,"Falta Orçamento",null,{"$f":"VLOOKUP(A2555,'[1]Mapa de Preços'!$A$16:$D$2988,4,0)","v":0}]
[2541,null,{"$f":"IF('Requisição de Compra'!J2567=\"\",\"\",VLOOKUP(A2556,'Requisição de Compra'!$I$28:$J$3000,2,0))","v":""},null,null,null,null,null,null,"Falta Orçamento",null,{"$f":"VLOOKUP(A2556,'[1]Mapa de Preços'!$A$16:$D$2988,4,0)","v":0}]
[2542,null,{"$f":"IF('Requisição de Compra'!J2568=\"\",\"\",VLOOKUP(A2557,'Requisição de Compra'!$I$28:$J$3000,2,0))","v":""},null,null,null,null,null,null,"Falta Orçamento",null,{"$f":"VLOOKUP(A2557,'[1]Mapa de Preços'!$A$16:$D$2988,4,0)","v":0}]
[2543,null,{"$f":"IF('Requisição de Compra'!J2569=\"\",\"\",VLOOKUP(A2558,'Requisição de Compra'!$I$28:$J$3000,2,0))","v":""},null,null,null,null,null,null,"Falta Orçamento",null,{"$f":"VLOOKUP(A2558,'[1]Mapa de Preços'!$A$16:$D$2988,4,0)","v":0}]
[2544,null,{"$f":"IF('Requisição de Compra'!J2570=\"\",\"\",VLOOKUP(A2559,'Requisição de Compra'!$I$28:$J$3000,2,0))","v":""},null,null,null,null,null,null,"Falta Orçamento",null,{"$f":"VLOOKUP(A2559,'[1]Mapa de Preços'!$A$16:$D$2988,4,0)","v":0}]
[2545,null,{"$f":"IF('Requisição de Compra'!J2571=\"\",\"\",VLOOKUP(A2560,'Requisição de Compra'!$I$28:$J$3000,2,0))","v":""},null,null,null,null,null,null,"Falta Orçamento",null,{"$f":"VLOOKUP(A2560,'[1]Mapa de Preços'!$A$16:$D$2988,4,0)","v":0}]
[2546,null,{"$f":"IF('Requisição de Compra'!J2572=\"\",\"\",VLOOKUP(A2561,'Requisição de Compra'!$I$28:$J$3000,2,0))","v":""},null,null,null,null,null,null,"Falta Orçamento",null,{"$f":"VLOOKUP(A2561,'[1]Mapa de Preços'!$A$16:$D$2988,4,0)","v":0}]
[2547,null,{"$f":"IF('Requisição de Compra'!J2573=\"\",\"\",VLOOKUP(A2562,'Requisição de Compra'!$I$28:$J$3000,2,0))","v":""},null,null,null,null,null,null,"Falta Orçamento",null,{"$f":"VLOOKUP(A2562,'[1]Mapa de Preços'!$A$16:$D$2988,4,0)","v":0}]
[2548,null,{"$f":"IF('Requisição de Compra'!J2574=\"\",\"\",VLOOKUP(A2563,'Requisição de Compra'!$I$28:$J$3000,2,0))","v":""},null,null,null,null,null,null,"Falta Orçamento",null,{"$f":"VLOOKUP(A2563,'[1]Mapa de Preços'!$A$16:$D$2988,4,0)","v":0}]
[2549,null,{"$f":"IF('Requisição de Compra'!J2575=\"\",\"\",VLOOKUP(A2564,'Requisição de Compra'!$I$28:$J$3000,2,0))","v":""},null,null,null,null,null,null,"Falta Orçamento",null,{"$f":"VLOOKUP(A2564,'[1]Mapa de Preços'!$A$16:$D$2988,4,0)","v":0}]
[2550,null,{"$f":"IF('Requisição de Compra'!J2576=\"\",\"\",VLOOKUP(A2565,'Requisição de Compra'!$I$28:$J$3000,2,0))","v":""},null,null,null,null,null,null,"Falta Orçamento",null,{"$f":"VLOOKUP(A2565,'[1]Mapa de Preços'!$A$16:$D$2988,4,0)","v":0}]
[2551,null,{"$f":"IF('Requisição de Compra'!J2577=\"\",\"\",VLOOKUP(A2566,'Requisição de Compra'!$I$28:$J$3000,2,0))","v":""},null,null,null,null,null,null,"Falta Orçamento",null,{"$f":"VLOOKUP(A2566,'[1]Mapa de Preços'!$A$16:$D$2988,4,0)","v":0}]
[2552,null,{"$f":"IF('Requisição de Compra'!J2578=\"\",\"\",VLOOKUP(A2567,'Requisição de Compra'!$I$28:$J$3000,2,0))","v":""},null,null,null,null,null,null,"Falta Orçamento",null,{"$f":"VLOOKUP(A2567,'[1]Mapa de Preços'!$A$16:$D$2988,4,0)","v":0}]
[2553,null,{"$f":"IF('Requisição de Compra'!J2579=\"\",\"\",VLOOKUP(A2568,'Requisição de Compra'!$I$28:$J$3000,2,0))","v":""},null,null,null,null,null,null,"Falta Orçamento",null,{"$f":"VLOOKUP(A2568,'[1]Mapa de Preços'!$A$16:$D$2988,4,0)","v":0}]
[2554,null,{"$f":"IF('Requisição de Compra'!J2580=\"\",\"\",VLOOKUP(A2569,'Requisição de Compra'!$I$28:$J$3000,2,0))","v":""},null,null,null,null,null,null,"Falta Orçamento",null,{"$f":"VLOOKUP(A2569,'[1]Mapa de Preços'!$A$16:$D$2988,4,0)","v":0}]
[2555,null,{"$f":"IF('Requisição de Compra'!J2581=\"\",\"\",VLOOKUP(A2570,'Requisição de Compra'!$I$28:$J$3000,2,0))","v":""},null,null,null,null,null,null,"Falta Orçamento",null,{"$f":"VLOOKUP(A2570,'[1]Mapa de Preços'!$A$16:$D$2988,4,0)","v":0}]
[2556,null,{"$f":"IF('Requisição de Compra'!J2582=\"\",\"\",VLOOKUP(A2571,'Requisição de Compra'!$I$28:$J$3000,2,0))","v":""},null,null,null,null,null,null,"Falta Orçamento",null,{"$f":"VLOOKUP(A2571,'[1]Mapa de Preços'!$A$16:$D$2988,4,0)","v":0}]
[2557,null,{"$f":"IF('Requisição de Compra'!J2583=\"\",\"\",VLOOKUP(A2572,'Requisição de Compra'!$I$28:$J$3000,2,0))","v":""},null,null,null,null,null,null,"Falta Orçamento",null,{"$f":"VLOOKUP(A2572,'[1]Mapa de Preços'!$A$16:$D$2988,4,0)","v":0}]
[2558,null,{"$f":"IF('Requisição de Compra'!J2584=\"\",\"\",VLOOKUP(A2573,'Requisição de Compra'!$I$28:$J$3000,2,0))","v":""},null,null,null,null,null,null,"Falta Orçamento",null,{"$f":"VLOOKUP(A2573,'[1]Mapa de Preços'!$A$16:$D$2988,4,0)","v":0}]
[2559,null,{"$f":"IF('Requisição de Compra'!J2585=\"\",\"\",VLOOKUP(A2574,'Requisição de Compra'!$I$28:$J$3000,2,0))","v":""},null,null,null,null,null,null,"Falta Orçamento",null,{"$f":"VLOOKUP(A2574,'[1]Mapa de Preços'!$A$16:$D$2988,4,0)","v":0}]
[2560,null,{"$f":"IF('Requisição de Compra'!J2586=\"\",\"\",VLOOKUP(A2575,'Requisição de Compra'!$I$28:$J$3000,2,0))","v":""},null,null,null,null,null,null,"Falta Orçamento",null,{"$f":"VLOOKUP(A2575,'[1]Mapa de Preços'!$A$16:$D$2988,4,0)","v":0}]
[2561,null,{"$f":"IF('Requisição de Compra'!J2587=\"\",\"\",VLOOKUP(A2576,'Requisição de Compra'!$I$28:$J$3000,2,0))","v":""},null,null,null,null,null,null,"Falta Orçamento",null,{"$f":"VLOOKUP(A2576,'[1]Mapa de Preços'!$A$16:$D$2988,4,0)","v":0}]
[2562,null,{"$f":"IF('Requisição de Compra'!J2588=\"\",\"\",VLOOKUP(A2577,'Requisição de Compra'!$I$28:$J$3000,2,0))","v":""},null,null,null,null,null,null,{"$f":"IF(AND(D2577<>\"\",F2577<>\"\",H2577<>\"\"),AVERAGE(D2577:H2577),\"Falta Orçamento\")","v":"Falta Orçamento"},null,{"$f":"VLOOKUP(A2577,'[1]Mapa de Preços'!$A$16:$D$2988,4,0)","v":0}]
[2563,null,{"$f":"IF('Requisição de Compra'!J2589=\"\",\"\",VLOOKUP(A2578,'Requisição de Compra'!$I$28:$J$3000,2,0))","v":""},null,null,null,null,null,null,"Falta Orçamento",null,{"$f":"VLOOKUP(A2578,'[1]Mapa de Preços'!$A$16:$D$2988,4,0)","v":0}]
[2564,null,{"$f":"IF('Requisição de Compra'!J2590=\"\",\"\",VLOOKUP(A2579,'Requisição de Compra'!$I$28:$J$3000,2,0))","v":""},null,null,null,null,null,null,"Falta Orçamento",null,{"$f":"VLOOKUP(A2579,'[1]Mapa de Preços'!$A$16:$D$2988,4,0)","v":0}]
[2565,null,{"$f":"IF('Requisição de Compra'!J2591=\"\",\"\",VLOOKUP(A2580,'Requisição de Compra'!$I$28:$J$3000,2,0))","v":""},null,null,null,null,null,null,"Falta Orçamento",null,{"$f":"VLOOKUP(A2580,'[1]Mapa de Preços'!$A$16:$D$2988,4,0)","v":0}]
[2566,null,{"$f":"IF('Requisição de Compra'!J2592=\"\",\"\",VLOOKUP(A2581,'Requisição de Compra'!$I$28:$J$3000,2,0))","v":""},null,null,null,null,null,null,"Falta Orçamento",null,{"$f":"VLOOKUP(A2581,'[1]Mapa de Preços'!$A$16:$D$2988,4,0)","v":0}]
[2567,null,{"$f":"IF('Requisição de Compra'!J2593=\"\",\"\",VLOOKUP(A2582,'Requisição de Compra'!$I$28:$J$3000,2,0))","v":""},null,null,null,null,null,null,"Falta Orçamento",null,{"$f":"VLOOKUP(A2582,'[1]Mapa de Preços'!$A$16:$D$2988,4,0)","v":0}]
[2568,null,{"$f":"IF('Requisição de Compra'!J2594=\"\",\"\",VLOOKUP(A2583,'Requisição de Compra'!$I$28:$J$3000,2,0))","v":""},null,null,null,null,null,null,"Falta Orçamento",null,{"$f":"VLOOKUP(A2583,'[1]Mapa de Preços'!$A$16:$D$2988,4,0)","v":0}]
[2569,null,{"$f":"IF('Requisição de Compra'!J2595=\"\",\"\",VLOOKUP(A2584,'Requisição de Compra'!$I$28:$J$3000,2,0))","v":""},null,null,null,null,null,null,"Falta Orçamento",null,{"$f":"VLOOKUP(A2584,'[1]Mapa de Preços'!$A$16:$D$2988,4,0)","v":0}]
[2570,null,{"$f":"IF('Requisição de Compra'!J2596=\"\",\"\",VLOOKUP(A2585,'Requisição de Compra'!$I$28:$J$3000,2,0))","v":""},null,null,null,null,null,null,"Falta Orçamento",null,{"$f":"VLOOKUP(A2585,'[1]Mapa de Preços'!$A$16:$D$2988,4,0)","v":0}]
[2571,null,{"$f":"IF('Requisição de Compra'!J2597=\"\",\"\",VLOOKUP(A2586,'Requisição de Compra'!$I$28:$J$3000,2,0))","v":""},null,null,null,null,null,null,"Falta Orçamento",null,{"$f":"VLOOKUP(A2586,'[1]Mapa de Preços'!$A$16:$D$2988,4,0)","v":0}]
[2572,null,{"$f":"IF('Requisição de Compra'!J2598=\"\",\"\",VLOOKUP(A2587,'Requisição de Compra'!$I$28:$J$3000,2,0))","v":""},null,null,null,null,null,null,"Falta Orçamento",null,{"$f":"VLOOKUP(A2587,'[1]Mapa de Preços'!$A$16:$D$2988,4,0)","v":0}]
[2573,null,{"$f":"IF('Requisição de Compra'!J2599=\"\",\"\",VLOOKUP(A2588,'Requisição de Compra'!$I$28:$J$3000,2,0))","v":""},null,null,null,null,null,null,"Falta Orçamento",null,{"$f":"VLOOKUP(A2588,'[1]Mapa de Preços'!$A$16:$D$2988,4,0)","v":0}]
[2574,null,{"$f":"IF('Requisição de Compra'!J2600=\"\",\"\",VLOOKUP(A2589,'Requisição de Compra'!$I$28:$J$3000,2,0))","v":""},null,null,null,null,null,null,"Falta Orçamento",null,{"$f":"VLOOKUP(A2589,'[1]Mapa de Preços'!$A$16:$D$2988,4,0)","v":0}]
[2575,null,{"$f":"IF('Requisição de Compra'!J2601=\"\",\"\",VLOOKUP(A2590,'Requisição de Compra'!$I$28:$J$3000,2,0))","v":""},null,null,null,null,null,null,"Falta Orçamento",null,{"$f":"VLOOKUP(A2590,'[1]Mapa de Preços'!$A$16:$D$2988,4,0)","v":0}]
[2576,null,{"$f":"IF('Requisição de Compra'!J2602=\"\",\"\",VLOOKUP(A2591,'Requisição de Compra'!$I$28:$J$3000,2,0))","v":""},null,null,null,null,null,null,"Falta Orçamento",null,{"$f":"VLOOKUP(A2591,'[1]Mapa de Preços'!$A$16:$D$2988,4,0)","v":0}]
[2577,null,{"$f":"IF('Requisição de Compra'!J2603=\"\",\"\",VLOOKUP(A2592,'Requisição de Compra'!$I$28:$J$3000,2,0))","v":""},null,null,null,null,null,null,"Falta Orçamento",null,{"$f":"VLOOKUP(A2592,'[1]Mapa de Preços'!$A$16:$D$2988,4,0)","v":0}]
[2578,null,{"$f":"IF('Requisição de Compra'!J2604=\"\",\"\",VLOOKUP(A2593,'Requisição de Compra'!$I$28:$J$3000,2,0))","v":""},null,null,null,null,null,null,"Falta Orçamento",null,{"$f":"VLOOKUP(A2593,'[1]Mapa de Preços'!$A$16:$D$2988,4,0)","v":0}]
[2579,null,{"$f":"IF('Requisição de Compra'!J2605=\"\",\"\",VLOOKUP(A2594,'Requisição de Compra'!$I$28:$J$3000,2,0))","v":""},null,null,null,null,null,null,"Falta Orçamento",null,{"$f":"VLOOKUP(A2594,'[1]Mapa de Preços'!$A$16:$D$2988,4,0)","v":0}]
[2580,null,{"$f":"IF('Requisição de Compra'!J2606=\"\",\"\",VLOOKUP(A2595,'Requisição de Compra'!$I$28:$J$3000,2,0))","v":""},null,null,null,null,null,null,"Falta Orçamento",null,{"$f":"VLOOKUP(A2595,'[1]Mapa de Preços'!$A$16:$D$2988,4,0)","v":0}]
[2581,null,{"$f":"IF('Requisição de Compra'!J2607=\"\",\"\",VLOOKUP(A2596,'Requisição de Compra'!$I$28:$J$3000,2,0))","v":""},null,null,null,null,null,null,"Falta Orçamento",null,{"$f":"VLOOKUP(A2596,'[1]Mapa de Preços'!$A$16:$D$2988,4,0)","v":0}]
[2582,null,{"$f":"IF('Requisição de Compra'!J2608=\"\",\"\",VLOOKUP(A2597,'Requisição de Compra'!$I$28:$J$3000,2,0))","v":""},null,null,null,null,null,null,"Falta Orçamento",null,{"$f":"VLOOKUP(A2597,'[1]Mapa de Preços'!$A$16:$D$2988,4,0)","v":0}]
[2583,null,{"$f":"IF('Requisição de Compra'!J2609=\"\",\"\",VLOOKUP(A2598,'Requisição de Compra'!$I$28:$J$3000,2,0))","v":""},null,null,null,null,null,null,"Falta Orçamento",null,{"$f":"VLOOKUP(A2598,'[1]Mapa de Preços'!$A$16:$D$2988,4,0)","v":0}]
[2584,null,{"$f":"IF('Requisição de Compra'!J2610=\"\",\"\",VLOOKUP(A2599,'Requisição de Compra'!$I$28:$J$3000,2,0))","v":""},null,null,null,null,null,null,"Falta Orçamento",null,{"$f":"VLOOKUP(A2599,'[1]Mapa de Preços'!$A$16:$D$2988,4,0)","v":0}]
[2585,null,{"$f":"IF('Requisição de Compra'!J2611=\"\",\"\",VLOOKUP(A2600,'Requisição de Compra'!$I$28:$J$3000,2,0))","v":""},null,null,null,null,null,null,"Falta Orçamento",null,{"$f":"VLOOKUP(A2600,'[1]Mapa de Preços'!$A$16:$D$2988,4,0)","v":0}]
[2586,null,{"$f":"IF('Requisição de Compra'!J2612=\"\",\"\",VLOOKUP(A2601,'Requisição de Compra'!$I$28:$J$3000,2,0))","v":""},null,null,null,null,null,null,"Falta Orçamento",null,{"$f":"VLOOKUP(A2601,'[1]Mapa de Preços'!$A$16:$D$2988,4,0)","v":0}]
[2587,null,{"$f":"IF('Requisição de Compra'!J2613=\"\",\"\",VLOOKUP(A2602,'Requisição de Compra'!$I$28:$J$3000,2,0))","v":""},null,null,null,null,null,null,"Falta Orçamento",null,{"$f":"VLOOKUP(A2602,'[1]Mapa de Preços'!$A$16:$D$2988,4,0)","v":0}]
[2588,null,{"$f":"IF('Requisição de Compra'!J2614=\"\",\"\",VLOOKUP(A2603,'Requisição de Compra'!$I$28:$J$3000,2,0))","v":""},null,null,null,null,null,null,"Falta Orçamento",null,{"$f":"VLOOKUP(A2603,'[1]Mapa de Preços'!$A$16:$D$2988,4,0)","v":0}]
[2589,null,{"$f":"IF('Requisição de Compra'!J2615=\"\",\"\",VLOOKUP(A2604,'Requisição de Compra'!$I$28:$J$3000,2,0))","v":""},null,null,null,null,null,null,"Falta Orçamento",null,{"$f":"VLOOKUP(A2604,'[1]Mapa de Preços'!$A$16:$D$2988,4,0)","v":0}]
[2590,null,{"$f":"IF('Requisição de Compra'!J2616=\"\",\"\",VLOOKUP(A2605,'Requisição de Compra'!$I$28:$J$3000,2,0))","v":""},null,null,null,null,null,null,"Falta Orçamento",null,{"$f":"VLOOKUP(A2605,'[1]Mapa de Preços'!$A$16:$D$2988,4,0)","v":0}]
[2591,null,{"$f":"IF('Requisição de Compra'!J2617=\"\",\"\",VLOOKUP(A2606,'Requisição de Compra'!$I$28:$J$3000,2,0))","v":""},null,null,null,null,null,null,"Falta Orçamento",null,{"$f":"VLOOKUP(A2606,'[1]Mapa de Preços'!$A$16:$D$2988,4,0)","v":0}]
[2592,null,{"$f":"IF('Requisição de Compra'!J2618=\"\",\"\",VLOOKUP(A2607,'Requisição de Compra'!$I$28:$J$3000,2,0))","v":""},null,null,null,null,null,null,"Falta Orçamento",null,{"$f":"VLOOKUP(A2607,'[1]Mapa de Preços'!$A$16:$D$2988,4,0)","v":0}]
[2593,null,{"$f":"IF('Requisição de Compra'!J2619=\"\",\"\",VLOOKUP(A2608,'Requisição de Compra'!$I$28:$J$3000,2,0))","v":""},null,null,null,null,null,null,"Falta Orçamento",null,{"$f":"VLOOKUP(A2608,'[1]Mapa de Preços'!$A$16:$D$2988,4,0)","v":0}]
[2594,null,{"$f":"IF('Requisição de Compra'!J2620=\"\",\"\",VLOOKUP(A2609,'Requisição de Compra'!$I$28:$J$3000,2,0))","v":""},null,null,null,null,null,null,"Falta Orçamento",null,{"$f":"VLOOKUP(A2609,'[1]Mapa de Preços'!$A$16:$D$2988,4,0)","v":0}]
[2595,null,{"$f":"IF('Requisição de Compra'!J2621=\"\",\"\",VLOOKUP(A2610,'Requisição de Compra'!$I$28:$J$3000,2,0))","v":""},null,null,null,null,null,null,"Falta Orçamento",null,{"$f":"VLOOKUP(A2610,'[1]Mapa de Preços'!$A$16:$D$2988,4,0)","v":0}]
[2596,null,{"$f":"IF('Requisição de Compra'!J2622=\"\",\"\",VLOOKUP(A2611,'Requisição de Compra'!$I$28:$J$3000,2,0))","v":""},null,null,null,null,null,null,"Falta Orçamento",null,{"$f":"VLOOKUP(A2611,'[1]Mapa de Preços'!$A$16:$D$2988,4,0)","v":0}]
[2597,null,{"$f":"IF('Requisição de Compra'!J2623=\"\",\"\",VLOOKUP(A2612,'Requisição de Compra'!$I$28:$J$3000,2,0))","v":""},null,null,null,null,null,null,"Falta Orçamento",null,{"$f":"VLOOKUP(A2612,'[1]Mapa de Preços'!$A$16:$D$2988,4,0)","v":0}]
[2598,null,{"$f":"IF('Requisição de Compra'!J2624=\"\",\"\",VLOOKUP(A2613,'Requisição de Compra'!$I$28:$J$3000,2,0))","v":""},null,null,null,null,null,null,"Falta Orçamento",null,{"$f":"VLOOKUP(A2613,'[1]Mapa de Preços'!$A$16:$D$2988,4,0)","v":0}]
[2599,null,{"$f":"IF('Requisição de Compra'!J2625=\"\",\"\",VLOOKUP(A2614,'Requisição de Compra'!$I$28:$J$3000,2,0))","v":""},null,null,null,null,null,null,"Falta Orçamento",null,{"$f":"VLOOKUP(A2614,'[1]Mapa de Preços'!$A$16:$D$2988,4,0)","v":0}]
[2600,null,{"$f":"IF('Requisição de Compra'!J2626=\"\",\"\",VLOOKUP(A2615,'Requisição de Compra'!$I$28:$J$3000,2,0))","v":""},null,null,null,null,null,null,"Falta Orçamento",null,{"$f":"VLOOKUP(A2615,'[1]Mapa de Preços'!$A$16:$D$2988,4,0)","v":0}]
[2601,null,{"$f":"IF('Requisição de Compra'!J2627=\"\",\"\",VLOOKUP(A2616,'Requisição de Compra'!$I$28:$J$3000,2,0))","v":""},null,null,null,null,null,null,"Falta Orçamento",null,{"$f":"VLOOKUP(A2616,'[1]Mapa de Preços'!$A$16:$D$2988,4,0)","v":0}]
[2602,null,{"$f":"IF('Requisição de Compra'!J2628=\"\",\"\",VLOOKUP(A2617,'Requisição de Compra'!$I$28:$J$3000,2,0))","v":""},null,null,null,null,null,null,"Falta Orçamento",null,{"$f":"VLOOKUP(A2617,'[1]Mapa de Preços'!$A$16:$D$2988,4,0)","v":0}]
[2603,null,{"$f":"IF('Requisição de Compra'!J2629=\"\",\"\",VLOOKUP(A2618,'Requisição de Compra'!$I$28:$J$3000,2,0))","v":""},null,null,null,null,null,null,"Falta Orçamento",null,{"$f":"VLOOKUP(A2618,'[1]Mapa de Preços'!$A$16:$D$2988,4,0)","v":0}]
[2604,null,{"$f":"IF('Requisição de Compra'!J2630=\"\",\"\",VLOOKUP(A2619,'Requisição de Compra'!$I$28:$J$3000,2,0))","v":""},null,null,null,null,null,null,"Falta Orçamento",null,{"$f":"VLOOKUP(A2619,'[1]Mapa de Preços'!$A$16:$D$2988,4,0)","v":0}]
[2605,null,{"$f":"IF('Requisição de Compra'!J2631=\"\",\"\",VLOOKUP(A2620,'Requisição de Compra'!$I$28:$J$3000,2,0))","v":""},null,null,null,null,null,null,"Falta Orçamento",null,{"$f":"VLOOKUP(A2620,'[1]Mapa de Preços'!$A$16:$D$2988,4,0)","v":0}]
[2606,null,{"$f":"IF('Requisição de Compra'!J2632=\"\",\"\",VLOOKUP(A2621,'Requisição de Compra'!$I$28:$J$3000,2,0))","v":""},null,null,null,null,null,null,"Falta Orçamento",null,{"$f":"VLOOKUP(A2621,'[1]Mapa de Preços'!$A$16:$D$2988,4,0)","v":0}]
[2607,null,{"$f":"IF('Requisição de Compra'!J2633=\"\",\"\",VLOOKUP(A2622,'Requisição de Compra'!$I$28:$J$3000,2,0))","v":""},null,null,null,null,null,null,"Falta Orçamento",null,{"$f":"VLOOKUP(A2622,'[1]Mapa de Preços'!$A$16:$D$2988,4,0)","v":0}]
[2608,null,{"$f":"IF('Requisição de Compra'!J2634=\"\",\"\",VLOOKUP(A2623,'Requisição de Compra'!$I$28:$J$3000,2,0))","v":""},null,null,null,null,null,null,"Falta Orçamento",null,{"$f":"VLOOKUP(A2623,'[1]Mapa de Preços'!$A$16:$D$2988,4,0)","v":0}]
[2609,null,{"$f":"IF('Requisição de Compra'!J2635=\"\",\"\",VLOOKUP(A2624,'Requisição de Compra'!$I$28:$J$3000,2,0))","v":""},null,null,null,null,null,null,"Falta Orçamento",null,{"$f":"VLOOKUP(A2624,'[1]Mapa de Preços'!$A$16:$D$2988,4,0)","v":0}]
[2610,null,{"$f":"IF('Requisição de Compra'!J2636=\"\",\"\",VLOOKUP(A2625,'Requisição de Compra'!$I$28:$J$3000,2,0))","v":""},null,null,null,null,null,null,"Falta Orçamento",null,{"$f":"VLOOKUP(A2625,'[1]Mapa de Preços'!$A$16:$D$2988,4,0)","v":0}]
[2611,null,{"$f":"IF('Requisição de Compra'!J2637=\"\",\"\",VLOOKUP(A2626,'Requisição de Compra'!$I$28:$J$3000,2,0))","v":""},null,null,null,null,null,null,"Falta Orçamento",null,{"$f":"VLOOKUP(A2626,'[1]Mapa de Preços'!$A$16:$D$2988,4,0)","v":0}]
[2612,null,{"$f":"IF('Requisição de Compra'!J2638=\"\",\"\",VLOOKUP(A2627,'Requisição de Compra'!$I$28:$J$3000,2,0))","v":""},null,null,null,null,null,null,"Falta Orçamento",null,{"$f":"VLOOKUP(A2627,'[1]Mapa de Preços'!$A$16:$D$2988,4,0)","v":0}]
[2613,null,{"$f":"IF('Requisição de Compra'!J2639=\"\",\"\",VLOOKUP(A2628,'Requisição de Compra'!$I$28:$J$3000,2,0))","v":""},null,null,null,null,null,null,"Falta Orçamento",null,{"$f":"VLOOKUP(A2628,'[1]Mapa de Preços'!$A$16:$D$2988,4,0)","v":0}]
[2614,null,{"$f":"IF('Requisição de Compra'!J2640=\"\",\"\",VLOOKUP(A2629,'Requisição de Compra'!$I$28:$J$3000,2,0))","v":""},null,null,null,null,null,null,"Falta Orçamento",null,{"$f":"VLOOKUP(A2629,'[1]Mapa de Preços'!$A$16:$D$2988,4,0)","v":0}]
[2615,null,{"$f":"IF('Requisição de Compra'!J2641=\"\",\"\",VLOOKUP(A2630,'Requisição de Compra'!$I$28:$J$3000,2,0))","v":""},null,null,null,null,null,null,"Falta Orçamento",null,{"$f":"VLOOKUP(A2630,'[1]Mapa de Preços'!$A$16:$D$2988,4,0)","v":0}]
[2616,null,{"$f":"IF('Requisição de Compra'!J2642=\"\",\"\",VLOOKUP(A2631,'Requisição de Compra'!$I$28:$J$3000,2,0))","v":""},null,null,null,null,null,null,"Falta Orçamento",null,{"$f":"VLOOKUP(A2631,'[1]Mapa de Preços'!$A$16:$D$2988,4,0)","v":0}]
[2617,null,{"$f":"IF('Requisição de Compra'!J2643=\"\",\"\",VLOOKUP(A2632,'Requisição de Compra'!$I$28:$J$3000,2,0))","v":""},null,null,null,null,null,null,"Falta Orçamento",null,{"$f":"VLOOKUP(A2632,'[1]Mapa de Preços'!$A$16:$D$2988,4,0)","v":0}]
[2618,null,{"$f":"IF('Requisição de Compra'!J2644=\"\",\"\",VLOOKUP(A2633,'Requisição de Compra'!$I$28:$J$3000,2,0))","v":""},null,null,null,null,null,null,"Falta Orçamento",null,{"$f":"VLOOKUP(A2633,'[1]Mapa de Preços'!$A$16:$D$2988,4,0)","v":0}]
[2619,null,{"$f":"IF('Requisição de Compra'!J2645=\"\",\"\",VLOOKUP(A2634,'Requisição de Compra'!$I$28:$J$3000,2,0))","v":""},null,null,null,null,null,null,"Falta Orçamento",null,{"$f":"VLOOKUP(A2634,'[1]Mapa de Preços'!$A$16:$D$2988,4,0)","v":0}]
[2620,null,{"$f":"IF('Requisição de Compra'!J2646=\"\",\"\",VLOOKUP(A2635,'Requisição de Compra'!$I$28:$J$3000,2,0))","v":""},null,null,null,null,null,null,"Falta Orçamento",null,{"$f":"VLOOKUP(A2635,'[1]Mapa de Preços'!$A$16:$D$2988,4,0)","v":0}]
[2621,null,{"$f":"IF('Requisição de Compra'!J2647=\"\",\"\",VLOOKUP(A2636,'Requisição de Compra'!$I$28:$J$3000,2,0))","v":""},null,null,null,null,null,null,"Falta Orçamento",null,{"$f":"VLOOKUP(A2636,'[1]Mapa de Preços'!$A$16:$D$2988,4,0)","v":0}]
[2622,null,{"$f":"IF('Requisição de Compra'!J2648=\"\",\"\",VLOOKUP(A2637,'Requisição de Compra'!$I$28:$J$3000,2,0))","v":""},null,null,null,null,null,null,"Falta Orçamento",null,{"$f":"VLOOKUP(A2637,'[1]Mapa de Preços'!$A$16:$D$2988,4,0)","v":0}]
[2623,null,{"$f":"IF('Requisição de Compra'!J2649=\"\",\"\",VLOOKUP(A2638,'Requisição de Compra'!$I$28:$J$3000,2,0))","v":""},null,null,null,null,null,null,"Falta Orçamento",null,{"$f":"VLOOKUP(A2638,'[1]Mapa de Preços'!$A$16:$D$2988,4,0)","v":0}]
[2624,null,{"$f":"IF('Requisição de Compra'!J2650=\"\",\"\",VLOOKUP(A2639,'Requisição de Compra'!$I$28:$J$3000,2,0))","v":""},null,null,null,null,null,null,"Falta Orçamento",null,{"$f":"VLOOKUP(A2639,'[1]Mapa de Preços'!$A$16:$D$2988,4,0)","v":0}]
[2625,null,{"$f":"IF('Requisição de Compra'!J2651=\"\",\"\",VLOOKUP(A2640,'Requisição de Compra'!$I$28:$J$3000,2,0))","v":""},null,null,null,null,null,null,"Falta Orçamento",null,{"$f":"VLOOKUP(A2640,'[1]Mapa de Preços'!$A$16:$D$2988,4,0)","v":0}]
[2626,null,{"$f":"IF('Requisição de Compra'!J2652=\"\",\"\",VLOOKUP(A2641,'Requisição de Compra'!$I$28:$J$3000,2,0))","v":""},null,null,null,null,null,null,{"$f":"IF(AND(D2641<>\"\",F2641<>\"\",H2641<>\"\"),AVERAGE(D2641:H2641),\"Falta Orçamento\")","v":"Falta Orçamento"},null,{"$f":"VLOOKUP(A2641,'[1]Mapa de Preços'!$A$16:$D$2988,4,0)","v":0}]
[2627,null,{"$f":"IF('Requisição de Compra'!J2653=\"\",\"\",VLOOKUP(A2642,'Requisição de Compra'!$I$28:$J$3000,2,0))","v":""},null,null,null,null,null,null,"Falta Orçamento",null,{"$f":"VLOOKUP(A2642,'[1]Mapa de Preços'!$A$16:$D$2988,4,0)","v":0}]
[2628,null,{"$f":"IF('Requisição de Compra'!J2654=\"\",\"\",VLOOKUP(A2643,'Requisição de Compra'!$I$28:$J$3000,2,0))","v":""},null,null,null,null,null,null,"Falta Orçamento",null,{"$f":"VLOOKUP(A2643,'[1]Mapa de Preços'!$A$16:$D$2988,4,0)","v":0}]
[2629,null,{"$f":"IF('Requisição de Compra'!J2655=\"\",\"\",VLOOKUP(A2644,'Requisição de Compra'!$I$28:$J$3000,2,0))","v":""},null,null,null,null,null,null,"Falta Orçamento",null,{"$f":"VLOOKUP(A2644,'[1]Mapa de Preços'!$A$16:$D$2988,4,0)","v":0}]
[2630,null,{"$f":"IF('Requisição de Compra'!J2656=\"\",\"\",VLOOKUP(A2645,'Requisição de Compra'!$I$28:$J$3000,2,0))","v":""},null,null,null,null,null,null,"Falta Orçamento",null,{"$f":"VLOOKUP(A2645,'[1]Mapa de Preços'!$A$16:$D$2988,4,0)","v":0}]
[2631,null,{"$f":"IF('Requisição de Compra'!J2657=\"\",\"\",VLOOKUP(A2646,'Requisição de Compra'!$I$28:$J$3000,2,0))","v":""},null,null,null,null,null,null,"Falta Orçamento",null,{"$f":"VLOOKUP(A2646,'[1]Mapa de Preços'!$A$16:$D$2988,4,0)","v":0}]
[2632,null,{"$f":"IF('Requisição de Compra'!J2658=\"\",\"\",VLOOKUP(A2647,'Requisição de Compra'!$I$28:$J$3000,2,0))","v":""},null,null,null,null,null,null,"Falta Orçamento",null,{"$f":"VLOOKUP(A2647,'[1]Mapa de Preços'!$A$16:$D$2988,4,0)","v":0}]
[2633,null,{"$f":"IF('Requisição de Compra'!J2659=\"\",\"\",VLOOKUP(A2648,'Requisição de Compra'!$I$28:$J$3000,2,0))","v":""},null,null,null,null,null,null,"Falta Orçamento",null,{"$f":"VLOOKUP(A2648,'[1]Mapa de Preços'!$A$16:$D$2988,4,0)","v":0}]
[2634,null,{"$f":"IF('Requisição de Compra'!J2660=\"\",\"\",VLOOKUP(A2649,'Requisição de Compra'!$I$28:$J$3000,2,0))","v":""},null,null,null,null,null,null,"Falta Orçamento",null,{"$f":"VLOOKUP(A2649,'[1]Mapa de Preços'!$A$16:$D$2988,4,0)","v":0}]
[2635,null,{"$f":"IF('Requisição de Compra'!J2661=\"\",\"\",VLOOKUP(A2650,'Requisição de Compra'!$I$28:$J$3000,2,0))","v":""},null,null,null,null,null,null,"Falta Orçamento",null,{"$f":"VLOOKUP(A2650,'[1]Mapa de Preços'!$A$16:$D$2988,4,0)","v":0}]
[2636,null,{"$f":"IF('Requisição de Compra'!J2662=\"\",\"\",VLOOKUP(A2651,'Requisição de Compra'!$I$28:$J$3000,2,0))","v":""},null,null,null,null,null,null,"Falta Orçamento",null,{"$f":"VLOOKUP(A2651,'[1]Mapa de Preços'!$A$16:$D$2988,4,0)","v":0}]
[2637,null,{"$f":"IF('Requisição de Compra'!J2663=\"\",\"\",VLOOKUP(A2652,'Requisição de Compra'!$I$28:$J$3000,2,0))","v":""},null,null,null,null,null,null,"Falta Orçamento",null,{"$f":"VLOOKUP(A2652,'[1]Mapa de Preços'!$A$16:$D$2988,4,0)","v":0}]
[2638,null,{"$f":"IF('Requisição de Compra'!J2664=\"\",\"\",VLOOKUP(A2653,'Requisição de Compra'!$I$28:$J$3000,2,0))","v":""},null,null,null,null,null,null,"Falta Orçamento",null,{"$f":"VLOOKUP(A2653,'[1]Mapa de Preços'!$A$16:$D$2988,4,0)","v":0}]
[2639,null,{"$f":"IF('Requisição de Compra'!J2665=\"\",\"\",VLOOKUP(A2654,'Requisição de Compra'!$I$28:$J$3000,2,0))","v":""},null,null,null,null,null,null,"Falta Orçamento",null,{"$f":"VLOOKUP(A2654,'[1]Mapa de Preços'!$A$16:$D$2988,4,0)","v":0}]
[2640,null,{"$f":"IF('Requisição de Compra'!J2666=\"\",\"\",VLOOKUP(A2655,'Requisição de Compra'!$I$28:$J$3000,2,0))","v":""},null,null,null,null,null,null,"Falta Orçamento",null,{"$f":"VLOOKUP(A2655,'[1]Mapa de Preços'!$A$16:$D$2988,4,0)","v":0}]
[2641,null,{"$f":"IF('Requisição de Compra'!J2667=\"\",\"\",VLOOKUP(A2656,'Requisição de Compra'!$I$28:$J$3000,2,0))","v":""},null,null,null,null,null,null,"Falta Orçamento",null,{"$f":"VLOOKUP(A2656,'[1]Mapa de Preços'!$A$16:$D$2988,4,0)","v":0}]
[2642,null,{"$f":"IF('Requisição de Compra'!J2668=\"\",\"\",VLOOKUP(A2657,'Requisição de Compra'!$I$28:$J$3000,2,0))","v":""},null,null,null,null,null,null,"Falta Orçamento",null,{"$f":"VLOOKUP(A2657,'[1]Mapa de Preços'!$A$16:$D$2988,4,0)","v":0}]
[2643,null,{"$f":"IF('Requisição de Compra'!J2669=\"\",\"\",VLOOKUP(A2658,'Requisição de Compra'!$I$28:$J$3000,2,0))","v":""},null,null,null,null,null,null,"Falta Orçamento",null,{"$f":"VLOOKUP(A2658,'[1]Mapa de Preços'!$A$16:$D$2988,4,0)","v":0}]
[2644,null,{"$f":"IF('Requisição de Compra'!J2670=\"\",\"\",VLOOKUP(A2659,'Requisição de Compra'!$I$28:$J$3000,2,0))","v":""},null,null,null,null,null,null,"Falta Orçamento",null,{"$f":"VLOOKUP(A2659,'[1]Mapa de Preços'!$A$16:$D$2988,4,0)","v":0}]
[2645,null,{"$f":"IF('Requisição de Compra'!J2671=\"\",\"\",VLOOKUP(A2660,'Requisição de Compra'!$I$28:$J$3000,2,0))","v":""},null,null,null,null,null,null,"Falta Orçamento",null,{"$f":"VLOOKUP(A2660,'[1]Mapa de Preços'!$A$16:$D$2988,4,0)","v":0}]
[2646,null,{"$f":"IF('Requisição de Compra'!J2672=\"\",\"\",VLOOKUP(A2661,'Requisição de Compra'!$I$28:$J$3000,2,0))","v":""},null,null,null,null,null,null,"Falta Orçamento",null,{"$f":"VLOOKUP(A2661,'[1]Mapa de Preços'!$A$16:$D$2988,4,0)","v":0}]
[2647,null,{"$f":"IF('Requisição de Compra'!J2673=\"\",\"\",VLOOKUP(A2662,'Requisição de Compra'!$I$28:$J$3000,2,0))","v":""},null,null,null,null,null,null,"Falta Orçamento",null,{"$f":"VLOOKUP(A2662,'[1]Mapa de Preços'!$A$16:$D$2988,4,0)","v":0}]
[2648,null,{"$f":"IF('Requisição de Compra'!J2674=\"\",\"\",VLOOKUP(A2663,'Requisição de Compra'!$I$28:$J$3000,2,0))","v":""},null,null,null,null,null,null,"Falta Orçamento",null,{"$f":"VLOOKUP(A2663,'[1]Mapa de Preços'!$A$16:$D$2988,4,0)","v":0}]
[2649,null,{"$f":"IF('Requisição de Compra'!J2675=\"\",\"\",VLOOKUP(A2664,'Requisição de Compra'!$I$28:$J$3000,2,0))","v":""},null,null,null,null,null,null,"Falta Orçamento",null,{"$f":"VLOOKUP(A2664,'[1]Mapa de Preços'!$A$16:$D$2988,4,0)","v":0}]
[2650,null,{"$f":"IF('Requisição de Compra'!J2676=\"\",\"\",VLOOKUP(A2665,'Requisição de Compra'!$I$28:$J$3000,2,0))","v":""},null,null,null,null,null,null,"Falta Orçamento",null,{"$f":"VLOOKUP(A2665,'[1]Mapa de Preços'!$A$16:$D$2988,4,0)","v":0}]
[2651,null,{"$f":"IF('Requisição de Compra'!J2677=\"\",\"\",VLOOKUP(A2666,'Requisição de Compra'!$I$28:$J$3000,2,0))","v":""},null,null,null,null,null,null,"Falta Orçamento",null,{"$f":"VLOOKUP(A2666,'[1]Mapa de Preços'!$A$16:$D$2988,4,0)","v":0}]
[2652,null,{"$f":"IF('Requisição de Compra'!J2678=\"\",\"\",VLOOKUP(A2667,'Requisição de Compra'!$I$28:$J$3000,2,0))","v":""},null,null,null,null,null,null,"Falta Orçamento",null,{"$f":"VLOOKUP(A2667,'[1]Mapa de Preços'!$A$16:$D$2988,4,0)","v":0}]
[2653,null,{"$f":"IF('Requisição de Compra'!J2679=\"\",\"\",VLOOKUP(A2668,'Requisição de Compra'!$I$28:$J$3000,2,0))","v":""},null,null,null,null,null,null,"Falta Orçamento",null,{"$f":"VLOOKUP(A2668,'[1]Mapa de Preços'!$A$16:$D$2988,4,0)","v":0}]
[2654,null,{"$f":"IF('Requisição de Compra'!J2680=\"\",\"\",VLOOKUP(A2669,'Requisição de Compra'!$I$28:$J$3000,2,0))","v":""},null,null,null,null,null,null,"Falta Orçamento",null,{"$f":"VLOOKUP(A2669,'[1]Mapa de Preços'!$A$16:$D$2988,4,0)","v":0}]
[2655,null,{"$f":"IF('Requisição de Compra'!J2681=\"\",\"\",VLOOKUP(A2670,'Requisição de Compra'!$I$28:$J$3000,2,0))","v":""},null,null,null,null,null,null,"Falta Orçamento",null,{"$f":"VLOOKUP(A2670,'[1]Mapa de Preços'!$A$16:$D$2988,4,0)","v":0}]
[2656,null,{"$f":"IF('Requisição de Compra'!J2682=\"\",\"\",VLOOKUP(A2671,'Requisição de Compra'!$I$28:$J$3000,2,0))","v":""},null,null,null,null,null,null,"Falta Orçamento",null,{"$f":"VLOOKUP(A2671,'[1]Mapa de Preços'!$A$16:$D$2988,4,0)","v":0}]
[2657,null,{"$f":"IF('Requisição de Compra'!J2683=\"\",\"\",VLOOKUP(A2672,'Requisição de Compra'!$I$28:$J$3000,2,0))","v":""},null,null,null,null,null,null,"Falta Orçamento",null,{"$f":"VLOOKUP(A2672,'[1]Mapa de Preços'!$A$16:$D$2988,4,0)","v":0}]
[2658,null,{"$f":"IF('Requisição de Compra'!J2684=\"\",\"\",VLOOKUP(A2673,'Requisição de Compra'!$I$28:$J$3000,2,0))","v":""},null,null,null,null,null,null,"Falta Orçamento",null,{"$f":"VLOOKUP(A2673,'[1]Mapa de Preços'!$A$16:$D$2988,4,0)","v":0}]
[2659,null,{"$f":"IF('Requisição de Compra'!J2685=\"\",\"\",VLOOKUP(A2674,'Requisição de Compra'!$I$28:$J$3000,2,0))","v":""},null,null,null,null,null,null,"Falta Orçamento",null,{"$f":"VLOOKUP(A2674,'[1]Mapa de Preços'!$A$16:$D$2988,4,0)","v":0}]
[2660,null,{"$f":"IF('Requisição de Compra'!J2686=\"\",\"\",VLOOKUP(A2675,'Requisição de Compra'!$I$28:$J$3000,2,0))","v":""},null,null,null,null,null,null,"Falta Orçamento",null,{"$f":"VLOOKUP(A2675,'[1]Mapa de Preços'!$A$16:$D$2988,4,0)","v":0}]
[2661,null,{"$f":"IF('Requisição de Compra'!J2687=\"\",\"\",VLOOKUP(A2676,'Requisição de Compra'!$I$28:$J$3000,2,0))","v":""},null,null,null,null,null,null,"Falta Orçamento",null,{"$f":"VLOOKUP(A2676,'[1]Mapa de Preços'!$A$16:$D$2988,4,0)","v":0}]
[2662,null,{"$f":"IF('Requisição de Compra'!J2688=\"\",\"\",VLOOKUP(A2677,'Requisição de Compra'!$I$28:$J$3000,2,0))","v":""},null,null,null,null,null,null,"Falta Orçamento",null,{"$f":"VLOOKUP(A2677,'[1]Mapa de Preços'!$A$16:$D$2988,4,0)","v":0}]
[2663,null,{"$f":"IF('Requisição de Compra'!J2689=\"\",\"\",VLOOKUP(A2678,'Requisição de Compra'!$I$28:$J$3000,2,0))","v":""},null,null,null,null,null,null,"Falta Orçamento",null,{"$f":"VLOOKUP(A2678,'[1]Mapa de Preços'!$A$16:$D$2988,4,0)","v":0}]
[2664,null,{"$f":"IF('Requisição de Compra'!J2690=\"\",\"\",VLOOKUP(A2679,'Requisição de Compra'!$I$28:$J$3000,2,0))","v":""},null,null,null,null,null,null,"Falta Orçamento",null,{"$f":"VLOOKUP(A2679,'[1]Mapa de Preços'!$A$16:$D$2988,4,0)","v":0}]
[2665,null,{"$f":"IF('Requisição de Compra'!J2691=\"\",\"\",VLOOKUP(A2680,'Requisição de Compra'!$I$28:$J$3000,2,0))","v":""},null,null,null,null,null,null,"Falta Orçamento",null,{"$f":"VLOOKUP(A2680,'[1]Mapa de Preços'!$A$16:$D$2988,4,0)","v":0}]
[2666,null,{"$f":"IF('Requisição de Compra'!J2692=\"\",\"\",VLOOKUP(A2681,'Requisição de Compra'!$I$28:$J$3000,2,0))","v":""},null,null,null,null,null,null,"Falta Orçamento",null,{"$f":"VLOOKUP(A2681,'[1]Mapa de Preços'!$A$16:$D$2988,4,0)","v":0}]
[2667,null,{"$f":"IF('Requisição de Compra'!J2693=\"\",\"\",VLOOKUP(A2682,'Requisição de Compra'!$I$28:$J$3000,2,0))","v":""},null,null,null,null,null,null,"Falta Orçamento",null,{"$f":"VLOOKUP(A2682,'[1]Mapa de Preços'!$A$16:$D$2988,4,0)","v":0}]
[2668,null,{"$f":"IF('Requisição de Compra'!J2694=\"\",\"\",VLOOKUP(A2683,'Requisição de Compra'!$I$28:$J$3000,2,0))","v":""},null,null,null,null,null,null,"Falta Orçamento",null,{"$f":"VLOOKUP(A2683,'[1]Mapa de Preços'!$A$16:$D$2988,4,0)","v":0}]
[2669,null,{"$f":"IF('Requisição de Compra'!J2695=\"\",\"\",VLOOKUP(A2684,'Requisição de Compra'!$I$28:$J$3000,2,0))","v":""},null,null,null,null,null,null,"Falta Orçamento",null,{"$f":"VLOOKUP(A2684,'[1]Mapa de Preços'!$A$16:$D$2988,4,0)","v":0}]
[2670,null,{"$f":"IF('Requisição de Compra'!J2696=\"\",\"\",VLOOKUP(A2685,'Requisição de Compra'!$I$28:$J$3000,2,0))","v":""},null,null,null,null,null,null,"Falta Orçamento",null,{"$f":"VLOOKUP(A2685,'[1]Mapa de Preços'!$A$16:$D$2988,4,0)","v":0}]
[2671,null,{"$f":"IF('Requisição de Compra'!J2697=\"\",\"\",VLOOKUP(A2686,'Requisição de Compra'!$I$28:$J$3000,2,0))","v":""},null,null,null,null,null,null,"Falta Orçamento",null,{"$f":"VLOOKUP(A2686,'[1]Mapa de Preços'!$A$16:$D$2988,4,0)","v":0}]
[2672,null,{"$f":"IF('Requisição de Compra'!J2698=\"\",\"\",VLOOKUP(A2687,'Requisição de Compra'!$I$28:$J$3000,2,0))","v":""},null,null,null,null,null,null,"Falta Orçamento",null,{"$f":"VLOOKUP(A2687,'[1]Mapa de Preços'!$A$16:$D$2988,4,0)","v":0}]
[2673,null,{"$f":"IF('Requisição de Compra'!J2699=\"\",\"\",VLOOKUP(A2688,'Requisição de Compra'!$I$28:$J$3000,2,0))","v":""},null,null,null,null,null,null,"Falta Orçamento",null,{"$f":"VLOOKUP(A2688,'[1]Mapa de Preços'!$A$16:$D$2988,4,0)","v":0}]
[2674,null,{"$f":"IF('Requisição de Compra'!J2700=\"\",\"\",VLOOKUP(A2689,'Requisição de Compra'!$I$28:$J$3000,2,0))","v":""},null,null,null,null,null,null,"Falta Orçamento",null,{"$f":"VLOOKUP(A2689,'[1]Mapa de Preços'!$A$16:$D$2988,4,0)","v":0}]
[2675,null,{"$f":"IF('Requisição de Compra'!J2701=\"\",\"\",VLOOKUP(A2690,'Requisição de Compra'!$I$28:$J$3000,2,0))","v":""},null,null,null,null,null,null,"Falta Orçamento",null,{"$f":"VLOOKUP(A2690,'[1]Mapa de Preços'!$A$16:$D$2988,4,0)","v":0}]
[2676,null,{"$f":"IF('Requisição de Compra'!J2702=\"\",\"\",VLOOKUP(A2691,'Requisição de Compra'!$I$28:$J$3000,2,0))","v":""},null,null,null,null,null,null,"Falta Orçamento",null,{"$f":"VLOOKUP(A2691,'[1]Mapa de Preços'!$A$16:$D$2988,4,0)","v":0}]
[2677,null,{"$f":"IF('Requisição de Compra'!J2703=\"\",\"\",VLOOKUP(A2692,'Requisição de Compra'!$I$28:$J$3000,2,0))","v":""},null,null,null,null,null,null,"Falta Orçamento",null,{"$f":"VLOOKUP(A2692,'[1]Mapa de Preços'!$A$16:$D$2988,4,0)","v":0}]
[2678,null,{"$f":"IF('Requisição de Compra'!J2704=\"\",\"\",VLOOKUP(A2693,'Requisição de Compra'!$I$28:$J$3000,2,0))","v":""},null,null,null,null,null,null,"Falta Orçamento",null,{"$f":"VLOOKUP(A2693,'[1]Mapa de Preços'!$A$16:$D$2988,4,0)","v":0}]
[2679,null,{"$f":"IF('Requisição de Compra'!J2705=\"\",\"\",VLOOKUP(A2694,'Requisição de Compra'!$I$28:$J$3000,2,0))","v":""},null,null,null,null,null,null,"Falta Orçamento",null,{"$f":"VLOOKUP(A2694,'[1]Mapa de Preços'!$A$16:$D$2988,4,0)","v":0}]
[2680,null,{"$f":"IF('Requisição de Compra'!J2706=\"\",\"\",VLOOKUP(A2695,'Requisição de Compra'!$I$28:$J$3000,2,0))","v":""},null,null,null,null,null,null,"Falta Orçamento",null,{"$f":"VLOOKUP(A2695,'[1]Mapa de Preços'!$A$16:$D$2988,4,0)","v":0}]
[2681,null,{"$f":"IF('Requisição de Compra'!J2707=\"\",\"\",VLOOKUP(A2696,'Requisição de Compra'!$I$28:$J$3000,2,0))","v":""},null,null,null,null,null,null,"Falta Orçamento",null,{"$f":"VLOOKUP(A2696,'[1]Mapa de Preços'!$A$16:$D$2988,4,0)","v":0}]
[2682,null,{"$f":"IF('Requisição de Compra'!J2708=\"\",\"\",VLOOKUP(A2697,'Requisição de Compra'!$I$28:$J$3000,2,0))","v":""},null,null,null,null,null,null,"Falta Orçamento",null,{"$f":"VLOOKUP(A2697,'[1]Mapa de Preços'!$A$16:$D$2988,4,0)","v":0}]
[2683,null,{"$f":"IF('Requisição de Compra'!J2709=\"\",\"\",VLOOKUP(A2698,'Requisição de Compra'!$I$28:$J$3000,2,0))","v":""},null,null,null,null,null,null,"Falta Orçamento",null,{"$f":"VLOOKUP(A2698,'[1]Mapa de Preços'!$A$16:$D$2988,4,0)","v":0}]
[2684,null,{"$f":"IF('Requisição de Compra'!J2710=\"\",\"\",VLOOKUP(A2699,'Requisição de Compra'!$I$28:$J$3000,2,0))","v":""},null,null,null,null,null,null,"Falta Orçamento",null,{"$f":"VLOOKUP(A2699,'[1]Mapa de Preços'!$A$16:$D$2988,4,0)","v":0}]
[2685,null,{"$f":"IF('Requisição de Compra'!J2711=\"\",\"\",VLOOKUP(A2700,'Requisição de Compra'!$I$28:$J$3000,2,0))","v":""},null,null,null,null,null,null,"Falta Orçamento",null,{"$f":"VLOOKUP(A2700,'[1]Mapa de Preços'!$A$16:$D$2988,4,0)","v":0}]
[2686,null,{"$f":"IF('Requisição de Compra'!J2712=\"\",\"\",VLOOKUP(A2701,'Requisição de Compra'!$I$28:$J$3000,2,0))","v":""},null,null,null,null,null,null,"Falta Orçamento",null,{"$f":"VLOOKUP(A2701,'[1]Mapa de Preços'!$A$16:$D$2988,4,0)","v":0}]
[2687,null,{"$f":"IF('Requisição de Compra'!J2713=\"\",\"\",VLOOKUP(A2702,'Requisição de Compra'!$I$28:$J$3000,2,0))","v":""},null,null,null,null,null,null,"Falta Orçamento",null,{"$f":"VLOOKUP(A2702,'[1]Mapa de Preços'!$A$16:$D$2988,4,0)","v":0}]
[2688,null,{"$f":"IF('Requisição de Compra'!J2714=\"\",\"\",VLOOKUP(A2703,'Requisição de Compra'!$I$28:$J$3000,2,0))","v":""},null,null,null,null,null,null,"Falta Orçamento",null,{"$f":"VLOOKUP(A2703,'[1]Mapa de Preços'!$A$16:$D$2988,4,0)","v":0}]
[2689,null,{"$f":"IF('Requisição de Compra'!J2715=\"\",\"\",VLOOKUP(A2704,'Requisição de Compra'!$I$28:$J$3000,2,0))","v":""},null,null,null,null,null,null,"Falta Orçamento",null,{"$f":"VLOOKUP(A2704,'[1]Mapa de Preços'!$A$16:$D$2988,4,0)","v":0}]
[2690,null,{"$f":"IF('Requisição de Compra'!J2716=\"\",\"\",VLOOKUP(A2705,'Requisição de Compra'!$I$28:$J$3000,2,0))","v":""},null,null,null,null,null,null,{"$f":"IF(AND(D2705<>\"\",F2705<>\"\",H2705<>\"\"),AVERAGE(D2705:H2705),\"Falta Orçamento\")","v":"Falta Orçamento"},null,{"$f":"VLOOKUP(A2705,'[1]Mapa de Preços'!$A$16:$D$2988,4,0)","v":0}]
[2691,null,{"$f":"IF('Requisição de Compra'!J2717=\"\",\"\",VLOOKUP(A2706,'Requisição de Compra'!$I$28:$J$3000,2,0))","v":""},null,null,null,null,null,null,"Falta Orçamento",null,{"$f":"VLOOKUP(A2706,'[1]Mapa de Preços'!$A$16:$D$2988,4,0)","v":0}]
[2692,null,{"$f":"IF('Requisição de Compra'!J2718=\"\",\"\",VLOOKUP(A2707,'Requisição de Compra'!$I$28:$J$3000,2,0))","v":""},null,null,null,null,null,null,"Falta Orçamento",null,{"$f":"VLOOKUP(A2707,'[1]Mapa de Preços'!$A$16:$D$2988,4,0)","v":0}]
[2693,null,{"$f":"IF('Requisição de Compra'!J2719=\"\",\"\",VLOOKUP(A2708,'Requisição de Compra'!$I$28:$J$3000,2,0))","v":""},null,null,null,null,null,null,"Falta Orçamento",null,{"$f":"VLOOKUP(A2708,'[1]Mapa de Preços'!$A$16:$D$2988,4,0)","v":0}]
[2694,null,{"$f":"IF('Requisição de Compra'!J2720=\"\",\"\",VLOOKUP(A2709,'Requisição de Compra'!$I$28:$J$3000,2,0))","v":""},null,null,null,null,null,null,"Falta Orçamento",null,{"$f":"VLOOKUP(A2709,'[1]Mapa de Preços'!$A$16:$D$2988,4,0)","v":0}]
[2695,null,{"$f":"IF('Requisição de Compra'!J2721=\"\",\"\",VLOOKUP(A2710,'Requisição de Compra'!$I$28:$J$3000,2,0))","v":""},null,null,null,null,null,null,"Falta Orçamento",null,{"$f":"VLOOKUP(A2710,'[1]Mapa de Preços'!$A$16:$D$2988,4,0)","v":0}]
[2696,null,{"$f":"IF('Requisição de Compra'!J2722=\"\",\"\",VLOOKUP(A2711,'Requisição de Compra'!$I$28:$J$3000,2,0))","v":""},null,null,null,null,null,null,"Falta Orçamento",null,{"$f":"VLOOKUP(A2711,'[1]Mapa de Preços'!$A$16:$D$2988,4,0)","v":0}]
[2697,null,{"$f":"IF('Requisição de Compra'!J2723=\"\",\"\",VLOOKUP(A2712,'Requisição de Compra'!$I$28:$J$3000,2,0))","v":""},null,null,null,null,null,null,"Falta Orçamento",null,{"$f":"VLOOKUP(A2712,'[1]Mapa de Preços'!$A$16:$D$2988,4,0)","v":0}]
[2698,null,{"$f":"IF('Requisição de Compra'!J2724=\"\",\"\",VLOOKUP(A2713,'Requisição de Compra'!$I$28:$J$3000,2,0))","v":""},null,null,null,null,null,null,"Falta Orçamento",null,{"$f":"VLOOKUP(A2713,'[1]Mapa de Preços'!$A$16:$D$2988,4,0)","v":0}]
[2699,null,{"$f":"IF('Requisição de Compra'!J2725=\"\",\"\",VLOOKUP(A2714,'Requisição de Compra'!$I$28:$J$3000,2,0))","v":""},null,null,null,null,null,null,"Falta Orçamento",null,{"$f":"VLOOKUP(A2714,'[1]Mapa de Preços'!$A$16:$D$2988,4,0)","v":0}]
[2700,null,{"$f":"IF('Requisição de Compra'!J2726=\"\",\"\",VLOOKUP(A2715,'Requisição de Compra'!$I$28:$J$3000,2,0))","v":""},null,null,null,null,null,null,"Falta Orçamento",null,{"$f":"VLOOKUP(A2715,'[1]Mapa de Preços'!$A$16:$D$2988,4,0)","v":0}]
[2701,null,{"$f":"IF('Requisição de Compra'!J2727=\"\",\"\",VLOOKUP(A2716,'Requisição de Compra'!$I$28:$J$3000,2,0))","v":""},null,null,null,null,null,null,"Falta Orçamento",null,{"$f":"VLOOKUP(A2716,'[1]Mapa de Preços'!$A$16:$D$2988,4,0)","v":0}]
[2702,null,{"$f":"IF('Requisição de Compra'!J2728=\"\",\"\",VLOOKUP(A2717,'Requisição de Compra'!$I$28:$J$3000,2,0))","v":""},null,null,null,null,null,null,"Falta Orçamento",null,{"$f":"VLOOKUP(A2717,'[1]Mapa de Preços'!$A$16:$D$2988,4,0)","v":0}]
[2703,null,{"$f":"IF('Requisição de Compra'!J2729=\"\",\"\",VLOOKUP(A2718,'Requisição de Compra'!$I$28:$J$3000,2,0))","v":""},null,null,null,null,null,null,"Falta Orçamento",null,{"$f":"VLOOKUP(A2718,'[1]Mapa de Preços'!$A$16:$D$2988,4,0)","v":0}]
[2704,null,{"$f":"IF('Requisição de Compra'!J2730=\"\",\"\",VLOOKUP(A2719,'Requisição de Compra'!$I$28:$J$3000,2,0))","v":""},null,null,null,null,null,null,"Falta Orçamento",null,{"$f":"VLOOKUP(A2719,'[1]Mapa de Preços'!$A$16:$D$2988,4,0)","v":0}]
[2705,null,{"$f":"IF('Requisição de Compra'!J2731=\"\",\"\",VLOOKUP(A2720,'Requisição de Compra'!$I$28:$J$3000,2,0))","v":""},null,null,null,null,null,null,"Falta Orçamento",null,{"$f":"VLOOKUP(A2720,'[1]Mapa de Preços'!$A$16:$D$2988,4,0)","v":0}]
[2706,null,{"$f":"IF('Requisição de Compra'!J2732=\"\",\"\",VLOOKUP(A2721,'Requisição de Compra'!$I$28:$J$3000,2,0))","v":""},null,null,null,null,null,null,"Falta Orçamento",null,{"$f":"VLOOKUP(A2721,'[1]Mapa de Preços'!$A$16:$D$2988,4,0)","v":0}]
[2707,null,{"$f":"IF('Requisição de Compra'!J2733=\"\",\"\",VLOOKUP(A2722,'Requisição de Compra'!$I$28:$J$3000,2,0))","v":""},null,null,null,null,null,null,"Falta Orçamento",null,{"$f":"VLOOKUP(A2722,'[1]Mapa de Preços'!$A$16:$D$2988,4,0)","v":0}]
[2708,null,{"$f":"IF('Requisição de Compra'!J2734=\"\",\"\",VLOOKUP(A2723,'Requisição de Compra'!$I$28:$J$3000,2,0))","v":""},null,null,null,null,null,null,"Falta Orçamento",null,{"$f":"VLOOKUP(A2723,'[1]Mapa de Preços'!$A$16:$D$2988,4,0)","v":0}]
[2709,null,{"$f":"IF('Requisição de Compra'!J2735=\"\",\"\",VLOOKUP(A2724,'Requisição de Compra'!$I$28:$J$3000,2,0))","v":""},null,null,null,null,null,null,"Falta Orçamento",null,{"$f":"VLOOKUP(A2724,'[1]Mapa de Preços'!$A$16:$D$2988,4,0)","v":0}]
[2710,null,{"$f":"IF('Requisição de Compra'!J2736=\"\",\"\",VLOOKUP(A2725,'Requisição de Compra'!$I$28:$J$3000,2,0))","v":""},null,null,null,null,null,null,"Falta Orçamento",null,{"$f":"VLOOKUP(A2725,'[1]Mapa de Preços'!$A$16:$D$2988,4,0)","v":0}]
[2711,null,{"$f":"IF('Requisição de Compra'!J2737=\"\",\"\",VLOOKUP(A2726,'Requisição de Compra'!$I$28:$J$3000,2,0))","v":""},null,null,null,null,null,null,"Falta Orçamento",null,{"$f":"VLOOKUP(A2726,'[1]Mapa de Preços'!$A$16:$D$2988,4,0)","v":0}]
[2712,null,{"$f":"IF('Requisição de Compra'!J2738=\"\",\"\",VLOOKUP(A2727,'Requisição de Compra'!$I$28:$J$3000,2,0))","v":""},null,null,null,null,null,null,"Falta Orçamento",null,{"$f":"VLOOKUP(A2727,'[1]Mapa de Preços'!$A$16:$D$2988,4,0)","v":0}]
[2713,null,{"$f":"IF('Requisição de Compra'!J2739=\"\",\"\",VLOOKUP(A2728,'Requisição de Compra'!$I$28:$J$3000,2,0))","v":""},null,null,null,null,null,null,"Falta Orçamento",null,{"$f":"VLOOKUP(A2728,'[1]Mapa de Preços'!$A$16:$D$2988,4,0)","v":0}]
[2714,null,{"$f":"IF('Requisição de Compra'!J2740=\"\",\"\",VLOOKUP(A2729,'Requisição de Compra'!$I$28:$J$3000,2,0))","v":""},null,null,null,null,null,null,"Falta Orçamento",null,{"$f":"VLOOKUP(A2729,'[1]Mapa de Preços'!$A$16:$D$2988,4,0)","v":0}]
[2715,null,{"$f":"IF('Requisição de Compra'!J2741=\"\",\"\",VLOOKUP(A2730,'Requisição de Compra'!$I$28:$J$3000,2,0))","v":""},null,null,null,null,null,null,"Falta Orçamento",null,{"$f":"VLOOKUP(A2730,'[1]Mapa de Preços'!$A$16:$D$2988,4,0)","v":0}]
[2716,null,{"$f":"IF('Requisição de Compra'!J2742=\"\",\"\",VLOOKUP(A2731,'Requisição de Compra'!$I$28:$J$3000,2,0))","v":""},null,null,null,null,null,null,"Falta Orçamento",null,{"$f":"VLOOKUP(A2731,'[1]Mapa de Preços'!$A$16:$D$2988,4,0)","v":0}]
[2717,null,{"$f":"IF('Requisição de Compra'!J2743=\"\",\"\",VLOOKUP(A2732,'Requisição de Compra'!$I$28:$J$3000,2,0))","v":""},null,null,null,null,null,null,"Falta Orçamento",null,{"$f":"VLOOKUP(A2732,'[1]Mapa de Preços'!$A$16:$D$2988,4,0)","v":0}]
[2718,null,{"$f":"IF('Requisição de Compra'!J2744=\"\",\"\",VLOOKUP(A2733,'Requisição de Compra'!$I$28:$J$3000,2,0))","v":""},null,null,null,null,null,null,"Falta Orçamento",null,{"$f":"VLOOKUP(A2733,'[1]Mapa de Preços'!$A$16:$D$2988,4,0)","v":0}]
[2719,null,{"$f":"IF('Requisição de Compra'!J2745=\"\",\"\",VLOOKUP(A2734,'Requisição de Compra'!$I$28:$J$3000,2,0))","v":""},null,null,null,null,null,null,"Falta Orçamento",null,{"$f":"VLOOKUP(A2734,'[1]Mapa de Preços'!$A$16:$D$2988,4,0)","v":0}]
[2720,null,{"$f":"IF('Requisição de Compra'!J2746=\"\",\"\",VLOOKUP(A2735,'Requisição de Compra'!$I$28:$J$3000,2,0))","v":""},null,null,null,null,null,null,"Falta Orçamento",null,{"$f":"VLOOKUP(A2735,'[1]Mapa de Preços'!$A$16:$D$2988,4,0)","v":0}]
[2721,null,{"$f":"IF('Requisição de Compra'!J2747=\"\",\"\",VLOOKUP(A2736,'Requisição de Compra'!$I$28:$J$3000,2,0))","v":""},null,null,null,null,null,null,"Falta Orçamento",null,{"$f":"VLOOKUP(A2736,'[1]Mapa de Preços'!$A$16:$D$2988,4,0)","v":0}]
[2722,null,{"$f":"IF('Requisição de Compra'!J2748=\"\",\"\",VLOOKUP(A2737,'Requisição de Compra'!$I$28:$J$3000,2,0))","v":""},null,null,null,null,null,null,"Falta Orçamento",null,{"$f":"VLOOKUP(A2737,'[1]Mapa de Preços'!$A$16:$D$2988,4,0)","v":0}]
[2723,null,{"$f":"IF('Requisição de Compra'!J2749=\"\",\"\",VLOOKUP(A2738,'Requisição de Compra'!$I$28:$J$3000,2,0))","v":""},null,null,null,null,null,null,"Falta Orçamento",null,{"$f":"VLOOKUP(A2738,'[1]Mapa de Preços'!$A$16:$D$2988,4,0)","v":0}]
[2724,null,{"$f":"IF('Requisição de Compra'!J2750=\"\",\"\",VLOOKUP(A2739,'Requisição de Compra'!$I$28:$J$3000,2,0))","v":""},null,null,null,null,null,null,"Falta Orçamento",null,{"$f":"VLOOKUP(A2739,'[1]Mapa de Preços'!$A$16:$D$2988,4,0)","v":0}]
[2725,null,{"$f":"IF('Requisição de Compra'!J2751=\"\",\"\",VLOOKUP(A2740,'Requisição de Compra'!$I$28:$J$3000,2,0))","v":""},null,null,null,null,null,null,"Falta Orçamento",null,{"$f":"VLOOKUP(A2740,'[1]Mapa de Preços'!$A$16:$D$2988,4,0)","v":0}]
[2726,null,{"$f":"IF('Requisição de Compra'!J2752=\"\",\"\",VLOOKUP(A2741,'Requisição de Compra'!$I$28:$J$3000,2,0))","v":""},null,null,null,null,null,null,"Falta Orçamento",null,{"$f":"VLOOKUP(A2741,'[1]Mapa de Preços'!$A$16:$D$2988,4,0)","v":0}]
[2727,null,{"$f":"IF('Requisição de Compra'!J2753=\"\",\"\",VLOOKUP(A2742,'Requisição de Compra'!$I$28:$J$3000,2,0))","v":""},null,null,null,null,null,null,"Falta Orçamento",null,{"$f":"VLOOKUP(A2742,'[1]Mapa de Preços'!$A$16:$D$2988,4,0)","v":0}]
[2728,null,{"$f":"IF('Requisição de Compra'!J2754=\"\",\"\",VLOOKUP(A2743,'Requisição de Compra'!$I$28:$J$3000,2,0))","v":""},null,null,null,null,null,null,"Falta Orçamento",null,{"$f":"VLOOKUP(A2743,'[1]Mapa de Preços'!$A$16:$D$2988,4,0)","v":0}]
[2729,null,{"$f":"IF('Requisição de Compra'!J2755=\"\",\"\",VLOOKUP(A2744,'Requisição de Compra'!$I$28:$J$3000,2,0))","v":""},null,null,null,null,null,null,"Falta Orçamento",null,{"$f":"VLOOKUP(A2744,'[1]Mapa de Preços'!$A$16:$D$2988,4,0)","v":0}]
[2730,null,{"$f":"IF('Requisição de Compra'!J2756=\"\",\"\",VLOOKUP(A2745,'Requisição de Compra'!$I$28:$J$3000,2,0))","v":""},null,null,null,null,null,null,"Falta Orçamento",null,{"$f":"VLOOKUP(A2745,'[1]Mapa de Preços'!$A$16:$D$2988,4,0)","v":0}]
[2731,null,{"$f":"IF('Requisição de Compra'!J2757=\"\",\"\",VLOOKUP(A2746,'Requisição de Compra'!$I$28:$J$3000,2,0))","v":""},null,null,null,null,null,null,"Falta Orçamento",null,{"$f":"VLOOKUP(A2746,'[1]Mapa de Preços'!$A$16:$D$2988,4,0)","v":0}]
[2732,null,{"$f":"IF('Requisição de Compra'!J2758=\"\",\"\",VLOOKUP(A2747,'Requisição de Compra'!$I$28:$J$3000,2,0))","v":""},null,null,null,null,null,null,"Falta Orçamento",null,{"$f":"VLOOKUP(A2747,'[1]Mapa de Preços'!$A$16:$D$2988,4,0)","v":0}]
[2733,null,{"$f":"IF('Requisição de Compra'!J2759=\"\",\"\",VLOOKUP(A2748,'Requisição de Compra'!$I$28:$J$3000,2,0))","v":""},null,null,null,null,null,null,"Falta Orçamento",null,{"$f":"VLOOKUP(A2748,'[1]Mapa de Preços'!$A$16:$D$2988,4,0)","v":0}]
[2734,null,{"$f":"IF('Requisição de Compra'!J2760=\"\",\"\",VLOOKUP(A2749,'Requisição de Compra'!$I$28:$J$3000,2,0))","v":""},null,null,null,null,null,null,"Falta Orçamento",null,{"$f":"VLOOKUP(A2749,'[1]Mapa de Preços'!$A$16:$D$2988,4,0)","v":0}]
[2735,null,{"$f":"IF('Requisição de Compra'!J2761=\"\",\"\",VLOOKUP(A2750,'Requisição de Compra'!$I$28:$J$3000,2,0))","v":""},null,null,null,null,null,null,"Falta Orçamento",null,{"$f":"VLOOKUP(A2750,'[1]Mapa de Preços'!$A$16:$D$2988,4,0)","v":0}]
[2736,null,{"$f":"IF('Requisição de Compra'!J2762=\"\",\"\",VLOOKUP(A2751,'Requisição de Compra'!$I$28:$J$3000,2,0))","v":""},null,null,null,null,null,null,"Falta Orçamento",null,{"$f":"VLOOKUP(A2751,'[1]Mapa de Preços'!$A$16:$D$2988,4,0)","v":0}]
[2737,null,{"$f":"IF('Requisição de Compra'!J2763=\"\",\"\",VLOOKUP(A2752,'Requisição de Compra'!$I$28:$J$3000,2,0))","v":""},null,null,null,null,null,null,"Falta Orçamento",null,{"$f":"VLOOKUP(A2752,'[1]Mapa de Preços'!$A$16:$D$2988,4,0)","v":0}]
[2738,null,{"$f":"IF('Requisição de Compra'!J2764=\"\",\"\",VLOOKUP(A2753,'Requisição de Compra'!$I$28:$J$3000,2,0))","v":""},null,null,null,null,null,null,"Falta Orçamento",null,{"$f":"VLOOKUP(A2753,'[1]Mapa de Preços'!$A$16:$D$2988,4,0)","v":0}]
[2739,null,{"$f":"IF('Requisição de Compra'!J2765=\"\",\"\",VLOOKUP(A2754,'Requisição de Compra'!$I$28:$J$3000,2,0))","v":""},null,null,null,null,null,null,"Falta Orçamento",null,{"$f":"VLOOKUP(A2754,'[1]Mapa de Preços'!$A$16:$D$2988,4,0)","v":0}]
[2740,null,{"$f":"IF('Requisição de Compra'!J2766=\"\",\"\",VLOOKUP(A2755,'Requisição de Compra'!$I$28:$J$3000,2,0))","v":""},null,null,null,null,null,null,"Falta Orçamento",null,{"$f":"VLOOKUP(A2755,'[1]Mapa de Preços'!$A$16:$D$2988,4,0)","v":0}]
[2741,null,{"$f":"IF('Requisição de Compra'!J2767=\"\",\"\",VLOOKUP(A2756,'Requisição de Compra'!$I$28:$J$3000,2,0))","v":""},null,null,null,null,null,null,"Falta Orçamento",null,{"$f":"VLOOKUP(A2756,'[1]Mapa de Preços'!$A$16:$D$2988,4,0)","v":0}]
[2742,null,{"$f":"IF('Requisição de Compra'!J2768=\"\",\"\",VLOOKUP(A2757,'Requisição de Compra'!$I$28:$J$3000,2,0))","v":""},null,null,null,null,null,null,"Falta Orçamento",null,{"$f":"VLOOKUP(A2757,'[1]Mapa de Preços'!$A$16:$D$2988,4,0)","v":0}]
[2743,null,{"$f":"IF('Requisição de Compra'!J2769=\"\",\"\",VLOOKUP(A2758,'Requisição de Compra'!$I$28:$J$3000,2,0))","v":""},null,null,null,null,null,null,"Falta Orçamento",null,{"$f":"VLOOKUP(A2758,'[1]Mapa de Preços'!$A$16:$D$2988,4,0)","v":0}]
[2744,null,{"$f":"IF('Requisição de Compra'!J2770=\"\",\"\",VLOOKUP(A2759,'Requisição de Compra'!$I$28:$J$3000,2,0))","v":""},null,null,null,null,null,null,"Falta Orçamento",null,{"$f":"VLOOKUP(A2759,'[1]Mapa de Preços'!$A$16:$D$2988,4,0)","v":0}]
[2745,null,{"$f":"IF('Requisição de Compra'!J2771=\"\",\"\",VLOOKUP(A2760,'Requisição de Compra'!$I$28:$J$3000,2,0))","v":""},null,null,null,null,null,null,"Falta Orçamento",null,{"$f":"VLOOKUP(A2760,'[1]Mapa de Preços'!$A$16:$D$2988,4,0)","v":0}]
[2746,null,{"$f":"IF('Requisição de Compra'!J2772=\"\",\"\",VLOOKUP(A2761,'Requisição de Compra'!$I$28:$J$3000,2,0))","v":""},null,null,null,null,null,null,"Falta Orçamento",null,{"$f":"VLOOKUP(A2761,'[1]Mapa de Preços'!$A$16:$D$2988,4,0)","v":0}]
[2747,null,{"$f":"IF('Requisição de Compra'!J2773=\"\",\"\",VLOOKUP(A2762,'Requisição de Compra'!$I$28:$J$3000,2,0))","v":""},null,null,null,null,null,null,"Falta Orçamento",null,{"$f":"VLOOKUP(A2762,'[1]Mapa de Preços'!$A$16:$D$2988,4,0)","v":0}]
[2748,null,{"$f":"IF('Requisição de Compra'!J2774=\"\",\"\",VLOOKUP(A2763,'Requisição de Compra'!$I$28:$J$3000,2,0))","v":""},null,null,null,null,null,null,"Falta Orçamento",null,{"$f":"VLOOKUP(A2763,'[1]Mapa de Preços'!$A$16:$D$2988,4,0)","v":0}]
[2749,null,{"$f":"IF('Requisição de Compra'!J2775=\"\",\"\",VLOOKUP(A2764,'Requisição de Compra'!$I$28:$J$3000,2,0))","v":""},null,null,null,null,null,null,"Falta Orçamento",null,{"$f":"VLOOKUP(A2764,'[1]Mapa de Preços'!$A$16:$D$2988,4,0)","v":0}]
[2750,null,{"$f":"IF('Requisição de Compra'!J2776=\"\",\"\",VLOOKUP(A2765,'Requisição de Compra'!$I$28:$J$3000,2,0))","v":""},null,null,null,null,null,null,"Falta Orçamento",null,{"$f":"VLOOKUP(A2765,'[1]Mapa de Preços'!$A$16:$D$2988,4,0)","v":0}]
[2751,null,{"$f":"IF('Requisição de Compra'!J2777=\"\",\"\",VLOOKUP(A2766,'Requisição de Compra'!$I$28:$J$3000,2,0))","v":""},null,null,null,null,null,null,"Falta Orçamento",null,{"$f":"VLOOKUP(A2766,'[1]Mapa de Preços'!$A$16:$D$2988,4,0)","v":0}]
[2752,null,{"$f":"IF('Requisição de Compra'!J2778=\"\",\"\",VLOOKUP(A2767,'Requisição de Compra'!$I$28:$J$3000,2,0))","v":""},null,null,null,null,null,null,"Falta Orçamento",null,{"$f":"VLOOKUP(A2767,'[1]Mapa de Preços'!$A$16:$D$2988,4,0)","v":0}]
[2753,null,{"$f":"IF('Requisição de Compra'!J2779=\"\",\"\",VLOOKUP(A2768,'Requisição de Compra'!$I$28:$J$3000,2,0))","v":""},null,null,null,null,null,null,"Falta Orçamento",null,{"$f":"VLOOKUP(A2768,'[1]Mapa de Preços'!$A$16:$D$2988,4,0)","v":0}]
[2754,null,{"$f":"IF('Requisição de Compra'!J2780=\"\",\"\",VLOOKUP(A2769,'Requisição de Compra'!$I$28:$J$3000,2,0))","v":""},null,null,null,null,null,null,{"$f":"IF(AND(D2769<>\"\",F2769<>\"\",H2769<>\"\"),AVERAGE(D2769:H2769),\"Falta Orçamento\")","v":"Falta Orçamento"},null,{"$f":"VLOOKUP(A2769,'[1]Mapa de Preços'!$A$16:$D$2988,4,0)","v":0}]
[2755,null,{"$f":"IF('Requisição de Compra'!J2781=\"\",\"\",VLOOKUP(A2770,'Requisição de Compra'!$I$28:$J$3000,2,0))","v":""},null,null,null,null,null,null,"Falta Orçamento",null,{"$f":"VLOOKUP(A2770,'[1]Mapa de Preços'!$A$16:$D$2988,4,0)","v":0}]
[2756,null,{"$f":"IF('Requisição de Compra'!J2782=\"\",\"\",VLOOKUP(A2771,'Requisição de Compra'!$I$28:$J$3000,2,0))","v":""},null,null,null,null,null,null,"Falta Orçamento",null,{"$f":"VLOOKUP(A2771,'[1]Mapa de Preços'!$A$16:$D$2988,4,0)","v":0}]
[2757,null,{"$f":"IF('Requisição de Compra'!J2783=\"\",\"\",VLOOKUP(A2772,'Requisição de Compra'!$I$28:$J$3000,2,0))","v":""},null,null,null,null,null,null,"Falta Orçamento",null,{"$f":"VLOOKUP(A2772,'[1]Mapa de Preços'!$A$16:$D$2988,4,0)","v":0}]
[2758,null,{"$f":"IF('Requisição de Compra'!J2784=\"\",\"\",VLOOKUP(A2773,'Requisição de Compra'!$I$28:$J$3000,2,0))","v":""},null,null,null,null,null,null,"Falta Orçamento",null,{"$f":"VLOOKUP(A2773,'[1]Mapa de Preços'!$A$16:$D$2988,4,0)","v":0}]
[2759,null,{"$f":"IF('Requisição de Compra'!J2785=\"\",\"\",VLOOKUP(A2774,'Requisição de Compra'!$I$28:$J$3000,2,0))","v":""},null,null,null,null,null,null,"Falta Orçamento",null,{"$f":"VLOOKUP(A2774,'[1]Mapa de Preços'!$A$16:$D$2988,4,0)","v":0}]
[2760,null,{"$f":"IF('Requisição de Compra'!J2786=\"\",\"\",VLOOKUP(A2775,'Requisição de Compra'!$I$28:$J$3000,2,0))","v":""},null,null,null,null,null,null,"Falta Orçamento",null,{"$f":"VLOOKUP(A2775,'[1]Mapa de Preços'!$A$16:$D$2988,4,0)","v":0}]
[2761,null,{"$f":"IF('Requisição de Compra'!J2787=\"\",\"\",VLOOKUP(A2776,'Requisição de Compra'!$I$28:$J$3000,2,0))","v":""},null,null,null,null,null,null,"Falta Orçamento",null,{"$f":"VLOOKUP(A2776,'[1]Mapa de Preços'!$A$16:$D$2988,4,0)","v":0}]
[2762,null,{"$f":"IF('Requisição de Compra'!J2788=\"\",\"\",VLOOKUP(A2777,'Requisição de Compra'!$I$28:$J$3000,2,0))","v":""},null,null,null,null,null,null,"Falta Orçamento",null,{"$f":"VLOOKUP(A2777,'[1]Mapa de Preços'!$A$16:$D$2988,4,0)","v":0}]
[2763,null,{"$f":"IF('Requisição de Compra'!J2789=\"\",\"\",VLOOKUP(A2778,'Requisição de Compra'!$I$28:$J$3000,2,0))","v":""},null,null,null,null,null,null,"Falta Orçamento",null,{"$f":"VLOOKUP(A2778,'[1]Mapa de Preços'!$A$16:$D$2988,4,0)","v":0}]
[2764,null,{"$f":"IF('Requisição de Compra'!J2790=\"\",\"\",VLOOKUP(A2779,'Requisição de Compra'!$I$28:$J$3000,2,0))","v":""},null,null,null,null,null,null,"Falta Orçamento",null,{"$f":"VLOOKUP(A2779,'[1]Mapa de Preços'!$A$16:$D$2988,4,0)","v":0}]
[2765,null,{"$f":"IF('Requisição de Compra'!J2791=\"\",\"\",VLOOKUP(A2780,'Requisição de Compra'!$I$28:$J$3000,2,0))","v":""},null,null,null,null,null,null,"Falta Orçamento",null,{"$f":"VLOOKUP(A2780,'[1]Mapa de Preços'!$A$16:$D$2988,4,0)","v":0}]
[2766,null,{"$f":"IF('Requisição de Compra'!J2792=\"\",\"\",VLOOKUP(A2781,'Requisição de Compra'!$I$28:$J$3000,2,0))","v":""},null,null,null,null,null,null,"Falta Orçamento",null,{"$f":"VLOOKUP(A2781,'[1]Mapa de Preços'!$A$16:$D$2988,4,0)","v":0}]
[2767,null,{"$f":"IF('Requisição de Compra'!J2793=\"\",\"\",VLOOKUP(A2782,'Requisição de Compra'!$I$28:$J$3000,2,0))","v":""},null,null,null,null,null,null,"Falta Orçamento",null,{"$f":"VLOOKUP(A2782,'[1]Mapa de Preços'!$A$16:$D$2988,4,0)","v":0}]
[2768,null,{"$f":"IF('Requisição de Compra'!J2794=\"\",\"\",VLOOKUP(A2783,'Requisição de Compra'!$I$28:$J$3000,2,0))","v":""},null,null,null,null,null,null,"Falta Orçamento",null,{"$f":"VLOOKUP(A2783,'[1]Mapa de Preços'!$A$16:$D$2988,4,0)","v":0}]
[2769,null,{"$f":"IF('Requisição de Compra'!J2795=\"\",\"\",VLOOKUP(A2784,'Requisição de Compra'!$I$28:$J$3000,2,0))","v":""},null,null,null,null,null,null,"Falta Orçamento",null,{"$f":"VLOOKUP(A2784,'[1]Mapa de Preços'!$A$16:$D$2988,4,0)","v":0}]
[2770,null,{"$f":"IF('Requisição de Compra'!J2796=\"\",\"\",VLOOKUP(A2785,'Requisição de Compra'!$I$28:$J$3000,2,0))","v":""},null,null,null,null,null,null,"Falta Orçamento",null,{"$f":"VLOOKUP(A2785,'[1]Mapa de Preços'!$A$16:$D$2988,4,0)","v":0}]
[2771,null,{"$f":"IF('Requisição de Compra'!J2797=\"\",\"\",VLOOKUP(A2786,'Requisição de Compra'!$I$28:$J$3000,2,0))","v":""},null,null,null,null,null,null,"Falta Orçamento",null,{"$f":"VLOOKUP(A2786,'[1]Mapa de Preços'!$A$16:$D$2988,4,0)","v":0}]
[2772,null,{"$f":"IF('Requisição de Compra'!J2798=\"\",\"\",VLOOKUP(A2787,'Requisição de Compra'!$I$28:$J$3000,2,0))","v":""},null,null,null,null,null,null,"Falta Orçamento",null,{"$f":"VLOOKUP(A2787,'[1]Mapa de Preços'!$A$16:$D$2988,4,0)","v":0}]
[2773,null,{"$f":"IF('Requisição de Compra'!J2799=\"\",\"\",VLOOKUP(A2788,'Requisição de Compra'!$I$28:$J$3000,2,0))","v":""},null,null,null,null,null,null,"Falta Orçamento",null,{"$f":"VLOOKUP(A2788,'[1]Mapa de Preços'!$A$16:$D$2988,4,0)","v":0}]
[2774,null,{"$f":"IF('Requisição de Compra'!J2800=\"\",\"\",VLOOKUP(A2789,'Requisição de Compra'!$I$28:$J$3000,2,0))","v":""},null,null,null,null,null,null,"Falta Orçamento",null,{"$f":"VLOOKUP(A2789,'[1]Mapa de Preços'!$A$16:$D$2988,4,0)","v":0}]
[2775,null,{"$f":"IF('Requisição de Compra'!J2801=\"\",\"\",VLOOKUP(A2790,'Requisição de Compra'!$I$28:$J$3000,2,0))","v":""},null,null,null,null,null,null,"Falta Orçamento",null,{"$f":"VLOOKUP(A2790,'[1]Mapa de Preços'!$A$16:$D$2988,4,0)","v":0}]
[2776,null,{"$f":"IF('Requisição de Compra'!J2802=\"\",\"\",VLOOKUP(A2791,'Requisição de Compra'!$I$28:$J$3000,2,0))","v":""},null,null,null,null,null,null,"Falta Orçamento",null,{"$f":"VLOOKUP(A2791,'[1]Mapa de Preços'!$A$16:$D$2988,4,0)","v":0}]
[2777,null,{"$f":"IF('Requisição de Compra'!J2803=\"\",\"\",VLOOKUP(A2792,'Requisição de Compra'!$I$28:$J$3000,2,0))","v":""},null,null,null,null,null,null,"Falta Orçamento",null,{"$f":"VLOOKUP(A2792,'[1]Mapa de Preços'!$A$16:$D$2988,4,0)","v":0}]
[2778,null,{"$f":"IF('Requisição de Compra'!J2804=\"\",\"\",VLOOKUP(A2793,'Requisição de Compra'!$I$28:$J$3000,2,0))","v":""},null,null,null,null,null,null,"Falta Orçamento",null,{"$f":"VLOOKUP(A2793,'[1]Mapa de Preços'!$A$16:$D$2988,4,0)","v":0}]
[2779,null,{"$f":"IF('Requisição de Compra'!J2805=\"\",\"\",VLOOKUP(A2794,'Requisição de Compra'!$I$28:$J$3000,2,0))","v":""},null,null,null,null,null,null,"Falta Orçamento",null,{"$f":"VLOOKUP(A2794,'[1]Mapa de Preços'!$A$16:$D$2988,4,0)","v":0}]
[2780,null,{"$f":"IF('Requisição de Compra'!J2806=\"\",\"\",VLOOKUP(A2795,'Requisição de Compra'!$I$28:$J$3000,2,0))","v":""},null,null,null,null,null,null,"Falta Orçamento",null,{"$f":"VLOOKUP(A2795,'[1]Mapa de Preços'!$A$16:$D$2988,4,0)","v":0}]
[2781,null,{"$f":"IF('Requisição de Compra'!J2807=\"\",\"\",VLOOKUP(A2796,'Requisição de Compra'!$I$28:$J$3000,2,0))","v":""},null,null,null,null,null,null,"Falta Orçamento",null,{"$f":"VLOOKUP(A2796,'[1]Mapa de Preços'!$A$16:$D$2988,4,0)","v":0}]
[2782,null,{"$f":"IF('Requisição de Compra'!J2808=\"\",\"\",VLOOKUP(A2797,'Requisição de Compra'!$I$28:$J$3000,2,0))","v":""},null,null,null,null,null,null,"Falta Orçamento",null,{"$f":"VLOOKUP(A2797,'[1]Mapa de Preços'!$A$16:$D$2988,4,0)","v":0}]
[2783,null,{"$f":"IF('Requisição de Compra'!J2809=\"\",\"\",VLOOKUP(A2798,'Requisição de Compra'!$I$28:$J$3000,2,0))","v":""},null,null,null,null,null,null,"Falta Orçamento",null,{"$f":"VLOOKUP(A2798,'[1]Mapa de Preços'!$A$16:$D$2988,4,0)","v":0}]
[2784,null,{"$f":"IF('Requisição de Compra'!J2810=\"\",\"\",VLOOKUP(A2799,'Requisição de Compra'!$I$28:$J$3000,2,0))","v":""},null,null,null,null,null,null,"Falta Orçamento",null,{"$f":"VLOOKUP(A2799,'[1]Mapa de Preços'!$A$16:$D$2988,4,0)","v":0}]
[2785,null,{"$f":"IF('Requisição de Compra'!J2811=\"\",\"\",VLOOKUP(A2800,'Requisição de Compra'!$I$28:$J$3000,2,0))","v":""},null,null,null,null,null,null,"Falta Orçamento",null,{"$f":"VLOOKUP(A2800,'[1]Mapa de Preços'!$A$16:$D$2988,4,0)","v":0}]
[2786,null,{"$f":"IF('Requisição de Compra'!J2812=\"\",\"\",VLOOKUP(A2801,'Requisição de Compra'!$I$28:$J$3000,2,0))","v":""},null,null,null,null,null,null,"Falta Orçamento",null,{"$f":"VLOOKUP(A2801,'[1]Mapa de Preços'!$A$16:$D$2988,4,0)","v":0}]
[2787,null,{"$f":"IF('Requisição de Compra'!J2813=\"\",\"\",VLOOKUP(A2802,'Requisição de Compra'!$I$28:$J$3000,2,0))","v":""},null,null,null,null,null,null,"Falta Orçamento",null,{"$f":"VLOOKUP(A2802,'[1]Mapa de Preços'!$A$16:$D$2988,4,0)","v":0}]
[2788,null,{"$f":"IF('Requisição de Compra'!J2814=\"\",\"\",VLOOKUP(A2803,'Requisição de Compra'!$I$28:$J$3000,2,0))","v":""},null,null,null,null,null,null,"Falta Orçamento",null,{"$f":"VLOOKUP(A2803,'[1]Mapa de Preços'!$A$16:$D$2988,4,0)","v":0}]
[2789,null,{"$f":"IF('Requisição de Compra'!J2815=\"\",\"\",VLOOKUP(A2804,'Requisição de Compra'!$I$28:$J$3000,2,0))","v":""},null,null,null,null,null,null,"Falta Orçamento",null,{"$f":"VLOOKUP(A2804,'[1]Mapa de Preços'!$A$16:$D$2988,4,0)","v":0}]
[2790,null,{"$f":"IF('Requisição de Compra'!J2816=\"\",\"\",VLOOKUP(A2805,'Requisição de Compra'!$I$28:$J$3000,2,0))","v":""},null,null,null,null,null,null,"Falta Orçamento",null,{"$f":"VLOOKUP(A2805,'[1]Mapa de Preços'!$A$16:$D$2988,4,0)","v":0}]
[2791,null,{"$f":"IF('Requisição de Compra'!J2817=\"\",\"\",VLOOKUP(A2806,'Requisição de Compra'!$I$28:$J$3000,2,0))","v":""},null,null,null,null,null,null,"Falta Orçamento",null,{"$f":"VLOOKUP(A2806,'[1]Mapa de Preços'!$A$16:$D$2988,4,0)","v":0}]
[2792,null,{"$f":"IF('Requisição de Compra'!J2818=\"\",\"\",VLOOKUP(A2807,'Requisição de Compra'!$I$28:$J$3000,2,0))","v":""},null,null,null,null,null,null,"Falta Orçamento",null,{"$f":"VLOOKUP(A2807,'[1]Mapa de Preços'!$A$16:$D$2988,4,0)","v":0}]
[2793,null,{"$f":"IF('Requisição de Compra'!J2819=\"\",\"\",VLOOKUP(A2808,'Requisição de Compra'!$I$28:$J$3000,2,0))","v":""},null,null,null,null,null,null,"Falta Orçamento",null,{"$f":"VLOOKUP(A2808,'[1]Mapa de Preços'!$A$16:$D$2988,4,0)","v":0}]
[2794,null,{"$f":"IF('Requisição de Compra'!J2820=\"\",\"\",VLOOKUP(A2809,'Requisição de Compra'!$I$28:$J$3000,2,0))","v":""},null,null,null,null,null,null,"Falta Orçamento",null,{"$f":"VLOOKUP(A2809,'[1]Mapa de Preços'!$A$16:$D$2988,4,0)","v":0}]
[2795,null,{"$f":"IF('Requisição de Compra'!J2821=\"\",\"\",VLOOKUP(A2810,'Requisição de Compra'!$I$28:$J$3000,2,0))","v":""},null,null,null,null,null,null,"Falta Orçamento",null,{"$f":"VLOOKUP(A2810,'[1]Mapa de Preços'!$A$16:$D$2988,4,0)","v":0}]
[2796,null,{"$f":"IF('Requisição de Compra'!J2822=\"\",\"\",VLOOKUP(A2811,'Requisição de Compra'!$I$28:$J$3000,2,0))","v":""},null,null,null,null,null,null,"Falta Orçamento",null,{"$f":"VLOOKUP(A2811,'[1]Mapa de Preços'!$A$16:$D$2988,4,0)","v":0}]
[2797,null,{"$f":"IF('Requisição de Compra'!J2823=\"\",\"\",VLOOKUP(A2812,'Requisição de Compra'!$I$28:$J$3000,2,0))","v":""},null,null,null,null,null,null,"Falta Orçamento",null,{"$f":"VLOOKUP(A2812,'[1]Mapa de Preços'!$A$16:$D$2988,4,0)","v":0}]
[2798,null,{"$f":"IF('Requisição de Compra'!J2824=\"\",\"\",VLOOKUP(A2813,'Requisição de Compra'!$I$28:$J$3000,2,0))","v":""},null,null,null,null,null,null,"Falta Orçamento",null,{"$f":"VLOOKUP(A2813,'[1]Mapa de Preços'!$A$16:$D$2988,4,0)","v":0}]
[2799,null,{"$f":"IF('Requisição de Compra'!J2825=\"\",\"\",VLOOKUP(A2814,'Requisição de Compra'!$I$28:$J$3000,2,0))","v":""},null,null,null,null,null,null,"Falta Orçamento",null,{"$f":"VLOOKUP(A2814,'[1]Mapa de Preços'!$A$16:$D$2988,4,0)","v":0}]
[2800,null,{"$f":"IF('Requisição de Compra'!J2826=\"\",\"\",VLOOKUP(A2815,'Requisição de Compra'!$I$28:$J$3000,2,0))","v":""},null,null,null,null,null,null,"Falta Orçamento",null,{"$f":"VLOOKUP(A2815,'[1]Mapa de Preços'!$A$16:$D$2988,4,0)","v":0}]
[2801,null,{"$f":"IF('Requisição de Compra'!J2827=\"\",\"\",VLOOKUP(A2816,'Requisição de Compra'!$I$28:$J$3000,2,0))","v":""},null,null,null,null,null,null,"Falta Orçamento",null,{"$f":"VLOOKUP(A2816,'[1]Mapa de Preços'!$A$16:$D$2988,4,0)","v":0}]
[2802,null,{"$f":"IF('Requisição de Compra'!J2828=\"\",\"\",VLOOKUP(A2817,'Requisição de Compra'!$I$28:$J$3000,2,0))","v":""},null,null,null,null,null,null,"Falta Orçamento",null,{"$f":"VLOOKUP(A2817,'[1]Mapa de Preços'!$A$16:$D$2988,4,0)","v":0}]
[2803,null,{"$f":"IF('Requisição de Compra'!J2829=\"\",\"\",VLOOKUP(A2818,'Requisição de Compra'!$I$28:$J$3000,2,0))","v":""},null,null,null,null,null,null,"Falta Orçamento",null,{"$f":"VLOOKUP(A2818,'[1]Mapa de Preços'!$A$16:$D$2988,4,0)","v":0}]
[2804,null,{"$f":"IF('Requisição de Compra'!J2830=\"\",\"\",VLOOKUP(A2819,'Requisição de Compra'!$I$28:$J$3000,2,0))","v":""},null,null,null,null,null,null,"Falta Orçamento",null,{"$f":"VLOOKUP(A2819,'[1]Mapa de Preços'!$A$16:$D$2988,4,0)","v":0}]
[2805,null,{"$f":"IF('Requisição de Compra'!J2831=\"\",\"\",VLOOKUP(A2820,'Requisição de Compra'!$I$28:$J$3000,2,0))","v":""},null,null,null,null,null,null,"Falta Orçamento",null,{"$f":"VLOOKUP(A2820,'[1]Mapa de Preços'!$A$16:$D$2988,4,0)","v":0}]
[2806,null,{"$f":"IF('Requisição de Compra'!J2832=\"\",\"\",VLOOKUP(A2821,'Requisição de Compra'!$I$28:$J$3000,2,0))","v":""},null,null,null,null,null,null,"Falta Orçamento",null,{"$f":"VLOOKUP(A2821,'[1]Mapa de Preços'!$A$16:$D$2988,4,0)","v":0}]
[2807,null,{"$f":"IF('Requisição de Compra'!J2833=\"\",\"\",VLOOKUP(A2822,'Requisição de Compra'!$I$28:$J$3000,2,0))","v":""},null,null,null,null,null,null,"Falta Orçamento",null,{"$f":"VLOOKUP(A2822,'[1]Mapa de Preços'!$A$16:$D$2988,4,0)","v":0}]
[2808,null,{"$f":"IF('Requisição de Compra'!J2834=\"\",\"\",VLOOKUP(A2823,'Requisição de Compra'!$I$28:$J$3000,2,0))","v":""},null,null,null,null,null,null,"Falta Orçamento",null,{"$f":"VLOOKUP(A2823,'[1]Mapa de Preços'!$A$16:$D$2988,4,0)","v":0}]
[2809,null,{"$f":"IF('Requisição de Compra'!J2835=\"\",\"\",VLOOKUP(A2824,'Requisição de Compra'!$I$28:$J$3000,2,0))","v":""},null,null,null,null,null,null,"Falta Orçamento",null,{"$f":"VLOOKUP(A2824,'[1]Mapa de Preços'!$A$16:$D$2988,4,0)","v":0}]
[2810,null,{"$f":"IF('Requisição de Compra'!J2836=\"\",\"\",VLOOKUP(A2825,'Requisição de Compra'!$I$28:$J$3000,2,0))","v":""},null,null,null,null,null,null,"Falta Orçamento",null,{"$f":"VLOOKUP(A2825,'[1]Mapa de Preços'!$A$16:$D$2988,4,0)","v":0}]
[2811,null,{"$f":"IF('Requisição de Compra'!J2837=\"\",\"\",VLOOKUP(A2826,'Requisição de Compra'!$I$28:$J$3000,2,0))","v":""},null,null,null,null,null,null,"Falta Orçamento",null,{"$f":"VLOOKUP(A2826,'[1]Mapa de Preços'!$A$16:$D$2988,4,0)","v":0}]
[2812,null,{"$f":"IF('Requisição de Compra'!J2838=\"\",\"\",VLOOKUP(A2827,'Requisição de Compra'!$I$28:$J$3000,2,0))","v":""},null,null,null,null,null,null,"Falta Orçamento",null,{"$f":"VLOOKUP(A2827,'[1]Mapa de Preços'!$A$16:$D$2988,4,0)","v":0}]
[2813,null,{"$f":"IF('Requisição de Compra'!J2839=\"\",\"\",VLOOKUP(A2828,'Requisição de Compra'!$I$28:$J$3000,2,0))","v":""},null,null,null,null,null,null,"Falta Orçamento",null,{"$f":"VLOOKUP(A2828,'[1]Mapa de Preços'!$A$16:$D$2988,4,0)","v":0}]
[2814,null,{"$f":"IF('Requisição de Compra'!J2840=\"\",\"\",VLOOKUP(A2829,'Requisição de Compra'!$I$28:$J$3000,2,0))","v":""},null,null,null,null,null,null,"Falta Orçamento",null,{"$f":"VLOOKUP(A2829,'[1]Mapa de Preços'!$A$16:$D$2988,4,0)","v":0}]
[2815,null,{"$f":"IF('Requisição de Compra'!J2841=\"\",\"\",VLOOKUP(A2830,'Requisição de Compra'!$I$28:$J$3000,2,0))","v":""},null,null,null,null,null,null,"Falta Orçamento",null,{"$f":"VLOOKUP(A2830,'[1]Mapa de Preços'!$A$16:$D$2988,4,0)","v":0}]
[2816,null,{"$f":"IF('Requisição de Compra'!J2842=\"\",\"\",VLOOKUP(A2831,'Requisição de Compra'!$I$28:$J$3000,2,0))","v":""},null,null,null,null,null,null,"Falta Orçamento",null,{"$f":"VLOOKUP(A2831,'[1]Mapa de Preços'!$A$16:$D$2988,4,0)","v":0}]
[2817,null,{"$f":"IF('Requisição de Compra'!J2843=\"\",\"\",VLOOKUP(A2832,'Requisição de Compra'!$I$28:$J$3000,2,0))","v":""},null,null,null,null,null,null,"Falta Orçamento",null,{"$f":"VLOOKUP(A2832,'[1]Mapa de Preços'!$A$16:$D$2988,4,0)","v":0}]
[2818,null,{"$f":"IF('Requisição de Compra'!J2844=\"\",\"\",VLOOKUP(A2833,'Requisição de Compra'!$I$28:$J$3000,2,0))","v":""},null,null,null,null,null,null,{"$f":"IF(AND(D2833<>\"\",F2833<>\"\",H2833<>\"\"),AVERAGE(D2833:H2833),\"Falta Orçamento\")","v":"Falta Orçamento"},null,{"$f":"VLOOKUP(A2833,'[1]Mapa de Preços'!$A$16:$D$2988,4,0)","v":0}]
[2819,null,{"$f":"IF('Requisição de Compra'!J2845=\"\",\"\",VLOOKUP(A2834,'Requisição de Compra'!$I$28:$J$3000,2,0))","v":""},null,null,null,null,null,null,"Falta Orçamento",null,{"$f":"VLOOKUP(A2834,'[1]Mapa de Preços'!$A$16:$D$2988,4,0)","v":0}]
[2820,null,{"$f":"IF('Requisição de Compra'!J2846=\"\",\"\",VLOOKUP(A2835,'Requisição de Compra'!$I$28:$J$3000,2,0))","v":""},null,null,null,null,null,null,"Falta Orçamento",null,{"$f":"VLOOKUP(A2835,'[1]Mapa de Preços'!$A$16:$D$2988,4,0)","v":0}]
[2821,null,{"$f":"IF('Requisição de Compra'!J2847=\"\",\"\",VLOOKUP(A2836,'Requisição de Compra'!$I$28:$J$3000,2,0))","v":""},null,null,null,null,null,null,"Falta Orçamento",null,{"$f":"VLOOKUP(A2836,'[1]Mapa de Preços'!$A$16:$D$2988,4,0)","v":0}]
[2822,null,{"$f":"IF('Requisição de Compra'!J2848=\"\",\"\",VLOOKUP(A2837,'Requisição de Compra'!$I$28:$J$3000,2,0))","v":""},null,null,null,null,null,null,"Falta Orçamento",null,{"$f":"VLOOKUP(A2837,'[1]Mapa de Preços'!$A$16:$D$2988,4,0)","v":0}]
[2823,null,{"$f":"IF('Requisição de Compra'!J2849=\"\",\"\",VLOOKUP(A2838,'Requisição de Compra'!$I$28:$J$3000,2,0))","v":""},null,null,null,null,null,null,"Falta Orçamento",null,{"$f":"VLOOKUP(A2838,'[1]Mapa de Preços'!$A$16:$D$2988,4,0)","v":0}]
[2824,null,{"$f":"IF('Requisição de Compra'!J2850=\"\",\"\",VLOOKUP(A2839,'Requisição de Compra'!$I$28:$J$3000,2,0))","v":""},null,null,null,null,null,null,"Falta Orçamento",null,{"$f":"VLOOKUP(A2839,'[1]Mapa de Preços'!$A$16:$D$2988,4,0)","v":0}]
[2825,null,{"$f":"IF('Requisição de Compra'!J2851=\"\",\"\",VLOOKUP(A2840,'Requisição de Compra'!$I$28:$J$3000,2,0))","v":""},null,null,null,null,null,null,"Falta Orçamento",null,{"$f":"VLOOKUP(A2840,'[1]Mapa de Preços'!$A$16:$D$2988,4,0)","v":0}]
[2826,null,{"$f":"IF('Requisição de Compra'!J2852=\"\",\"\",VLOOKUP(A2841,'Requisição de Compra'!$I$28:$J$3000,2,0))","v":""},null,null,null,null,null,null,"Falta Orçamento",null,{"$f":"VLOOKUP(A2841,'[1]Mapa de Preços'!$A$16:$D$2988,4,0)","v":0}]
[2827,null,{"$f":"IF('Requisição de Compra'!J2853=\"\",\"\",VLOOKUP(A2842,'Requisição de Compra'!$I$28:$J$3000,2,0))","v":""},null,null,null,null,null,null,"Falta Orçamento",null,{"$f":"VLOOKUP(A2842,'[1]Mapa de Preços'!$A$16:$D$2988,4,0)","v":0}]
[2828,null,{"$f":"IF('Requisição de Compra'!J2854=\"\",\"\",VLOOKUP(A2843,'Requisição de Compra'!$I$28:$J$3000,2,0))","v":""},null,null,null,null,null,null,"Falta Orçamento",null,{"$f":"VLOOKUP(A2843,'[1]Mapa de Preços'!$A$16:$D$2988,4,0)","v":0}]
[2829,null,{"$f":"IF('Requisição de Compra'!J2855=\"\",\"\",VLOOKUP(A2844,'Requisição de Compra'!$I$28:$J$3000,2,0))","v":""},null,null,null,null,null,null,"Falta Orçamento",null,{"$f":"VLOOKUP(A2844,'[1]Mapa de Preços'!$A$16:$D$2988,4,0)","v":0}]
[2830,null,{"$f":"IF('Requisição de Compra'!J2856=\"\",\"\",VLOOKUP(A2845,'Requisição de Compra'!$I$28:$J$3000,2,0))","v":""},null,null,null,null,null,null,"Falta Orçamento",null,{"$f":"VLOOKUP(A2845,'[1]Mapa de Preços'!$A$16:$D$2988,4,0)","v":0}]
[2831,null,{"$f":"IF('Requisição de Compra'!J2857=\"\",\"\",VLOOKUP(A2846,'Requisição de Compra'!$I$28:$J$3000,2,0))","v":""},null,null,null,null,null,null,"Falta Orçamento",null,{"$f":"VLOOKUP(A2846,'[1]Mapa de Preços'!$A$16:$D$2988,4,0)","v":0}]
[2832,null,{"$f":"IF('Requisição de Compra'!J2858=\"\",\"\",VLOOKUP(A2847,'Requisição de Compra'!$I$28:$J$3000,2,0))","v":""},null,null,null,null,null,null,"Falta Orçamento",null,{"$f":"VLOOKUP(A2847,'[1]Mapa de Preços'!$A$16:$D$2988,4,0)","v":0}]
[2833,null,{"$f":"IF('Requisição de Compra'!J2859=\"\",\"\",VLOOKUP(A2848,'Requisição de Compra'!$I$28:$J$3000,2,0))","v":""},null,null,null,null,null,null,"Falta Orçamento",null,{"$f":"VLOOKUP(A2848,'[1]Mapa de Preços'!$A$16:$D$2988,4,0)","v":0}]
[2834,null,{"$f":"IF('Requisição de Compra'!J2860=\"\",\"\",VLOOKUP(A2849,'Requisição de Compra'!$I$28:$J$3000,2,0))","v":""},null,null,null,null,null,null,"Falta Orçamento",null,{"$f":"VLOOKUP(A2849,'[1]Mapa de Preços'!$A$16:$D$2988,4,0)","v":0}]
[2835,null,{"$f":"IF('Requisição de Compra'!J2861=\"\",\"\",VLOOKUP(A2850,'Requisição de Compra'!$I$28:$J$3000,2,0))","v":""},null,null,null,null,null,null,"Falta Orçamento",null,{"$f":"VLOOKUP(A2850,'[1]Mapa de Preços'!$A$16:$D$2988,4,0)","v":0}]
[2836,null,{"$f":"IF('Requisição de Compra'!J2862=\"\",\"\",VLOOKUP(A2851,'Requisição de Compra'!$I$28:$J$3000,2,0))","v":""},null,null,null,null,null,null,"Falta Orçamento",null,{"$f":"VLOOKUP(A2851,'[1]Mapa de Preços'!$A$16:$D$2988,4,0)","v":0}]
[2837,null,{"$f":"IF('Requisição de Compra'!J2863=\"\",\"\",VLOOKUP(A2852,'Requisição de Compra'!$I$28:$J$3000,2,0))","v":""},null,null,null,null,null,null,"Falta Orçamento",null,{"$f":"VLOOKUP(A2852,'[1]Mapa de Preços'!$A$16:$D$2988,4,0)","v":0}]
[2838,null,{"$f":"IF('Requisição de Compra'!J2864=\"\",\"\",VLOOKUP(A2853,'Requisição de Compra'!$I$28:$J$3000,2,0))","v":""},null,null,null,null,null,null,"Falta Orçamento",null,{"$f":"VLOOKUP(A2853,'[1]Mapa de Preços'!$A$16:$D$2988,4,0)","v":0}]
[2839,null,{"$f":"IF('Requisição de Compra'!J2865=\"\",\"\",VLOOKUP(A2854,'Requisição de Compra'!$I$28:$J$3000,2,0))","v":""},null,null,null,null,null,null,"Falta Orçamento",null,{"$f":"VLOOKUP(A2854,'[1]Mapa de Preços'!$A$16:$D$2988,4,0)","v":0}]
[2840,null,{"$f":"IF('Requisição de Compra'!J2866=\"\",\"\",VLOOKUP(A2855,'Requisição de Compra'!$I$28:$J$3000,2,0))","v":""},null,null,null,null,null,null,"Falta Orçamento",null,{"$f":"VLOOKUP(A2855,'[1]Mapa de Preços'!$A$16:$D$2988,4,0)","v":0}]
[2841,null,{"$f":"IF('Requisição de Compra'!J2867=\"\",\"\",VLOOKUP(A2856,'Requisição de Compra'!$I$28:$J$3000,2,0))","v":""},null,null,null,null,null,null,"Falta Orçamento",null,{"$f":"VLOOKUP(A2856,'[1]Mapa de Preços'!$A$16:$D$2988,4,0)","v":0}]
[2842,null,{"$f":"IF('Requisição de Compra'!J2868=\"\",\"\",VLOOKUP(A2857,'Requisição de Compra'!$I$28:$J$3000,2,0))","v":""},null,null,null,null,null,null,"Falta Orçamento",null,{"$f":"VLOOKUP(A2857,'[1]Mapa de Preços'!$A$16:$D$2988,4,0)","v":0}]
[2843,null,{"$f":"IF('Requisição de Compra'!J2869=\"\",\"\",VLOOKUP(A2858,'Requisição de Compra'!$I$28:$J$3000,2,0))","v":""},null,null,null,null,null,null,"Falta Orçamento",null,{"$f":"VLOOKUP(A2858,'[1]Mapa de Preços'!$A$16:$D$2988,4,0)","v":0}]
[2844,null,{"$f":"IF('Requisição de Compra'!J2870=\"\",\"\",VLOOKUP(A2859,'Requisição de Compra'!$I$28:$J$3000,2,0))","v":""},null,null,null,null,null,null,"Falta Orçamento",null,{"$f":"VLOOKUP(A2859,'[1]Mapa de Preços'!$A$16:$D$2988,4,0)","v":0}]
[2845,null,{"$f":"IF('Requisição de Compra'!J2871=\"\",\"\",VLOOKUP(A2860,'Requisição de Compra'!$I$28:$J$3000,2,0))","v":""},null,null,null,null,null,null,"Falta Orçamento",null,{"$f":"VLOOKUP(A2860,'[1]Mapa de Preços'!$A$16:$D$2988,4,0)","v":0}]
[2846,null,{"$f":"IF('Requisição de Compra'!J2872=\"\",\"\",VLOOKUP(A2861,'Requisição de Compra'!$I$28:$J$3000,2,0))","v":""},null,null,null,null,null,null,"Falta Orçamento",null,{"$f":"VLOOKUP(A2861,'[1]Mapa de Preços'!$A$16:$D$2988,4,0)","v":0}]
[2847,null,{"$f":"IF('Requisição de Compra'!J2873=\"\",\"\",VLOOKUP(A2862,'Requisição de Compra'!$I$28:$J$3000,2,0))","v":""},null,null,null,null,null,null,"Falta Orçamento",null,{"$f":"VLOOKUP(A2862,'[1]Mapa de Preços'!$A$16:$D$2988,4,0)","v":0}]
[2848,null,{"$f":"IF('Requisição de Compra'!J2874=\"\",\"\",VLOOKUP(A2863,'Requisição de Compra'!$I$28:$J$3000,2,0))","v":""},null,null,null,null,null,null,"Falta Orçamento",null,{"$f":"VLOOKUP(A2863,'[1]Mapa de Preços'!$A$16:$D$2988,4,0)","v":0}]
[2849,null,{"$f":"IF('Requisição de Compra'!J2875=\"\",\"\",VLOOKUP(A2864,'Requisição de Compra'!$I$28:$J$3000,2,0))","v":""},null,null,null,null,null,null,"Falta Orçamento",null,{"$f":"VLOOKUP(A2864,'[1]Mapa de Preços'!$A$16:$D$2988,4,0)","v":0}]
[2850,null,{"$f":"IF('Requisição de Compra'!J2876=\"\",\"\",VLOOKUP(A2865,'Requisição de Compra'!$I$28:$J$3000,2,0))","v":""},null,null,null,null,null,null,"Falta Orçamento",null,{"$f":"VLOOKUP(A2865,'[1]Mapa de Preços'!$A$16:$D$2988,4,0)","v":0}]
[2851,null,{"$f":"IF('Requisição de Compra'!J2877=\"\",\"\",VLOOKUP(A2866,'Requisição de Compra'!$I$28:$J$3000,2,0))","v":""},null,null,null,null,null,null,"Falta Orçamento",null,{"$f":"VLOOKUP(A2866,'[1]Mapa de Preços'!$A$16:$D$2988,4,0)","v":0}]
[2852,null,{"$f":"IF('Requisição de Compra'!J2878=\"\",\"\",VLOOKUP(A2867,'Requisição de Compra'!$I$28:$J$3000,2,0))","v":""},null,null,null,null,null,null,"Falta Orçamento",null,{"$f":"VLOOKUP(A2867,'[1]Mapa de Preços'!$A$16:$D$2988,4,0)","v":0}]
[2853,null,{"$f":"IF('Requisição de Compra'!J2879=\"\",\"\",VLOOKUP(A2868,'Requisição de Compra'!$I$28:$J$3000,2,0))","v":""},null,null,null,null,null,null,"Falta Orçamento",null,{"$f":"VLOOKUP(A2868,'[1]Mapa de Preços'!$A$16:$D$2988,4,0)","v":0}]
[2854,null,{"$f":"IF('Requisição de Compra'!J2880=\"\",\"\",VLOOKUP(A2869,'Requisição de Compra'!$I$28:$J$3000,2,0))","v":""},null,null,null,null,null,null,"Falta Orçamento",null,{"$f":"VLOOKUP(A2869,'[1]Mapa de Preços'!$A$16:$D$2988,4,0)","v":0}]
[2855,null,{"$f":"IF('Requisição de Compra'!J2881=\"\",\"\",VLOOKUP(A2870,'Requisição de Compra'!$I$28:$J$3000,2,0))","v":""},null,null,null,null,null,null,"Falta Orçamento",null,{"$f":"VLOOKUP(A2870,'[1]Mapa de Preços'!$A$16:$D$2988,4,0)","v":0}]
[2856,null,{"$f":"IF('Requisição de Compra'!J2882=\"\",\"\",VLOOKUP(A2871,'Requisição de Compra'!$I$28:$J$3000,2,0))","v":""},null,null,null,null,null,null,"Falta Orçamento",null,{"$f":"VLOOKUP(A2871,'[1]Mapa de Preços'!$A$16:$D$2988,4,0)","v":0}]
[2857,null,{"$f":"IF('Requisição de Compra'!J2883=\"\",\"\",VLOOKUP(A2872,'Requisição de Compra'!$I$28:$J$3000,2,0))","v":""},null,null,null,null,null,null,"Falta Orçamento",null,{"$f":"VLOOKUP(A2872,'[1]Mapa de Preços'!$A$16:$D$2988,4,0)","v":0}]
[2858,null,{"$f":"IF('Requisição de Compra'!J2884=\"\",\"\",VLOOKUP(A2873,'Requisição de Compra'!$I$28:$J$3000,2,0))","v":""},null,null,null,null,null,null,"Falta Orçamento",null,{"$f":"VLOOKUP(A2873,'[1]Mapa de Preços'!$A$16:$D$2988,4,0)","v":0}]
[2859,null,{"$f":"IF('Requisição de Compra'!J2885=\"\",\"\",VLOOKUP(A2874,'Requisição de Compra'!$I$28:$J$3000,2,0))","v":""},null,null,null,null,null,null,"Falta Orçamento",null,{"$f":"VLOOKUP(A2874,'[1]Mapa de Preços'!$A$16:$D$2988,4,0)","v":0}]
[2860,null,{"$f":"IF('Requisição de Compra'!J2886=\"\",\"\",VLOOKUP(A2875,'Requisição de Compra'!$I$28:$J$3000,2,0))","v":""},null,null,null,null,null,null,"Falta Orçamento",null,{"$f":"VLOOKUP(A2875,'[1]Mapa de Preços'!$A$16:$D$2988,4,0)","v":0}]
[2861,null,{"$f":"IF('Requisição de Compra'!J2887=\"\",\"\",VLOOKUP(A2876,'Requisição de Compra'!$I$28:$J$3000,2,0))","v":""},null,null,null,null,null,null,"Falta Orçamento",null,{"$f":"VLOOKUP(A2876,'[1]Mapa de Preços'!$A$16:$D$2988,4,0)","v":0}]
[2862,null,{"$f":"IF('Requisição de Compra'!J2888=\"\",\"\",VLOOKUP(A2877,'Requisição de Compra'!$I$28:$J$3000,2,0))","v":""},null,null,null,null,null,null,"Falta Orçamento",null,{"$f":"VLOOKUP(A2877,'[1]Mapa de Preços'!$A$16:$D$2988,4,0)","v":0}]
[2863,null,{"$f":"IF('Requisição de Compra'!J2889=\"\",\"\",VLOOKUP(A2878,'Requisição de Compra'!$I$28:$J$3000,2,0))","v":""},null,null,null,null,null,null,"Falta Orçamento",null,{"$f":"VLOOKUP(A2878,'[1]Mapa de Preços'!$A$16:$D$2988,4,0)","v":0}]
[2864,null,{"$f":"IF('Requisição de Compra'!J2890=\"\",\"\",VLOOKUP(A2879,'Requisição de Compra'!$I$28:$J$3000,2,0))","v":""},null,null,null,null,null,null,"Falta Orçamento",null,{"$f":"VLOOKUP(A2879,'[1]Mapa de Preços'!$A$16:$D$2988,4,0)","v":0}]
[2865,null,{"$f":"IF('Requisição de Compra'!J2891=\"\",\"\",VLOOKUP(A2880,'Requisição de Compra'!$I$28:$J$3000,2,0))","v":""},null,null,null,null,null,null,"Falta Orçamento",null,{"$f":"VLOOKUP(A2880,'[1]Mapa de Preços'!$A$16:$D$2988,4,0)","v":0}]
[2866,null,{"$f":"IF('Requisição de Compra'!J2892=\"\",\"\",VLOOKUP(A2881,'Requisição de Compra'!$I$28:$J$3000,2,0))","v":""},null,null,null,null,null,null,"Falta Orçamento",null,{"$f":"VLOOKUP(A2881,'[1]Mapa de Preços'!$A$16:$D$2988,4,0)","v":0}]
[2867,null,{"$f":"IF('Requisição de Compra'!J2893=\"\",\"\",VLOOKUP(A2882,'Requisição de Compra'!$I$28:$J$3000,2,0))","v":""},null,null,null,null,null,null,"Falta Orçamento",null,{"$f":"VLOOKUP(A2882,'[1]Mapa de Preços'!$A$16:$D$2988,4,0)","v":0}]
[2868,null,{"$f":"IF('Requisição de Compra'!J2894=\"\",\"\",VLOOKUP(A2883,'Requisição de Compra'!$I$28:$J$3000,2,0))","v":""},null,null,null,null,null,null,"Falta Orçamento",null,{"$f":"VLOOKUP(A2883,'[1]Mapa de Preços'!$A$16:$D$2988,4,0)","v":0}]
[2869,null,{"$f":"IF('Requisição de Compra'!J2895=\"\",\"\",VLOOKUP(A2884,'Requisição de Compra'!$I$28:$J$3000,2,0))","v":""},null,null,null,null,null,null,"Falta Orçamento",null,{"$f":"VLOOKUP(A2884,'[1]Mapa de Preços'!$A$16:$D$2988,4,0)","v":0}]
[2870,null,{"$f":"IF('Requisição de Compra'!J2896=\"\",\"\",VLOOKUP(A2885,'Requisição de Compra'!$I$28:$J$3000,2,0))","v":""},null,null,null,null,null,null,"Falta Orçamento",null,{"$f":"VLOOKUP(A2885,'[1]Mapa de Preços'!$A$16:$D$2988,4,0)","v":0}]
[2871,null,{"$f":"IF('Requisição de Compra'!J2897=\"\",\"\",VLOOKUP(A2886,'Requisição de Compra'!$I$28:$J$3000,2,0))","v":""},null,null,null,null,null,null,"Falta Orçamento",null,{"$f":"VLOOKUP(A2886,'[1]Mapa de Preços'!$A$16:$D$2988,4,0)","v":0}]
[2872,null,{"$f":"IF('Requisição de Compra'!J2898=\"\",\"\",VLOOKUP(A2887,'Requisição de Compra'!$I$28:$J$3000,2,0))","v":""},null,null,null,null,null,null,"Falta Orçamento",null,{"$f":"VLOOKUP(A2887,'[1]Mapa de Preços'!$A$16:$D$2988,4,0)","v":0}]
[2873,null,{"$f":"IF('Requisição de Compra'!J2899=\"\",\"\",VLOOKUP(A2888,'Requisição de Compra'!$I$28:$J$3000,2,0))","v":""},null,null,null,null,null,null,"Falta Orçamento",null,{"$f":"VLOOKUP(A2888,'[1]Mapa de Preços'!$A$16:$D$2988,4,0)","v":0}]
[2874,null,{"$f":"IF('Requisição de Compra'!J2900=\"\",\"\",VLOOKUP(A2889,'Requisição de Compra'!$I$28:$J$3000,2,0))","v":""},null,null,null,null,null,null,"Falta Orçamento",null,{"$f":"VLOOKUP(A2889,'[1]Mapa de Preços'!$A$16:$D$2988,4,0)","v":0}]
[2875,null,{"$f":"IF('Requisição de Compra'!J2901=\"\",\"\",VLOOKUP(A2890,'Requisição de Compra'!$I$28:$J$3000,2,0))","v":""},null,null,null,null,null,null,"Falta Orçamento",null,{"$f":"VLOOKUP(A2890,'[1]Mapa de Preços'!$A$16:$D$2988,4,0)","v":0}]
[2876,null,{"$f":"IF('Requisição de Compra'!J2902=\"\",\"\",VLOOKUP(A2891,'Requisição de Compra'!$I$28:$J$3000,2,0))","v":""},null,null,null,null,null,null,"Falta Orçamento",null,{"$f":"VLOOKUP(A2891,'[1]Mapa de Preços'!$A$16:$D$2988,4,0)","v":0}]
[2877,null,{"$f":"IF('Requisição de Compra'!J2903=\"\",\"\",VLOOKUP(A2892,'Requisição de Compra'!$I$28:$J$3000,2,0))","v":""},null,null,null,null,null,null,"Falta Orçamento",null,{"$f":"VLOOKUP(A2892,'[1]Mapa de Preços'!$A$16:$D$2988,4,0)","v":0}]
[2878,null,{"$f":"IF('Requisição de Compra'!J2904=\"\",\"\",VLOOKUP(A2893,'Requisição de Compra'!$I$28:$J$3000,2,0))","v":""},null,null,null,null,null,null,"Falta Orçamento",null,{"$f":"VLOOKUP(A2893,'[1]Mapa de Preços'!$A$16:$D$2988,4,0)","v":0}]
[2879,null,{"$f":"IF('Requisição de Compra'!J2905=\"\",\"\",VLOOKUP(A2894,'Requisição de Compra'!$I$28:$J$3000,2,0))","v":""},null,null,null,null,null,null,"Falta Orçamento",null,{"$f":"VLOOKUP(A2894,'[1]Mapa de Preços'!$A$16:$D$2988,4,0)","v":0}]
[2880,null,{"$f":"IF('Requisição de Compra'!J2906=\"\",\"\",VLOOKUP(A2895,'Requisição de Compra'!$I$28:$J$3000,2,0))","v":""},null,null,null,null,null,null,"Falta Orçamento",null,{"$f":"VLOOKUP(A2895,'[1]Mapa de Preços'!$A$16:$D$2988,4,0)","v":0}]
[2881,null,{"$f":"IF('Requisição de Compra'!J2907=\"\",\"\",VLOOKUP(A2896,'Requisição de Compra'!$I$28:$J$3000,2,0))","v":""},null,null,null,null,null,null,"Falta Orçamento",null,{"$f":"VLOOKUP(A2896,'[1]Mapa de Preços'!$A$16:$D$2988,4,0)","v":0}]
[2882,null,{"$f":"IF('Requisição de Compra'!J2908=\"\",\"\",VLOOKUP(A2897,'Requisição de Compra'!$I$28:$J$3000,2,0))","v":""},null,null,null,null,null,null,{"$f":"IF(AND(D2897<>\"\",F2897<>\"\",H2897<>\"\"),AVERAGE(D2897:H2897),\"Falta Orçamento\")","v":"Falta Orçamento"},null,{"$f":"VLOOKUP(A2897,'[1]Mapa de Preços'!$A$16:$D$2988,4,0)","v":0}]
[2883,null,{"$f":"IF('Requisição de Compra'!J2909=\"\",\"\",VLOOKUP(A2898,'Requisição de Compra'!$I$28:$J$3000,2,0))","v":""},null,null,null,null,null,null,"Falta Orçamento",null,{"$f":"VLOOKUP(A2898,'[1]Mapa de Preços'!$A$16:$D$2988,4,0)","v":0}]
[2884,null,{"$f":"IF('Requisição de Compra'!J2910=\"\",\"\",VLOOKUP(A2899,'Requisição de Compra'!$I$28:$J$3000,2,0))","v":""},null,null,null,null,null,null,"Falta Orçamento",null,{"$f":"VLOOKUP(A2899,'[1]Mapa de Preços'!$A$16:$D$2988,4,0)","v":0}]
[2885,null,{"$f":"IF('Requisição de Compra'!J2911=\"\",\"\",VLOOKUP(A2900,'Requisição de Compra'!$I$28:$J$3000,2,0))","v":""},null,null,null,null,null,null,"Falta Orçamento",null,{"$f":"VLOOKUP(A2900,'[1]Mapa de Preços'!$A$16:$D$2988,4,0)","v":0}]
[2886,null,{"$f":"IF('Requisição de Compra'!J2912=\"\",\"\",VLOOKUP(A2901,'Requisição de Compra'!$I$28:$J$3000,2,0))","v":""},null,null,null,null,null,null,"Falta Orçamento",null,{"$f":"VLOOKUP(A2901,'[1]Mapa de Preços'!$A$16:$D$2988,4,0)","v":0}]
[2887,null,{"$f":"IF('Requisição de Compra'!J2913=\"\",\"\",VLOOKUP(A2902,'Requisição de Compra'!$I$28:$J$3000,2,0))","v":""},null,null,null,null,null,null,"Falta Orçamento",null,{"$f":"VLOOKUP(A2902,'[1]Mapa de Preços'!$A$16:$D$2988,4,0)","v":0}]
[2888,null,{"$f":"IF('Requisição de Compra'!J2914=\"\",\"\",VLOOKUP(A2903,'Requisição de Compra'!$I$28:$J$3000,2,0))","v":""},null,null,null,null,null,null,"Falta Orçamento",null,{"$f":"VLOOKUP(A2903,'[1]Mapa de Preços'!$A$16:$D$2988,4,0)","v":0}]
[2889,null,{"$f":"IF('Requisição de Compra'!J2915=\"\",\"\",VLOOKUP(A2904,'Requisição de Compra'!$I$28:$J$3000,2,0))","v":""},null,null,null,null,null,null,"Falta Orçamento",null,{"$f":"VLOOKUP(A2904,'[1]Mapa de Preços'!$A$16:$D$2988,4,0)","v":0}]
[2890,null,{"$f":"IF('Requisição de Compra'!J2916=\"\",\"\",VLOOKUP(A2905,'Requisição de Compra'!$I$28:$J$3000,2,0))","v":""},null,null,null,null,null,null,"Falta Orçamento",null,{"$f":"VLOOKUP(A2905,'[1]Mapa de Preços'!$A$16:$D$2988,4,0)","v":0}]
[2891,null,{"$f":"IF('Requisição de Compra'!J2917=\"\",\"\",VLOOKUP(A2906,'Requisição de Compra'!$I$28:$J$3000,2,0))","v":""},null,null,null,null,null,null,"Falta Orçamento",null,{"$f":"VLOOKUP(A2906,'[1]Mapa de Preços'!$A$16:$D$2988,4,0)","v":0}]
[2892,null,{"$f":"IF('Requisição de Compra'!J2918=\"\",\"\",VLOOKUP(A2907,'Requisição de Compra'!$I$28:$J$3000,2,0))","v":""},null,null,null,null,null,null,"Falta Orçamento",null,{"$f":"VLOOKUP(A2907,'[1]Mapa de Preços'!$A$16:$D$2988,4,0)","v":0}]
[2893,null,{"$f":"IF('Requisição de Compra'!J2919=\"\",\"\",VLOOKUP(A2908,'Requisição de Compra'!$I$28:$J$3000,2,0))","v":""},null,null,null,null,null,null,"Falta Orçamento",null,{"$f":"VLOOKUP(A2908,'[1]Mapa de Preços'!$A$16:$D$2988,4,0)","v":0}]
[2894,null,{"$f":"IF('Requisição de Compra'!J2920=\"\",\"\",VLOOKUP(A2909,'Requisição de Compra'!$I$28:$J$3000,2,0))","v":""},null,null,null,null,null,null,"Falta Orçamento",null,{"$f":"VLOOKUP(A2909,'[1]Mapa de Preços'!$A$16:$D$2988,4,0)","v":0}]
[2895,null,{"$f":"IF('Requisição de Compra'!J2921=\"\",\"\",VLOOKUP(A2910,'Requisição de Compra'!$I$28:$J$3000,2,0))","v":""},null,null,null,null,null,null,"Falta Orçamento",null,{"$f":"VLOOKUP(A2910,'[1]Mapa de Preços'!$A$16:$D$2988,4,0)","v":0}]
[2896,null,{"$f":"IF('Requisição de Compra'!J2922=\"\",\"\",VLOOKUP(A2911,'Requisição de Compra'!$I$28:$J$3000,2,0))","v":""},null,null,null,null,null,null,"Falta Orçamento",null,{"$f":"VLOOKUP(A2911,'[1]Mapa de Preços'!$A$16:$D$2988,4,0)","v":0}]
[2897,null,{"$f":"IF('Requisição de Compra'!J2923=\"\",\"\",VLOOKUP(A2912,'Requisição de Compra'!$I$28:$J$3000,2,0))","v":""},null,null,null,null,null,null,"Falta Orçamento",null,{"$f":"VLOOKUP(A2912,'[1]Mapa de Preços'!$A$16:$D$2988,4,0)","v":0}]
[2898,null,{"$f":"IF('Requisição de Compra'!J2924=\"\",\"\",VLOOKUP(A2913,'Requisição de Compra'!$I$28:$J$3000,2,0))","v":""},null,null,null,null,null,null,"Falta Orçamento",null,{"$f":"VLOOKUP(A2913,'[1]Mapa de Preços'!$A$16:$D$2988,4,0)","v":0}]
[2899,null,{"$f":"IF('Requisição de Compra'!J2925=\"\",\"\",VLOOKUP(A2914,'Requisição de Compra'!$I$28:$J$3000,2,0))","v":""},null,null,null,null,null,null,"Falta Orçamento",null,{"$f":"VLOOKUP(A2914,'[1]Mapa de Preços'!$A$16:$D$2988,4,0)","v":0}]
[2900,null,{"$f":"IF('Requisição de Compra'!J2926=\"\",\"\",VLOOKUP(A2915,'Requisição de Compra'!$I$28:$J$3000,2,0))","v":""},null,null,null,null,null,null,"Falta Orçamento",null,{"$f":"VLOOKUP(A2915,'[1]Mapa de Preços'!$A$16:$D$2988,4,0)","v":0}]
[2901,null,{"$f":"IF('Requisição de Compra'!J2927=\"\",\"\",VLOOKUP(A2916,'Requisição de Compra'!$I$28:$J$3000,2,0))","v":""},null,null,null,null,null,null,"Falta Orçamento",null,{"$f":"VLOOKUP(A2916,'[1]Mapa de Preços'!$A$16:$D$2988,4,0)","v":0}]
[2902,null,{"$f":"IF('Requisição de Compra'!J2928=\"\",\"\",VLOOKUP(A2917,'Requisição de Compra'!$I$28:$J$3000,2,0))","v":""},null,null,null,null,null,null,"Falta Orçamento",null,{"$f":"VLOOKUP(A2917,'[1]Mapa de Preços'!$A$16:$D$2988,4,0)","v":0}]
[2903,null,{"$f":"IF('Requisição de Compra'!J2929=\"\",\"\",VLOOKUP(A2918,'Requisição de Compra'!$I$28:$J$3000,2,0))","v":""},null,null,null,null,null,null,"Falta Orçamento",null,{"$f":"VLOOKUP(A2918,'[1]Mapa de Preços'!$A$16:$D$2988,4,0)","v":0}]
[2904,null,{"$f":"IF('Requisição de Compra'!J2930=\"\",\"\",VLOOKUP(A2919,'Requisição de Compra'!$I$28:$J$3000,2,0))","v":""},null,null,null,null,null,null,"Falta Orçamento",null,{"$f":"VLOOKUP(A2919,'[1]Mapa de Preços'!$A$16:$D$2988,4,0)","v":0}]
[2905,null,{"$f":"IF('Requisição de Compra'!J2931=\"\",\"\",VLOOKUP(A2920,'Requisição de Compra'!$I$28:$J$3000,2,0))","v":""},null,null,null,null,null,null,"Falta Orçamento",null,{"$f":"VLOOKUP(A2920,'[1]Mapa de Preços'!$A$16:$D$2988,4,0)","v":0}]
[2906,null,{"$f":"IF('Requisição de Compra'!J2932=\"\",\"\",VLOOKUP(A2921,'Requisição de Compra'!$I$28:$J$3000,2,0))","v":""},null,null,null,null,null,null,"Falta Orçamento",null,{"$f":"VLOOKUP(A2921,'[1]Mapa de Preços'!$A$16:$D$2988,4,0)","v":0}]
[2907,null,{"$f":"IF('Requisição de Compra'!J2933=\"\",\"\",VLOOKUP(A2922,'Requisição de Compra'!$I$28:$J$3000,2,0))","v":""},null,null,null,null,null,null,"Falta Orçamento",null,{"$f":"VLOOKUP(A2922,'[1]Mapa de Preços'!$A$16:$D$2988,4,0)","v":0}]
[2908,null,{"$f":"IF('Requisição de Compra'!J2934=\"\",\"\",VLOOKUP(A2923,'Requisição de Compra'!$I$28:$J$3000,2,0))","v":""},null,null,null,null,null,null,"Falta Orçamento",null,{"$f":"VLOOKUP(A2923,'[1]Mapa de Preços'!$A$16:$D$2988,4,0)","v":0}]
[2909,null,{"$f":"IF('Requisição de Compra'!J2935=\"\",\"\",VLOOKUP(A2924,'Requisição de Compra'!$I$28:$J$3000,2,0))","v":""},null,null,null,null,null,null,"Falta Orçamento",null,{"$f":"VLOOKUP(A2924,'[1]Mapa de Preços'!$A$16:$D$2988,4,0)","v":0}]
[2910,null,{"$f":"IF('Requisição de Compra'!J2936=\"\",\"\",VLOOKUP(A2925,'Requisição de Compra'!$I$28:$J$3000,2,0))","v":""},null,null,null,null,null,null,"Falta Orçamento",null,{"$f":"VLOOKUP(A2925,'[1]Mapa de Preços'!$A$16:$D$2988,4,0)","v":0}]
[2911,null,{"$f":"IF('Requisição de Compra'!J2937=\"\",\"\",VLOOKUP(A2926,'Requisição de Compra'!$I$28:$J$3000,2,0))","v":""},null,null,null,null,null,null,"Falta Orçamento",null,{"$f":"VLOOKUP(A2926,'[1]Mapa de Preços'!$A$16:$D$2988,4,0)","v":0}]
[2912,null,{"$f":"IF('Requisição de Compra'!J2938=\"\",\"\",VLOOKUP(A2927,'Requisição de Compra'!$I$28:$J$3000,2,0))","v":""},null,null,null,null,null,null,"Falta Orçamento",null,{"$f":"VLOOKUP(A2927,'[1]Mapa de Preços'!$A$16:$D$2988,4,0)","v":0}]
[2913,null,{"$f":"IF('Requisição de Compra'!J2939=\"\",\"\",VLOOKUP(A2928,'Requisição de Compra'!$I$28:$J$3000,2,0))","v":""},null,null,null,null,null,null,"Falta Orçamento",null,{"$f":"VLOOKUP(A2928,'[1]Mapa de Preços'!$A$16:$D$2988,4,0)","v":0}]
[2914,null,{"$f":"IF('Requisição de Compra'!J2940=\"\",\"\",VLOOKUP(A2929,'Requisição de Compra'!$I$28:$J$3000,2,0))","v":""},null,null,null,null,null,null,"Falta Orçamento",null,{"$f":"VLOOKUP(A2929,'[1]Mapa de Preços'!$A$16:$D$2988,4,0)","v":0}]
[2915,null,{"$f":"IF('Requisição de Compra'!J2941=\"\",\"\",VLOOKUP(A2930,'Requisição de Compra'!$I$28:$J$3000,2,0))","v":""},null,null,null,null,null,null,"Falta Orçamento",null,{"$f":"VLOOKUP(A2930,'[1]Mapa de Preços'!$A$16:$D$2988,4,0)","v":0}]
[2916,null,{"$f":"IF('Requisição de Compra'!J2942=\"\",\"\",VLOOKUP(A2931,'Requisição de Compra'!$I$28:$J$3000,2,0))","v":""},null,null,null,null,null,null,"Falta Orçamento",null,{"$f":"VLOOKUP(A2931,'[1]Mapa de Preços'!$A$16:$D$2988,4,0)","v":0}]
[2917,null,{"$f":"IF('Requisição de Compra'!J2943=\"\",\"\",VLOOKUP(A2932,'Requisição de Compra'!$I$28:$J$3000,2,0))","v":""},null,null,null,null,null,null,"Falta Orçamento",null,{"$f":"VLOOKUP(A2932,'[1]Mapa de Preços'!$A$16:$D$2988,4,0)","v":0}]
[2918,null,{"$f":"IF('Requisição de Compra'!J2944=\"\",\"\",VLOOKUP(A2933,'Requisição de Compra'!$I$28:$J$3000,2,0))","v":""},null,null,null,null,null,null,"Falta Orçamento",null,{"$f":"VLOOKUP(A2933,'[1]Mapa de Preços'!$A$16:$D$2988,4,0)","v":0}]
[2919,null,{"$f":"IF('Requisição de Compra'!J2945=\"\",\"\",VLOOKUP(A2934,'Requisição de Compra'!$I$28:$J$3000,2,0))","v":""},null,null,null,null,null,null,"Falta Orçamento",null,{"$f":"VLOOKUP(A2934,'[1]Mapa de Preços'!$A$16:$D$2988,4,0)","v":0}]
[2920,null,{"$f":"IF('Requisição de Compra'!J2946=\"\",\"\",VLOOKUP(A2935,'Requisição de Compra'!$I$28:$J$3000,2,0))","v":""},null,null,null,null,null,null,"Falta Orçamento",null,{"$f":"VLOOKUP(A2935,'[1]Mapa de Preços'!$A$16:$D$2988,4,0)","v":0}]
[2921,null,{"$f":"IF('Requisição de Compra'!J2947=\"\",\"\",VLOOKUP(A2936,'Requisição de Compra'!$I$28:$J$3000,2,0))","v":""},null,null,null,null,null,null,"Falta Orçamento",null,{"$f":"VLOOKUP(A2936,'[1]Mapa de Preços'!$A$16:$D$2988,4,0)","v":0}]
[2922,null,{"$f":"IF('Requisição de Compra'!J2948=\"\",\"\",VLOOKUP(A2937,'Requisição de Compra'!$I$28:$J$3000,2,0))","v":""},null,null,null,null,null,null,"Falta Orçamento",null,{"$f":"VLOOKUP(A2937,'[1]Mapa de Preços'!$A$16:$D$2988,4,0)","v":0}]
[2923,null,{"$f":"IF('Requisição de Compra'!J2949=\"\",\"\",VLOOKUP(A2938,'Requisição de Compra'!$I$28:$J$3000,2,0))","v":""},null,null,null,null,null,null,"Falta Orçamento",null,{"$f":"VLOOKUP(A2938,'[1]Mapa de Preços'!$A$16:$D$2988,4,0)","v":0}]
[2924,null,{"$f":"IF('Requisição de Compra'!J2950=\"\",\"\",VLOOKUP(A2939,'Requisição de Compra'!$I$28:$J$3000,2,0))","v":""},null,null,null,null,null,null,"Falta Orçamento",null,{"$f":"VLOOKUP(A2939,'[1]Mapa de Preços'!$A$16:$D$2988,4,0)","v":0}]
[2925,null,{"$f":"IF('Requisição de Compra'!J2951=\"\",\"\",VLOOKUP(A2940,'Requisição de Compra'!$I$28:$J$3000,2,0))","v":""},null,null,null,null,null,null,"Falta Orçamento",null,{"$f":"VLOOKUP(A2940,'[1]Mapa de Preços'!$A$16:$D$2988,4,0)","v":0}]
[2926,null,{"$f":"IF('Requisição de Compra'!J2952=\"\",\"\",VLOOKUP(A2941,'Requisição de Compra'!$I$28:$J$3000,2,0))","v":""},null,null,null,null,null,null,"Falta Orçamento",null,{"$f":"VLOOKUP(A2941,'[1]Mapa de Preços'!$A$16:$D$2988,4,0)","v":0}]
[2927,null,{"$f":"IF('Requisição de Compra'!J2953=\"\",\"\",VLOOKUP(A2942,'Requisição de Compra'!$I$28:$J$3000,2,0))","v":""},null,null,null,null,null,null,"Falta Orçamento",null,{"$f":"VLOOKUP(A2942,'[1]Mapa de Preços'!$A$16:$D$2988,4,0)","v":0}]
[2928,null,{"$f":"IF('Requisição de Compra'!J2954=\"\",\"\",VLOOKUP(A2943,'Requisição de Compra'!$I$28:$J$3000,2,0))","v":""},null,null,null,null,null,null,"Falta Orçamento",null,{"$f":"VLOOKUP(A2943,'[1]Mapa de Preços'!$A$16:$D$2988,4,0)","v":0}]
[2929,null,{"$f":"IF('Requisição de Compra'!J2955=\"\",\"\",VLOOKUP(A2944,'Requisição de Compra'!$I$28:$J$3000,2,0))","v":""},null,null,null,null,null,null,"Falta Orçamento",null,{"$f":"VLOOKUP(A2944,'[1]Mapa de Preços'!$A$16:$D$2988,4,0)","v":0}]
[2930,null,{"$f":"IF('Requisição de Compra'!J2956=\"\",\"\",VLOOKUP(A2945,'Requisição de Compra'!$I$28:$J$3000,2,0))","v":""},null,null,null,null,null,null,"Falta Orçamento",null,{"$f":"VLOOKUP(A2945,'[1]Mapa de Preços'!$A$16:$D$2988,4,0)","v":0}]
[2931,null,{"$f":"IF('Requisição de Compra'!J2957=\"\",\"\",VLOOKUP(A2946,'Requisição de Compra'!$I$28:$J$3000,2,0))","v":""},null,null,null,null,null,null,"Falta Orçamento",null,{"$f":"VLOOKUP(A2946,'[1]Mapa de Preços'!$A$16:$D$2988,4,0)","v":0}]
[2932,null,{"$f":"IF('Requisição de Compra'!J2958=\"\",\"\",VLOOKUP(A2947,'Requisição de Compra'!$I$28:$J$3000,2,0))","v":""},null,null,null,null,null,null,"Falta Orçamento",null,{"$f":"VLOOKUP(A2947,'[1]Mapa de Preços'!$A$16:$D$2988,4,0)","v":0}]
[2933,null,{"$f":"IF('Requisição de Compra'!J2959=\"\",\"\",VLOOKUP(A2948,'Requisição de Compra'!$I$28:$J$3000,2,0))","v":""},null,null,null,null,null,null,"Falta Orçamento",null,{"$f":"VLOOKUP(A2948,'[1]Mapa de Preços'!$A$16:$D$2988,4,0)","v":0}]
[2934,null,{"$f":"IF('Requisição de Compra'!J2960=\"\",\"\",VLOOKUP(A2949,'Requisição de Compra'!$I$28:$J$3000,2,0))","v":""},null,null,null,null,null,null,"Falta Orçamento",null,{"$f":"VLOOKUP(A2949,'[1]Mapa de Preços'!$A$16:$D$2988,4,0)","v":0}]
[2935,null,{"$f":"IF('Requisição de Compra'!J2961=\"\",\"\",VLOOKUP(A2950,'Requisição de Compra'!$I$28:$J$3000,2,0))","v":""},null,null,null,null,null,null,"Falta Orçamento",null,{"$f":"VLOOKUP(A2950,'[1]Mapa de Preços'!$A$16:$D$2988,4,0)","v":0}]
[2936,null,{"$f":"IF('Requisição de Compra'!J2962=\"\",\"\",VLOOKUP(A2951,'Requisição de Compra'!$I$28:$J$3000,2,0))","v":""},null,null,null,null,null,null,"Falta Orçamento",null,{"$f":"VLOOKUP(A2951,'[1]Mapa de Preços'!$A$16:$D$2988,4,0)","v":0}]
[2937,null,{"$f":"IF('Requisição de Compra'!J2963=\"\",\"\",VLOOKUP(A2952,'Requisição de Compra'!$I$28:$J$3000,2,0))","v":""},null,null,null,null,null,null,"Falta Orçamento",null,{"$f":"VLOOKUP(A2952,'[1]Mapa de Preços'!$A$16:$D$2988,4,0)","v":0}]
[2938,null,{"$f":"IF('Requisição de Compra'!J2964=\"\",\"\",VLOOKUP(A2953,'Requisição de Compra'!$I$28:$J$3000,2,0))","v":""},null,null,null,null,null,null,"Falta Orçamento",null,{"$f":"VLOOKUP(A2953,'[1]Mapa de Preços'!$A$16:$D$2988,4,0)","v":0}]
[2939,null,{"$f":"IF('Requisição de Compra'!J2965=\"\",\"\",VLOOKUP(A2954,'Requisição de Compra'!$I$28:$J$3000,2,0))","v":""},null,null,null,null,null,null,"Falta Orçamento",null,{"$f":"VLOOKUP(A2954,'[1]Mapa de Preços'!$A$16:$D$2988,4,0)","v":0}]
[2940,null,{"$f":"IF('Requisição de Compra'!J2966=\"\",\"\",VLOOKUP(A2955,'Requisição de Compra'!$I$28:$J$3000,2,0))","v":""},null,null,null,null,null,null,"Falta Orçamento",null,{"$f":"VLOOKUP(A2955,'[1]Mapa de Preços'!$A$16:$D$2988,4,0)","v":0}]
[2941,null,{"$f":"IF('Requisição de Compra'!J2967=\"\",\"\",VLOOKUP(A2956,'Requisição de Compra'!$I$28:$J$3000,2,0))","v":""},null,null,null,null,null,null,"Falta Orçamento",null,{"$f":"VLOOKUP(A2956,'[1]Mapa de Preços'!$A$16:$D$2988,4,0)","v":0}]
[2942,null,{"$f":"IF('Requisição de Compra'!J2968=\"\",\"\",VLOOKUP(A2957,'Requisição de Compra'!$I$28:$J$3000,2,0))","v":""},null,null,null,null,null,null,"Falta Orçamento",null,{"$f":"VLOOKUP(A2957,'[1]Mapa de Preços'!$A$16:$D$2988,4,0)","v":0}]
[2943,null,{"$f":"IF('Requisição de Compra'!J2969=\"\",\"\",VLOOKUP(A2958,'Requisição de Compra'!$I$28:$J$3000,2,0))","v":""},null,null,null,null,null,null,"Falta Orçamento",null,{"$f":"VLOOKUP(A2958,'[1]Mapa de Preços'!$A$16:$D$2988,4,0)","v":0}]
[2944,null,{"$f":"IF('Requisição de Compra'!J2970=\"\",\"\",VLOOKUP(A2959,'Requisição de Compra'!$I$28:$J$3000,2,0))","v":""},null,null,null,null,null,null,"Falta Orçamento",null,{"$f":"VLOOKUP(A2959,'[1]Mapa de Preços'!$A$16:$D$2988,4,0)","v":0}]
[2945,null,{"$f":"IF('Requisição de Compra'!J2971=\"\",\"\",VLOOKUP(A2960,'Requisição de Compra'!$I$28:$J$3000,2,0))","v":""},null,null,null,null,null,null,"Falta Orçamento",null,{"$f":"VLOOKUP(A2960,'[1]Mapa de Preços'!$A$16:$D$2988,4,0)","v":0}]
[2946,null,{"$f":"IF('Requisição de Compra'!J2972=\"\",\"\",VLOOKUP(A2961,'Requisição de Compra'!$I$28:$J$3000,2,0))","v":""},null,null,null,null,null,null,{"$f":"IF(AND(D2961<>\"\",F2961<>\"\",H2961<>\"\"),AVERAGE(D2961:H2961),\"Falta Orçamento\")","v":"Falta Orçamento"},null,{"$f":"VLOOKUP(A2961,'[1]Mapa de Preços'!$A$16:$D$2988,4,0)","v":0}]
[2947,null,{"$f":"IF('Requisição de Compra'!J2973=\"\",\"\",VLOOKUP(A2962,'Requisição de Compra'!$I$28:$J$3000,2,0))","v":""},null,null,null,null,null,null,"Falta Orçamento",null,{"$f":"VLOOKUP(A2962,'[1]Mapa de Preços'!$A$16:$D$2988,4,0)","v":0}]
[2948,null,{"$f":"IF('Requisição de Compra'!J2974=\"\",\"\",VLOOKUP(A2963,'Requisição de Compra'!$I$28:$J$3000,2,0))","v":""},null,null,null,null,null,null,"Falta Orçamento",null,{"$f":"VLOOKUP(A2963,'[1]Mapa de Preços'!$A$16:$D$2988,4,0)","v":0}]
[2949,null,{"$f":"IF('Requisição de Compra'!J2975=\"\",\"\",VLOOKUP(A2964,'Requisição de Compra'!$I$28:$J$3000,2,0))","v":""},null,null,null,null,null,null,"Falta Orçamento",null,{"$f":"VLOOKUP(A2964,'[1]Mapa de Preços'!$A$16:$D$2988,4,0)","v":0}]
[2950,null,{"$f":"IF('Requisição de Compra'!J2976=\"\",\"\",VLOOKUP(A2965,'Requisição de Compra'!$I$28:$J$3000,2,0))","v":""},null,null,null,null,null,null,"Falta Orçamento",null,{"$f":"VLOOKUP(A2965,'[1]Mapa de Preços'!$A$16:$D$2988,4,0)","v":0}]
[2951,null,{"$f":"IF('Requisição de Compra'!J2977=\"\",\"\",VLOOKUP(A2966,'Requisição de Compra'!$I$28:$J$3000,2,0))","v":""},null,null,null,null,null,null,"Falta Orçamento",null,{"$f":"VLOOKUP(A2966,'[1]Mapa de Preços'!$A$16:$D$2988,4,0)","v":0}]
[2952,null,{"$f":"IF('Requisição de Compra'!J2978=\"\",\"\",VLOOKUP(A2967,'Requisição de Compra'!$I$28:$J$3000,2,0))","v":""},null,null,null,null,null,null,"Falta Orçamento",null,{"$f":"VLOOKUP(A2967,'[1]Mapa de Preços'!$A$16:$D$2988,4,0)","v":0}]
[2953,null,{"$f":"IF('Requisição de Compra'!J2979=\"\",\"\",VLOOKUP(A2968,'Requisição de Compra'!$I$28:$J$3000,2,0))","v":""},null,null,null,null,null,null,"Falta Orçamento",null,{"$f":"VLOOKUP(A2968,'[1]Mapa de Preços'!$A$16:$D$2988,4,0)","v":0}]
[2954,null,{"$f":"IF('Requisição de Compra'!J2980=\"\",\"\",VLOOKUP(A2969,'Requisição de Compra'!$I$28:$J$3000,2,0))","v":""},null,null,null,null,null,null,"Falta Orçamento",null,{"$f":"VLOOKUP(A2969,'[1]Mapa de Preços'!$A$16:$D$2988,4,0)","v":0}]
[2955,null,{"$f":"IF('Requisição de Compra'!J2981=\"\",\"\",VLOOKUP(A2970,'Requisição de Compra'!$I$28:$J$3000,2,0))","v":""},null,null,null,null,null,null,"Falta Orçamento",null,{"$f":"VLOOKUP(A2970,'[1]Mapa de Preços'!$A$16:$D$2988,4,0)","v":0}]
[2956,null,{"$f":"IF('Requisição de Compra'!J2982=\"\",\"\",VLOOKUP(A2971,'Requisição de Compra'!$I$28:$J$3000,2,0))","v":""},null,null,null,null,null,null,"Falta Orçamento",null,{"$f":"VLOOKUP(A2971,'[1]Mapa de Preços'!$A$16:$D$2988,4,0)","v":0}]
[2957,null,{"$f":"IF('Requisição de Compra'!J2983=\"\",\"\",VLOOKUP(A2972,'Requisição de Compra'!$I$28:$J$3000,2,0))","v":""},null,null,null,null,null,null,"Falta Orçamento",null,{"$f":"VLOOKUP(A2972,'[1]Mapa de Preços'!$A$16:$D$2988,4,0)","v":0}]
[2958,null,{"$f":"IF('Requisição de Compra'!J2984=\"\",\"\",VLOOKUP(A2973,'Requisição de Compra'!$I$28:$J$3000,2,0))","v":""},null,null,null,null,null,null,"Falta Orçamento",null,{"$f":"VLOOKUP(A2973,'[1]Mapa de Preços'!$A$16:$D$2988,4,0)","v":0}]
[2959,null,{"$f":"IF('Requisição de Compra'!J2985=\"\",\"\",VLOOKUP(A2974,'Requisição de Compra'!$I$28:$J$3000,2,0))","v":""},null,null,null,null,null,null,"Falta Orçamento",null,{"$f":"VLOOKUP(A2974,'[1]Mapa de Preços'!$A$16:$D$2988,4,0)","v":0}]
[2960,null,{"$f":"IF('Requisição de Compra'!J2986=\"\",\"\",VLOOKUP(A2975,'Requisição de Compra'!$I$28:$J$3000,2,0))","v":""},null,null,null,null,null,null,"Falta Orçamento",null,{"$f":"VLOOKUP(A2975,'[1]Mapa de Preços'!$A$16:$D$2988,4,0)","v":0}]
[2961,null,{"$f":"IF('Requisição de Compra'!J2987=\"\",\"\",VLOOKUP(A2976,'Requisição de Compra'!$I$28:$J$3000,2,0))","v":""},null,null,null,null,null,null,"Falta Orçamento",null,{"$f":"VLOOKUP(A2976,'[1]Mapa de Preços'!$A$16:$D$2988,4,0)","v":0}]
[2962,null,{"$f":"IF('Requisição de Compra'!J2988=\"\",\"\",VLOOKUP(A2977,'Requisição de Compra'!$I$28:$J$3000,2,0))","v":""},null,null,null,null,null,null,"Falta Orçamento",null,{"$f":"VLOOKUP(A2977,'[1]Mapa de Preços'!$A$16:$D$2988,4,0)","v":0}]
[2963,null,{"$f":"IF('Requisição de Compra'!J2989=\"\",\"\",VLOOKUP(A2978,'Requisição de Compra'!$I$28:$J$3000,2,0))","v":""},null,null,null,null,null,null,"Falta Orçamento",null,{"$f":"VLOOKUP(A2978,'[1]Mapa de Preços'!$A$16:$D$2988,4,0)","v":0}]
[2964,null,{"$f":"IF('Requisição de Compra'!J2990=\"\",\"\",VLOOKUP(A2979,'Requisição de Compra'!$I$28:$J$3000,2,0))","v":""},null,null,null,null,null,null,"Falta Orçamento",null,{"$f":"VLOOKUP(A2979,'[1]Mapa de Preços'!$A$16:$D$2988,4,0)","v":0}]
[2965,null,{"$f":"IF('Requisição de Compra'!J2991=\"\",\"\",VLOOKUP(A2980,'Requisição de Compra'!$I$28:$J$3000,2,0))","v":""},null,null,null,null,null,null,"Falta Orçamento",null,{"$f":"VLOOKUP(A2980,'[1]Mapa de Preços'!$A$16:$D$2988,4,0)","v":0}]
[2966,null,{"$f":"IF('Requisição de Compra'!J2992=\"\",\"\",VLOOKUP(A2981,'Requisição de Compra'!$I$28:$J$3000,2,0))","v":""},null,null,null,null,null,null,"Falta Orçamento",null,{"$f":"VLOOKUP(A2981,'[1]Mapa de Preços'!$A$16:$D$2988,4,0)","v":0}]
[2967,null,{"$f":"IF('Requisição de Compra'!J2993=\"\",\"\",VLOOKUP(A2982,'Requisição de Compra'!$I$28:$J$3000,2,0))","v":""},null,null,null,null,null,null,"Falta Orçamento",null,{"$f":"VLOOKUP(A2982,'[1]Mapa de Preços'!$A$16:$D$2988,4,0)","v":0}]
[2968,null,{"$f":"IF('Requisição de Compra'!J2994=\"\",\"\",VLOOKUP(A2983,'Requisição de Compra'!$I$28:$J$3000,2,0))","v":""},null,null,null,null,null,null,"Falta Orçamento",null,{"$f":"VLOOKUP(A2983,'[1]Mapa de Preços'!$A$16:$D$2988,4,0)","v":0}]
[2969,null,{"$f":"IF('Requisição de Compra'!J2995=\"\",\"\",VLOOKUP(A2984,'Requisição de Compra'!$I$28:$J$3000,2,0))","v":""},null,null,null,null,null,null,"Falta Orçamento",null,{"$f":"VLOOKUP(A2984,'[1]Mapa de Preços'!$A$16:$D$2988,4,0)","v":0}]
[2970,null,{"$f":"IF('Requisição de Compra'!J2996=\"\",\"\",VLOOKUP(A2985,'Requisição de Compra'!$I$28:$J$3000,2,0))","v":""},null,null,null,null,null,null,"Falta Orçamento",null,{"$f":"VLOOKUP(A2985,'[1]Mapa de Preços'!$A$16:$D$2988,4,0)","v":0}]
[2971,null,{"$f":"IF('Requisição de Compra'!J2997=\"\",\"\",VLOOKUP(A2986,'Requisição de Compra'!$I$28:$J$3000,2,0))","v":""},null,null,null,null,null,null,"Falta Orçamento",null,{"$f":"VLOOKUP(A2986,'[1]Mapa de Preços'!$A$16:$D$2988,4,0)","v":0}]
[2972,null,{"$f":"IF('Requisição de Compra'!J2998=\"\",\"\",VLOOKUP(A2987,'Requisição de Compra'!$I$28:$J$3000,2,0))","v":""},null,null,null,null,null,null,"Falta Orçamento",null,{"$f":"VLOOKUP(A2987,'[1]Mapa de Preços'!$A$16:$D$2988,4,0)","v":0}]
[2973,null,{"$f":"IF('Requisição de Compra'!J2999=\"\",\"\",VLOOKUP(A2988,'Requisição de Compra'!$I$28:$J$3000,2,0))","v":""},null,null,null,null,null,null,"Falta Orçamento",null,{"$f":"VLOOKUP(A2988,'[1]Mapa de Preços'!$A$16:$D$2988,4,0)","v":0}]

{"sheet":"Requisição de Compra","index":2,"n_rows":3022,"n_cols":35,"rows_kept":3022,"cut":false,"hidden":false,"merged":[[12,5,12,6],[14,5,14,6],[16,5,16,6],[20,2,24,6],[3000,3,3000,5],[15,5,15,6]],"read":"row_number_cap"}
[]
[]
[]
[]
[]
[]
["INSTITUTO FEDERAL DO PARANÁ"]
["CENTRAL DE COMPRAS E LICITAÇÕES - CECOM"]
["PROAD/DA"]
[]
[null,null,"REQUISIÇÃO DE COMPRA/SERVIÇO"]
[]
["Nº do OBJETO:",null,{"$f":"+MENU!D12","v":"XXXXXXXX"},null,"Data:","2014-03-12"]
[]
["UGR:",null,null,null,"UNIDADE:","PROAD"]
[]
["Requisitante:",null,"Xxxxxxxxxxxxx XXXXXXXX ",null,"SIAPE:",1671281]
[]
["Elemento Despesa:"]
[]
["Justificativa:",null,"A pretensa contratação se justifica na correta conservação do patrimônio Público.  A contratação dos serviços aqui descritos se justifica diante da necessidade de a Administração prevenir-se contra eventuais danos causados por sinistros, cujos prejuízos possam causar enorme dispêndio ao erário. "]
[]
[]
[]
[null,null,null,null,null,null,null,null,null,"CECOM/PROAD-DA - INCLUSÃO DE DEMANDA"]
[null,null,null,null,null,null,{"$f":"VLOOKUP(F15,Plan1!B1:C24,2,FALSE)+3","v":22}]
["Item","Unidade de Medida (U.M.)","ESPECIFICAÇÕES","QTD LICITADA","QTD EMPENHO","Valor Estimado","Total",null,"ITEM","DESCRIÇÃO","QTDE TOTAL","CÂMPUS ASSIS CHATEAUBRIAND","CÂMPUS CAMPO LARGO","CÂMPUS CURITIBA","CÂMPUS FOZ DO IGUAÇU","CÂMPUS IRATI","CÂMPUS IVAIPORÃ","CÂMPUS JACAREZINHO","CÂMPUS LONDRINA","CÂMPUS PALMAS","CÂMPUS PARANAGUÁ","CÂMPUS PARANAVAÍ","CÂMPUS TELÊMACO BORBA","CÂMPUS UMUARAMA","DTIC","EAD","GABINETE DO REITOR","INST. FED. DE EDUC., CIENC. E TEC. DO PARANA","NUCLEO DE INCLUSAO SOCIAL E MEIO AMBIENTE","PROAD","PROENS","PROEPI","PROGEPE","PROPLAN","RESERVA ORCAMENTARIA PROPLAN"]
[1,{"$f":"IF(VLOOKUP(A28,'Mapa de Preços'!$A$16:$B$2988,2,0)=FALSE,\"Falta (U.M.)\",VLOOKUP(A28,'Mapa de Preços'!$A$16:$B$2988,2,0))","v":"Falta (U.M.)"},{"$f":"IF(J28<>\"\",J28,\"\")","v":""},{"$f":"IF(VLOOKUP(A28,$I$28:$AI$3000,$G$26,FALSE)<>\"\",VLOOKUP(A28,$I$28:$AI$3000,$G$26,FALSE),\"\")","v":""},null,{"$f":"VLOOKUP(A28,'Mapa de Preços'!$A$16:$J$2988,10,0)","v":"Falta Orçamento"},{"$f":"IF(F28=\"Falta Orçamento\",\"\",F28*D28)","v":""},null,1]
[2,{"$f":"IF(VLOOKUP(A29,'Mapa de Preços'!$A$16:$B$2988,2,0)=FALSE,\"Falta (U.M.)\",VLOOKUP(A29,'Mapa de Preços'!$A$16:$B$2988,2,0))","v":"Falta (U.M.)"},{"$f":"IF(J29<>\"\",J29,\"\")","v":""},{"$f":"IF(VLOOKUP(A29,$I$28:$AI$3000,$G$26,FALSE)<>\"\",VLOOKUP(A29,$I$28:$AI$3000,$G$26,FALSE),\"\")","v":""},null,{"$f":"VLOOKUP(A29,'Mapa de Preços'!$A$16:$J$2988,10,0)","v":"Falta Orçamento"},{"$f":"IF(F29=\"Falta Orçamento\",\"\",F29*D29)","v":""},null,2]
[3,{"$f":"IF(VLOOKUP(A30,'Mapa de Preços'!$A$16:$B$2988,2,0)=FALSE,\"Falta (U.M.)\",VLOOKUP(A30,'Mapa de Preços'!$A$16:$B$2988,2,0))","v":"Falta (U.M.)"},"","",null,{"$f":"VLOOKUP(A30,'Mapa de Preços'!$A$16:$J$2988,10,0)","v":"Falta Orçamento"},"",null,3]
[4,{"$f":"IF(VLOOKUP(A31,'Mapa de Preços'!$A$16:$B$2988,2,0)=FALSE,\"Falta (U.M.)\",VLOOKUP(A31,'Mapa de Preços'!$A$16:$B$2988,2,0))","v":"Falta (U.M.)"},"","",null,{"$f":"VLOOKUP(A31,'Mapa de Preços'!$A$16:$J$2988,10,0)","v":"Falta Orçamento"},"",null,4]
[5,{"$f":"IF(VLOOKUP(A32,'Mapa de Preços'!$A$16:$B$2988,2,0)=FALSE,\"Falta (U.M.)\",VLOOKUP(A32,'Mapa de Preços'!$A$16:$B$2988,2,0))","v":"Falta (U.M.)"},"","",null,{"$f":"VLOOKUP(A32,'Mapa de Preços'!$A$16:$J$2988,10,0)","v":"Falta Orçamento"},"",null,5]
[6,{"$f":"IF(VLOOKUP(A33,'Mapa de Preços'!$A$16:$B$2988,2,0)=FALSE,\"Falta (U.M.)\",VLOOKUP(A33,'Mapa de Preços'!$A$16:$B$2988,2,0))","v":"Falta (U.M.)"},"","",null,{"$f":"VLOOKUP(A33,'Mapa de Preços'!$A$16:$J$2988,10,0)","v":"Falta Orçamento"},"",null,6]
[7,{"$f":"IF(VLOOKUP(A34,'Mapa de Preços'!$A$16:$B$2988,2,0)=FALSE,\"Falta (U.M.)\",VLOOKUP(A34,'Mapa de Preços'!$A$16:$B$2988,2,0))","v":"Falta (U.M.)"},"","",null,{"$f":"VLOOKUP(A34,'Mapa de Preços'!$A$16:$J$2988,10,0)","v":"Falta Orçamento"},"",null,7]
[8,{"$f":"IF(VLOOKUP(A35,'Mapa de Preços'!$A$16:$B$2988,2,0)=FALSE,\"Falta (U.M.)\",VLOOKUP(A35,'Mapa de Preços'!$A$16:$B$2988,2,0))","v":"Falta (U.M.)"},"","",null,{"$f":"VLOOKUP(A35,'Mapa de Preços'!$A$16:$J$2988,10,0)","v":"Falta Orçamento"},"",null,8]
[9,{"$f":"IF(VLOOKUP(A36,'Mapa de Preços'!$A$16:$B$2988,2,0)=FALSE,\"Falta (U.M.)\",VLOOKUP(A36,'Mapa de Preços'!$A$16:$B$2988,2,0))","v":"Falta (U.M.)"},"","",null,{"$f":"VLOOKUP(A36,'Mapa de Preços'!$A$16:$J$2988,10,0)","v":"Falta Orçamento"},"",null,9]
[10,{"$f":"IF(VLOOKUP(A37,'Mapa de Preços'!$A$16:$B$2988,2,0)=FALSE,\"Falta (U.M.)\",VLOOKUP(A37,'Mapa de Preços'!$A$16:$B$2988,2,0))","v":"Falta (U.M.)"},"","",null,{"$f":"VLOOKUP(A37,'Mapa de Preços'!$A$16:$J$2988,10,0)","v":"Falta Orçamento"},"",null,10]
[11,{"$f":"IF(VLOOKUP(A38,'Mapa de Preços'!$A$16:$B$2988,2,0)=FALSE,\"Falta (U.M.)\",VLOOKUP(A38,'Mapa de Preços'!$A$16:$B$2988,2,0))","v":"Falta (U.M.)"},"","",null,{"$f":"VLOOKUP(A38,'Mapa de Preços'!$A$16:$J$2988,10,0)","v":"Falta Orçamento"},"",null,11]
[12,{"$f":"IF(VLOOKUP(A39,'Mapa de Preços'!$A$16:$B$2988,2,0)=FALSE,\"Falta (U.M.)\",VLOOKUP(A39,'Mapa de Preços'!$A$16:$B$2988,2,0))","v":"Falta (U.M.)"},"","",null,{"$f":"VLOOKUP(A39,'Mapa de Preços'!$A$16:$J$2988,10,0)","v":"Falta Orçamento"},"",null,12]
[13,{"$f":"IF(VLOOKUP(A40,'Mapa de Preços'!$A$16:$B$2988,2,0)=FALSE,\"Falta (U.M.)\",VLOOKUP(A40,'Mapa de Preços'!$A$16:$B$2988,2,0))","v":"Falta (U.M.)"},"","",null,{"$f":"VLOOKUP(A40,'Mapa de Preços'!$A$16:$J$2988,10,0)","v":"Falta Orçamento"},"",null,13]
[14,{"$f":"IF(VLOOKUP(A41,'Mapa de Preços'!$A$16:$B$2988,2,0)=FALSE,\"Falta (U.M.)\",VLOOKUP(A41,'Mapa de Preços'!$A$16:$B$2988,2,0))","v":"Falta (U.M.)"},"","",null,{"$f":"VLOOKUP(A41,'Mapa de Preços'!$A$16:$J$2988,10,0)","v":"Falta Orçamento"},"",null,14]
[15,{"$f":"IF(VLOOKUP(A42,'Mapa de Preços'!$A$16:$B$2988,2,0)=FALSE,\"Falta (U.M.)\",VLOOKUP(A42,'Mapa de Preços'!$A$16:$B$2988,2,0))","v":"Falta (U.M.)"},"","",null,{"$f":"VLOOKUP(A42,'Mapa de Preços'!$A$16:$J$2988,10,0)","v":"Falta Orçamento"},"",null,15]
[16,{"$f":"IF(VLOOKUP(A43,'Mapa de Preços'!$A$16:$B$2988,2,0)=FALSE,\"Falta (U.M.)\",VLOOKUP(A43,'Mapa de Preços'!$A$16:$B$2988,2,0))","v":"Falta (U.M.)"},"","",null,{"$f":"VLOOKUP(A43,'Mapa de Preços'!$A$16:$J$2988,10,0)","v":"Falta Orçamento"},"",null,16]
[17,{"$f":"IF(VLOOKUP(A44,'Mapa de Preços'!$A$16:$B$2988,2,0)=FALSE,\"Falta (U.M.)\",VLOOKUP(A44,'Mapa de Preços'!$A$16:$B$2988,2,0))","v":"Falta (U.M.)"},"","",null,{"$f":"VLOOKUP(A44,'Mapa de Preços'!$A$16:$J$2988,10,0)","v":"Falta Orçamento"},"",null,17]
[18,{"$f":"IF(VLOOKUP(A45,'Mapa de Preços'!$A$16:$B$2988,2,0)=FALSE,\"Falta (U.M.)\",VLOOKUP(A45,'Mapa de Preços'!$A$16:$B$2988,2,0))","v":"Falta (U.M.)"},"","",null,{"$f":"VLOOKUP(A45,'Mapa de Preços'!$A$16:$J$2988,10,0)","v":"Falta Orçamento"},"",null,18]
[19,{"$f":"IF(VLOOKUP(A46,'Mapa de Preços'!$A$16:$B$2988,2,0)=FALSE,\"Falta (U.M.)\",VLOOKUP(A46,'Mapa de Preços'!$A$16:$B$2988,2,0))","v":"Falta (U.M.)"},"","",null,{"$f":"VLOOKUP(A46,'Mapa de Preços'!$A$16:$J$2988,10,0)","v":"Falta Orçamento"},"",null,19]
[20,{"$f":"IF(VLOOKUP(A47,'Mapa de Preços'!$A$16:$B$2988,2,0)=FALSE,\"Falta (U.M.)\",VLOOKUP(A47,'Mapa de Preços'!$A$16:$B$2988,2,0))","v":"Falta (U.M.)"},"","",null,{"$f":"VLOOKUP(A47,'Mapa de Preços'!$A$16:$J$2988,10,0)","v":"Falta Orçamento"},"",null,20]
[21,{"$f":"IF(VLOOKUP(A48,'Mapa de Preços'!$A$16:$B$2988,2,0)=FALSE,\"Falta (U.M.)\",VLOOKUP(A48,'Mapa de Preços'!$A$16:$B$2988,2,0))","v":"Falta (U.M.)"},"","",null,{"$f":"VLOOKUP(A48,'Mapa de Preços'!$A$16:$J$2988,10,0)","v":"Falta Orçamento"},"",null,21]
[22,{"$f":"IF(VLOOKUP(A49,'Mapa de Preços'!$A$16:$B$2988,2,0)=FALSE,\"Falta (U.M.)\",VLOOKUP(A49,'Mapa de Preços'!$A$16:$B$2988,2,0))","v":"Falta (U.M.)"},"","",null,{"$f":"VLOOKUP(A49,'Mapa de Preços'!$A$16:$J$2988,10,0)","v":"Falta Orçamento"},"",null,22]
[23,{"$f":"IF(VLOOKUP(A50,'Mapa de Preços'!$A$16:$B$2988,2,0)=FALSE,\"Falta (U.M.)\",VLOOKUP(A50,'Mapa de Preços'!$A$16:$B$2988,2,0))","v":"Falta (U.M.)"},"","",null,{"$f":"VLOOKUP(A50,'Mapa de Preços'!$A$16:$J$2988,10,0)","v":"Falta Orçamento"},"",null,23]
[24,{"$f":"IF(VLOOKUP(A51,'Mapa de Preços'!$A$16:$B$2988,2,0)=FALSE,\"Falta (U.M.)\",VLOOKUP(A51,'Mapa de Preços'!$A$16:$B$2988,2,0))","v":"Falta (U.M.)"},"","",null,{"$f":"VLOOKUP(A51,'Mapa de Preços'!$A$16:$J$2988,10,0)","v":"Falta Orçamento"},"",null,24]
[25,{"$f":"IF(VLOOKUP(A52,'Mapa de Preços'!$A$16:$B$2988,2,0)=FALSE,\"Falta (U.M.)\",VLOOKUP(A52,'Mapa de Preços'!$A$16:$B$2988,2,0))","v":"Falta (U.M.)"},"","",null,{"$f":"VLOOKUP(A52,'Mapa de Preços'!$A$16:$J$2988,10,0)","v":"Falta Orçamento"},"",null,25]
[26,{"$f":"IF(VLOOKUP(A53,'Mapa de Preços'!$A$16:$B$2988,2,0)=FALSE,\"Falta (U.M.)\",VLOOKUP(A53,'Mapa de Preços'!$A$16:$B$2988,2,0))","v":"Falta (U.M.)"},"","",null,{"$f":"VLOOKUP(A53,'Mapa de Preços'!$A$16:$J$2988,10,0)","v":"Falta Orçamento"},"",null,26]
[27,{"$f":"IF(VLOOKUP(A54,'Mapa de Preços'!$A$16:$B$2988,2,0)=FALSE,\"Falta (U.M.)\",VLOOKUP(A54,'Mapa de Preços'!$A$16:$B$2988,2,0))","v":"Falta (U.M.)"},"","",null,{"$f":"VLOOKUP(A54,'Mapa de Preços'!$A$16:$J$2988,10,0)","v":"Falta Orçamento"},"",null,27]
[28,{"$f":"IF(VLOOKUP(A55,'Mapa de Preços'!$A$16:$B$2988,2,0)=FALSE,\"Falta (U.M.)\",VLOOKUP(A55,'Mapa de Preços'!$A$16:$B$2988,2,0))","v":"Falta (U.M.)"},"","",null,{"$f":"VLOOKUP(A55,'Mapa de Preços'!$A$16:$J$2988,10,0)","v":"Falta Orçamento"},"",null,28]
[29,{"$f":"IF(VLOOKUP(A56,'Mapa de Preços'!$A$16:$B$2988,2,0)=FALSE,\"Falta (U.M.)\",VLOOKUP(A56,'Mapa de Preços'!$A$16:$B$2988,2,0))","v":"Falta (U.M.)"},"","",null,{"$f":"VLOOKUP(A56,'Mapa de Preços'!$A$16:$J$2988,10,0)","v":"Falta Orçamento"},"",null,29]
[30,{"$f":"IF(VLOOKUP(A57,'Mapa de Preços'!$A$16:$B$2988,2,0)=FALSE,\"Falta (U.M.)\",VLOOKUP(A57,'Mapa de Preços'!$A$16:$B$2988,2,0))","v":"Falta (U.M.)"},"","",null,{"$f":"VLOOKUP(A57,'Mapa de Preços'!$A$16:$J$2988,10,0)","v":"Falta Orçamento"},"",null,30]
[31,{"$f":"IF(VLOOKUP(A58,'Mapa de Preços'!$A$16:$B$2988,2,0)=FALSE,\"Falta (U.M.)\",VLOOKUP(A58,'Mapa de Preços'!$A$16:$B$2988,2,0))","v":"Falta (U.M.)"},"","",null,{"$f":"VLOOKUP(A58,'Mapa de Preços'!$A$16:$J$2988,10,0)","v":"Falta Orçamento"},"",null,31]
[32,{"$f":"IF(VLOOKUP(A59,'Mapa de Preços'!$A$16:$B$2988,2,0)=FALSE,\"Falta (U.M.)\",VLOOKUP(A59,'Mapa de Preços'!$A$16:$B$2988,2,0))","v":"Falta (U.M.)"},"","",null,{"$f":"VLOOKUP(A59,'Mapa de Preços'!$A$16:$J$2988,10,0)","v":"Falta Orçamento"},"",null,32]
[33,{"$f":"IF(VLOOKUP(A60,'Mapa de Preços'!$A$16:$B$2988,2,0)=FALSE,\"Falta (U.M.)\",VLOOKUP(A60,'Mapa de Preços'!$A$16:$B$2988,2,0))","v":"Falta (U.M.)"},"","",null,{"$f":"VLOOKUP(A60,'Mapa de Preços'!$A$16:$J$2988,10,0)","v":"Falta Orçamento"},"",null,33]
[34,{"$f":"IF(VLOOKUP(A61,'Mapa de Preços'!$A$16:$B$2988,2,0)=FALSE,\"Falta (U.M.)\",VLOOKUP(A61,'Mapa de Preços'!$A$16:$B$2988,2,0))","v":"Falta (U.M.)"},"","",null,{"$f":"VLOOKUP(A61,'Mapa de Preços'!$A$16:$J$2988,10,0)","v":"Falta Orçamento"},"",null,34]
[35,{"$f":"IF(VLOOKUP(A62,'Mapa de Preços'!$A$16:$B$2988,2,0)=FALSE,\"Falta (U.M.)\",VLOOKUP(A62,'Mapa de Preços'!$A$16:$B$2988,2,0))","v":"Falta (U.M.)"},"","",null,{"$f":"VLOOKUP(A62,'Mapa de Preços'!$A$16:$J$2988,10,0)","v":"Falta Orçamento"},"",null,35]
[36,{"$f":"IF(VLOOKUP(A63,'Mapa de Preços'!$A$16:$B$2988,2,0)=FALSE,\"Falta (U.M.)\",VLOOKUP(A63,'Mapa de Preços'!$A$16:$B$2988,2,0))","v":"Falta (U.M.)"},"","",null,{"$f":"VLOOKUP(A63,'Mapa de Preços'!$A$16:$J$2988,10,0)","v":"Falta Orçamento"},"",null,36]
[37,{"$f":"IF(VLOOKUP(A64,'Mapa de Preços'!$A$16:$B$2988,2,0)=FALSE,\"Falta (U.M.)\",VLOOKUP(A64,'Mapa de Preços'!$A$16:$B$2988,2,0))","v":"Falta (U.M.)"},"","",null,{"$f":"VLOOKUP(A64,'Mapa de Preços'!$A$16:$J$2988,10,0)","v":"Falta Orçamento"},"",null,37]
[38,{"$f":"IF(VLOOKUP(A65,'Mapa de Preços'!$A$16:$B$2988,2,0)=FALSE,\"Falta (U.M.)\",VLOOKUP(A65,'Mapa de Preços'!$A$16:$B$2988,2,0))","v":"Falta (U.M.)"},"","",null,{"$f":"VLOOKUP(A65,'Mapa de Preços'!$A$16:$J$2988,10,0)","v":"Falta Orçamento"},"",null,38]
[39,{"$f":"IF(VLOOKUP(A66,'Mapa de Preços'!$A$16:$B$2988,2,0)=FALSE,\"Falta (U.M.)\",VLOOKUP(A66,'Mapa de Preços'!$A$16:$B$2988,2,0))","v":"Falta (U.M.)"},"","",null,{"$f":"VLOOKUP(A66,'Mapa de Preços'!$A$16:$J$2988,10,0)","v":"Falta Orçamento"},"",null,39]
[40,{"$f":"IF(VLOOKUP(A67,'Mapa de Preços'!$A$16:$B$2988,2,0)=FALSE,\"Falta (U.M.)\",VLOOKUP(A67,'Mapa de Preços'!$A$16:$B$2988,2,0))","v":"Falta (U.M.)"},"","",null,{"$f":"VLOOKUP(A67,'Mapa de Preços'!$A$16:$J$2988,10,0)","v":"Falta Orçamento"},"",null,40]
[41,{"$f":"IF(VLOOKUP(A68,'Mapa de Preços'!$A$16:$B$2988,2,0)=FALSE,\"Falta (U.M.)\",VLOOKUP(A68,'Mapa de Preços'!$A$16:$B$2988,2,0))","v":"Falta (U.M.)"},"","",null,{"$f":"VLOOKUP(A68,'Mapa de Preços'!$A$16:$J$2988,10,0)","v":"Falta Orçamento"},"",null,41]
[42,{"$f":"IF(VLOOKUP(A69,'Mapa de Preços'!$A$16:$B$2988,2,0)=FALSE,\"Falta (U.M.)\",VLOOKUP(A69,'Mapa de Preços'!$A$16:$B$2988,2,0))","v":"Falta (U.M.)"},"","",null,{"$f":"VLOOKUP(A69,'Mapa de Preços'!$A$16:$J$2988,10,0)","v":"Falta Orçamento"},"",null,42]
[43,{"$f":"IF(VLOOKUP(A70,'Mapa de Preços'!$A$16:$B$2988,2,0)=FALSE,\"Falta (U.M.)\",VLOOKUP(A70,'Mapa de Preços'!$A$16:$B$2988,2,0))","v":"Falta (U.M.)"},"","",null,{"$f":"VLOOKUP(A70,'Mapa de Preços'!$A$16:$J$2988,10,0)","v":"Falta Orçamento"},"",null,43]
[44,{"$f":"IF(VLOOKUP(A71,'Mapa de Preços'!$A$16:$B$2988,2,0)=FALSE,\"Falta (U.M.)\",VLOOKUP(A71,'Mapa de Preços'!$A$16:$B$2988,2,0))","v":"Falta (U.M.)"},"","",null,{"$f":"VLOOKUP(A71,'Mapa de Preços'!$A$16:$J$2988,10,0)","v":"Falta Orçamento"},"",null,44]
[45,{"$f":"IF(VLOOKUP(A72,'Mapa de Preços'!$A$16:$B$2988,2,0)=FALSE,\"Falta (U.M.)\",VLOOKUP(A72,'Mapa de Preços'!$A$16:$B$2988,2,0))","v":"Falta (U.M.)"},"","",null,{"$f":"VLOOKUP(A72,'Mapa de Preços'!$A$16:$J$2988,10,0)","v":"Falta Orçamento"},"",null,45]
[46,{"$f":"IF(VLOOKUP(A73,'Mapa de Preços'!$A$16:$B$2988,2,0)=FALSE,\"Falta (U.M.)\",VLOOKUP(A73,'Mapa de Preços'!$A$16:$B$2988,2,0))","v":"Falta (U.M.)"},"","",null,{"$f":"VLOOKUP(A73,'Mapa de Preços'!$A$16:$J$2988,10,0)","v":"Falta Orçamento"},"",null,46]
[47,{"$f":"IF(VLOOKUP(A74,'Mapa de Preços'!$A$16:$B$2988,2,0)=FALSE,\"Falta (U.M.)\",VLOOKUP(A74,'Mapa de Preços'!$A$16:$B$2988,2,0))","v":"Falta (U.M.)"},"","",null,{"$f":"VLOOKUP(A74,'Mapa de Preços'!$A$16:$J$2988,10,0)","v":"Falta Orçamento"},"",null,47]
[48,{"$f":"IF(VLOOKUP(A75,'Mapa de Preços'!$A$16:$B$2988,2,0)=FALSE,\"Falta (U.M.)\",VLOOKUP(A75,'Mapa de Preços'!$A$16:$B$2988,2,0))","v":"Falta (U.M.)"},"","",null,{"$f":"VLOOKUP(A75,'Mapa de Preços'!$A$16:$J$2988,10,0)","v":"Falta Orçamento"},"",null,48]
[49,{"$f":"IF(VLOOKUP(A76,'Mapa de Preços'!$A$16:$B$2988,2,0)=FALSE,\"Falta (U.M.)\",VLOOKUP(A76,'Mapa de Preços'!$A$16:$B$2988,2,0))","v":"Falta (U.M.)"},"","",null,{"$f":"VLOOKUP(A76,'Mapa de Preços'!$A$16:$J$2988,10,0)","v":"Falta Orçamento"},"",null,49]
[50,{"$f":"IF(VLOOKUP(A77,'Mapa de Preços'!$A$16:$B$2988,2,0)=FALSE,\"Falta (U.M.)\",VLOOKUP(A77,'Mapa de Preços'!$A$16:$B$2988,2,0))","v":"Falta (U.M.)"},"","",null,{"$f":"VLOOKUP(A77,'Mapa de Preços'!$A$16:$J$2988,10,0)","v":"Falta Orçamento"},"",null,50]
[51,{"$f":"IF(VLOOKUP(A78,'Mapa de Preços'!$A$16:$B$2988,2,0)=FALSE,\"Falta (U.M.)\",VLOOKUP(A78,'Mapa de Preços'!$A$16:$B$2988,2,0))","v":"Falta (U.M.)"},"","",null,{"$f":"VLOOKUP(A78,'Mapa de Preços'!$A$16:$J$2988,10,0)","v":"Falta Orçamento"},"",null,51]
[52,{"$f":"IF(VLOOKUP(A79,'Mapa de Preços'!$A$16:$B$2988,2,0)=FALSE,\"Falta (U.M.)\",VLOOKUP(A79,'Mapa de Preços'!$A$16:$B$2988,2,0))","v":"Falta (U.M.)"},"","",null,{"$f":"VLOOKUP(A79,'Mapa de Preços'!$A$16:$J$2988,10,0)","v":"Falta Orçamento"},"",null,52]
[53,{"$f":"IF(VLOOKUP(A80,'Mapa de Preços'!$A$16:$B$2988,2,0)=FALSE,\"Falta (U.M.)\",VLOOKUP(A80,'Mapa de Preços'!$A$16:$B$2988,2,0))","v":"Falta (U.M.)"},"","",null,{"$f":"VLOOKUP(A80,'Mapa de Preços'!$A$16:$J$2988,10,0)","v":"Falta Orçamento"},"",null,53]
[54,{"$f":"IF(VLOOKUP(A81,'Mapa de Preços'!$A$16:$B$2988,2,0)=FALSE,\"Falta (U.M.)\",VLOOKUP(A81,'Mapa de Preços'!$A$16:$B$2988,2,0))","v":"Falta (U.M.)"},"","",null,{"$f":"VLOOKUP(A81,'Mapa de Preços'!$A$16:$J$2988,10,0)","v":"Falta Orçamento"},"",null,54]
[55,{"$f":"IF(VLOOKUP(A82,'Mapa de Preços'!$A$16:$B$2988,2,0)=FALSE,\"Falta (U.M.)\",VLOOKUP(A82,'Mapa de Preços'!$A$16:$B$2988,2,0))","v":"Falta (U.M.)"},"","",null,{"$f":"VLOOKUP(A82,'Mapa de Preços'!$A$16:$J$2988,10,0)","v":"Falta Orçamento"},"",null,55]
[56,{"$f":"IF(VLOOKUP(A83,'Mapa de Preços'!$A$16:$B$2988,2,0)=FALSE,\"Falta (U.M.)\",VLOOKUP(A83,'Mapa de Preços'!$A$16:$B$2988,2,0))","v":"Falta (U.M.)"},"","",null,{"$f":"VLOOKUP(A83,'Mapa de Preços'!$A$16:$J$2988,10,0)","v":"Falta Orçamento"},"",null,56]
[57,{"$f":"IF(VLOOKUP(A84,'Mapa de Preços'!$A$16:$B$2988,2,0)=FALSE,\"Falta (U.M.)\",VLOOKUP(A84,'Mapa de Preços'!$A$16:$B$2988,2,0))","v":"Falta (U.M.)"},"","",null,{"$f":"VLOOKUP(A84,'Mapa de Preços'!$A$16:$J$2988,10,0)","v":"Falta Orçamento"},"",null,57]
[58,{"$f":"IF(VLOOKUP(A85,'Mapa de Preços'!$A$16:$B$2988,2,0)=FALSE,\"Falta (U.M.)\",VLOOKUP(A85,'Mapa de Preços'!$A$16:$B$2988,2,0))","v":"Falta (U.M.)"},"","",null,{"$f":"VLOOKUP(A85,'Mapa de Preços'!$A$16:$J$2988,10,0)","v":"Falta Orçamento"},"",null,58]
[59,{"$f":"IF(VLOOKUP(A86,'Mapa de Preços'!$A$16:$B$2988,2,0)=FALSE,\"Falta (U.M.)\",VLOOKUP(A86,'Mapa de Preços'!$A$16:$B$2988,2,0))","v":"Falta (U.M.)"},"","",null,{"$f":"VLOOKUP(A86,'Mapa de Preços'!$A$16:$J$2988,10,0)","v":"Falta Orçamento"},"",null,59]
[60,{"$f":"IF(VLOOKUP(A87,'Mapa de Preços'!$A$16:$B$2988,2,0)=FALSE,\"Falta (U.M.)\",VLOOKUP(A87,'Mapa de Preços'!$A$16:$B$2988,2,0))","v":"Falta (U.M.)"},"","",null,{"$f":"VLOOKUP(A87,'Mapa de Preços'!$A$16:$J$2988,10,0)","v":"Falta Orçamento"},"",null,60]
[61,{"$f":"IF(VLOOKUP(A88,'Mapa de Preços'!$A$16:$B$2988,2,0)=FALSE,\"Falta (U.M.)\",VLOOKUP(A88,'Mapa de Preços'!$A$16:$B$2988,2,0))","v":"Falta (U.M.)"},"","",null,{"$f":"VLOOKUP(A88,'Mapa de Preços'!$A$16:$J$2988,10,0)","v":"Falta Orçamento"},"",null,61]
[62,{"$f":"IF(VLOOKUP(A89,'Mapa de Preços'!$A$16:$B$2988,2,0)=FALSE,\"Falta (U.M.)\",VLOOKUP(A89,'Mapa de Preços'!$A$16:$B$2988,2,0))","v":"Falta (U.M.)"},"","",null,{"$f":"VLOOKUP(A89,'Mapa de Preços'!$A$16:$J$2988,10,0)","v":"Falta Orçamento"},"",null,62]
[63,{"$f":"IF(VLOOKUP(A90,'Mapa de Preços'!$A$16:$B$2988,2,0)=FALSE,\"Falta (U.M.)\",VLOOKUP(A90,'Mapa de Preços'!$A$16:$B$2988,2,0))","v":"Falta (U.M.)"},"","",null,{"$f":"VLOOKUP(A90,'Mapa de Preços'!$A$16:$J$2988,10,0)","v":"Falta Orçamento"},"",null,63]
[64,{"$f":"IF(VLOOKUP(A91,'Mapa de Preços'!$A$16:$B$2988,2,0)=FALSE,\"Falta (U.M.)\",VLOOKUP(A91,'Mapa de Preços'!$A$16:$B$2988,2,0))","v":"Falta (U.M.)"},"","",null,{"$f":"VLOOKUP(A91,'Mapa de Preços'!$A$16:$J$2988,10,0)","v":"Falta Orçamento"},"",null,64]
[65,{"$f":"IF(VLOOKUP(A92,'Mapa de Preços'!$A$16:$B$2988,2,0)=FALSE,\"Falta (U.M.)\",VLOOKUP(A92,'Mapa de Preços'!$A$16:$B$2988,2,0))","v":"Falta (U.M.)"},"","",null,{"$f":"VLOOKUP(A92,'Mapa de Preços'!$A$16:$J$2988,10,0)","v":"Falta Orçamento"},"",null,65]
[66,{"$f":"IF(VLOOKUP(A93,'Mapa de Preços'!$A$16:$B$2988,2,0)=FALSE,\"Falta (U.M.)\",VLOOKUP(A93,'Mapa de Preços'!$A$16:$B$2988,2,0))","v":"Falta (U.M.)"},{"$f":"IF(J93<>\"\",J93,\"\")","v":""},{"$f":"IF(VLOOKUP(A93,$I$28:$AI$3000,$G$26,FALSE)<>\"\",VLOOKUP(A93,$I$28:$AI$3000,$G$26,FALSE),\"\")","v":""},null,{"$f":"VLOOKUP(A93,'Mapa de Preços'!$A$16:$J$2988,10,0)","v":"Falta Orçamento"},{"$f":"IF(F93=\"Falta Orçamento\",\"\",F93*D93)","v":""},null,66]
[67,{"$f":"IF(VLOOKUP(A94,'Mapa de Preços'!$A$16:$B$2988,2,0)=FALSE,\"Falta (U.M.)\",VLOOKUP(A94,'Mapa de Preços'!$A$16:$B$2988,2,0))","v":"Falta (U.M.)"},"","",null,{"$f":"VLOOKUP(A94,'Mapa de Preços'!$A$16:$J$2988,10,0)","v":"Falta Orçamento"},"",null,67]
[68,{"$f":"IF(VLOOKUP(A95,'Mapa de Preços'!$A$16:$B$2988,2,0)=FALSE,\"Falta (U.M.)\",VLOOKUP(A95,'Mapa de Preços'!$A$16:$B$2988,2,0))","v":"Falta (U.M.)"},"","",null,{"$f":"VLOOKUP(A95,'Mapa de Preços'!$A$16:$J$2988,10,0)","v":"Falta Orçamento"},"",null,68]
[69,{"$f":"IF(VLOOKUP(A96,'Mapa de Preços'!$A$16:$B$2988,2,0)=FALSE,\"Falta (U.M.)\",VLOOKUP(A96,'Mapa de Preços'!$A$16:$B$2988,2,0))","v":"Falta (U.M.)"},"","",null,{"$f":"VLOOKUP(A96,'Mapa de Preços'!$A$16:$J$2988,10,0)","v":"Falta Orçamento"},"",null,69]
[70,{"$f":"IF(VLOOKUP(A97,'Mapa de Preços'!$A$16:$B$2988,2,0)=FALSE,\"Falta (U.M.)\",VLOOKUP(A97,'Mapa de Preços'!$A$16:$B$2988,2,0))","v":"Falta (U.M.)"},"","",null,{"$f":"VLOOKUP(A97,'Mapa de Preços'!$A$16:$J$2988,10,0)","v":"Falta Orçamento"},"",null,70]
[71,{"$f":"IF(VLOOKUP(A98,'Mapa de Preços'!$A$16:$B$2988,2,0)=FALSE,\"Falta (U.M.)\",VLOOKUP(A98,'Mapa de Preços'!$A$16:$B$2988,2,0))","v":"Falta (U.M.)"},"","",null,{"$f":"VLOOKUP(A98,'Mapa de Preços'!$A$16:$J$2988,10,0)","v":"Falta Orçamento"},"",null,71]
[72,{"$f":"IF(VLOOKUP(A99,'Mapa de Preços'!$A$16:$B$2988,2,0)=FALSE,\"Falta (U.M.)\",VLOOKUP(A99,'Mapa de Preços'!$A$16:$B$2988,2,0))","v":"Falta (U.M.)"},"","",null,{"$f":"VLOOKUP(A99,'Mapa de Preços'!$A$16:$J$2988,10,0)","v":"Falta Orçamento"},"",null,72]
[73,{"$f":"IF(VLOOKUP(A100,'Mapa de Preços'!$A$16:$B$2988,2,0)=FALSE,\"Falta (U.M.)\",VLOOKUP(A100,'Mapa de Preços'!$A$16:$B$2988,2,0))","v":"Falta (U.M.)"},"","",null,{"$f":"VLOOKUP(A100,'Mapa de Preços'!$A$16:$J$2988,10,0)","v":"Falta Orçamento"},"",null,73]
[74,{"$f":"IF(VLOOKUP(A101,'Mapa de Preços'!$A$16:$B$2988,2,0)=FALSE,\"Falta (U.M.)\",VLOOKUP(A101,'Mapa de Preços'!$A$16:$B$2988,2,0))","v":"Falta (U.M.)"},"","",null,{"$f":"VLOOKUP(A101,'Mapa de Preços'!$A$16:$J$2988,10,0)","v":"Falta Orçamento"},"",null,74]
[75,{"$f":"IF(VLOOKUP(A102,'Mapa de Preços'!$A$16:$B$2988,2,0)=FALSE,\"Falta (U.M.)\",VLOOKUP(A102,'Mapa de Preços'!$A$16:$B$2988,2,0))","v":"Falta (U.M.)"},"","",null,{"$f":"VLOOKUP(A102,'Mapa de Preços'!$A$16:$J$2988,10,0)","v":"Falta Orçamento"},"",null,75]
[76,{"$f":"IF(VLOOKUP(A103,'Mapa de Preços'!$A$16:$B$2988,2,0)=FALSE,\"Falta (U.M.)\",VLOOKUP(A103,'Mapa de Preços'!$A$16:$B$2988,2,0))","v":"Falta (U.M.)"},"","",null,{"$f":"VLOOKUP(A103,'Mapa de Preços'!$A$16:$J$2988,10,0)","v":"Falta Orçamento"},"",null,76]
[77,{"$f":"IF(VLOOKUP(A104,'Mapa de Preços'!$A$16:$B$2988,2,0)=FALSE,\"Falta (U.M.)\",VLOOKUP(A104,'Mapa de Preços'!$A$16:$B$2988,2,0))","v":"Falta (U.M.)"},"","",null,{"$f":"VLOOKUP(A104,'Mapa de Preços'!$A$16:$J$2988,10,0)","v":"Falta Orçamento"},"",null,77]
[78,{"$f":"IF(VLOOKUP(A105,'Mapa de Preços'!$A$16:$B$2988,2,0)=FALSE,\"Falta (U.M.)\",VLOOKUP(A105,'Mapa de Preços'!$A$16:$B$2988,2,0))","v":"Falta (U.M.)"},"","",null,{"$f":"VLOOKUP(A105,'Mapa de Preços'!$A$16:$J$2988,10,0)","v":"Falta Orçamento"},"",null,78]
[79,{"$f":"IF(VLOOKUP(A106,'Mapa de Preços'!$A$16:$B$2988,2,0)=FALSE,\"Falta (U.M.)\",VLOOKUP(A106,'Mapa de Preços'!$A$16:$B$2988,2,0))","v":"Falta (U.M.)"},"","",null,{"$f":"VLOOKUP(A106,'Mapa de Preços'!$A$16:$J$2988,10,0)","v":"Falta Orçamento"},"",null,79]
[80,{"$f":"IF(VLOOKUP(A107,'Mapa de Preços'!$A$16:$B$2988,2,0)=FALSE,\"Falta (U.M.)\",VLOOKUP(A107,'Mapa de Preços'!$A$16:$B$2988,2,0))","v":"Falta (U.M.)"},"","",null,{"$f":"VLOOKUP(A107,'Mapa de Preços'!$A$16:$J$2988,10,0)","v":"Falta Orçamento"},"",null,80]
[81,{"$f":"IF(VLOOKUP(A108,'Mapa de Preços'!$A$16:$B$2988,2,0)=FALSE,\"Falta (U.M.)\",VLOOKUP(A108,'Mapa de Preços'!$A$16:$B$2988,2,0))","v":"Falta (U.M.)"},"","",null,{"$f":"VLOOKUP(A108,'Mapa de Preços'!$A$16:$J$2988,10,0)","v":"Falta Orçamento"},"",null,81]
[82,{"$f":"IF(VLOOKUP(A109,'Mapa de Preços'!$A$16:$B$2988,2,0)=FALSE,\"Falta (U.M.)\",VLOOKUP(A109,'Mapa de Preços'!$A$16:$B$2988,2,0))","v":"Falta (U.M.)"},"","",null,{"$f":"VLOOKUP(A109,'Mapa de Preços'!$A$16:$J$2988,10,0)","v":"Falta Orçamento"},"",null,82]
[83,{"$f":"IF(VLOOKUP(A110,'Mapa de Preços'!$A$16:$B$2988,2,0)=FALSE,\"Falta (U.M.)\",VLOOKUP(A110,'Mapa de Preços'!$A$16:$B$2988,2,0))","v":"Falta (U.M.)"},"","",null,{"$f":"VLOOKUP(A110,'Mapa de Preços'!$A$16:$J$2988,10,0)","v":"Falta Orçamento"},"",null,83]
[84,{"$f":"IF(VLOOKUP(A111,'Mapa de Preços'!$A$16:$B$2988,2,0)=FALSE,\"Falta (U.M.)\",VLOOKUP(A111,'Mapa de Preços'!$A$16:$B$2988,2,0))","v":"Falta (U.M.)"},"","",null,{"$f":"VLOOKUP(A111,'Mapa de Preços'!$A$16:$J$2988,10,0)","v":"Falta Orçamento"},"",null,84]
[85,{"$f":"IF(VLOOKUP(A112,'Mapa de Preços'!$A$16:$B$2988,2,0)=FALSE,\"Falta (U.M.)\",VLOOKUP(A112,'Mapa de Preços'!$A$16:$B$2988,2,0))","v":"Falta (U.M.)"},"","",null,{"$f":"VLOOKUP(A112,'Mapa de Preços'!$A$16:$J$2988,10,0)","v":"Falta Orçamento"},"",null,85]
[86,{"$f":"IF(VLOOKUP(A113,'Mapa de Preços'!$A$16:$B$2988,2,0)=FALSE,\"Falta (U.M.)\",VLOOKUP(A113,'Mapa de Preços'!$A$16:$B$2988,2,0))","v":"Falta (U.M.)"},"","",null,{"$f":"VLOOKUP(A113,'Mapa de Preços'!$A$16:$J$2988,10,0)","v":"Falta Orçamento"},"",null,86]
[87,{"$f":"IF(VLOOKUP(A114,'Mapa de Preços'!$A$16:$B$2988,2,0)=FALSE,\"Falta (U.M.)\",VLOOKUP(A114,'Mapa de Preços'!$A$16:$B$2988,2,0))","v":"Falta (U.M.)"},"","",null,{"$f":"VLOOKUP(A114,'Mapa de Preços'!$A$16:$J$2988,10,0)","v":"Falta Orçamento"},"",null,87]
[88,{"$f":"IF(VLOOKUP(A115,'Mapa de Preços'!$A$16:$B$2988,2,0)=FALSE,\"Falta (U.M.)\",VLOOKUP(A115,'Mapa de Preços'!$A$16:$B$2988,2,0))","v":"Falta (U.M.)"},"","",null,{"$f":"VLOOKUP(A115,'Mapa de Preços'!$A$16:$J$2988,10,0)","v":"Falta Orçamento"},"",null,88]
[89,{"$f":"IF(VLOOKUP(A116,'Mapa de Preços'!$A$16:$B$2988,2,0)=FALSE,\"Falta (U.M.)\",VLOOKUP(A116,'Mapa de Preços'!$A$16:$B$2988,2,0))","v":"Falta (U.M.)"},"","",null,{"$f":"VLOOKUP(A116,'Mapa de Preços'!$A$16:$J$2988,10,0)","v":"Falta Orçamento"},"",null,89]
[90,{"$f":"IF(VLOOKUP(A117,'Mapa de Preços'!$A$16:$B$2988,2,0)=FALSE,\"Falta (U.M.)\",VLOOKUP(A117,'Mapa de Preços'!$A$16:$B$2988,2,0))","v":"Falta (U.M.)"},"","",null,{"$f":"VLOOKUP(A117,'Mapa de Preços'!$A$16:$J$2988,10,0)","v":"Falta Orçamento"},"",null,90]
[91,{"$f":"IF(VLOOKUP(A118,'Mapa de Preços'!$A$16:$B$2988,2,0)=FALSE,\"Falta (U.M.)\",VLOOKUP(A118,'Mapa de Preços'!$A$16:$B$2988,2,0))","v":"Falta (U.M.)"},"","",null,{"$f":"VLOOKUP(A118,'Mapa de Preços'!$A$16:$J$2988,10,0)","v":"Falta Orçamento"},"",null,91]
[92,{"$f":"IF(VLOOKUP(A119,'Mapa de Preços'!$A$16:$B$2988,2,0)=FALSE,\"Falta (U.M.)\",VLOOKUP(A119,'Mapa de Preços'!$A$16:$B$2988,2,0))","v":"Falta (U.M.)"},"","",null,{"$f":"VLOOKUP(A119,'Mapa de Preços'!$A$16:$J$2988,10,0)","v":"Falta Orçamento"},"",null,92]
[93,{"$f":"IF(VLOOKUP(A120,'Mapa de Preços'!$A$16:$B$2988,2,0)=FALSE,\"Falta (U.M.)\",VLOOKUP(A120,'Mapa de Preços'!$A$16:$B$2988,2,0))","v":"Falta (U.M.)"},"","",null,{"$f":"VLOOKUP(A120,'Mapa de Preços'!$A$16:$J$2988,10,0)","v":"Falta Orçamento"},"",null,93]
[94,{"$f":"IF(VLOOKUP(A121,'Mapa de Preços'!$A$16:$B$2988,2,0)=FALSE,\"Falta (U.M.)\",VLOOKUP(A121,'Mapa de Preços'!$A$16:$B$2988,2,0))","v":"Falta (U.M.)"},"","",null,{"$f":"VLOOKUP(A121,'Mapa de Preços'!$A$16:$J$2988,10,0)","v":"Falta Orçamento"},"",null,94]
[95,{"$f":"IF(VLOOKUP(A122,'Mapa de Preços'!$A$16:$B$2988,2,0)=FALSE,\"Falta (U.M.)\",VLOOKUP(A122,'Mapa de Preços'!$A$16:$B$2988,2,0))","v":"Falta (U.M.)"},"","",null,{"$f":"VLOOKUP(A122,'Mapa de Preços'!$A$16:$J$2988,10,0)","v":"Falta Orçamento"},"",null,95]
[96,{"$f":"IF(VLOOKUP(A123,'Mapa de Preços'!$A$16:$B$2988,2,0)=FALSE,\"Falta (U.M.)\",VLOOKUP(A123,'Mapa de Preços'!$A$16:$B$2988,2,0))","v":"Falta (U.M.)"},"","",null,{"$f":"VLOOKUP(A123,'Mapa de Preços'!$A$16:$J$2988,10,0)","v":"Falta Orçamento"},"",null,96]
[97,{"$f":"IF(VLOOKUP(A124,'Mapa de Preços'!$A$16:$B$2988,2,0)=FALSE,\"Falta (U.M.)\",VLOOKUP(A124,'Mapa de Preços'!$A$16:$B$2988,2,0))","v":"Falta (U.M.)"},"","",null,{"$f":"VLOOKUP(A124,'Mapa de Preços'!$A$16:$J$2988,10,0)","v":"Falta Orçamento"},"",null,97]
[98,{"$f":"IF(VLOOKUP(A125,'Mapa de Preços'!$A$16:$B$2988,2,0)=FALSE,\"Falta (U.M.)\",VLOOKUP(A125,'Mapa de Preços'!$A$16:$B$2988,2,0))","v":"Falta (U.M.)"},"","",null,{"$f":"VLOOKUP(A125,'Mapa de Preços'!$A$16:$J$2988,10,0)","v":"Falta Orçamento"},"",null,98]
[99,{"$f":"IF(VLOOKUP(A126,'Mapa de Preços'!$A$16:$B$2988,2,0)=FALSE,\"Falta (U.M.)\",VLOOKUP(A126,'Mapa de Preços'!$A$16:$B$2988,2,0))","v":"Falta (U.M.)"},"","",null,{"$f":"VLOOKUP(A126,'Mapa de Preços'!$A$16:$J$2988,10,0)","v":"Falta Orçamento"},"",null,99]
[100,{"$f":"IF(VLOOKUP(A127,'Mapa de Preços'!$A$16:$B$2988,2,0)=FALSE,\"Falta (U.M.)\",VLOOKUP(A127,'Mapa de Preços'!$A$16:$B$2988,2,0))","v":"Falta (U.M.)"},"","",null,{"$f":"VLOOKUP(A127,'Mapa de Preços'!$A$16:$J$2988,10,0)","v":"Falta Orçamento"},"",null,100]
[101,{"$f":"IF(VLOOKUP(A128,'Mapa de Preços'!$A$16:$B$2988,2,0)=FALSE,\"Falta (U.M.)\",VLOOKUP(A128,'Mapa de Preços'!$A$16:$B$2988,2,0))","v":"Falta (U.M.)"},"","",null,{"$f":"VLOOKUP(A128,'Mapa de Preços'!$A$16:$J$2988,10,0)","v":"Falta Orçamento"},"",null,101]
[102,{"$f":"IF(VLOOKUP(A129,'Mapa de Preços'!$A$16:$B$2988,2,0)=FALSE,\"Falta (U.M.)\",VLOOKUP(A129,'Mapa de Preços'!$A$16:$B$2988,2,0))","v":"Falta (U.M.)"},"","",null,{"$f":"VLOOKUP(A129,'Mapa de Preços'!$A$16:$J$2988,10,0)","v":"Falta Orçamento"},"",null,102]
[103,{"$f":"IF(VLOOKUP(A130,'Mapa de Preços'!$A$16:$B$2988,2,0)=FALSE,\"Falta (U.M.)\",VLOOKUP(A130,'Mapa de Preços'!$A$16:$B$2988,2,0))","v":"Falta (U.M.)"},"","",null,{"$f":"VLOOKUP(A130,'Mapa de Preços'!$A$16:$J$2988,10,0)","v":"Falta Orçamento"},"",null,103]
[104,{"$f":"IF(VLOOKUP(A131,'Mapa de Preços'!$A$16:$B$2988,2,0)=FALSE,\"Falta (U.M.)\",VLOOKUP(A131,'Mapa de Preços'!$A$16:$B$2988,2,0))","v":"Falta (U.M.)"},"","",null,{"$f":"VLOOKUP(A131,'Mapa de Preços'!$A$16:$J$2988,10,0)","v":"Falta Orçamento"},"",null,104]
[105,{"$f":"IF(VLOOKUP(A132,'Mapa de Preços'!$A$16:$B$2988,2,0)=FALSE,\"Falta (U.M.)\",VLOOKUP(A132,'Mapa de Preços'!$A$16:$B$2988,2,0))","v":"Falta (U.M.)"},"","",null,{"$f":"VLOOKUP(A132,'Mapa de Preços'!$A$16:$J$2988,10,0)","v":"Falta Orçamento"},"",null,105]
[106,{"$f":"IF(VLOOKUP(A133,'Mapa de Preços'!$A$16:$B$2988,2,0)=FALSE,\"Falta (U.M.)\",VLOOKUP(A133,'Mapa de Preços'!$A$16:$B$2988,2,0))","v":"Falta (U.M.)"},"","",null,{"$f":"VLOOKUP(A133,'Mapa de Preços'!$A$16:$J$2988,10,0)","v":"Falta Orçamento"},"",null,106]
[107,{"$f":"IF(VLOOKUP(A134,'Mapa de Preços'!$A$16:$B$2988,2,0)=FALSE,\"Falta (U.M.)\",VLOOKUP(A134,'Mapa de Preços'!$A$16:$B$2988,2,0))","v":"Falta (U.M.)"},"","",null,{"$f":"VLOOKUP(A134,'Mapa de Preços'!$A$16:$J$2988,10,0)","v":"Falta Orçamento"},"",null,107]
[108,{"$f":"IF(VLOOKUP(A135,'Mapa de Preços'!$A$16:$B$2988,2,0)=FALSE,\"Falta (U.M.)\",VLOOKUP(A135,'Mapa de Preços'!$A$16:$B$2988,2,0))","v":"Falta (U.M.)"},"","",null,{"$f":"VLOOKUP(A135,'Mapa de Preços'!$A$16:$J$2988,10,0)","v":"Falta Orçamento"},"",null,108]
[109,{"$f":"IF(VLOOKUP(A136,'Mapa de Preços'!$A$16:$B$2988,2,0)=FALSE,\"Falta (U.M.)\",VLOOKUP(A136,'Mapa de Preços'!$A$16:$B$2988,2,0))","v":"Falta (U.M.)"},"","",null,{"$f":"VLOOKUP(A136,'Mapa de Preços'!$A$16:$J$2988,10,0)","v":"Falta Orçamento"},"",null,109]
[110,{"$f":"IF(VLOOKUP(A137,'Mapa de Preços'!$A$16:$B$2988,2,0)=FALSE,\"Falta (U.M.)\",VLOOKUP(A137,'Mapa de Preços'!$A$16:$B$2988,2,0))","v":"Falta (U.M.)"},"","",null,{"$f":"VLOOKUP(A137,'Mapa de Preços'!$A$16:$J$2988,10,0)","v":"Falta Orçamento"},"",null,110]
[111,{"$f":"IF(VLOOKUP(A138,'Mapa de Preços'!$A$16:$B$2988,2,0)=FALSE,\"Falta (U.M.)\",VLOOKUP(A138,'Mapa de Preços'!$A$16:$B$2988,2,0))","v":"Falta (U.M.)"},"","",null,{"$f":"VLOOKUP(A138,'Mapa de Preços'!$A$16:$J$2988,10,0)","v":"Falta Orçamento"},"",null,111]
[112,{"$f":"IF(VLOOKUP(A139,'Mapa de Preços'!$A$16:$B$2988,2,0)=FALSE,\"Falta (U.M.)\",VLOOKUP(A139,'Mapa de Preços'!$A$16:$B$2988,2,0))","v":"Falta (U.M.)"},"","",null,{"$f":"VLOOKUP(A139,'Mapa de Preços'!$A$16:$J$2988,10,0)","v":"Falta Orçamento"},"",null,112]
[113,{"$f":"IF(VLOOKUP(A140,'Mapa de Preços'!$A$16:$B$2988,2,0)=FALSE,\"Falta (U.M.)\",VLOOKUP(A140,'Mapa de Preços'!$A$16:$B$2988,2,0))","v":"Falta (U.M.)"},"","",null,{"$f":"VLOOKUP(A140,'Mapa de Preços'!$A$16:$J$2988,10,0)","v":"Falta Orçamento"},"",null,113]
[114,{"$f":"IF(VLOOKUP(A141,'Mapa de Preços'!$A$16:$B$2988,2,0)=FALSE,\"Falta (U.M.)\",VLOOKUP(A141,'Mapa de Preços'!$A$16:$B$2988,2,0))","v":"Falta (U.M.)"},"","",null,{"$f":"VLOOKUP(A141,'Mapa de Preços'!$A$16:$J$2988,10,0)","v":"Falta Orçamento"},"",null,114]
[115,{"$f":"IF(VLOOKUP(A142,'Mapa de Preços'!$A$16:$B$2988,2,0)=FALSE,\"Falta (U.M.)\",VLOOKUP(A142,'Mapa de Preços'!$A$16:$B$2988,2,0))","v":"Falta (U.M.)"},"","",null,{"$f":"VLOOKUP(A142,'Mapa de Preços'!$A$16:$J$2988,10,0)","v":"Falta Orçamento"},"",null,115]
[116,{"$f":"IF(VLOOKUP(A143,'Mapa de Preços'!$A$16:$B$2988,2,0)=FALSE,\"Falta (U.M.)\",VLOOKUP(A143,'Mapa de Preços'!$A$16:$B$2988,2,0))","v":"Falta (U.M.)"},"","",null,{"$f":"VLOOKUP(A143,'Mapa de Preços'!$A$16:$J$2988,10,0)","v":"Falta Orçamento"},"",null,116]
[117,{"$f":"IF(VLOOKUP(A144,'Mapa de Preços'!$A$16:$B$2988,2,0)=FALSE,\"Falta (U.M.)\",VLOOKUP(A144,'Mapa de Preços'!$A$16:$B$2988,2,0))","v":"Falta (U.M.)"},"","",null,{"$f":"VLOOKUP(A144,'Mapa de Preços'!$A$16:$J$2988,10,0)","v":"Falta Orçamento"},"",null,117]
[118,{"$f":"IF(VLOOKUP(A145,'Mapa de Preços'!$A$16:$B$2988,2,0)=FALSE,\"Falta (U.M.)\",VLOOKUP(A145,'Mapa de Preços'!$A$16:$B$2988,2,0))","v":"Falta (U.M.)"},"","",null,{"$f":"VLOOKUP(A145,'Mapa de Preços'!$A$16:$J$2988,10,0)","v":"Falta Orçamento"},"",null,118]
[119,{"$f":"IF(VLOOKUP(A146,'Mapa de Preços'!$A$16:$B$2988,2,0)=FALSE,\"Falta (U.M.)\",VLOOKUP(A146,'Mapa de Preços'!$A$16:$B$2988,2,0))","v":"Falta (U.M.)"},"","",null,{"$f":"VLOOKUP(A146,'Mapa de Preços'!$A$16:$J$2988,10,0)","v":"Falta Orçamento"},"",null,119]
[120,{"$f":"IF(VLOOKUP(A147,'Mapa de Preços'!$A$16:$B$2988,2,0)=FALSE,\"Falta (U.M.)\",VLOOKUP(A147,'Mapa de Preços'!$A$16:$B$2988,2,0))","v":"Falta (U.M.)"},"","",null,{"$f":"VLOOKUP(A147,'Mapa de Preços'!$A$16:$J$2988,10,0)","v":"Falta Orçamento"},"",null,120]
[121,{"$f":"IF(VLOOKUP(A148,'Mapa de Preços'!$A$16:$B$2988,2,0)=FALSE,\"Falta (U.M.)\",VLOOKUP(A148,'Mapa de Preços'!$A$16:$B$2988,2,0))","v":"Falta (U.M.)"},"","",null,{"$f":"VLOOKUP(A148,'Mapa de Preços'!$A$16:$J$2988,10,0)","v":"Falta Orçamento"},"",null,121]
[122,{"$f":"IF(VLOOKUP(A149,'Mapa de Preços'!$A$16:$B$2988,2,0)=FALSE,\"Falta (U.M.)\",VLOOKUP(A149,'Mapa de Preços'!$A$16:$B$2988,2,0))","v":"Falta (U.M.)"},"","",null,{"$f":"VLOOKUP(A149,'Mapa de Preços'!$A$16:$J$2988,10,0)","v":"Falta Orçamento"},"",null,122]
[123,{"$f":"IF(VLOOKUP(A150,'Mapa de Preços'!$A$16:$B$2988,2,0)=FALSE,\"Falta (U.M.)\",VLOOKUP(A150,'Mapa de Preços'!$A$16:$B$2988,2,0))","v":"Falta (U.M.)"},"","",null,{"$f":"VLOOKUP(A150,'Mapa de Preços'!$A$16:$J$2988,10,0)","v":"Falta Orçamento"},"",null,123]
[124,{"$f":"IF(VLOOKUP(A151,'Mapa de Preços'!$A$16:$B$2988,2,0)=FALSE,\"Falta (U.M.)\",VLOOKUP(A151,'Mapa de Preços'!$A$16:$B$2988,2,0))","v":"Falta (U.M.)"},"","",null,{"$f":"VLOOKUP(A151,'Mapa de Preços'!$A$16:$J$2988,10,0)","v":"Falta Orçamento"},"",null,124]
[125,{"$f":"IF(VLOOKUP(A152,'Mapa de Preços'!$A$16:$B$2988,2,0)=FALSE,\"Falta (U.M.)\",VLOOKUP(A152,'Mapa de Preços'!$A$16:$B$2988,2,0))","v":"Falta (U.M.)"},"","",null,{"$f":"VLOOKUP(A152,'Mapa de Preços'!$A$16:$J$2988,10,0)","v":"Falta Orçamento"},"",null,125]
[126,{"$f":"IF(VLOOKUP(A153,'Mapa de Preços'!$A$16:$B$2988,2,0)=FALSE,\"Falta (U.M.)\",VLOOKUP(A153,'Mapa de Preços'!$A$16:$B$2988,2,0))","v":"Falta (U.M.)"},"","",null,{"$f":"VLOOKUP(A153,'Mapa de Preços'!$A$16:$J$2988,10,0)","v":"Falta Orçamento"},"",null,126]
[127,{"$f":"IF(VLOOKUP(A154,'Mapa de Preços'!$A$16:$B$2988,2,0)=FALSE,\"Falta (U.M.)\",VLOOKUP(A154,'Mapa de Preços'!$A$16:$B$2988,2,0))","v":"Falta (U.M.)"},"","",null,{"$f":"VLOOKUP(A154,'Mapa de Preços'!$A$16:$J$2988,10,0)","v":"Falta Orçamento"},"",null,127]
[128,{"$f":"IF(VLOOKUP(A155,'Mapa de Preços'!$A$16:$B$2988,2,0)=FALSE,\"Falta (U.M.)\",VLOOKUP(A155,'Mapa de Preços'!$A$16:$B$2988,2,0))","v":"Falta (U.M.)"},"","",null,{"$f":"VLOOKUP(A155,'Mapa de Preços'!$A$16:$J$2988,10,0)","v":"Falta Orçamento"},"",null,128]
[129,{"$f":"IF(VLOOKUP(A156,'Mapa de Preços'!$A$16:$B$2988,2,0)=FALSE,\"Falta (U.M.)\",VLOOKUP(A156,'Mapa de Preços'!$A$16:$B$2988,2,0))","v":"Falta (U.M.)"},"","",null,{"$f":"VLOOKUP(A156,'Mapa de Preços'!$A$16:$J$2988,10,0)","v":"Falta Orçamento"},"",null,129]
[130,{"$f":"IF(VLOOKUP(A157,'Mapa de Preços'!$A$16:$B$2988,2,0)=FALSE,\"Falta (U.M.)\",VLOOKUP(A157,'Mapa de Preços'!$A$16:$B$2988,2,0))","v":"Falta (U.M.)"},{"$f":"IF(J157<>\"\",J157,\"\")","v":""},{"$f":"IF(VLOOKUP(A157,$I$28:$AI$3000,$G$26,FALSE)<>\"\",VLOOKUP(A157,$I$28:$AI$3000,$G$26,FALSE),\"\")","v":""},null,{"$f":"VLOOKUP(A157,'Mapa de Preços'!$A$16:$J$2988,10,0)","v":"Falta Orçamento"},{"$f":"IF(F157=\"Falta Orçamento\",\"\",F157*D157)","v":""},null,130]
[131,{"$f":"IF(VLOOKUP(A158,'Mapa de Preços'!$A$16:$B$2988,2,0)=FALSE,\"Falta (U.M.)\",VLOOKUP(A158,'Mapa de Preços'!$A$16:$B$2988,2,0))","v":"Falta (U.M.)"},"","",null,{"$f":"VLOOKUP(A158,'Mapa de Preços'!$A$16:$J$2988,10,0)","v":"Falta Orçamento"},"",null,131]
[132,{"$f":"IF(VLOOKUP(A159,'Mapa de Preços'!$A$16:$B$2988,2,0)=FALSE,\"Falta (U.M.)\",VLOOKUP(A159,'Mapa de Preços'!$A$16:$B$2988,2,0))","v":"Falta (U.M.)"},"","",null,{"$f":"VLOOKUP(A159,'Mapa de Preços'!$A$16:$J$2988,10,0)","v":"Falta Orçamento"},"",null,132]
[133,{"$f":"IF(VLOOKUP(A160,'Mapa de Preços'!$A$16:$B$2988,2,0)=FALSE,\"Falta (U.M.)\",VLOOKUP(A160,'Mapa de Preços'!$A$16:$B$2988,2,0))","v":"Falta (U.M.)"},"","",null,{"$f":"VLOOKUP(A160,'Mapa de Preços'!$A$16:$J$2988,10,0)","v":"Falta Orçamento"},"",null,133]
[134,{"$f":"IF(VLOOKUP(A161,'Mapa de Preços'!$A$16:$B$2988,2,0)=FALSE,\"Falta (U.M.)\",VLOOKUP(A161,'Mapa de Preços'!$A$16:$B$2988,2,0))","v":"Falta (U.M.)"},"","",null,{"$f":"VLOOKUP(A161,'Mapa de Preços'!$A$16:$J$2988,10,0)","v":"Falta Orçamento"},"",null,134]
[135,{"$f":"IF(VLOOKUP(A162,'Mapa de Preços'!$A$16:$B$2988,2,0)=FALSE,\"Falta (U.M.)\",VLOOKUP(A162,'Mapa de Preços'!$A$16:$B$2988,2,0))","v":"Falta (U.M.)"},"","",null,{"$f":"VLOOKUP(A162,'Mapa de Preços'!$A$16:$J$2988,10,0)","v":"Falta Orçamento"},"",null,135]
[136,{"$f":"IF(VLOOKUP(A163,'Mapa de Preços'!$A$16:$B$2988,2,0)=FALSE,\"Falta (U.M.)\",VLOOKUP(A163,'Mapa de Preços'!$A$16:$B$2988,2,0))","v":"Falta (U.M.)"},"","",null,{"$f":"VLOOKUP(A163,'Mapa de Preços'!$A$16:$J$2988,10,0)","v":"Falta Orçamento"},"",null,136]
[137,{"$f":"IF(VLOOKUP(A164,'Mapa de Preços'!$A$16:$B$2988,2,0)=FALSE,\"Falta (U.M.)\",VLOOKUP(A164,'Mapa de Preços'!$A$16:$B$2988,2,0))","v":"Falta (U.M.)"},"","",null,{"$f":"VLOOKUP(A164,'Mapa de Preços'!$A$16:$J$2988,10,0)","v":"Falta Orçamento"},"",null,137]
[138,{"$f":"IF(VLOOKUP(A165,'Mapa de Preços'!$A$16:$B$2988,2,0)=FALSE,\"Falta (U.M.)\",VLOOKUP(A165,'Mapa de Preços'!$A$16:$B$2988,2,0))","v":"Falta (U.M.)"},"","",null,{"$f":"VLOOKUP(A165,'Mapa de Preços'!$A$16:$J$2988,10,0)","v":"Falta Orçamento"},"",null,138]
[139,{"$f":"IF(VLOOKUP(A166,'Mapa de Preços'!$A$16:$B$2988,2,0)=FALSE,\"Falta (U.M.)\",VLOOKUP(A166,'Mapa de Preços'!$A$16:$B$2988,2,0))","v":"Falta (U.M.)"},"","",null,{"$f":"VLOOKUP(A166,'Mapa de Preços'!$A$16:$J$2988,10,0)","v":"Falta Orçamento"},"",null,139]
[140,{"$f":"IF(VLOOKUP(A167,'Mapa de Preços'!$A$16:$B$2988,2,0)=FALSE,\"Falta (U.M.)\",VLOOKUP(A167,'Mapa de Preços'!$A$16:$B$2988,2,0))","v":"Falta (U.M.)"},"","",null,{"$f":"VLOOKUP(A167,'Mapa de Preços'!$A$16:$J$2988,10,0)","v":"Falta Orçamento"},"",null,140]
[141,{"$f":"IF(VLOOKUP(A168,'Mapa de Preços'!$A$16:$B$2988,2,0)=FALSE,\"Falta (U.M.)\",VLOOKUP(A168,'Mapa de Preços'!$A$16:$B$2988,2,0))","v":"Falta (U.M.)"},"","",null,{"$f":"VLOOKUP(A168,'Mapa de Preços'!$A$16:$J$2988,10,0)","v":"Falta Orçamento"},"",null,141]
[142,{"$f":"IF(VLOOKUP(A169,'Mapa de Preços'!$A$16:$B$2988,2,0)=FALSE,\"Falta (U.M.)\",VLOOKUP(A169,'Mapa de Preços'!$A$16:$B$2988,2,0))","v":"Falta (U.M.)"},"","",null,{"$f":"VLOOKUP(A169,'Mapa de Preços'!$A$16:$J$2988,10,0)","v":"Falta Orçamento"},"",null,142]
[143,{"$f":"IF(VLOOKUP(A170,'Mapa de Preços'!$A$16:$B$2988,2,0)=FALSE,\"Falta (U.M.)\",VLOOKUP(A170,'Mapa de Preços'!$A$16:$B$2988,2,0))","v":"Falta (U.M.)"},"","",null,{"$f":"VLOOKUP(A170,'Mapa de Preços'!$A$16:$J$2988,10,0)","v":"Falta Orçamento"},"",null,143]
[144,{"$f":"IF(VLOOKUP(A171,'Mapa de Preços'!$A$16:$B$2988,2,0)=FALSE,\"Falta (U.M.)\",VLOOKUP(A171,'Mapa de Preços'!$A$16:$B$2988,2,0))","v":"Falta (U.M.)"},"","",null,{"$f":"VLOOKUP(A171,'Mapa de Preços'!$A$16:$J$2988,10,0)","v":"Falta Orçamento"},"",null,144]
[145,{"$f":"IF(VLOOKUP(A172,'Mapa de Preços'!$A$16:$B$2988,2,0)=FALSE,\"Falta (U.M.)\",VLOOKUP(A172,'Mapa de Preços'!$A$16:$B$2988,2,0))","v":"Falta (U.M.)"},"","",null,{"$f":"VLOOKUP(A172,'Mapa de Preços'!$A$16:$J$2988,10,0)","v":"Falta Orçamento"},"",null,145]
[146,{"$f":"IF(VLOOKUP(A173,'Mapa de Preços'!$A$16:$B$2988,2,0)=FALSE,\"Falta (U.M.)\",VLOOKUP(A173,'Mapa de Preços'!$A$16:$B$2988,2,0))","v":"Falta (U.M.)"},"","",null,{"$f":"VLOOKUP(A173,'Mapa de Preços'!$A$16:$J$2988,10,0)","v":"Falta Orçamento"},"",null,146]
[147,{"$f":"IF(VLOOKUP(A174,'Mapa de Preços'!$A$16:$B$2988,2,0)=FALSE,\"Falta (U.M.)\",VLOOKUP(A174,'Mapa de Preços'!$A$16:$B$2988,2,0))","v":"Falta (U.M.)"},"","",null,{"$f":"VLOOKUP(A174,'Mapa de Preços'!$A$16:$J$2988,10,0)","v":"Falta Orçamento"},"",null,147]
[148,{"$f":"IF(VLOOKUP(A175,'Mapa de Preços'!$A$16:$B$2988,2,0)=FALSE,\"Falta (U.M.)\",VLOOKUP(A175,'Mapa de Preços'!$A$16:$B$2988,2,0))","v":"Falta (U.M.)"},"","",null,{"$f":"VLOOKUP(A175,'Mapa de Preços'!$A$16:$J$2988,10,0)","v":"Falta Orçamento"},"",null,148]
[149,{"$f":"IF(VLOOKUP(A176,'Mapa de Preços'!$A$16:$B$2988,2,0)=FALSE,\"Falta (U.M.)\",VLOOKUP(A176,'Mapa de Preços'!$A$16:$B$2988,2,0))","v":"Falta (U.M.)"},"","",null,{"$f":"VLOOKUP(A176,'Mapa de Preços'!$A$16:$J$2988,10,0)","v":"Falta Orçamento"},"",null,149]
[150,{"$f":"IF(VLOOKUP(A177,'Mapa de Preços'!$A$16:$B$2988,2,0)=FALSE,\"Falta (U.M.)\",VLOOKUP(A177,'Mapa de Preços'!$A$16:$B$2988,2,0))","v":"Falta (U.M.)"},"","",null,{"$f":"VLOOKUP(A177,'Mapa de Preços'!$A$16:$J$2988,10,0)","v":"Falta Orçamento"},"",null,150]
[151,{"$f":"IF(VLOOKUP(A178,'Mapa de Preços'!$A$16:$B$2988,2,0)=FALSE,\"Falta (U.M.)\",VLOOKUP(A178,'Mapa de Preços'!$A$16:$B$2988,2,0))","v":"Falta (U.M.)"},"","",null,{"$f":"VLOOKUP(A178,'Mapa de Preços'!$A$16:$J$2988,10,0)","v":"Falta Orçamento"},"",null,151]
[152,{"$f":"IF(VLOOKUP(A179,'Mapa de Preços'!$A$16:$B$2988,2,0)=FALSE,\"Falta (U.M.)\",VLOOKUP(A179,'Mapa de Preços'!$A$16:$B$2988,2,0))","v":"Falta (U.M.)"},"","",null,{"$f":"VLOOKUP(A179,'Mapa de Preços'!$A$16:$J$2988,10,0)","v":"Falta Orçamento"},"",null,152]
[153,{"$f":"IF(VLOOKUP(A180,'Mapa de Preços'!$A$16:$B$2988,2,0)=FALSE,\"Falta (U.M.)\",VLOOKUP(A180,'Mapa de Preços'!$A$16:$B$2988,2,0))","v":"Falta (U.M.)"},"","",null,{"$f":"VLOOKUP(A180,'Mapa de Preços'!$A$16:$J$2988,10,0)","v":"Falta Orçamento"},"",null,153]
[154,{"$f":"IF(VLOOKUP(A181,'Mapa de Preços'!$A$16:$B$2988,2,0)=FALSE,\"Falta (U.M.)\",VLOOKUP(A181,'Mapa de Preços'!$A$16:$B$2988,2,0))","v":"Falta (U.M.)"},"","",null,{"$f":"VLOOKUP(A181,'Mapa de Preços'!$A$16:$J$2988,10,0)","v":"Falta Orçamento"},"",null,154]
[155,{"$f":"IF(VLOOKUP(A182,'Mapa de Preços'!$A$16:$B$2988,2,0)=FALSE,\"Falta (U.M.)\",VLOOKUP(A182,'Mapa de Preços'!$A$16:$B$2988,2,0))","v":"Falta (U.M.)"},"","",null,{"$f":"VLOOKUP(A182,'Mapa de Preços'!$A$16:$J$2988,10,0)","v":"Falta Orçamento"},"",null,155]
[156,{"$f":"IF(VLOOKUP(A183,'Mapa de Preços'!$A$16:$B$2988,2,0)=FALSE,\"Falta (U.M.)\",VLOOKUP(A183,'Mapa de Preços'!$A$16:$B$2988,2,0))","v":"Falta (U.M.)"},"","",null,{"$f":"VLOOKUP(A183,'Mapa de Preços'!$A$16:$J$2988,10,0)","v":"Falta Orçamento"},"",null,156]
[157,{"$f":"IF(VLOOKUP(A184,'Mapa de Preços'!$A$16:$B$2988,2,0)=FALSE,\"Falta (U.M.)\",VLOOKUP(A184,'Mapa de Preços'!$A$16:$B$2988,2,0))","v":"Falta (U.M.)"},"","",null,{"$f":"VLOOKUP(A184,'Mapa de Preços'!$A$16:$J$2988,10,0)","v":"Falta Orçamento"},"",null,157]
[158,{"$f":"IF(VLOOKUP(A185,'Mapa de Preços'!$A$16:$B$2988,2,0)=FALSE,\"Falta (U.M.)\",VLOOKUP(A185,'Mapa de Preços'!$A$16:$B$2988,2,0))","v":"Falta (U.M.)"},"","",null,{"$f":"VLOOKUP(A185,'Mapa de Preços'!$A$16:$J$2988,10,0)","v":"Falta Orçamento"},"",null,158]
[159,{"$f":"IF(VLOOKUP(A186,'Mapa de Preços'!$A$16:$B$2988,2,0)=FALSE,\"Falta (U.M.)\",VLOOKUP(A186,'Mapa de Preços'!$A$16:$B$2988,2,0))","v":"Falta (U.M.)"},"","",null,{"$f":"VLOOKUP(A186,'Mapa de Preços'!$A$16:$J$2988,10,0)","v":"Falta Orçamento"},"",null,159]
[160,{"$f":"IF(VLOOKUP(A187,'Mapa de Preços'!$A$16:$B$2988,2,0)=FALSE,\"Falta (U.M.)\",VLOOKUP(A187,'Mapa de Preços'!$A$16:$B$2988,2,0))","v":"Falta (U.M.)"},"","",null,{"$f":"VLOOKUP(A187,'Mapa de Preços'!$A$16:$J$2988,10,0)","v":"Falta Orçamento"},"",null,160]
[161,{"$f":"IF(VLOOKUP(A188,'Mapa de Preços'!$A$16:$B$2988,2,0)=FALSE,\"Falta (U.M.)\",VLOOKUP(A188,'Mapa de Preços'!$A$16:$B$2988,2,0))","v":"Falta (U.M.)"},"","",null,{"$f":"VLOOKUP(A188,'Mapa de Preços'!$A$16:$J$2988,10,0)","v":"Falta Orçamento"},"",null,161]
[162,{"$f":"IF(VLOOKUP(A189,'Mapa de Preços'!$A$16:$B$2988,2,0)=FALSE,\"Falta (U.M.)\",VLOOKUP(A189,'Mapa de Preços'!$A$16:$B$2988,2,0))","v":"Falta (U.M.)"},"","",null,{"$f":"VLOOKUP(A189,'Mapa de Preços'!$A$16:$J$2988,10,0)","v":"Falta Orçamento"},"",null,162]
[163,{"$f":"IF(VLOOKUP(A190,'Mapa de Preços'!$A$16:$B$2988,2,0)=FALSE,\"Falta (U.M.)\",VLOOKUP(A190,'Mapa de Preços'!$A$16:$B$2988,2,0))","v":"Falta (U.M.)"},"","",null,{"$f":"VLOOKUP(A190,'Mapa de Preços'!$A$16:$J$2988,10,0)","v":"Falta Orçamento"},"",null,163]
[164,{"$f":"IF(VLOOKUP(A191,'Mapa de Preços'!$A$16:$B$2988,2,0)=FALSE,\"Falta (U.M.)\",VLOOKUP(A191,'Mapa de Preços'!$A$16:$B$2988,2,0))","v":"Falta (U.M.)"},"","",null,{"$f":"VLOOKUP(A191,'Mapa de Preços'!$A$16:$J$2988,10,0)","v":"Falta Orçamento"},"",null,164]
[165,{"$f":"IF(VLOOKUP(A192,'Mapa de Preços'!$A$16:$B$2988,2,0)=FALSE,\"Falta (U.M.)\",VLOOKUP(A192,'Mapa de Preços'!$A$16:$B$2988,2,0))","v":"Falta (U.M.)"},"","",null,{"$f":"VLOOKUP(A192,'Mapa de Preços'!$A$16:$J$2988,10,0)","v":"Falta Orçamento"},"",null,165]
[166,{"$f":"IF(VLOOKUP(A193,'Mapa de Preços'!$A$16:$B$2988,2,0)=FALSE,\"Falta (U.M.)\",VLOOKUP(A193,'Mapa de Preços'!$A$16:$B$2988,2,0))","v":"Falta (U.M.)"},"","",null,{"$f":"VLOOKUP(A193,'Mapa de Preços'!$A$16:$J$2988,10,0)","v":"Falta Orçamento"},"",null,166]
[167,{"$f":"IF(VLOOKUP(A194,'Mapa de Preços'!$A$16:$B$2988,2,0)=FALSE,\"Falta (U.M.)\",VLOOKUP(A194,'Mapa de Preços'!$A$16:$B$2988,2,0))","v":"Falta (U.M.)"},"","",null,{"$f":"VLOOKUP(A194,'Mapa de Preços'!$A$16:$J$2988,10,0)","v":"Falta Orçamento"},"",null,167]
[168,{"$f":"IF(VLOOKUP(A195,'Mapa de Preços'!$A$16:$B$2988,2,0)=FALSE,\"Falta (U.M.)\",VLOOKUP(A195,'Mapa de Preços'!$A$16:$B$2988,2,0))","v":"Falta (U.M.)"},"","",null,{"$f":"VLOOKUP(A195,'Mapa de Preços'!$A$16:$J$2988,10,0)","v":"Falta Orçamento"},"",null,168]
[169,{"$f":"IF(VLOOKUP(A196,'Mapa de Preços'!$A$16:$B$2988,2,0)=FALSE,\"Falta (U.M.)\",VLOOKUP(A196,'Mapa de Preços'!$A$16:$B$2988,2,0))","v":"Falta (U.M.)"},"","",null,{"$f":"VLOOKUP(A196,'Mapa de Preços'!$A$16:$J$2988,10,0)","v":"Falta Orçamento"},"",null,169]
[170,{"$f":"IF(VLOOKUP(A197,'Mapa de Preços'!$A$16:$B$2988,2,0)=FALSE,\"Falta (U.M.)\",VLOOKUP(A197,'Mapa de Preços'!$A$16:$B$2988,2,0))","v":"Falta (U.M.)"},"","",30,{"$f":"VLOOKUP(A197,'Mapa de Preços'!$A$16:$J$2988,10,0)","v":"Falta Orçamento"},"",null,170]
[171,{"$f":"IF(VLOOKUP(A198,'Mapa de Preços'!$A$16:$B$2988,2,0)=FALSE,\"Falta (U.M.)\",VLOOKUP(A198,'Mapa de Preços'!$A$16:$B$2988,2,0))","v":"Falta (U.M.)"},"","",null,{"$f":"VLOOKUP(A198,'Mapa de Preços'!$A$16:$J$2988,10,0)","v":"Falta Orçamento"},"",null,171]
[172,{"$f":"IF(VLOOKUP(A199,'Mapa de Preços'!$A$16:$B$2988,2,0)=FALSE,\"Falta (U.M.)\",VLOOKUP(A199,'Mapa de Preços'!$A$16:$B$2988,2,0))","v":"Falta (U.M.)"},"","",20,{"$f":"VLOOKUP(A199,'Mapa de Preços'!$A$16:$J$2988,10,0)","v":"Falta Orçamento"},"",null,172]
[173,{"$f":"IF(VLOOKUP(A200,'Mapa de Preços'!$A$16:$B$2988,2,0)=FALSE,\"Falta (U.M.)\",VLOOKUP(A200,'Mapa de Preços'!$A$16:$B$2988,2,0))","v":"Falta (U.M.)"},"","",null,{"$f":"VLOOKUP(A200,'Mapa de Preços'!$A$16:$J$2988,10,0)","v":"Falta Orçamento"},"",null,173]
[174,{"$f":"IF(VLOOKUP(A201,'Mapa de Preços'!$A$16:$B$2988,2,0)=FALSE,\"Falta (U.M.)\",VLOOKUP(A201,'Mapa de Preços'!$A$16:$B$2988,2,0))","v":"Falta (U.M.)"},"","",null,{"$f":"VLOOKUP(A201,'Mapa de Preços'!$A$16:$J$2988,10,0)","v":"Falta Orçamento"},"",null,174]
[175,{"$f":"IF(VLOOKUP(A202,'Mapa de Preços'!$A$16:$B$2988,2,0)=FALSE,\"Falta (U.M.)\",VLOOKUP(A202,'Mapa de Preços'!$A$16:$B$2988,2,0))","v":"Falta (U.M.)"},"","",null,{"$f":"VLOOKUP(A202,'Mapa de Preços'!$A$16:$J$2988,10,0)","v":"Falta Orçamento"},"",null,175]
[176,{"$f":"IF(VLOOKUP(A203,'Mapa de Preços'!$A$16:$B$2988,2,0)=FALSE,\"Falta (U.M.)\",VLOOKUP(A203,'Mapa de Preços'!$A$16:$B$2988,2,0))","v":"Falta (U.M.)"},"","",null,{"$f":"VLOOKUP(A203,'Mapa de Preços'!$A$16:$J$2988,10,0)","v":"Falta Orçamento"},"",null,176]
[177,{"$f":"IF(VLOOKUP(A204,'Mapa de Preços'!$A$16:$B$2988,2,0)=FALSE,\"Falta (U.M.)\",VLOOKUP(A204,'Mapa de Preços'!$A$16:$B$2988,2,0))","v":"Falta (U.M.)"},"","",null,{"$f":"VLOOKUP(A204,'Mapa de Preços'!$A$16:$J$2988,10,0)","v":"Falta Orçamento"},"",null,177]
[178,{"$f":"IF(VLOOKUP(A205,'Mapa de Preços'!$A$16:$B$2988,2,0)=FALSE,\"Falta (U.M.)\",VLOOKUP(A205,'Mapa de Preços'!$A$16:$B$2988,2,0))","v":"Falta (U.M.)"},"","",null,{"$f":"VLOOKUP(A205,'Mapa de Preços'!$A$16:$J$2988,10,0)","v":"Falta Orçamento"},"",null,178,null,{"$f":"SUM(L205:AI205)","v":0}]
[179,{"$f":"IF(VLOOKUP(A206,'Mapa de Preços'!$A$16:$B$2988,2,0)=FALSE,\"Falta (U.M.)\",VLOOKUP(A206,'Mapa de Preços'!$A$16:$B$2988,2,0))","v":"Falta (U.M.)"},"","",null,{"$f":"VLOOKUP(A206,'Mapa de Preços'!$A$16:$J$2988,10,0)","v":"Falta Orçamento"},"",null,179,null,0]
[180,{"$f":"IF(VLOOKUP(A207,'Mapa de Preços'!$A$16:$B$2988,2,0)=FALSE,\"Falta (U.M.)\",VLOOKUP(A207,'Mapa de Preços'!$A$16:$B$2988,2,0))","v":"Falta (U.M.)"},"","",null,{"$f":"VLOOKUP(A207,'Mapa de Preços'!$A$16:$J$2988,10,0)","v":"Falta Orçamento"},"",null,180,null,0]
[181,{"$f":"IF(VLOOKUP(A208,'Mapa de Preços'!$A$16:$B$2988,2,0)=FALSE,\"Falta (U.M.)\",VLOOKUP(A208,'Mapa de Preços'!$A$16:$B$2988,2,0))","v":"Falta (U.M.)"},"","",null,{"$f":"VLOOKUP(A208,'Mapa de Preços'!$A$16:$J$2988,10,0)","v":"Falta Orçamento"},"",null,181,null,0]
[182,{"$f":"IF(VLOOKUP(A209,'Mapa de Preços'!$A$16:$B$2988,2,0)=FALSE,\"Falta (U.M.)\",VLOOKUP(A209,'Mapa de Preços'!$A$16:$B$2988,2,0))","v":"Falta (U.M.)"},"","",100,{"$f":"VLOOKUP(A209,'Mapa de Preços'!$A$16:$J$2988,10,0)","v":"Falta Orçamento"},"",null,182,null,0]
[183,{"$f":"IF(VLOOKUP(A210,'Mapa de Preços'!$A$16:$B$2988,2,0)=FALSE,\"Falta (U.M.)\",VLOOKUP(A210,'Mapa de Preços'!$A$16:$B$2988,2,0))","v":"Falta (U.M.)"},"","",null,{"$f":"VLOOKUP(A210,'Mapa de Preços'!$A$16:$J$2988,10,0)","v":"Falta Orçamento"},"",null,183,null,0]
[184,{"$f":"IF(VLOOKUP(A211,'Mapa de Preços'!$A$16:$B$2988,2,0)=FALSE,\"Falta (U.M.)\",VLOOKUP(A211,'Mapa de Preços'!$A$16:$B$2988,2,0))","v":"Falta (U.M.)"},"","",null,{"$f":"VLOOKUP(A211,'Mapa de Preços'!$A$16:$J$2988,10,0)","v":"Falta Orçamento"},"",null,184,null,0]
[185,{"$f":"IF(VLOOKUP(A212,'Mapa de Preços'!$A$16:$B$2988,2,0)=FALSE,\"Falta (U.M.)\",VLOOKUP(A212,'Mapa de Preços'!$A$16:$B$2988,2,0))","v":"Falta (U.M.)"},"","",null,{"$f":"VLOOKUP(A212,'Mapa de Preços'!$A$16:$J$2988,10,0)","v":"Falta Orçamento"},"",null,185,null,0]
[186,{"$f":"IF(VLOOKUP(A213,'Mapa de Preços'!$A$16:$B$2988,2,0)=FALSE,\"Falta (U.M.)\",VLOOKUP(A213,'Mapa de Preços'!$A$16:$B$2988,2,0))","v":"Falta (U.M.)"},"","",null,{"$f":"VLOOKUP(A213,'Mapa de Preços'!$A$16:$J$2988,10,0)","v":"Falta Orçamento"},"",null,186,null,0]
[187,{"$f":"IF(VLOOKUP(A214,'Mapa de Preços'!$A$16:$B$2988,2,0)=FALSE,\"Falta (U.M.)\",VLOOKUP(A214,'Mapa de Preços'!$A$16:$B$2988,2,0))","v":"Falta (U.M.)"},"","",null,{"$f":"VLOOKUP(A214,'Mapa de Preços'!$A$16:$J$2988,10,0)","v":"Falta Orçamento"},"",null,187,null,0]
[188,{"$f":"IF(VLOOKUP(A215,'Mapa de Preços'!$A$16:$B$2988,2,0)=FALSE,\"Falta (U.M.)\",VLOOKUP(A215,'Mapa de Preços'!$A$16:$B$2988,2,0))","v":"Falta (U.M.)"},"","",null,{"$f":"VLOOKUP(A215,'Mapa de Preços'!$A$16:$J$2988,10,0)","v":"Falta Orçamento"},"",null,188,null,0]
[189,{"$f":"IF(VLOOKUP(A216,'Mapa de Preços'!$A$16:$B$2988,2,0)=FALSE,\"Falta (U.M.)\",VLOOKUP(A216,'Mapa de Preços'!$A$16:$B$2988,2,0))","v":"Falta (U.M.)"},"","",null,{"$f":"VLOOKUP(A216,'Mapa de Preços'!$A$16:$J$2988,10,0)","v":"Falta Orçamento"},"",null,189,null,0]
[190,{"$f":"IF(VLOOKUP(A217,'Mapa de Preços'!$A$16:$B$2988,2,0)=FALSE,\"Falta (U.M.)\",VLOOKUP(A217,'Mapa de Preços'!$A$16:$B$2988,2,0))","v":"Falta (U.M.)"},"","",null,{"$f":"VLOOKUP(A217,'Mapa de Preços'!$A$16:$J$2988,10,0)","v":"Falta Orçamento"},"",null,190,null,0]
[191,{"$f":"IF(VLOOKUP(A218,'Mapa de Preços'!$A$16:$B$2988,2,0)=FALSE,\"Falta (U.M.)\",VLOOKUP(A218,'Mapa de Preços'!$A$16:$B$2988,2,0))","v":"Falta (U.M.)"},"","",null,{"$f":"VLOOKUP(A218,'Mapa de Preços'!$A$16:$J$2988,10,0)","v":"Falta Orçamento"},"",null,191,null,0]
[192,{"$f":"IF(VLOOKUP(A219,'Mapa de Preços'!$A$16:$B$2988,2,0)=FALSE,\"Falta (U.M.)\",VLOOKUP(A219,'Mapa de Preços'!$A$16:$B$2988,2,0))","v":"Falta (U.M.)"},"","",null,{"$f":"VLOOKUP(A219,'Mapa de Preços'!$A$16:$J$2988,10,0)","v":"Falta Orçamento"},"",null,192,null,0]
[193,{"$f":"IF(VLOOKUP(A220,'Mapa de Preços'!$A$16:$B$2988,2,0)=FALSE,\"Falta (U.M.)\",VLOOKUP(A220,'Mapa de Preços'!$A$16:$B$2988,2,0))","v":"Falta (U.M.)"},"","",null,{"$f":"VLOOKUP(A220,'Mapa de Preços'!$A$16:$J$2988,10,0)","v":"Falta Orçamento"},"",null,193,null,{"$f":"SUM(L220:AI220)","v":0}]
[194,{"$f":"IF(VLOOKUP(A221,'Mapa de Preços'!$A$16:$B$2988,2,0)=FALSE,\"Falta (U.M.)\",VLOOKUP(A221,'Mapa de Preços'!$A$16:$B$2988,2,0))","v":"Falta (U.M.)"},{"$f":"IF(J221<>\"\",J221,\"\")","v":""},{"$f":"IF(VLOOKUP(A221,$I$28:$AI$3000,$G$26,FALSE)<>\"\",VLOOKUP(A221,$I$28:$AI$3000,$G$26,FALSE),\"\")","v":""},null,{"$f":"VLOOKUP(A221,'Mapa de Preços'!$A$16:$J$2988,10,0)","v":"Falta Orçamento"},{"$f":"IF(F221=\"Falta Orçamento\",\"\",F221*D221)","v":""},null,194,null,0]
[195,{"$f":"IF(VLOOKUP(A222,'Mapa de Preços'!$A$16:$B$2988,2,0)=FALSE,\"Falta (U.M.)\",VLOOKUP(A222,'Mapa de Preços'!$A$16:$B$2988,2,0))","v":"Falta (U.M.)"},"","",null,{"$f":"VLOOKUP(A222,'Mapa de Preços'!$A$16:$J$2988,10,0)","v":"Falta Orçamento"},"",null,195,null,0]
[196,{"$f":"IF(VLOOKUP(A223,'Mapa de Preços'!$A$16:$B$2988,2,0)=FALSE,\"Falta (U.M.)\",VLOOKUP(A223,'Mapa de Preços'!$A$16:$B$2988,2,0))","v":"Falta (U.M.)"},"","",null,{"$f":"VLOOKUP(A223,'Mapa de Preços'!$A$16:$J$2988,10,0)","v":"Falta Orçamento"},"",null,196,null,0]
[197,{"$f":"IF(VLOOKUP(A224,'Mapa de Preços'!$A$16:$B$2988,2,0)=FALSE,\"Falta (U.M.)\",VLOOKUP(A224,'Mapa de Preços'!$A$16:$B$2988,2,0))","v":"Falta (U.M.)"},"","",null,{"$f":"VLOOKUP(A224,'Mapa de Preços'!$A$16:$J$2988,10,0)","v":"Falta Orçamento"},"",null,197,null,0]
[198,{"$f":"IF(VLOOKUP(A225,'Mapa de Preços'!$A$16:$B$2988,2,0)=FALSE,\"Falta (U.M.)\",VLOOKUP(A225,'Mapa de Preços'!$A$16:$B$2988,2,0))","v":"Falta (U.M.)"},"","",null,{"$f":"VLOOKUP(A225,'Mapa de Preços'!$A$16:$J$2988,10,0)","v":"Falta Orçamento"},"",null,198,null,0]
[199,{"$f":"IF(VLOOKUP(A226,'Mapa de Preços'!$A$16:$B$2988,2,0)=FALSE,\"Falta (U.M.)\",VLOOKUP(A226,'Mapa de Preços'!$A$16:$B$2988,2,0))","v":"Falta (U.M.)"},"","",null,{"$f":"VLOOKUP(A226,'Mapa de Preços'!$A$16:$J$2988,10,0)","v":"Falta Orçamento"},"",null,199,null,0]
[200,{"$f":"IF(VLOOKUP(A227,'Mapa de Preços'!$A$16:$B$2988,2,0)=FALSE,\"Falta (U.M.)\",VLOOKUP(A227,'Mapa de Preços'!$A$16:$B$2988,2,0))","v":"Falta (U.M.)"},"","",null,{"$f":"VLOOKUP(A227,'Mapa de Preços'!$A$16:$J$2988,10,0)","v":"Falta Orçamento"},"",null,200,null,0]
[201,{"$f":"IF(VLOOKUP(A228,'Mapa de Preços'!$A$16:$B$2988,2,0)=FALSE,\"Falta (U.M.)\",VLOOKUP(A228,'Mapa de Preços'!$A$16:$B$2988,2,0))","v":"Falta (U.M.)"},"","",null,{"$f":"VLOOKUP(A228,'Mapa de Preços'!$A$16:$J$2988,10,0)","v":"Falta Orçamento"},"",null,201,null,0]
[202,{"$f":"IF(VLOOKUP(A229,'Mapa de Preços'!$A$16:$B$2988,2,0)=FALSE,\"Falta (U.M.)\",VLOOKUP(A229,'Mapa de Preços'!$A$16:$B$2988,2,0))","v":"Falta (U.M.)"},"","",null,{"$f":"VLOOKUP(A229,'Mapa de Preços'!$A$16:$J$2988,10,0)","v":"Falta Orçamento"},"",null,202,null,0]
[203,{"$f":"IF(VLOOKUP(A230,'Mapa de Preços'!$A$16:$B$2988,2,0)=FALSE,\"Falta (U.M.)\",VLOOKUP(A230,'Mapa de Preços'!$A$16:$B$2988,2,0))","v":"Falta (U.M.)"},"","",null,{"$f":"VLOOKUP(A230,'Mapa de Preços'!$A$16:$J$2988,10,0)","v":"Falta Orçamento"},"",null,203,null,0]
[204,{"$f":"IF(VLOOKUP(A231,'Mapa de Preços'!$A$16:$B$2988,2,0)=FALSE,\"Falta (U.M.)\",VLOOKUP(A231,'Mapa de Preços'!$A$16:$B$2988,2,0))","v":"Falta (U.M.)"},"","",null,{"$f":"VLOOKUP(A231,'Mapa de Preços'!$A$16:$J$2988,10,0)","v":"Falta Orçamento"},"",null,204,null,0]
[205,{"$f":"IF(VLOOKUP(A232,'Mapa de Preços'!$A$16:$B$2988,2,0)=FALSE,\"Falta (U.M.)\",VLOOKUP(A232,'Mapa de Preços'!$A$16:$B$2988,2,0))","v":"Falta (U.M.)"},"","",null,{"$f":"VLOOKUP(A232,'Mapa de Preços'!$A$16:$J$2988,10,0)","v":"Falta Orçamento"},"",null,205,null,0]
[206,{"$f":"IF(VLOOKUP(A233,'Mapa de Preços'!$A$16:$B$2988,2,0)=FALSE,\"Falta (U.M.)\",VLOOKUP(A233,'Mapa de Preços'!$A$16:$B$2988,2,0))","v":"Falta (U.M.)"},"","",null,{"$f":"VLOOKUP(A233,'Mapa de Preços'!$A$16:$J$2988,10,0)","v":"Falta Orçamento"},"",null,206,null,0]
[207,{"$f":"IF(VLOOKUP(A234,'Mapa de Preços'!$A$16:$B$2988,2,0)=FALSE,\"Falta (U.M.)\",VLOOKUP(A234,'Mapa de Preços'!$A$16:$B$2988,2,0))","v":"Falta (U.M.)"},"","",null,{"$f":"VLOOKUP(A234,'Mapa de Preços'!$A$16:$J$2988,10,0)","v":"Falta Orçamento"},"",null,207,null,0]
[208,{"$f":"IF(VLOOKUP(A235,'Mapa de Preços'!$A$16:$B$2988,2,0)=FALSE,\"Falta (U.M.)\",VLOOKUP(A235,'Mapa de Preços'!$A$16:$B$2988,2,0))","v":"Falta (U.M.)"},"","",null,{"$f":"VLOOKUP(A235,'Mapa de Preços'!$A$16:$J$2988,10,0)","v":"Falta Orçamento"},"",null,208,null,0]
[209,{"$f":"IF(VLOOKUP(A236,'Mapa de Preços'!$A$16:$B$2988,2,0)=FALSE,\"Falta (U.M.)\",VLOOKUP(A236,'Mapa de Preços'!$A$16:$B$2988,2,0))","v":"Falta (U.M.)"},"","",null,{"$f":"VLOOKUP(A236,'Mapa de Preços'!$A$16:$J$2988,10,0)","v":"Falta Orçamento"},"",null,209,null,0]
[210,{"$f":"IF(VLOOKUP(A237,'Mapa de Preços'!$A$16:$B$2988,2,0)=FALSE,\"Falta (U.M.)\",VLOOKUP(A237,'Mapa de Preços'!$A$16:$B$2988,2,0))","v":"Falta (U.M.)"},"","",null,{"$f":"VLOOKUP(A237,'Mapa de Preços'!$A$16:$J$2988,10,0)","v":"Falta Orçamento"},"",null,210,null,0]
[211,{"$f":"IF(VLOOKUP(A238,'Mapa de Preços'!$A$16:$B$2988,2,0)=FALSE,\"Falta (U.M.)\",VLOOKUP(A238,'Mapa de Preços'!$A$16:$B$2988,2,0))","v":"Falta (U.M.)"},"","",null,{"$f":"VLOOKUP(A238,'Mapa de Preços'!$A$16:$J$2988,10,0)","v":"Falta Orçamento"},"",null,211,null,0]
[212,{"$f":"IF(VLOOKUP(A239,'Mapa de Preços'!$A$16:$B$2988,2,0)=FALSE,\"Falta (U.M.)\",VLOOKUP(A239,'Mapa de Preços'!$A$16:$B$2988,2,0))","v":"Falta (U.M.)"},"","",null,{"$f":"VLOOKUP(A239,'Mapa de Preços'!$A$16:$J$2988,10,0)","v":"Falta Orçamento"},"",null,212,null,0]
[213,{"$f":"IF(VLOOKUP(A240,'Mapa de Preços'!$A$16:$B$2988,2,0)=FALSE,\"Falta (U.M.)\",VLOOKUP(A240,'Mapa de Preços'!$A$16:$B$2988,2,0))","v":"Falta (U.M.)"},"","",null,{"$f":"VLOOKUP(A240,'Mapa de Preços'!$A$16:$J$2988,10,0)","v":"Falta Orçamento"},"",null,213,null,0]
[214,{"$f":"IF(VLOOKUP(A241,'Mapa de Preços'!$A$16:$B$2988,2,0)=FALSE,\"Falta (U.M.)\",VLOOKUP(A241,'Mapa de Preços'!$A$16:$B$2988,2,0))","v":"Falta (U.M.)"},"","",null,{"$f":"VLOOKUP(A241,'Mapa de Preços'!$A$16:$J$2988,10,0)","v":"Falta Orçamento"},"",null,214,null,0]
[215,{"$f":"IF(VLOOKUP(A242,'Mapa de Preços'!$A$16:$B$2988,2,0)=FALSE,\"Falta (U.M.)\",VLOOKUP(A242,'Mapa de Preços'!$A$16:$B$2988,2,0))","v":"Falta (U.M.)"},"","",null,{"$f":"VLOOKUP(A242,'Mapa de Preços'!$A$16:$J$2988,10,0)","v":"Falta Orçamento"},"",null,215,null,0]
[216,{"$f":"IF(VLOOKUP(A243,'Mapa de Preços'!$A$16:$B$2988,2,0)=FALSE,\"Falta (U.M.)\",VLOOKUP(A243,'Mapa de Preços'!$A$16:$B$2988,2,0))","v":"Falta (U.M.)"},"","",null,{"$f":"VLOOKUP(A243,'Mapa de Preços'!$A$16:$J$2988,10,0)","v":"Falta Orçamento"},"",null,216,null,0]
[217,{"$f":"IF(VLOOKUP(A244,'Mapa de Preços'!$A$16:$B$2988,2,0)=FALSE,\"Falta (U.M.)\",VLOOKUP(A244,'Mapa de Preços'!$A$16:$B$2988,2,0))","v":"Falta (U.M.)"},"","",null,{"$f":"VLOOKUP(A244,'Mapa de Preços'!$A$16:$J$2988,10,0)","v":"Falta Orçamento"},"",null,217,null,0]
[218,{"$f":"IF(VLOOKUP(A245,'Mapa de Preços'!$A$16:$B$2988,2,0)=FALSE,\"Falta (U.M.)\",VLOOKUP(A245,'Mapa de Preços'!$A$16:$B$2988,2,0))","v":"Falta (U.M.)"},"","",null,{"$f":"VLOOKUP(A245,'Mapa de Preços'!$A$16:$J$2988,10,0)","v":"Falta Orçamento"},"",null,218,null,0]
[219,{"$f":"IF(VLOOKUP(A246,'Mapa de Preços'!$A$16:$B$2988,2,0)=FALSE,\"Falta (U.M.)\",VLOOKUP(A246,'Mapa de Preços'!$A$16:$B$2988,2,0))","v":"Falta (U.M.)"},"","",null,{"$f":"VLOOKUP(A246,'Mapa de Preços'!$A$16:$J$2988,10,0)","v":"Falta Orçamento"},"",null,219,null,0]
[220,{"$f":"IF(VLOOKUP(A247,'Mapa de Preços'!$A$16:$B$2988,2,0)=FALSE,\"Falta (U.M.)\",VLOOKUP(A247,'Mapa de Preços'!$A$16:$B$2988,2,0))","v":"Falta (U.M.)"},"","",null,{"$f":"VLOOKUP(A247,'Mapa de Preços'!$A$16:$J$2988,10,0)","v":"Falta Orçamento"},"",null,220,null,0]
[221,{"$f":"IF(VLOOKUP(A248,'Mapa de Preços'!$A$16:$B$2988,2,0)=FALSE,\"Falta (U.M.)\",VLOOKUP(A248,'Mapa de Preços'!$A$16:$B$2988,2,0))","v":"Falta (U.M.)"},"","",null,{"$f":"VLOOKUP(A248,'Mapa de Preços'!$A$16:$J$2988,10,0)","v":"Falta Orçamento"},"",null,221,null,0]
[222,{"$f":"IF(VLOOKUP(A249,'Mapa de Preços'!$A$16:$B$2988,2,0)=FALSE,\"Falta (U.M.)\",VLOOKUP(A249,'Mapa de Preços'!$A$16:$B$2988,2,0))","v":"Falta (U.M.)"},"","",null,{"$f":"VLOOKUP(A249,'Mapa de Preços'!$A$16:$J$2988,10,0)","v":"Falta Orçamento"},"",null,222,null,0]
[223,{"$f":"IF(VLOOKUP(A250,'Mapa de Preços'!$A$16:$B$2988,2,0)=FALSE,\"Falta (U.M.)\",VLOOKUP(A250,'Mapa de Preços'!$A$16:$B$2988,2,0))","v":"Falta (U.M.)"},"","",null,{"$f":"VLOOKUP(A250,'Mapa de Preços'!$A$16:$J$2988,10,0)","v":"Falta Orçamento"},"",null,223,null,0]
[224,{"$f":"IF(VLOOKUP(A251,'Mapa de Preços'!$A$16:$B$2988,2,0)=FALSE,\"Falta (U.M.)\",VLOOKUP(A251,'Mapa de Preços'!$A$16:$B$2988,2,0))","v":"Falta (U.M.)"},"","",null,{"$f":"VLOOKUP(A251,'Mapa de Preços'!$A$16:$J$2988,10,0)","v":"Falta Orçamento"},"",null,224,null,0]
[225,{"$f":"IF(VLOOKUP(A252,'Mapa de Preços'!$A$16:$B$2988,2,0)=FALSE,\"Falta (U.M.)\",VLOOKUP(A252,'Mapa de Preços'!$A$16:$B$2988,2,0))","v":"Falta (U.M.)"},"","",null,{"$f":"VLOOKUP(A252,'Mapa de Preços'!$A$16:$J$2988,10,0)","v":"Falta Orçamento"},"",null,225,null,0]
[226,{"$f":"IF(VLOOKUP(A253,'Mapa de Preços'!$A$16:$B$2988,2,0)=FALSE,\"Falta (U.M.)\",VLOOKUP(A253,'Mapa de Preços'!$A$16:$B$2988,2,0))","v":"Falta (U.M.)"},"","",null,{"$f":"VLOOKUP(A253,'Mapa de Preços'!$A$16:$J$2988,10,0)","v":"Falta Orçamento"},"",null,226,null,0]
[227,{"$f":"IF(VLOOKUP(A254,'Mapa de Preços'!$A$16:$B$2988,2,0)=FALSE,\"Falta (U.M.)\",VLOOKUP(A254,'Mapa de Preços'!$A$16:$B$2988,2,0))","v":"Falta (U.M.)"},"","",null,{"$f":"VLOOKUP(A254,'Mapa de Preços'!$A$16:$J$2988,10,0)","v":"Falta Orçamento"},"",null,227,null,0]
[228,{"$f":"IF(VLOOKUP(A255,'Mapa de Preços'!$A$16:$B$2988,2,0)=FALSE,\"Falta (U.M.)\",VLOOKUP(A255,'Mapa de Preços'!$A$16:$B$2988,2,0))","v":"Falta (U.M.)"},"","",null,{"$f":"VLOOKUP(A255,'Mapa de Preços'!$A$16:$J$2988,10,0)","v":"Falta Orçamento"},"",null,228,null,0]
[229,{"$f":"IF(VLOOKUP(A256,'Mapa de Preços'!$A$16:$B$2988,2,0)=FALSE,\"Falta (U.M.)\",VLOOKUP(A256,'Mapa de Preços'!$A$16:$B$2988,2,0))","v":"Falta (U.M.)"},"","",null,{"$f":"VLOOKUP(A256,'Mapa de Preços'!$A$16:$J$2988,10,0)","v":"Falta Orçamento"},"",null,229,null,0]
[230,{"$f":"IF(VLOOKUP(A257,'Mapa de Preços'!$A$16:$B$2988,2,0)=FALSE,\"Falta (U.M.)\",VLOOKUP(A257,'Mapa de Preços'!$A$16:$B$2988,2,0))","v":"Falta (U.M.)"},"","",20,{"$f":"VLOOKUP(A257,'Mapa de Preços'!$A$16:$J$2988,10,0)","v":"Falta Orçamento"},"",null,230,null,0]
[231,{"$f":"IF(VLOOKUP(A258,'Mapa de Preços'!$A$16:$B$2988,2,0)=FALSE,\"Falta (U.M.)\",VLOOKUP(A258,'Mapa de Preços'!$A$16:$B$2988,2,0))","v":"Falta (U.M.)"},"","",20,{"$f":"VLOOKUP(A258,'Mapa de Preços'!$A$16:$J$2988,10,0)","v":"Falta Orçamento"},"",null,231,null,0]
[232,{"$f":"IF(VLOOKUP(A259,'Mapa de Preços'!$A$16:$B$2988,2,0)=FALSE,\"Falta (U.M.)\",VLOOKUP(A259,'Mapa de Preços'!$A$16:$B$2988,2,0))","v":"Falta (U.M.)"},"","",10,{"$f":"VLOOKUP(A259,'Mapa de Preços'!$A$16:$J$2988,10,0)","v":"Falta Orçamento"},"",null,232,null,0]
[233,{"$f":"IF(VLOOKUP(A260,'Mapa de Preços'!$A$16:$B$2988,2,0)=FALSE,\"Falta (U.M.)\",VLOOKUP(A260,'Mapa de Preços'!$A$16:$B$2988,2,0))","v":"Falta (U.M.)"},"","",40,{"$f":"VLOOKUP(A260,'Mapa de Preços'!$A$16:$J$2988,10,0)","v":"Falta Orçamento"},"",null,233,null,0]
[234,{"$f":"IF(VLOOKUP(A261,'Mapa de Preços'!$A$16:$B$2988,2,0)=FALSE,\"Falta (U.M.)\",VLOOKUP(A261,'Mapa de Preços'!$A$16:$B$2988,2,0))","v":"Falta (U.M.)"},"","",null,{"$f":"VLOOKUP(A261,'Mapa de Preços'!$A$16:$J$2988,10,0)","v":"Falta Orçamento"},"",null,234,null,0]
[235,{"$f":"IF(VLOOKUP(A262,'Mapa de Preços'!$A$16:$B$2988,2,0)=FALSE,\"Falta (U.M.)\",VLOOKUP(A262,'Mapa de Preços'!$A$16:$B$2988,2,0))","v":"Falta (U.M.)"},"","",20,{"$f":"VLOOKUP(A262,'Mapa de Preços'!$A$16:$J$2988,10,0)","v":"Falta Orçamento"},"",null,235,null,0]
[236,{"$f":"IF(VLOOKUP(A263,'Mapa de Preços'!$A$16:$B$2988,2,0)=FALSE,\"Falta (U.M.)\",VLOOKUP(A263,'Mapa de Preços'!$A$16:$B$2988,2,0))","v":"Falta (U.M.)"},"","",null,{"$f":"VLOOKUP(A263,'Mapa de Preços'!$A$16:$J$2988,10,0)","v":"Falta Orçamento"},"",null,236,null,0]
[237,{"$f":"IF(VLOOKUP(A264,'Mapa de Preços'!$A$16:$B$2988,2,0)=FALSE,\"Falta (U.M.)\",VLOOKUP(A264,'Mapa de Preços'!$A$16:$B$2988,2,0))","v":"Falta (U.M.)"},"","",null,{"$f":"VLOOKUP(A264,'Mapa de Preços'!$A$16:$J$2988,10,0)","v":"Falta Orçamento"},"",null,237,null,0]
[238,{"$f":"IF(VLOOKUP(A265,'Mapa de Preços'!$A$16:$B$2988,2,0)=FALSE,\"Falta (U.M.)\",VLOOKUP(A265,'Mapa de Preços'!$A$16:$B$2988,2,0))","v":"Falta (U.M.)"},"","",null,{"$f":"VLOOKUP(A265,'Mapa de Preços'!$A$16:$J$2988,10,0)","v":"Falta Orçamento"},"",null,238,null,0]
[239,{"$f":"IF(VLOOKUP(A266,'Mapa de Preços'!$A$16:$B$2988,2,0)=FALSE,\"Falta (U.M.)\",VLOOKUP(A266,'Mapa de Preços'!$A$16:$B$2988,2,0))","v":"Falta (U.M.)"},"","",null,{"$f":"VLOOKUP(A266,'Mapa de Preços'!$A$16:$J$2988,10,0)","v":"Falta Orçamento"},"",null,239,null,0]
[240,{"$f":"IF(VLOOKUP(A267,'Mapa de Preços'!$A$16:$B$2988,2,0)=FALSE,\"Falta (U.M.)\",VLOOKUP(A267,'Mapa de Preços'!$A$16:$B$2988,2,0))","v":"Falta (U.M.)"},"","",null,{"$f":"VLOOKUP(A267,'Mapa de Preços'!$A$16:$J$2988,10,0)","v":"Falta Orçamento"},"",null,240,null,0]
[241,{"$f":"IF(VLOOKUP(A268,'Mapa de Preços'!$A$16:$B$2988,2,0)=FALSE,\"Falta (U.M.)\",VLOOKUP(A268,'Mapa de Preços'!$A$16:$B$2988,2,0))","v":"Falta (U.M.)"},"","",null,{"$f":"VLOOKUP(A268,'Mapa de Preços'!$A$16:$J$2988,10,0)","v":"Falta Orçamento"},"",null,241,null,0]
[242,{"$f":"IF(VLOOKUP(A269,'Mapa de Preços'!$A$16:$B$2988,2,0)=FALSE,\"Falta (U.M.)\",VLOOKUP(A269,'Mapa de Preços'!$A$16:$B$2988,2,0))","v":"Falta (U.M.)"},"","",null,{"$f":"VLOOKUP(A269,'Mapa de Preços'!$A$16:$J$2988,10,0)","v":"Falta Orçamento"},"",null,242,null,0]
[243,{"$f":"IF(VLOOKUP(A270,'Mapa de Preços'!$A$16:$B$2988,2,0)=FALSE,\"Falta (U.M.)\",VLOOKUP(A270,'Mapa de Preços'!$A$16:$B$2988,2,0))","v":"Falta (U.M.)"},"","",null,{"$f":"VLOOKUP(A270,'Mapa de Preços'!$A$16:$J$2988,10,0)","v":"Falta Orçamento"},"",null,243,null,0]
[244,{"$f":"IF(VLOOKUP(A271,'Mapa de Preços'!$A$16:$B$2988,2,0)=FALSE,\"Falta (U.M.)\",VLOOKUP(A271,'Mapa de Preços'!$A$16:$B$2988,2,0))","v":"Falta (U.M.)"},"","",null,{"$f":"VLOOKUP(A271,'Mapa de Preços'!$A$16:$J$2988,10,0)","v":"Falta Orçamento"},"",null,244,null,0]
[245,{"$f":"IF(VLOOKUP(A272,'Mapa de Preços'!$A$16:$B$2988,2,0)=FALSE,\"Falta (U.M.)\",VLOOKUP(A272,'Mapa de Preços'!$A$16:$B$2988,2,0))","v":"Falta (U.M.)"},"","",null,{"$f":"VLOOKUP(A272,'Mapa de Preços'!$A$16:$J$2988,10,0)","v":"Falta Orçamento"},"",null,245,null,0]
[246,{"$f":"IF(VLOOKUP(A273,'Mapa de Preços'!$A$16:$B$2988,2,0)=FALSE,\"Falta (U.M.)\",VLOOKUP(A273,'Mapa de Preços'!$A$16:$B$2988,2,0))","v":"Falta (U.M.)"},"","",null,{"$f":"VLOOKUP(A273,'Mapa de Preços'!$A$16:$J$2988,10,0)","v":"Falta Orçamento"},"",null,246,null,0]
[247,{"$f":"IF(VLOOKUP(A274,'Mapa de Preços'!$A$16:$B$2988,2,0)=FALSE,\"Falta (U.M.)\",VLOOKUP(A274,'Mapa de Preços'!$A$16:$B$2988,2,0))","v":"Falta (U.M.)"},"","",null,{"$f":"VLOOKUP(A274,'Mapa de Preços'!$A$16:$J$2988,10,0)","v":"Falta Orçamento"},"",null,247,null,0]
[248,{"$f":"IF(VLOOKUP(A275,'Mapa de Preços'!$A$16:$B$2988,2,0)=FALSE,\"Falta (U.M.)\",VLOOKUP(A275,'Mapa de Preços'!$A$16:$B$2988,2,0))","v":"Falta (U.M.)"},"","",null,{"$f":"VLOOKUP(A275,'Mapa de Preços'!$A$16:$J$2988,10,0)","v":"Falta Orçamento"},"",null,248,null,0]
[249,{"$f":"IF(VLOOKUP(A276,'Mapa de Preços'!$A$16:$B$2988,2,0)=FALSE,\"Falta (U.M.)\",VLOOKUP(A276,'Mapa de Preços'!$A$16:$B$2988,2,0))","v":"Falta (U.M.)"},"","",null,{"$f":"VLOOKUP(A276,'Mapa de Preços'!$A$16:$J$2988,10,0)","v":"Falta Orçamento"},"",null,249,null,0]
[250,{"$f":"IF(VLOOKUP(A277,'Mapa de Preços'!$A$16:$B$2988,2,0)=FALSE,\"Falta (U.M.)\",VLOOKUP(A277,'Mapa de Preços'!$A$16:$B$2988,2,0))","v":"Falta (U.M.)"},"","",null,{"$f":"VLOOKUP(A277,'Mapa de Preços'!$A$16:$J$2988,10,0)","v":"Falta Orçamento"},"",null,250,null,0]
[251,{"$f":"IF(VLOOKUP(A278,'Mapa de Preços'!$A$16:$B$2988,2,0)=FALSE,\"Falta (U.M.)\",VLOOKUP(A278,'Mapa de Preços'!$A$16:$B$2988,2,0))","v":"Falta (U.M.)"},"","",null,{"$f":"VLOOKUP(A278,'Mapa de Preços'!$A$16:$J$2988,10,0)","v":"Falta Orçamento"},"",null,251,null,0]
[252,{"$f":"IF(VLOOKUP(A279,'Mapa de Preços'!$A$16:$B$2988,2,0)=FALSE,\"Falta (U.M.)\",VLOOKUP(A279,'Mapa de Preços'!$A$16:$B$2988,2,0))","v":"Falta (U.M.)"},"","",null,{"$f":"VLOOKUP(A279,'Mapa de Preços'!$A$16:$J$2988,10,0)","v":"Falta Orçamento"},"",null,252,null,0]
[253,{"$f":"IF(VLOOKUP(A280,'Mapa de Preços'!$A$16:$B$2988,2,0)=FALSE,\"Falta (U.M.)\",VLOOKUP(A280,'Mapa de Preços'!$A$16:$B$2988,2,0))","v":"Falta (U.M.)"},"","",null,{"$f":"VLOOKUP(A280,'Mapa de Preços'!$A$16:$J$2988,10,0)","v":"Falta Orçamento"},"",null,253,null,0]
[254,{"$f":"IF(VLOOKUP(A281,'Mapa de Preços'!$A$16:$B$2988,2,0)=FALSE,\"Falta (U.M.)\",VLOOKUP(A281,'Mapa de Preços'!$A$16:$B$2988,2,0))","v":"Falta (U.M.)"},"","",null,{"$f":"VLOOKUP(A281,'Mapa de Preços'!$A$16:$J$2988,10,0)","v":"Falta Orçamento"},"",null,254,null,0]
[255,{"$f":"IF(VLOOKUP(A282,'Mapa de Preços'!$A$16:$B$2988,2,0)=FALSE,\"Falta (U.M.)\",VLOOKUP(A282,'Mapa de Preços'!$A$16:$B$2988,2,0))","v":"Falta (U.M.)"},"","",null,{"$f":"VLOOKUP(A282,'Mapa de Preços'!$A$16:$J$2988,10,0)","v":"Falta Orçamento"},"",null,255,null,0]
[256,{"$f":"IF(VLOOKUP(A283,'Mapa de Preços'!$A$16:$B$2988,2,0)=FALSE,\"Falta (U.M.)\",VLOOKUP(A283,'Mapa de Preços'!$A$16:$B$2988,2,0))","v":"Falta (U.M.)"},"","",null,{"$f":"VLOOKUP(A283,'Mapa de Preços'!$A$16:$J$2988,10,0)","v":"Falta Orçamento"},"",null,256,null,0]
[257,{"$f":"IF(VLOOKUP(A284,'Mapa de Preços'!$A$16:$B$2988,2,0)=FALSE,\"Falta (U.M.)\",VLOOKUP(A284,'Mapa de Preços'!$A$16:$B$2988,2,0))","v":"Falta (U.M.)"},"","",null,{"$f":"VLOOKUP(A284,'Mapa de Preços'!$A$16:$J$2988,10,0)","v":"Falta Orçamento"},"",null,257,null,{"$f":"SUM(L284:AI284)","v":0}]
[258,{"$f":"IF(VLOOKUP(A285,'Mapa de Preços'!$A$16:$B$2988,2,0)=FALSE,\"Falta (U.M.)\",VLOOKUP(A285,'Mapa de Preços'!$A$16:$B$2988,2,0))","v":"Falta (U.M.)"},{"$f":"IF(J285<>\"\",J285,\"\")","v":""},{"$f":"IF(VLOOKUP(A285,$I$28:$AI$3000,$G$26,FALSE)<>\"\",VLOOKUP(A285,$I$28:$AI$3000,$G$26,FALSE),\"\")","v":""},null,{"$f":"VLOOKUP(A285,'Mapa de Preços'!$A$16:$J$2988,10,0)","v":"Falta Orçamento"},{"$f":"IF(F285=\"Falta Orçamento\",\"\",F285*D285)","v":""},null,258,null,0]
[259,{"$f":"IF(VLOOKUP(A286,'Mapa de Preços'!$A$16:$B$2988,2,0)=FALSE,\"Falta (U.M.)\",VLOOKUP(A286,'Mapa de Preços'!$A$16:$B$2988,2,0))","v":"Falta (U.M.)"},"","",null,{"$f":"VLOOKUP(A286,'Mapa de Preços'!$A$16:$J$2988,10,0)","v":"Falta Orçamento"},"",null,259,null,0]
[260,{"$f":"IF(VLOOKUP(A287,'Mapa de Preços'!$A$16:$B$2988,2,0)=FALSE,\"Falta (U.M.)\",VLOOKUP(A287,'Mapa de Preços'!$A$16:$B$2988,2,0))","v":"Falta (U.M.)"},"","",null,{"$f":"VLOOKUP(A287,'Mapa de Preços'!$A$16:$J$2988,10,0)","v":"Falta Orçamento"},"",null,260,null,0]
[261,{"$f":"IF(VLOOKUP(A288,'Mapa de Preços'!$A$16:$B$2988,2,0)=FALSE,\"Falta (U.M.)\",VLOOKUP(A288,'Mapa de Preços'!$A$16:$B$2988,2,0))","v":"Falta (U.M.)"},"","",null,{"$f":"VLOOKUP(A288,'Mapa de Preços'!$A$16:$J$2988,10,0)","v":"Falta Orçamento"},"",null,261,null,0]
[262,{"$f":"IF(VLOOKUP(A289,'Mapa de Preços'!$A$16:$B$2988,2,0)=FALSE,\"Falta (U.M.)\",VLOOKUP(A289,'Mapa de Preços'!$A$16:$B$2988,2,0))","v":"Falta (U.M.)"},"","",null,{"$f":"VLOOKUP(A289,'Mapa de Preços'!$A$16:$J$2988,10,0)","v":"Falta Orçamento"},"",null,262,null,0]
[263,{"$f":"IF(VLOOKUP(A290,'Mapa de Preços'!$A$16:$B$2988,2,0)=FALSE,\"Falta (U.M.)\",VLOOKUP(A290,'Mapa de Preços'!$A$16:$B$2988,2,0))","v":"Falta (U.M.)"},"","",null,{"$f":"VLOOKUP(A290,'Mapa de Preços'!$A$16:$J$2988,10,0)","v":"Falta Orçamento"},"",null,263,null,0]
[264,{"$f":"IF(VLOOKUP(A291,'Mapa de Preços'!$A$16:$B$2988,2,0)=FALSE,\"Falta (U.M.)\",VLOOKUP(A291,'Mapa de Preços'!$A$16:$B$2988,2,0))","v":"Falta (U.M.)"},"","",null,{"$f":"VLOOKUP(A291,'Mapa de Preços'!$A$16:$J$2988,10,0)","v":"Falta Orçamento"},"",null,264,null,0]
[265,{"$f":"IF(VLOOKUP(A292,'Mapa de Preços'!$A$16:$B$2988,2,0)=FALSE,\"Falta (U.M.)\",VLOOKUP(A292,'Mapa de Preços'!$A$16:$B$2988,2,0))","v":"Falta (U.M.)"},"","",null,{"$f":"VLOOKUP(A292,'Mapa de Preços'!$A$16:$J$2988,10,0)","v":"Falta Orçamento"},"",null,265,null,0]
[266,{"$f":"IF(VLOOKUP(A293,'Mapa de Preços'!$A$16:$B$2988,2,0)=FALSE,\"Falta (U.M.)\",VLOOKUP(A293,'Mapa de Preços'!$A$16:$B$2988,2,0))","v":"Falta (U.M.)"},"","",null,{"$f":"VLOOKUP(A293,'Mapa de Preços'!$A$16:$J$2988,10,0)","v":"Falta Orçamento"},"",null,266,null,0]
[267,{"$f":"IF(VLOOKUP(A294,'Mapa de Preços'!$A$16:$B$2988,2,0)=FALSE,\"Falta (U.M.)\",VLOOKUP(A294,'Mapa de Preços'!$A$16:$B$2988,2,0))","v":"Falta (U.M.)"},"","",null,{"$f":"VLOOKUP(A294,'Mapa de Preços'!$A$16:$J$2988,10,0)","v":"Falta Orçamento"},"",null,267,null,0]
[268,{"$f":"IF(VLOOKUP(A295,'Mapa de Preços'!$A$16:$B$2988,2,0)=FALSE,\"Falta (U.M.)\",VLOOKUP(A295,'Mapa de Preços'!$A$16:$B$2988,2,0))","v":"Falta (U.M.)"},"","",null,{"$f":"VLOOKUP(A295,'Mapa de Preços'!$A$16:$J$2988,10,0)","v":"Falta Orçamento"},"",null,268,null,0]
[269,{"$f":"IF(VLOOKUP(A296,'Mapa de Preços'!$A$16:$B$2988,2,0)=FALSE,\"Falta (U.M.)\",VLOOKUP(A296,'Mapa de Preços'!$A$16:$B$2988,2,0))","v":"Falta (U.M.)"},"","",null,{"$f":"VLOOKUP(A296,'Mapa de Preços'!$A$16:$J$2988,10,0)","v":"Falta Orçamento"},"",null,269,null,0]
[270,{"$f":"IF(VLOOKUP(A297,'Mapa de Preços'!$A$16:$B$2988,2,0)=FALSE,\"Falta (U.M.)\",VLOOKUP(A297,'Mapa de Preços'!$A$16:$B$2988,2,0))","v":"Falta (U.M.)"},"","",null,{"$f":"VLOOKUP(A297,'Mapa de Preços'!$A$16:$J$2988,10,0)","v":"Falta Orçamento"},"",null,270,null,0]
[271,{"$f":"IF(VLOOKUP(A298,'Mapa de Preços'!$A$16:$B$2988,2,0)=FALSE,\"Falta (U.M.)\",VLOOKUP(A298,'Mapa de Preços'!$A$16:$B$2988,2,0))","v":"Falta (U.M.)"},"","",null,{"$f":"VLOOKUP(A298,'Mapa de Preços'!$A$16:$J$2988,10,0)","v":"Falta Orçamento"},"",null,271,null,0]
[272,{"$f":"IF(VLOOKUP(A299,'Mapa de Preços'!$A$16:$B$2988,2,0)=FALSE,\"Falta (U.M.)\",VLOOKUP(A299,'Mapa de Preços'!$A$16:$B$2988,2,0))","v":"Falta (U.M.)"},"","",null,{"$f":"VLOOKUP(A299,'Mapa de Preços'!$A$16:$J$2988,10,0)","v":"Falta Orçamento"},"",null,272,null,0]
[273,{"$f":"IF(VLOOKUP(A300,'Mapa de Preços'!$A$16:$B$2988,2,0)=FALSE,\"Falta (U.M.)\",VLOOKUP(A300,'Mapa de Preços'!$A$16:$B$2988,2,0))","v":"Falta (U.M.)"},"","",null,{"$f":"VLOOKUP(A300,'Mapa de Preços'!$A$16:$J$2988,10,0)","v":"Falta Orçamento"},"",null,273,null,0]
[274,{"$f":"IF(VLOOKUP(A301,'Mapa de Preços'!$A$16:$B$2988,2,0)=FALSE,\"Falta (U.M.)\",VLOOKUP(A301,'Mapa de Preços'!$A$16:$B$2988,2,0))","v":"Falta (U.M.)"},"","",null,{"$f":"VLOOKUP(A301,'Mapa de Preços'!$A$16:$J$2988,10,0)","v":"Falta Orçamento"},"",null,274,null,0]
[275,{"$f":"IF(VLOOKUP(A302,'Mapa de Preços'!$A$16:$B$2988,2,0)=FALSE,\"Falta (U.M.)\",VLOOKUP(A302,'Mapa de Preços'!$A$16:$B$2988,2,0))","v":"Falta (U.M.)"},"","",null,{"$f":"VLOOKUP(A302,'Mapa de Preços'!$A$16:$J$2988,10,0)","v":"Falta Orçamento"},"",null,275,null,0]
[276,{"$f":"IF(VLOOKUP(A303,'Mapa de Preços'!$A$16:$B$2988,2,0)=FALSE,\"Falta (U.M.)\",VLOOKUP(A303,'Mapa de Preços'!$A$16:$B$2988,2,0))","v":"Falta (U.M.)"},"","",null,{"$f":"VLOOKUP(A303,'Mapa de Preços'!$A$16:$J$2988,10,0)","v":"Falta Orçamento"},"",null,276,null,0]
[277,{"$f":"IF(VLOOKUP(A304,'Mapa de Preços'!$A$16:$B$2988,2,0)=FALSE,\"Falta (U.M.)\",VLOOKUP(A304,'Mapa de Preços'!$A$16:$B$2988,2,0))","v":"Falta (U.M.)"},"","",null,{"$f":"VLOOKUP(A304,'Mapa de Preços'!$A$16:$J$2988,10,0)","v":"Falta Orçamento"},"",null,277,null,0]
[278,{"$f":"IF(VLOOKUP(A305,'Mapa de Preços'!$A$16:$B$2988,2,0)=FALSE,\"Falta (U.M.)\",VLOOKUP(A305,'Mapa de Preços'!$A$16:$B$2988,2,0))","v":"Falta (U.M.)"},"","",null,{"$f":"VLOOKUP(A305,'Mapa de Preços'!$A$16:$J$2988,10,0)","v":"Falta Orçamento"},"",null,278,null,0]
[279,{"$f":"IF(VLOOKUP(A306,'Mapa de Preços'!$A$16:$B$2988,2,0)=FALSE,\"Falta (U.M.)\",VLOOKUP(A306,'Mapa de Preços'!$A$16:$B$2988,2,0))","v":"Falta (U.M.)"},"","",null,{"$f":"VLOOKUP(A306,'Mapa de Preços'!$A$16:$J$2988,10,0)","v":"Falta Orçamento"},"",null,279,null,0]
[280,{"$f":"IF(VLOOKUP(A307,'Mapa de Preços'!$A$16:$B$2988,2,0)=FALSE,\"Falta (U.M.)\",VLOOKUP(A307,'Mapa de Preços'!$A$16:$B$2988,2,0))","v":"Falta (U.M.)"},"","",2,{"$f":"VLOOKUP(A307,'Mapa de Preços'!$A$16:$J$2988,10,0)","v":"Falta Orçamento"},"",null,280,null,0]
[281,{"$f":"IF(VLOOKUP(A308,'Mapa de Preços'!$A$16:$B$2988,2,0)=FALSE,\"Falta (U.M.)\",VLOOKUP(A308,'Mapa de Preços'!$A$16:$B$2988,2,0))","v":"Falta (U.M.)"},"","",null,{"$f":"VLOOKUP(A308,'Mapa de Preços'!$A$16:$J$2988,10,0)","v":"Falta Orçamento"},"",null,281,null,0]
[282,{"$f":"IF(VLOOKUP(A309,'Mapa de Preços'!$A$16:$B$2988,2,0)=FALSE,\"Falta (U.M.)\",VLOOKUP(A309,'Mapa de Preços'!$A$16:$B$2988,2,0))","v":"Falta (U.M.)"},"","",null,{"$f":"VLOOKUP(A309,'Mapa de Preços'!$A$16:$J$2988,10,0)","v":"Falta Orçamento"},"",null,282,null,0]
[283,{"$f":"IF(VLOOKUP(A310,'Mapa de Preços'!$A$16:$B$2988,2,0)=FALSE,\"Falta (U.M.)\",VLOOKUP(A310,'Mapa de Preços'!$A$16:$B$2988,2,0))","v":"Falta (U.M.)"},"","",null,{"$f":"VLOOKUP(A310,'Mapa de Preços'!$A$16:$J$2988,10,0)","v":"Falta Orçamento"},"",null,283,null,0]
[284,{"$f":"IF(VLOOKUP(A311,'Mapa de Preços'!$A$16:$B$2988,2,0)=FALSE,\"Falta (U.M.)\",VLOOKUP(A311,'Mapa de Preços'!$A$16:$B$2988,2,0))","v":"Falta (U.M.)"},"","",null,{"$f":"VLOOKUP(A311,'Mapa de Preços'!$A$16:$J$2988,10,0)","v":"Falta Orçamento"},"",null,284,null,0]
[285,{"$f":"IF(VLOOKUP(A312,'Mapa de Preços'!$A$16:$B$2988,2,0)=FALSE,\"Falta (U.M.)\",VLOOKUP(A312,'Mapa de Preços'!$A$16:$B$2988,2,0))","v":"Falta (U.M.)"},"","",null,{"$f":"VLOOKUP(A312,'Mapa de Preços'!$A$16:$J$2988,10,0)","v":"Falta Orçamento"},"",null,285,null,0]
[286,{"$f":"IF(VLOOKUP(A313,'Mapa de Preços'!$A$16:$B$2988,2,0)=FALSE,\"Falta (U.M.)\",VLOOKUP(A313,'Mapa de Preços'!$A$16:$B$2988,2,0))","v":"Falta (U.M.)"},"","",null,{"$f":"VLOOKUP(A313,'Mapa de Preços'!$A$16:$J$2988,10,0)","v":"Falta Orçamento"},"",null,286,null,0]
[287,{"$f":"IF(VLOOKUP(A314,'Mapa de Preços'!$A$16:$B$2988,2,0)=FALSE,\"Falta (U.M.)\",VLOOKUP(A314,'Mapa de Preços'!$A$16:$B$2988,2,0))","v":"Falta (U.M.)"},"","",null,{"$f":"VLOOKUP(A314,'Mapa de Preços'!$A$16:$J$2988,10,0)","v":"Falta Orçamento"},"",null,287,null,0]
[288,{"$f":"IF(VLOOKUP(A315,'Mapa de Preços'!$A$16:$B$2988,2,0)=FALSE,\"Falta (U.M.)\",VLOOKUP(A315,'Mapa de Preços'!$A$16:$B$2988,2,0))","v":"Falta (U.M.)"},"","",null,{"$f":"VLOOKUP(A315,'Mapa de Preços'!$A$16:$J$2988,10,0)","v":"Falta Orçamento"},"",null,288,null,0]
[289,{"$f":"IF(VLOOKUP(A316,'Mapa de Preços'!$A$16:$B$2988,2,0)=FALSE,\"Falta (U.M.)\",VLOOKUP(A316,'Mapa de Preços'!$A$16:$B$2988,2,0))","v":"Falta (U.M.)"},"","",1,{"$f":"VLOOKUP(A316,'Mapa de Preços'!$A$16:$J$2988,10,0)","v":"Falta Orçamento"},"",null,289,null,0]
[290,{"$f":"IF(VLOOKUP(A317,'Mapa de Preços'!$A$16:$B$2988,2,0)=FALSE,\"Falta (U.M.)\",VLOOKUP(A317,'Mapa de Preços'!$A$16:$B$2988,2,0))","v":"Falta (U.M.)"},"","",1,{"$f":"VLOOKUP(A317,'Mapa de Preços'!$A$16:$J$2988,10,0)","v":"Falta Orçamento"},"",null,290,null,0]
[291,{"$f":"IF(VLOOKUP(A318,'Mapa de Preços'!$A$16:$B$2988,2,0)=FALSE,\"Falta (U.M.)\",VLOOKUP(A318,'Mapa de Preços'!$A$16:$B$2988,2,0))","v":"Falta (U.M.)"},"","",1,{"$f":"VLOOKUP(A318,'Mapa de Preços'!$A$16:$J$2988,10,0)","v":"Falta Orçamento"},"",null,291,null,0]
[292,{"$f":"IF(VLOOKUP(A319,'Mapa de Preços'!$A$16:$B$2988,2,0)=FALSE,\"Falta (U.M.)\",VLOOKUP(A319,'Mapa de Preços'!$A$16:$B$2988,2,0))","v":"Falta (U.M.)"},"","",1,{"$f":"VLOOKUP(A319,'Mapa de Preços'!$A$16:$J$2988,10,0)","v":"Falta Orçamento"},"",null,292,null,0]
[293,{"$f":"IF(VLOOKUP(A320,'Mapa de Preços'!$A$16:$B$2988,2,0)=FALSE,\"Falta (U.M.)\",VLOOKUP(A320,'Mapa de Preços'!$A$16:$B$2988,2,0))","v":"Falta (U.M.)"},"","",null,{"$f":"VLOOKUP(A320,'Mapa de Preços'!$A$16:$J$2988,10,0)","v":"Falta Orçamento"},"",null,293,null,0]
[294,{"$f":"IF(VLOOKUP(A321,'Mapa de Preços'!$A$16:$B$2988,2,0)=FALSE,\"Falta (U.M.)\",VLOOKUP(A321,'Mapa de Preços'!$A$16:$B$2988,2,0))","v":"Falta (U.M.)"},"","",null,{"$f":"VLOOKUP(A321,'Mapa de Preços'!$A$16:$J$2988,10,0)","v":"Falta Orçamento"},"",null,294,null,0]
[295,{"$f":"IF(VLOOKUP(A322,'Mapa de Preços'!$A$16:$B$2988,2,0)=FALSE,\"Falta (U.M.)\",VLOOKUP(A322,'Mapa de Preços'!$A$16:$B$2988,2,0))","v":"Falta (U.M.)"},"","",null,{"$f":"VLOOKUP(A322,'Mapa de Preços'!$A$16:$J$2988,10,0)","v":"Falta Orçamento"},"",null,295,null,0]
[296,{"$f":"IF(VLOOKUP(A323,'Mapa de Preços'!$A$16:$B$2988,2,0)=FALSE,\"Falta (U.M.)\",VLOOKUP(A323,'Mapa de Preços'!$A$16:$B$2988,2,0))","v":"Falta (U.M.)"},"","",null,{"$f":"VLOOKUP(A323,'Mapa de Preços'!$A$16:$J$2988,10,0)","v":"Falta Orçamento"},"",null,296,null,0]
[297,{"$f":"IF(VLOOKUP(A324,'Mapa de Preços'!$A$16:$B$2988,2,0)=FALSE,\"Falta (U.M.)\",VLOOKUP(A324,'Mapa de Preços'!$A$16:$B$2988,2,0))","v":"Falta (U.M.)"},"","",null,{"$f":"VLOOKUP(A324,'Mapa de Preços'!$A$16:$J$2988,10,0)","v":"Falta Orçamento"},"",null,297,null,0]
[298,{"$f":"IF(VLOOKUP(A325,'Mapa de Preços'!$A$16:$B$2988,2,0)=FALSE,\"Falta (U.M.)\",VLOOKUP(A325,'Mapa de Preços'!$A$16:$B$2988,2,0))","v":"Falta (U.M.)"},"","",null,{"$f":"VLOOKUP(A325,'Mapa de Preços'!$A$16:$J$2988,10,0)","v":"Falta Orçamento"},"",null,298,null,0]
[299,{"$f":"IF(VLOOKUP(A326,'Mapa de Preços'!$A$16:$B$2988,2,0)=FALSE,\"Falta (U.M.)\",VLOOKUP(A326,'Mapa de Preços'!$A$16:$B$2988,2,0))","v":"Falta (U.M.)"},"","",null,{"$f":"VLOOKUP(A326,'Mapa de Preços'!$A$16:$J$2988,10,0)","v":"Falta Orçamento"},"",null,299,null,0]
[300,{"$f":"IF(VLOOKUP(A327,'Mapa de Preços'!$A$16:$B$2988,2,0)=FALSE,\"Falta (U.M.)\",VLOOKUP(A327,'Mapa de Preços'!$A$16:$B$2988,2,0))","v":"Falta (U.M.)"},"","",null,{"$f":"VLOOKUP(A327,'Mapa de Preços'!$A$16:$J$2988,10,0)","v":"Falta Orçamento"},"",null,300,null,0]
[301,{"$f":"IF(VLOOKUP(A328,'Mapa de Preços'!$A$16:$B$2988,2,0)=FALSE,\"Falta (U.M.)\",VLOOKUP(A328,'Mapa de Preços'!$A$16:$B$2988,2,0))","v":"Falta (U.M.)"},"","",null,{"$f":"VLOOKUP(A328,'Mapa de Preços'!$A$16:$J$2988,10,0)","v":"Falta Orçamento"},"",null,301,null,0]
[302,{"$f":"IF(VLOOKUP(A329,'Mapa de Preços'!$A$16:$B$2988,2,0)=FALSE,\"Falta (U.M.)\",VLOOKUP(A329,'Mapa de Preços'!$A$16:$B$2988,2,0))","v":"Falta (U.M.)"},"","",null,{"$f":"VLOOKUP(A329,'Mapa de Preços'!$A$16:$J$2988,10,0)","v":"Falta Orçamento"},"",null,302,null,0]
[303,{"$f":"IF(VLOOKUP(A330,'Mapa de Preços'!$A$16:$B$2988,2,0)=FALSE,\"Falta (U.M.)\",VLOOKUP(A330,'Mapa de Preços'!$A$16:$B$2988,2,0))","v":"Falta (U.M.)"},"","",null,{"$f":"VLOOKUP(A330,'Mapa de Preços'!$A$16:$J$2988,10,0)","v":"Falta Orçamento"},"",null,303,null,0]
[304,{"$f":"IF(VLOOKUP(A331,'Mapa de Preços'!$A$16:$B$2988,2,0)=FALSE,\"Falta (U.M.)\",VLOOKUP(A331,'Mapa de Preços'!$A$16:$B$2988,2,0))","v":"Falta (U.M.)"},"","",null,{"$f":"VLOOKUP(A331,'Mapa de Preços'!$A$16:$J$2988,10,0)","v":"Falta Orçamento"},"",null,304,null,0]
[305,{"$f":"IF(VLOOKUP(A332,'Mapa de Preços'!$A$16:$B$2988,2,0)=FALSE,\"Falta (U.M.)\",VLOOKUP(A332,'Mapa de Preços'!$A$16:$B$2988,2,0))","v":"Falta (U.M.)"},"","",null,{"$f":"VLOOKUP(A332,'Mapa de Preços'!$A$16:$J$2988,10,0)","v":"Falta Orçamento"},"",null,305,null,0]
[306,{"$f":"IF(VLOOKUP(A333,'Mapa de Preços'!$A$16:$B$2988,2,0)=FALSE,\"Falta (U.M.)\",VLOOKUP(A333,'Mapa de Preços'!$A$16:$B$2988,2,0))","v":"Falta (U.M.)"},"","",null,{"$f":"VLOOKUP(A333,'Mapa de Preços'!$A$16:$J$2988,10,0)","v":"Falta Orçamento"},"",null,306,null,0]
[307,{"$f":"IF(VLOOKUP(A334,'Mapa de Preços'!$A$16:$B$2988,2,0)=FALSE,\"Falta (U.M.)\",VLOOKUP(A334,'Mapa de Preços'!$A$16:$B$2988,2,0))","v":"Falta (U.M.)"},"","",null,{"$f":"VLOOKUP(A334,'Mapa de Preços'!$A$16:$J$2988,10,0)","v":"Falta Orçamento"},"",null,307,null,0]
[308,{"$f":"IF(VLOOKUP(A335,'Mapa de Preços'!$A$16:$B$2988,2,0)=FALSE,\"Falta (U.M.)\",VLOOKUP(A335,'Mapa de Preços'!$A$16:$B$2988,2,0))","v":"Falta (U.M.)"},"","",null,{"$f":"VLOOKUP(A335,'Mapa de Preços'!$A$16:$J$2988,10,0)","v":"Falta Orçamento"},"",null,308,null,0]
[309,{"$f":"IF(VLOOKUP(A336,'Mapa de Preços'!$A$16:$B$2988,2,0)=FALSE,\"Falta (U.M.)\",VLOOKUP(A336,'Mapa de Preços'!$A$16:$B$2988,2,0))","v":"Falta (U.M.)"},"","",null,{"$f":"VLOOKUP(A336,'Mapa de Preços'!$A$16:$J$2988,10,0)","v":"Falta Orçamento"},"",null,309,null,0]
[310,{"$f":"IF(VLOOKUP(A337,'Mapa de Preços'!$A$16:$B$2988,2,0)=FALSE,\"Falta (U.M.)\",VLOOKUP(A337,'Mapa de Preços'!$A$16:$B$2988,2,0))","v":"Falta (U.M.)"},"","",null,{"$f":"VLOOKUP(A337,'Mapa de Preços'!$A$16:$J$2988,10,0)","v":"Falta Orçamento"},"",null,310,null,0]
[311,{"$f":"IF(VLOOKUP(A338,'Mapa de Preços'!$A$16:$B$2988,2,0)=FALSE,\"Falta (U.M.)\",VLOOKUP(A338,'Mapa de Preços'!$A$16:$B$2988,2,0))","v":"Falta (U.M.)"},"","",null,{"$f":"VLOOKUP(A338,'Mapa de Preços'!$A$16:$J$2988,10,0)","v":"Falta Orçamento"},"",null,311,null,0]
[312,{"$f":"IF(VLOOKUP(A339,'Mapa de Preços'!$A$16:$B$2988,2,0)=FALSE,\"Falta (U.M.)\",VLOOKUP(A339,'Mapa de Preços'!$A$16:$B$2988,2,0))","v":"Falta (U.M.)"},"","",null,{"$f":"VLOOKUP(A339,'Mapa de Preços'!$A$16:$J$2988,10,0)","v":"Falta Orçamento"},"",null,312,null,0]
[313,{"$f":"IF(VLOOKUP(A340,'Mapa de Preços'!$A$16:$B$2988,2,0)=FALSE,\"Falta (U.M.)\",VLOOKUP(A340,'Mapa de Preços'!$A$16:$B$2988,2,0))","v":"Falta (U.M.)"},"","",null,{"$f":"VLOOKUP(A340,'Mapa de Preços'!$A$16:$J$2988,10,0)","v":"Falta Orçamento"},"",null,313,null,0]
[314,{"$f":"IF(VLOOKUP(A341,'Mapa de Preços'!$A$16:$B$2988,2,0)=FALSE,\"Falta (U.M.)\",VLOOKUP(A341,'Mapa de Preços'!$A$16:$B$2988,2,0))","v":"Falta (U.M.)"},"","",null,{"$f":"VLOOKUP(A341,'Mapa de Preços'!$A$16:$J$2988,10,0)","v":"Falta Orçamento"},"",null,314,null,0]
[315,{"$f":"IF(VLOOKUP(A342,'Mapa de Preços'!$A$16:$B$2988,2,0)=FALSE,\"Falta (U.M.)\",VLOOKUP(A342,'Mapa de Preços'!$A$16:$B$2988,2,0))","v":"Falta (U.M.)"},"","",null,{"$f":"VLOOKUP(A342,'Mapa de Preços'!$A$16:$J$2988,10,0)","v":"Falta Orçamento"},"",null,315,null,0]
[316,{"$f":"IF(VLOOKUP(A343,'Mapa de Preços'!$A$16:$B$2988,2,0)=FALSE,\"Falta (U.M.)\",VLOOKUP(A343,'Mapa de Preços'!$A$16:$B$2988,2,0))","v":"Falta (U.M.)"},"","",null,{"$f":"VLOOKUP(A343,'Mapa de Preços'!$A$16:$J$2988,10,0)","v":"Falta Orçamento"},"",null,316,null,0]
[317,{"$f":"IF(VLOOKUP(A344,'Mapa de Preços'!$A$16:$B$2988,2,0)=FALSE,\"Falta (U.M.)\",VLOOKUP(A344,'Mapa de Preços'!$A$16:$B$2988,2,0))","v":"Falta (U.M.)"},"","",null,{"$f":"VLOOKUP(A344,'Mapa de Preços'!$A$16:$J$2988,10,0)","v":"Falta Orçamento"},"",null,317,null,0]
[318,{"$f":"IF(VLOOKUP(A345,'Mapa de Preços'!$A$16:$B$2988,2,0)=FALSE,\"Falta (U.M.)\",VLOOKUP(A345,'Mapa de Preços'!$A$16:$B$2988,2,0))","v":"Falta (U.M.)"},"","",null,{"$f":"VLOOKUP(A345,'Mapa de Preços'!$A$16:$J$2988,10,0)","v":"Falta Orçamento"},"",null,318,null,0]
[319,{"$f":"IF(VLOOKUP(A346,'Mapa de Preços'!$A$16:$B$2988,2,0)=FALSE,\"Falta (U.M.)\",VLOOKUP(A346,'Mapa de Preços'!$A$16:$B$2988,2,0))","v":"Falta (U.M.)"},"","",null,{"$f":"VLOOKUP(A346,'Mapa de Preços'!$A$16:$J$2988,10,0)","v":"Falta Orçamento"},"",null,319,null,0]
[320,{"$f":"IF(VLOOKUP(A347,'Mapa de Preços'!$A$16:$B$2988,2,0)=FALSE,\"Falta (U.M.)\",VLOOKUP(A347,'Mapa de Preços'!$A$16:$B$2988,2,0))","v":"Falta (U.M.)"},"","",null,{"$f":"VLOOKUP(A347,'Mapa de Preços'!$A$16:$J$2988,10,0)","v":"Falta Orçamento"},"",null,320,null,0]
[321,{"$f":"IF(VLOOKUP(A348,'Mapa de Preços'!$A$16:$B$2988,2,0)=FALSE,\"Falta (U.M.)\",VLOOKUP(A348,'Mapa de Preços'!$A$16:$B$2988,2,0))","v":"Falta (U.M.)"},"","",null,{"$f":"VLOOKUP(A348,'Mapa de Preços'!$A$16:$J$2988,10,0)","v":"Falta Orçamento"},"",null,321,null,{"$f":"SUM(L348:AI348)","v":0}]
[322,{"$f":"IF(VLOOKUP(A349,'Mapa de Preços'!$A$16:$B$2988,2,0)=FALSE,\"Falta (U.M.)\",VLOOKUP(A349,'Mapa de Preços'!$A$16:$B$2988,2,0))","v":"Falta (U.M.)"},{"$f":"IF(J349<>\"\",J349,\"\")","v":""},{"$f":"IF(VLOOKUP(A349,$I$28:$AI$3000,$G$26,FALSE)<>\"\",VLOOKUP(A349,$I$28:$AI$3000,$G$26,FALSE),\"\")","v":""},null,{"$f":"VLOOKUP(A349,'Mapa de Preços'!$A$16:$J$2988,10,0)","v":"Falta Orçamento"},{"$f":"IF(F349=\"Falta Orçamento\",\"\",F349*D349)","v":""},null,322,null,0]
[323,{"$f":"IF(VLOOKUP(A350,'Mapa de Preços'!$A$16:$B$2988,2,0)=FALSE,\"Falta (U.M.)\",VLOOKUP(A350,'Mapa de Preços'!$A$16:$B$2988,2,0))","v":"Falta (U.M.)"},"","",null,{"$f":"VLOOKUP(A350,'Mapa de Preços'!$A$16:$J$2988,10,0)","v":"Falta Orçamento"},"",null,323,null,0]
[324,{"$f":"IF(VLOOKUP(A351,'Mapa de Preços'!$A$16:$B$2988,2,0)=FALSE,\"Falta (U.M.)\",VLOOKUP(A351,'Mapa de Preços'!$A$16:$B$2988,2,0))","v":"Falta (U.M.)"},"","",null,{"$f":"VLOOKUP(A351,'Mapa de Preços'!$A$16:$J$2988,10,0)","v":"Falta Orçamento"},"",null,324,null,0]
[325,{"$f":"IF(VLOOKUP(A352,'Mapa de Preços'!$A$16:$B$2988,2,0)=FALSE,\"Falta (U.M.)\",VLOOKUP(A352,'Mapa de Preços'!$A$16:$B$2988,2,0))","v":"Falta (U.M.)"},"","",null,{"$f":"VLOOKUP(A352,'Mapa de Preços'!$A$16:$J$2988,10,0)","v":"Falta Orçamento"},"",null,325,null,0]
[326,{"$f":"IF(VLOOKUP(A353,'Mapa de Preços'!$A$16:$B$2988,2,0)=FALSE,\"Falta (U.M.)\",VLOOKUP(A353,'Mapa de Preços'!$A$16:$B$2988,2,0))","v":"Falta (U.M.)"},"","",null,{"$f":"VLOOKUP(A353,'Mapa de Preços'!$A$16:$J$2988,10,0)","v":"Falta Orçamento"},"",null,326,null,0]
[327,{"$f":"IF(VLOOKUP(A354,'Mapa de Preços'!$A$16:$B$2988,2,0)=FALSE,\"Falta (U.M.)\",VLOOKUP(A354,'Mapa de Preços'!$A$16:$B$2988,2,0))","v":"Falta (U.M.)"},"","",null,{"$f":"VLOOKUP(A354,'Mapa de Preços'!$A$16:$J$2988,10,0)","v":"Falta Orçamento"},"",null,327,null,0]
[328,{"$f":"IF(VLOOKUP(A355,'Mapa de Preços'!$A$16:$B$2988,2,0)=FALSE,\"Falta (U.M.)\",VLOOKUP(A355,'Mapa de Preços'!$A$16:$B$2988,2,0))","v":"Falta (U.M.)"},"","",null,{"$f":"VLOOKUP(A355,'Mapa de Preços'!$A$16:$J$2988,10,0)","v":"Falta Orçamento"},"",null,328,null,0]
[329,{"$f":"IF(VLOOKUP(A356,'Mapa de Preços'!$A$16:$B$2988,2,0)=FALSE,\"Falta (U.M.)\",VLOOKUP(A356,'Mapa de Preços'!$A$16:$B$2988,2,0))","v":"Falta (U.M.)"},"","",null,{"$f":"VLOOKUP(A356,'Mapa de Preços'!$A$16:$J$2988,10,0)","v":"Falta Orçamento"},"",null,329,null,0]
[330,{"$f":"IF(VLOOKUP(A357,'Mapa de Preços'!$A$16:$B$2988,2,0)=FALSE,\"Falta (U.M.)\",VLOOKUP(A357,'Mapa de Preços'!$A$16:$B$2988,2,0))","v":"Falta (U.M.)"},"","",null,{"$f":"VLOOKUP(A357,'Mapa de Preços'!$A$16:$J$2988,10,0)","v":"Falta Orçamento"},"",null,330,null,0]
[331,{"$f":"IF(VLOOKUP(A358,'Mapa de Preços'!$A$16:$B$2988,2,0)=FALSE,\"Falta (U.M.)\",VLOOKUP(A358,'Mapa de Preços'!$A$16:$B$2988,2,0))","v":"Falta (U.M.)"},"","",null,{"$f":"VLOOKUP(A358,'Mapa de Preços'!$A$16:$J$2988,10,0)","v":"Falta Orçamento"},"",null,331,null,0]
[332,{"$f":"IF(VLOOKUP(A359,'Mapa de Preços'!$A$16:$B$2988,2,0)=FALSE,\"Falta (U.M.)\",VLOOKUP(A359,'Mapa de Preços'!$A$16:$B$2988,2,0))","v":"Falta (U.M.)"},"","",null,{"$f":"VLOOKUP(A359,'Mapa de Preços'!$A$16:$J$2988,10,0)","v":"Falta Orçamento"},"",null,332,null,0]
[333,{"$f":"IF(VLOOKUP(A360,'Mapa de Preços'!$A$16:$B$2988,2,0)=FALSE,\"Falta (U.M.)\",VLOOKUP(A360,'Mapa de Preços'!$A$16:$B$2988,2,0))","v":"Falta (U.M.)"},"","",null,{"$f":"VLOOKUP(A360,'Mapa de Preços'!$A$16:$J$2988,10,0)","v":"Falta Orçamento"},"",null,333,null,0]
[334,{"$f":"IF(VLOOKUP(A361,'Mapa de Preços'!$A$16:$B$2988,2,0)=FALSE,\"Falta (U.M.)\",VLOOKUP(A361,'Mapa de Preços'!$A$16:$B$2988,2,0))","v":"Falta (U.M.)"},"","",null,{"$f":"VLOOKUP(A361,'Mapa de Preços'!$A$16:$J$2988,10,0)","v":"Falta Orçamento"},"",null,334,null,0]
[335,{"$f":"IF(VLOOKUP(A362,'Mapa de Preços'!$A$16:$B$2988,2,0)=FALSE,\"Falta (U.M.)\",VLOOKUP(A362,'Mapa de Preços'!$A$16:$B$2988,2,0))","v":"Falta (U.M.)"},"","",null,{"$f":"VLOOKUP(A362,'Mapa de Preços'!$A$16:$J$2988,10,0)","v":"Falta Orçamento"},"",null,335,null,0]
[336,{"$f":"IF(VLOOKUP(A363,'Mapa de Preços'!$A$16:$B$2988,2,0)=FALSE,\"Falta (U.M.)\",VLOOKUP(A363,'Mapa de Preços'!$A$16:$B$2988,2,0))","v":"Falta (U.M.)"},"","",null,{"$f":"VLOOKUP(A363,'Mapa de Preços'!$A$16:$J$2988,10,0)","v":"Falta Orçamento"},"",null,336,null,0]
[337,{"$f":"IF(VLOOKUP(A364,'Mapa de Preços'!$A$16:$B$2988,2,0)=FALSE,\"Falta (U.M.)\",VLOOKUP(A364,'Mapa de Preços'!$A$16:$B$2988,2,0))","v":"Falta (U.M.)"},"","",null,{"$f":"VLOOKUP(A364,'Mapa de Preços'!$A$16:$J$2988,10,0)","v":"Falta Orçamento"},"",null,337,null,0]
[338,{"$f":"IF(VLOOKUP(A365,'Mapa de Preços'!$A$16:$B$2988,2,0)=FALSE,\"Falta (U.M.)\",VLOOKUP(A365,'Mapa de Preços'!$A$16:$B$2988,2,0))","v":"Falta (U.M.)"},"","",null,{"$f":"VLOOKUP(A365,'Mapa de Preços'!$A$16:$J$2988,10,0)","v":"Falta Orçamento"},"",null,338,null,0]
[339,{"$f":"IF(VLOOKUP(A366,'Mapa de Preços'!$A$16:$B$2988,2,0)=FALSE,\"Falta (U.M.)\",VLOOKUP(A366,'Mapa de Preços'!$A$16:$B$2988,2,0))","v":"Falta (U.M.)"},"","",null,{"$f":"VLOOKUP(A366,'Mapa de Preços'!$A$16:$J$2988,10,0)","v":"Falta Orçamento"},"",null,339,null,0]
[340,{"$f":"IF(VLOOKUP(A367,'Mapa de Preços'!$A$16:$B$2988,2,0)=FALSE,\"Falta (U.M.)\",VLOOKUP(A367,'Mapa de Preços'!$A$16:$B$2988,2,0))","v":"Falta (U.M.)"},"","",5,{"$f":"VLOOKUP(A367,'Mapa de Preços'!$A$16:$J$2988,10,0)","v":"Falta Orçamento"},"",null,340,null,0]
[341,{"$f":"IF(VLOOKUP(A368,'Mapa de Preços'!$A$16:$B$2988,2,0)=FALSE,\"Falta (U.M.)\",VLOOKUP(A368,'Mapa de Preços'!$A$16:$B$2988,2,0))","v":"Falta (U.M.)"},"","",null,{"$f":"VLOOKUP(A368,'Mapa de Preços'!$A$16:$J$2988,10,0)","v":"Falta Orçamento"},"",null,341,null,0]
[342,{"$f":"IF(VLOOKUP(A369,'Mapa de Preços'!$A$16:$B$2988,2,0)=FALSE,\"Falta (U.M.)\",VLOOKUP(A369,'Mapa de Preços'!$A$16:$B$2988,2,0))","v":"Falta (U.M.)"},"","",null,{"$f":"VLOOKUP(A369,'Mapa de Preços'!$A$16:$J$2988,10,0)","v":"Falta Orçamento"},"",null,342,null,0]
[343,{"$f":"IF(VLOOKUP(A370,'Mapa de Preços'!$A$16:$B$2988,2,0)=FALSE,\"Falta (U.M.)\",VLOOKUP(A370,'Mapa de Preços'!$A$16:$B$2988,2,0))","v":"Falta (U.M.)"},"","",null,{"$f":"VLOOKUP(A370,'Mapa de Preços'!$A$16:$J$2988,10,0)","v":"Falta Orçamento"},"",null,343,null,0]
[344,{"$f":"IF(VLOOKUP(A371,'Mapa de Preços'!$A$16:$B$2988,2,0)=FALSE,\"Falta (U.M.)\",VLOOKUP(A371,'Mapa de Preços'!$A$16:$B$2988,2,0))","v":"Falta (U.M.)"},"","",null,{"$f":"VLOOKUP(A371,'Mapa de Preços'!$A$16:$J$2988,10,0)","v":"Falta Orçamento"},"",null,344,null,0]
[345,{"$f":"IF(VLOOKUP(A372,'Mapa de Preços'!$A$16:$B$2988,2,0)=FALSE,\"Falta (U.M.)\",VLOOKUP(A372,'Mapa de Preços'!$A$16:$B$2988,2,0))","v":"Falta (U.M.)"},"","",null,{"$f":"VLOOKUP(A372,'Mapa de Preços'!$A$16:$J$2988,10,0)","v":"Falta Orçamento"},"",null,345,null,0]
[346,{"$f":"IF(VLOOKUP(A373,'Mapa de Preços'!$A$16:$B$2988,2,0)=FALSE,\"Falta (U.M.)\",VLOOKUP(A373,'Mapa de Preços'!$A$16:$B$2988,2,0))","v":"Falta (U.M.)"},"","",null,{"$f":"VLOOKUP(A373,'Mapa de Preços'!$A$16:$J$2988,10,0)","v":"Falta Orçamento"},"",null,346,null,0]
[347,{"$f":"IF(VLOOKUP(A374,'Mapa de Preços'!$A$16:$B$2988,2,0)=FALSE,\"Falta (U.M.)\",VLOOKUP(A374,'Mapa de Preços'!$A$16:$B$2988,2,0))","v":"Falta (U.M.)"},"","",null,{"$f":"VLOOKUP(A374,'Mapa de Preços'!$A$16:$J$2988,10,0)","v":"Falta Orçamento"},"",null,347,null,0]
[348,{"$f":"IF(VLOOKUP(A375,'Mapa de Preços'!$A$16:$B$2988,2,0)=FALSE,\"Falta (U.M.)\",VLOOKUP(A375,'Mapa de Preços'!$A$16:$B$2988,2,0))","v":"Falta (U.M.)"},"","",null,{"$f":"VLOOKUP(A375,'Mapa de Preços'!$A$16:$J$2988,10,0)","v":"Falta Orçamento"},"",null,348,null,0]
[349,{"$f":"IF(VLOOKUP(A376,'Mapa de Preços'!$A$16:$B$2988,2,0)=FALSE,\"Falta (U.M.)\",VLOOKUP(A376,'Mapa de Preços'!$A$16:$B$2988,2,0))","v":"Falta (U.M.)"},"","",null,{"$f":"VLOOKUP(A376,'Mapa de Preços'!$A$16:$J$2988,10,0)","v":"Falta Orçamento"},"",null,349,null,0]
[350,{"$f":"IF(VLOOKUP(A377,'Mapa de Preços'!$A$16:$B$2988,2,0)=FALSE,\"Falta (U.M.)\",VLOOKUP(A377,'Mapa de Preços'!$A$16:$B$2988,2,0))","v":"Falta (U.M.)"},"","",null,{"$f":"VLOOKUP(A377,'Mapa de Preços'!$A$16:$J$2988,10,0)","v":"Falta Orçamento"},"",null,350,null,0]
[351,{"$f":"IF(VLOOKUP(A378,'Mapa de Preços'!$A$16:$B$2988,2,0)=FALSE,\"Falta (U.M.)\",VLOOKUP(A378,'Mapa de Preços'!$A$16:$B$2988,2,0))","v":"Falta (U.M.)"},"","",null,{"$f":"VLOOKUP(A378,'Mapa de Preços'!$A$16:$J$2988,10,0)","v":"Falta Orçamento"},"",null,351,null,0]
[352,{"$f":"IF(VLOOKUP(A379,'Mapa de Preços'!$A$16:$B$2988,2,0)=FALSE,\"Falta (U.M.)\",VLOOKUP(A379,'Mapa de Preços'!$A$16:$B$2988,2,0))","v":"Falta (U.M.)"},"","",null,{"$f":"VLOOKUP(A379,'Mapa de Preços'!$A$16:$J$2988,10,0)","v":"Falta Orçamento"},"",null,352,null,0]
[353,{"$f":"IF(VLOOKUP(A380,'Mapa de Preços'!$A$16:$B$2988,2,0)=FALSE,\"Falta (U.M.)\",VLOOKUP(A380,'Mapa de Preços'!$A$16:$B$2988,2,0))","v":"Falta (U.M.)"},"","",null,{"$f":"VLOOKUP(A380,'Mapa de Preços'!$A$16:$J$2988,10,0)","v":"Falta Orçamento"},"",null,353,null,0]
[354,{"$f":"IF(VLOOKUP(A381,'Mapa de Preços'!$A$16:$B$2988,2,0)=FALSE,\"Falta (U.M.)\",VLOOKUP(A381,'Mapa de Preços'!$A$16:$B$2988,2,0))","v":"Falta (U.M.)"},"","",null,{"$f":"VLOOKUP(A381,'Mapa de Preços'!$A$16:$J$2988,10,0)","v":"Falta Orçamento"},"",null,354,null,0]
[355,{"$f":"IF(VLOOKUP(A382,'Mapa de Preços'!$A$16:$B$2988,2,0)=FALSE,\"Falta (U.M.)\",VLOOKUP(A382,'Mapa de Preços'!$A$16:$B$2988,2,0))","v":"Falta (U.M.)"},"","",null,{"$f":"VLOOKUP(A382,'Mapa de Preços'!$A$16:$J$2988,10,0)","v":"Falta Orçamento"},"",null,355,null,0]
[356,{"$f":"IF(VLOOKUP(A383,'Mapa de Preços'!$A$16:$B$2988,2,0)=FALSE,\"Falta (U.M.)\",VLOOKUP(A383,'Mapa de Preços'!$A$16:$B$2988,2,0))","v":"Falta (U.M.)"},"","",null,{"$f":"VLOOKUP(A383,'Mapa de Preços'!$A$16:$J$2988,10,0)","v":"Falta Orçamento"},"",null,356,null,0]
[357,{"$f":"IF(VLOOKUP(A384,'Mapa de Preços'!$A$16:$B$2988,2,0)=FALSE,\"Falta (U.M.)\",VLOOKUP(A384,'Mapa de Preços'!$A$16:$B$2988,2,0))","v":"Falta (U.M.)"},"","",null,{"$f":"VLOOKUP(A384,'Mapa de Preços'!$A$16:$J$2988,10,0)","v":"Falta Orçamento"},"",null,357,null,0]
[358,{"$f":"IF(VLOOKUP(A385,'Mapa de Preços'!$A$16:$B$2988,2,0)=FALSE,\"Falta (U.M.)\",VLOOKUP(A385,'Mapa de Preços'!$A$16:$B$2988,2,0))","v":"Falta (U.M.)"},"","",null,{"$f":"VLOOKUP(A385,'Mapa de Preços'!$A$16:$J$2988,10,0)","v":"Falta Orçamento"},"",null,358,null,0]
[359,{"$f":"IF(VLOOKUP(A386,'Mapa de Preços'!$A$16:$B$2988,2,0)=FALSE,\"Falta (U.M.)\",VLOOKUP(A386,'Mapa de Preços'!$A$16:$B$2988,2,0))","v":"Falta (U.M.)"},"","",null,{"$f":"VLOOKUP(A386,'Mapa de Preços'!$A$16:$J$2988,10,0)","v":"Falta Orçamento"},"",null,359,null,0]
[360,{"$f":"IF(VLOOKUP(A387,'Mapa de Preços'!$A$16:$B$2988,2,0)=FALSE,\"Falta (U.M.)\",VLOOKUP(A387,'Mapa de Preços'!$A$16:$B$2988,2,0))","v":"Falta (U.M.)"},"","",null,{"$f":"VLOOKUP(A387,'Mapa de Preços'!$A$16:$J$2988,10,0)","v":"Falta Orçamento"},"",null,360,null,0]
[361,{"$f":"IF(VLOOKUP(A388,'Mapa de Preços'!$A$16:$B$2988,2,0)=FALSE,\"Falta (U.M.)\",VLOOKUP(A388,'Mapa de Preços'!$A$16:$B$2988,2,0))","v":"Falta (U.M.)"},"","",null,{"$f":"VLOOKUP(A388,'Mapa de Preços'!$A$16:$J$2988,10,0)","v":"Falta Orçamento"},"",null,361,null,0]
[362,{"$f":"IF(VLOOKUP(A389,'Mapa de Preços'!$A$16:$B$2988,2,0)=FALSE,\"Falta (U.M.)\",VLOOKUP(A389,'Mapa de Preços'!$A$16:$B$2988,2,0))","v":"Falta (U.M.)"},"","",null,{"$f":"VLOOKUP(A389,'Mapa de Preços'!$A$16:$J$2988,10,0)","v":"Falta Orçamento"},"",null,362,null,0]
[363,{"$f":"IF(VLOOKUP(A390,'Mapa de Preços'!$A$16:$B$2988,2,0)=FALSE,\"Falta (U.M.)\",VLOOKUP(A390,'Mapa de Preços'!$A$16:$B$2988,2,0))","v":"Falta (U.M.)"},"","",null,{"$f":"VLOOKUP(A390,'Mapa de Preços'!$A$16:$J$2988,10,0)","v":"Falta Orçamento"},"",null,363,null,0]
[364,{"$f":"IF(VLOOKUP(A391,'Mapa de Preços'!$A$16:$B$2988,2,0)=FALSE,\"Falta (U.M.)\",VLOOKUP(A391,'Mapa de Preços'!$A$16:$B$2988,2,0))","v":"Falta (U.M.)"},"","",null,{"$f":"VLOOKUP(A391,'Mapa de Preços'!$A$16:$J$2988,10,0)","v":"Falta Orçamento"},"",null,364,null,0]
[365,{"$f":"IF(VLOOKUP(A392,'Mapa de Preços'!$A$16:$B$2988,2,0)=FALSE,\"Falta (U.M.)\",VLOOKUP(A392,'Mapa de Preços'!$A$16:$B$2988,2,0))","v":"Falta (U.M.)"},"","",null,{"$f":"VLOOKUP(A392,'Mapa de Preços'!$A$16:$J$2988,10,0)","v":"Falta Orçamento"},"",null,365,null,0]
[366,{"$f":"IF(VLOOKUP(A393,'Mapa de Preços'!$A$16:$B$2988,2,0)=FALSE,\"Falta (U.M.)\",VLOOKUP(A393,'Mapa de Preços'!$A$16:$B$2988,2,0))","v":"Falta (U.M.)"},"","",null,{"$f":"VLOOKUP(A393,'Mapa de Preços'!$A$16:$J$2988,10,0)","v":"Falta Orçamento"},"",null,366,null,0]
[367,{"$f":"IF(VLOOKUP(A394,'Mapa de Preços'!$A$16:$B$2988,2,0)=FALSE,\"Falta (U.M.)\",VLOOKUP(A394,'Mapa de Preços'!$A$16:$B$2988,2,0))","v":"Falta (U.M.)"},"","",null,{"$f":"VLOOKUP(A394,'Mapa de Preços'!$A$16:$J$2988,10,0)","v":"Falta Orçamento"},"",null,367,null,0]
[368,{"$f":"IF(VLOOKUP(A395,'Mapa de Preços'!$A$16:$B$2988,2,0)=FALSE,\"Falta (U.M.)\",VLOOKUP(A395,'Mapa de Preços'!$A$16:$B$2988,2,0))","v":"Falta (U.M.)"},"","",null,{"$f":"VLOOKUP(A395,'Mapa de Preços'!$A$16:$J$2988,10,0)","v":"Falta Orçamento"},"",null,368,null,0]
[369,{"$f":"IF(VLOOKUP(A396,'Mapa de Preços'!$A$16:$B$2988,2,0)=FALSE,\"Falta (U.M.)\",VLOOKUP(A396,'Mapa de Preços'!$A$16:$B$2988,2,0))","v":"Falta (U.M.)"},"","",null,{"$f":"VLOOKUP(A396,'Mapa de Preços'!$A$16:$J$2988,10,0)","v":"Falta Orçamento"},"",null,369,null,0]
[370,{"$f":"IF(VLOOKUP(A397,'Mapa de Preços'!$A$16:$B$2988,2,0)=FALSE,\"Falta (U.M.)\",VLOOKUP(A397,'Mapa de Preços'!$A$16:$B$2988,2,0))","v":"Falta (U.M.)"},"","",null,{"$f":"VLOOKUP(A397,'Mapa de Preços'!$A$16:$J$2988,10,0)","v":"Falta Orçamento"},"",null,370,null,0]
[371,{"$f":"IF(VLOOKUP(A398,'Mapa de Preços'!$A$16:$B$2988,2,0)=FALSE,\"Falta (U.M.)\",VLOOKUP(A398,'Mapa de Preços'!$A$16:$B$2988,2,0))","v":"Falta (U.M.)"},"","",null,{"$f":"VLOOKUP(A398,'Mapa de Preços'!$A$16:$J$2988,10,0)","v":"Falta Orçamento"},"",null,371,null,0]
[372,{"$f":"IF(VLOOKUP(A399,'Mapa de Preços'!$A$16:$B$2988,2,0)=FALSE,\"Falta (U.M.)\",VLOOKUP(A399,'Mapa de Preços'!$A$16:$B$2988,2,0))","v":"Falta (U.M.)"},"","",2,{"$f":"VLOOKUP(A399,'Mapa de Preços'!$A$16:$J$2988,10,0)","v":"Falta Orçamento"},"",null,372,null,0]
[373,{"$f":"IF(VLOOKUP(A400,'Mapa de Preços'!$A$16:$B$2988,2,0)=FALSE,\"Falta (U.M.)\",VLOOKUP(A400,'Mapa de Preços'!$A$16:$B$2988,2,0))","v":"Falta (U.M.)"},"","",10,{"$f":"VLOOKUP(A400,'Mapa de Preços'!$A$16:$J$2988,10,0)","v":"Falta Orçamento"},"",null,373,null,0]
[374,{"$f":"IF(VLOOKUP(A401,'Mapa de Preços'!$A$16:$B$2988,2,0)=FALSE,\"Falta (U.M.)\",VLOOKUP(A401,'Mapa de Preços'!$A$16:$B$2988,2,0))","v":"Falta (U.M.)"},"","",5,{"$f":"VLOOKUP(A401,'Mapa de Preços'!$A$16:$J$2988,10,0)","v":"Falta Orçamento"},"",null,374,null,0]
[375,{"$f":"IF(VLOOKUP(A402,'Mapa de Preços'!$A$16:$B$2988,2,0)=FALSE,\"Falta (U.M.)\",VLOOKUP(A402,'Mapa de Preços'!$A$16:$B$2988,2,0))","v":"Falta (U.M.)"},"","",null,{"$f":"VLOOKUP(A402,'Mapa de Preços'!$A$16:$J$2988,10,0)","v":"Falta Orçamento"},"",null,375,null,0]
[376,{"$f":"IF(VLOOKUP(A403,'Mapa de Preços'!$A$16:$B$2988,2,0)=FALSE,\"Falta (U.M.)\",VLOOKUP(A403,'Mapa de Preços'!$A$16:$B$2988,2,0))","v":"Falta (U.M.)"},"","",null,{"$f":"VLOOKUP(A403,'Mapa de Preços'!$A$16:$J$2988,10,0)","v":"Falta Orçamento"},"",null,376,null,0]
[377,{"$f":"IF(VLOOKUP(A404,'Mapa de Preços'!$A$16:$B$2988,2,0)=FALSE,\"Falta (U.M.)\",VLOOKUP(A404,'Mapa de Preços'!$A$16:$B$2988,2,0))","v":"Falta (U.M.)"},"","",null,{"$f":"VLOOKUP(A404,'Mapa de Preços'!$A$16:$J$2988,10,0)","v":"Falta Orçamento"},"",null,377,null,0]
[378,{"$f":"IF(VLOOKUP(A405,'Mapa de Preços'!$A$16:$B$2988,2,0)=FALSE,\"Falta (U.M.)\",VLOOKUP(A405,'Mapa de Preços'!$A$16:$B$2988,2,0))","v":"Falta (U.M.)"},"","",null,{"$f":"VLOOKUP(A405,'Mapa de Preços'!$A$16:$J$2988,10,0)","v":"Falta Orçamento"},"",null,378,null,0]
[379,{"$f":"IF(VLOOKUP(A406,'Mapa de Preços'!$A$16:$B$2988,2,0)=FALSE,\"Falta (U.M.)\",VLOOKUP(A406,'Mapa de Preços'!$A$16:$B$2988,2,0))","v":"Falta (U.M.)"},"","",null,{"$f":"VLOOKUP(A406,'Mapa de Preços'!$A$16:$J$2988,10,0)","v":"Falta Orçamento"},"",null,379,null,0]
[380,{"$f":"IF(VLOOKUP(A407,'Mapa de Preços'!$A$16:$B$2988,2,0)=FALSE,\"Falta (U.M.)\",VLOOKUP(A407,'Mapa de Preços'!$A$16:$B$2988,2,0))","v":"Falta (U.M.)"},"","",null,{"$f":"VLOOKUP(A407,'Mapa de Preços'!$A$16:$J$2988,10,0)","v":"Falta Orçamento"},"",null,380,null,0]
[381,{"$f":"IF(VLOOKUP(A408,'Mapa de Preços'!$A$16:$B$2988,2,0)=FALSE,\"Falta (U.M.)\",VLOOKUP(A408,'Mapa de Preços'!$A$16:$B$2988,2,0))","v":"Falta (U.M.)"},"","",null,{"$f":"VLOOKUP(A408,'Mapa de Preços'!$A$16:$J$2988,10,0)","v":"Falta Orçamento"},"",null,381,null,0]
[382,{"$f":"IF(VLOOKUP(A409,'Mapa de Preços'!$A$16:$B$2988,2,0)=FALSE,\"Falta (U.M.)\",VLOOKUP(A409,'Mapa de Preços'!$A$16:$B$2988,2,0))","v":"Falta (U.M.)"},"","",null,{"$f":"VLOOKUP(A409,'Mapa de Preços'!$A$16:$J$2988,10,0)","v":"Falta Orçamento"},"",null,382,null,0]
[383,{"$f":"IF(VLOOKUP(A410,'Mapa de Preços'!$A$16:$B$2988,2,0)=FALSE,\"Falta (U.M.)\",VLOOKUP(A410,'Mapa de Preços'!$A$16:$B$2988,2,0))","v":"Falta (U.M.)"},"","",null,{"$f":"VLOOKUP(A410,'Mapa de Preços'!$A$16:$J$2988,10,0)","v":"Falta Orçamento"},"",null,383,null,0]
[384,{"$f":"IF(VLOOKUP(A411,'Mapa de Preços'!$A$16:$B$2988,2,0)=FALSE,\"Falta (U.M.)\",VLOOKUP(A411,'Mapa de Preços'!$A$16:$B$2988,2,0))","v":"Falta (U.M.)"},"","",null,{"$f":"VLOOKUP(A411,'Mapa de Preços'!$A$16:$J$2988,10,0)","v":"Falta Orçamento"},"",null,384,null,0]
[385,{"$f":"IF(VLOOKUP(A412,'Mapa de Preços'!$A$16:$B$2988,2,0)=FALSE,\"Falta (U.M.)\",VLOOKUP(A412,'Mapa de Preços'!$A$16:$B$2988,2,0))","v":"Falta (U.M.)"},"","",null,{"$f":"VLOOKUP(A412,'Mapa de Preços'!$A$16:$J$2988,10,0)","v":"Falta Orçamento"},"",null,385,null,{"$f":"SUM(L412:AI412)","v":0}]
[386,{"$f":"IF(VLOOKUP(A413,'Mapa de Preços'!$A$16:$B$2988,2,0)=FALSE,\"Falta (U.M.)\",VLOOKUP(A413,'Mapa de Preços'!$A$16:$B$2988,2,0))","v":"Falta (U.M.)"},{"$f":"IF(J413<>\"\",J413,\"\")","v":""},{"$f":"IF(VLOOKUP(A413,$I$28:$AI$3000,$G$26,FALSE)<>\"\",VLOOKUP(A413,$I$28:$AI$3000,$G$26,FALSE),\"\")","v":""},null,{"$f":"VLOOKUP(A413,'Mapa de Preços'!$A$16:$J$2988,10,0)","v":"Falta Orçamento"},{"$f":"IF(F413=\"Falta Orçamento\",\"\",F413*D413)","v":""},null,386,null,0]
[387,{"$f":"IF(VLOOKUP(A414,'Mapa de Preços'!$A$16:$B$2988,2,0)=FALSE,\"Falta (U.M.)\",VLOOKUP(A414,'Mapa de Preços'!$A$16:$B$2988,2,0))","v":"Falta (U.M.)"},"","",null,{"$f":"VLOOKUP(A414,'Mapa de Preços'!$A$16:$J$2988,10,0)","v":"Falta Orçamento"},"",null,387,null,0]
[388,{"$f":"IF(VLOOKUP(A415,'Mapa de Preços'!$A$16:$B$2988,2,0)=FALSE,\"Falta (U.M.)\",VLOOKUP(A415,'Mapa de Preços'!$A$16:$B$2988,2,0))","v":"Falta (U.M.)"},"","",null,{"$f":"VLOOKUP(A415,'Mapa de Preços'!$A$16:$J$2988,10,0)","v":"Falta Orçamento"},"",null,388,null,0]
[389,{"$f":"IF(VLOOKUP(A416,'Mapa de Preços'!$A$16:$B$2988,2,0)=FALSE,\"Falta (U.M.)\",VLOOKUP(A416,'Mapa de Preços'!$A$16:$B$2988,2,0))","v":"Falta (U.M.)"},"","",null,{"$f":"VLOOKUP(A416,'Mapa de Preços'!$A$16:$J$2988,10,0)","v":"Falta Orçamento"},"",null,389,null,0]
[390,{"$f":"IF(VLOOKUP(A417,'Mapa de Preços'!$A$16:$B$2988,2,0)=FALSE,\"Falta (U.M.)\",VLOOKUP(A417,'Mapa de Preços'!$A$16:$B$2988,2,0))","v":"Falta (U.M.)"},"","",null,{"$f":"VLOOKUP(A417,'Mapa de Preços'!$A$16:$J$2988,10,0)","v":"Falta Orçamento"},"",null,390,null,0]
[391,{"$f":"IF(VLOOKUP(A418,'Mapa de Preços'!$A$16:$B$2988,2,0)=FALSE,\"Falta (U.M.)\",VLOOKUP(A418,'Mapa de Preços'!$A$16:$B$2988,2,0))","v":"Falta (U.M.)"},"","",null,{"$f":"VLOOKUP(A418,'Mapa de Preços'!$A$16:$J$2988,10,0)","v":"Falta Orçamento"},"",null,391,null,0]
[392,{"$f":"IF(VLOOKUP(A419,'Mapa de Preços'!$A$16:$B$2988,2,0)=FALSE,\"Falta (U.M.)\",VLOOKUP(A419,'Mapa de Preços'!$A$16:$B$2988,2,0))","v":"Falta (U.M.)"},"","",null,{"$f":"VLOOKUP(A419,'Mapa de Preços'!$A$16:$J$2988,10,0)","v":"Falta Orçamento"},"",null,392,null,0]
[393,{"$f":"IF(VLOOKUP(A420,'Mapa de Preços'!$A$16:$B$2988,2,0)=FALSE,\"Falta (U.M.)\",VLOOKUP(A420,'Mapa de Preços'!$A$16:$B$2988,2,0))","v":"Falta (U.M.)"},"","",null,{"$f":"VLOOKUP(A420,'Mapa de Preços'!$A$16:$J$2988,10,0)","v":"Falta Orçamento"},"",null,393,null,0]
[394,{"$f":"IF(VLOOKUP(A421,'Mapa de Preços'!$A$16:$B$2988,2,0)=FALSE,\"Falta (U.M.)\",VLOOKUP(A421,'Mapa de Preços'!$A$16:$B$2988,2,0))","v":"Falta (U.M.)"},"","",null,{"$f":"VLOOKUP(A421,'Mapa de Preços'!$A$16:$J$2988,10,0)","v":"Falta Orçamento"},"",null,394,null,0]
[395,{"$f":"IF(VLOOKUP(A422,'Mapa de Preços'!$A$16:$B$2988,2,0)=FALSE,\"Falta (U.M.)\",VLOOKUP(A422,'Mapa de Preços'!$A$16:$B$2988,2,0))","v":"Falta (U.M.)"},"","",null,{"$f":"VLOOKUP(A422,'Mapa de Preços'!$A$16:$J$2988,10,0)","v":"Falta Orçamento"},"",null,395,null,0]
[396,{"$f":"IF(VLOOKUP(A423,'Mapa de Preços'!$A$16:$B$2988,2,0)=FALSE,\"Falta (U.M.)\",VLOOKUP(A423,'Mapa de Preços'!$A$16:$B$2988,2,0))","v":"Falta (U.M.)"},"","",null,{"$f":"VLOOKUP(A423,'Mapa de Preços'!$A$16:$J$2988,10,0)","v":"Falta Orçamento"},"",null,396,null,0]
[397,{"$f":"IF(VLOOKUP(A424,'Mapa de Preços'!$A$16:$B$2988,2,0)=FALSE,\"Falta (U.M.)\",VLOOKUP(A424,'Mapa de Preços'!$A$16:$B$2988,2,0))","v":"Falta (U.M.)"},"","",null,{"$f":"VLOOKUP(A424,'Mapa de Preços'!$A$16:$J$2988,10,0)","v":"Falta Orçamento"},"",null,397,null,0]
[398,{"$f":"IF(VLOOKUP(A425,'Mapa de Preços'!$A$16:$B$2988,2,0)=FALSE,\"Falta (U.M.)\",VLOOKUP(A425,'Mapa de Preços'!$A$16:$B$2988,2,0))","v":"Falta (U.M.)"},"","",null,{"$f":"VLOOKUP(A425,'Mapa de Preços'!$A$16:$J$2988,10,0)","v":"Falta Orçamento"},"",null,398,null,0]
[399,{"$f":"IF(VLOOKUP(A426,'Mapa de Preços'!$A$16:$B$2988,2,0)=FALSE,\"Falta (U.M.)\",VLOOKUP(A426,'Mapa de Preços'!$A$16:$B$2988,2,0))","v":"Falta (U.M.)"},"","",null,{"$f":"VLOOKUP(A426,'Mapa de Preços'!$A$16:$J$2988,10,0)","v":"Falta Orçamento"},"",null,399,null,0]
[400,{"$f":"IF(VLOOKUP(A427,'Mapa de Preços'!$A$16:$B$2988,2,0)=FALSE,\"Falta (U.M.)\",VLOOKUP(A427,'Mapa de Preços'!$A$16:$B$2988,2,0))","v":"Falta (U.M.)"},"","",null,{"$f":"VLOOKUP(A427,'Mapa de Preços'!$A$16:$J$2988,10,0)","v":"Falta Orçamento"},"",null,400,null,0]
[401,{"$f":"IF(VLOOKUP(A428,'Mapa de Preços'!$A$16:$B$2988,2,0)=FALSE,\"Falta (U.M.)\",VLOOKUP(A428,'Mapa de Preços'!$A$16:$B$2988,2,0))","v":"Falta (U.M.)"},"","",null,{"$f":"VLOOKUP(A428,'Mapa de Preços'!$A$16:$J$2988,10,0)","v":"Falta Orçamento"},"",null,401,null,0]
[402,{"$f":"IF(VLOOKUP(A429,'Mapa de Preços'!$A$16:$B$2988,2,0)=FALSE,\"Falta (U.M.)\",VLOOKUP(A429,'Mapa de Preços'!$A$16:$B$2988,2,0))","v":"Falta (U.M.)"},"","",null,{"$f":"VLOOKUP(A429,'Mapa de Preços'!$A$16:$J$2988,10,0)","v":"Falta Orçamento"},"",null,402,null,0]
[403,{"$f":"IF(VLOOKUP(A430,'Mapa de Preços'!$A$16:$B$2988,2,0)=FALSE,\"Falta (U.M.)\",VLOOKUP(A430,'Mapa de Preços'!$A$16:$B$2988,2,0))","v":"Falta (U.M.)"},"","",null,{"$f":"VLOOKUP(A430,'Mapa de Preços'!$A$16:$J$2988,10,0)","v":"Falta Orçamento"},"",null,403,null,0]
[404,{"$f":"IF(VLOOKUP(A431,'Mapa de Preços'!$A$16:$B$2988,2,0)=FALSE,\"Falta (U.M.)\",VLOOKUP(A431,'Mapa de Preços'!$A$16:$B$2988,2,0))","v":"Falta (U.M.)"},"","",null,{"$f":"VLOOKUP(A431,'Mapa de Preços'!$A$16:$J$2988,10,0)","v":"Falta Orçamento"},"",null,404,null,0]
[405,{"$f":"IF(VLOOKUP(A432,'Mapa de Preços'!$A$16:$B$2988,2,0)=FALSE,\"Falta (U.M.)\",VLOOKUP(A432,'Mapa de Preços'!$A$16:$B$2988,2,0))","v":"Falta (U.M.)"},"","",null,{"$f":"VLOOKUP(A432,'Mapa de Preços'!$A$16:$J$2988,10,0)","v":"Falta Orçamento"},"",null,405,null,0]
[406,{"$f":"IF(VLOOKUP(A433,'Mapa de Preços'!$A$16:$B$2988,2,0)=FALSE,\"Falta (U.M.)\",VLOOKUP(A433,'Mapa de Preços'!$A$16:$B$2988,2,0))","v":"Falta (U.M.)"},"","",null,{"$f":"VLOOKUP(A433,'Mapa de Preços'!$A$16:$J$2988,10,0)","v":"Falta Orçamento"},"",null,406,null,0]
[407,{"$f":"IF(VLOOKUP(A434,'Mapa de Preços'!$A$16:$B$2988,2,0)=FALSE,\"Falta (U.M.)\",VLOOKUP(A434,'Mapa de Preços'!$A$16:$B$2988,2,0))","v":"Falta (U.M.)"},"","",null,{"$f":"VLOOKUP(A434,'Mapa de Preços'!$A$16:$J$2988,10,0)","v":"Falta Orçamento"},"",null,407,null,0]
[408,{"$f":"IF(VLOOKUP(A435,'Mapa de Preços'!$A$16:$B$2988,2,0)=FALSE,\"Falta (U.M.)\",VLOOKUP(A435,'Mapa de Preços'!$A$16:$B$2988,2,0))","v":"Falta (U.M.)"},"","",null,{"$f":"VLOOKUP(A435,'Mapa de Preços'!$A$16:$J$2988,10,0)","v":"Falta Orçamento"},"",null,408,null,0]
[409,{"$f":"IF(VLOOKUP(A436,'Mapa de Preços'!$A$16:$B$2988,2,0)=FALSE,\"Falta (U.M.)\",VLOOKUP(A436,'Mapa de Preços'!$A$16:$B$2988,2,0))","v":"Falta (U.M.)"},"","",null,{"$f":"VLOOKUP(A436,'Mapa de Preços'!$A$16:$J$2988,10,0)","v":"Falta Orçamento"},"",null,409,null,0]
[410,{"$f":"IF(VLOOKUP(A437,'Mapa de Preços'!$A$16:$B$2988,2,0)=FALSE,\"Falta (U.M.)\",VLOOKUP(A437,'Mapa de Preços'!$A$16:$B$2988,2,0))","v":"Falta (U.M.)"},"","",null,{"$f":"VLOOKUP(A437,'Mapa de Preços'!$A$16:$J$2988,10,0)","v":"Falta Orçamento"},"",null,410,null,0]
[411,{"$f":"IF(VLOOKUP(A438,'Mapa de Preços'!$A$16:$B$2988,2,0)=FALSE,\"Falta (U.M.)\",VLOOKUP(A438,'Mapa de Preços'!$A$16:$B$2988,2,0))","v":"Falta (U.M.)"},"","",null,{"$f":"VLOOKUP(A438,'Mapa de Preços'!$A$16:$J$2988,10,0)","v":"Falta Orçamento"},"",null,411,null,0]
[412,{"$f":"IF(VLOOKUP(A439,'Mapa de Preços'!$A$16:$B$2988,2,0)=FALSE,\"Falta (U.M.)\",VLOOKUP(A439,'Mapa de Preços'!$A$16:$B$2988,2,0))","v":"Falta (U.M.)"},"","",null,{"$f":"VLOOKUP(A439,'Mapa de Preços'!$A$16:$J$2988,10,0)","v":"Falta Orçamento"},"",null,412,null,0]
[413,{"$f":"IF(VLOOKUP(A440,'Mapa de Preços'!$A$16:$B$2988,2,0)=FALSE,\"Falta (U.M.)\",VLOOKUP(A440,'Mapa de Preços'!$A$16:$B$2988,2,0))","v":"Falta (U.M.)"},"","",null,{"$f":"VLOOKUP(A440,'Mapa de Preços'!$A$16:$J$2988,10,0)","v":"Falta Orçamento"},"",null,413,null,0]
[414,{"$f":"IF(VLOOKUP(A441,'Mapa de Preços'!$A$16:$B$2988,2,0)=FALSE,\"Falta (U.M.)\",VLOOKUP(A441,'Mapa de Preços'!$A$16:$B$2988,2,0))","v":"Falta (U.M.)"},"","",null,{"$f":"VLOOKUP(A441,'Mapa de Preços'!$A$16:$J$2988,10,0)","v":"Falta Orçamento"},"",null,414,null,0]
[415,{"$f":"IF(VLOOKUP(A442,'Mapa de Preços'!$A$16:$B$2988,2,0)=FALSE,\"Falta (U.M.)\",VLOOKUP(A442,'Mapa de Preços'!$A$16:$B$2988,2,0))","v":"Falta (U.M.)"},"","",null,{"$f":"VLOOKUP(A442,'Mapa de Preços'!$A$16:$J$2988,10,0)","v":"Falta Orçamento"},"",null,415,null,0]
[416,{"$f":"IF(VLOOKUP(A443,'Mapa de Preços'!$A$16:$B$2988,2,0)=FALSE,\"Falta (U.M.)\",VLOOKUP(A443,'Mapa de Preços'!$A$16:$B$2988,2,0))","v":"Falta (U.M.)"},"","",null,{"$f":"VLOOKUP(A443,'Mapa de Preços'!$A$16:$J$2988,10,0)","v":"Falta Orçamento"},"",null,416,null,0]
[417,{"$f":"IF(VLOOKUP(A444,'Mapa de Preços'!$A$16:$B$2988,2,0)=FALSE,\"Falta (U.M.)\",VLOOKUP(A444,'Mapa de Preços'!$A$16:$B$2988,2,0))","v":"Falta (U.M.)"},"","",null,{"$f":"VLOOKUP(A444,'Mapa de Preços'!$A$16:$J$2988,10,0)","v":"Falta Orçamento"},"",null,417,null,0]
[418,{"$f":"IF(VLOOKUP(A445,'Mapa de Preços'!$A$16:$B$2988,2,0)=FALSE,\"Falta (U.M.)\",VLOOKUP(A445,'Mapa de Preços'!$A$16:$B$2988,2,0))","v":"Falta (U.M.)"},"","",null,{"$f":"VLOOKUP(A445,'Mapa de Preços'!$A$16:$J$2988,10,0)","v":"Falta Orçamento"},"",null,418,null,0]
[419,{"$f":"IF(VLOOKUP(A446,'Mapa de Preços'!$A$16:$B$2988,2,0)=FALSE,\"Falta (U.M.)\",VLOOKUP(A446,'Mapa de Preços'!$A$16:$B$2988,2,0))","v":"Falta (U.M.)"},"","",null,{"$f":"VLOOKUP(A446,'Mapa de Preços'!$A$16:$J$2988,10,0)","v":"Falta Orçamento"},"",null,419,null,0]
[420,{"$f":"IF(VLOOKUP(A447,'Mapa de Preços'!$A$16:$B$2988,2,0)=FALSE,\"Falta (U.M.)\",VLOOKUP(A447,'Mapa de Preços'!$A$16:$B$2988,2,0))","v":"Falta (U.M.)"},"","",null,{"$f":"VLOOKUP(A447,'Mapa de Preços'!$A$16:$J$2988,10,0)","v":"Falta Orçamento"},"",null,420,null,0]
[421,{"$f":"IF(VLOOKUP(A448,'Mapa de Preços'!$A$16:$B$2988,2,0)=FALSE,\"Falta (U.M.)\",VLOOKUP(A448,'Mapa de Preços'!$A$16:$B$2988,2,0))","v":"Falta (U.M.)"},"","",null,{"$f":"VLOOKUP(A448,'Mapa de Preços'!$A$16:$J$2988,10,0)","v":"Falta Orçamento"},"",null,421,null,0]
[422,{"$f":"IF(VLOOKUP(A449,'Mapa de Preços'!$A$16:$B$2988,2,0)=FALSE,\"Falta (U.M.)\",VLOOKUP(A449,'Mapa de Preços'!$A$16:$B$2988,2,0))","v":"Falta (U.M.)"},"","",null,{"$f":"VLOOKUP(A449,'Mapa de Preços'!$A$16:$J$2988,10,0)","v":"Falta Orçamento"},"",null,422,null,0]
[423,{"$f":"IF(VLOOKUP(A450,'Mapa de Preços'!$A$16:$B$2988,2,0)=FALSE,\"Falta (U.M.)\",VLOOKUP(A450,'Mapa de Preços'!$A$16:$B$2988,2,0))","v":"Falta (U.M.)"},"","",null,{"$f":"VLOOKUP(A450,'Mapa de Preços'!$A$16:$J$2988,10,0)","v":"Falta Orçamento"},"",null,423,null,0]
[424,{"$f":"IF(VLOOKUP(A451,'Mapa de Preços'!$A$16:$B$2988,2,0)=FALSE,\"Falta (U.M.)\",VLOOKUP(A451,'Mapa de Preços'!$A$16:$B$2988,2,0))","v":"Falta (U.M.)"},"","",null,{"$f":"VLOOKUP(A451,'Mapa de Preços'!$A$16:$J$2988,10,0)","v":"Falta Orçamento"},"",null,424,null,0]
[425,{"$f":"IF(VLOOKUP(A452,'Mapa de Preços'!$A$16:$B$2988,2,0)=FALSE,\"Falta (U.M.)\",VLOOKUP(A452,'Mapa de Preços'!$A$16:$B$2988,2,0))","v":"Falta (U.M.)"},"","",null,{"$f":"VLOOKUP(A452,'Mapa de Preços'!$A$16:$J$2988,10,0)","v":"Falta Orçamento"},"",null,425,null,0]
[426,{"$f":"IF(VLOOKUP(A453,'Mapa de Preços'!$A$16:$B$2988,2,0)=FALSE,\"Falta (U.M.)\",VLOOKUP(A453,'Mapa de Preços'!$A$16:$B$2988,2,0))","v":"Falta (U.M.)"},"","",null,{"$f":"VLOOKUP(A453,'Mapa de Preços'!$A$16:$J$2988,10,0)","v":"Falta Orçamento"},"",null,426,null,0]
[427,{"$f":"IF(VLOOKUP(A454,'Mapa de Preços'!$A$16:$B$2988,2,0)=FALSE,\"Falta (U.M.)\",VLOOKUP(A454,'Mapa de Preços'!$A$16:$B$2988,2,0))","v":"Falta (U.M.)"},"","",null,{"$f":"VLOOKUP(A454,'Mapa de Preços'!$A$16:$J$2988,10,0)","v":"Falta Orçamento"},"",null,427,null,0]
[428,{"$f":"IF(VLOOKUP(A455,'Mapa de Preços'!$A$16:$B$2988,2,0)=FALSE,\"Falta (U.M.)\",VLOOKUP(A455,'Mapa de Preços'!$A$16:$B$2988,2,0))","v":"Falta (U.M.)"},"","",null,{"$f":"VLOOKUP(A455,'Mapa de Preços'!$A$16:$J$2988,10,0)","v":"Falta Orçamento"},"",null,428,null,0]
[429,{"$f":"IF(VLOOKUP(A456,'Mapa de Preços'!$A$16:$B$2988,2,0)=FALSE,\"Falta (U.M.)\",VLOOKUP(A456,'Mapa de Preços'!$A$16:$B$2988,2,0))","v":"Falta (U.M.)"},"","",null,{"$f":"VLOOKUP(A456,'Mapa de Preços'!$A$16:$J$2988,10,0)","v":"Falta Orçamento"},"",null,429,null,0]
[430,{"$f":"IF(VLOOKUP(A457,'Mapa de Preços'!$A$16:$B$2988,2,0)=FALSE,\"Falta (U.M.)\",VLOOKUP(A457,'Mapa de Preços'!$A$16:$B$2988,2,0))","v":"Falta (U.M.)"},"","",null,{"$f":"VLOOKUP(A457,'Mapa de Preços'!$A$16:$J$2988,10,0)","v":"Falta Orçamento"},"",null,430,null,0]
[431,{"$f":"IF(VLOOKUP(A458,'Mapa de Preços'!$A$16:$B$2988,2,0)=FALSE,\"Falta (U.M.)\",VLOOKUP(A458,'Mapa de Preços'!$A$16:$B$2988,2,0))","v":"Falta (U.M.)"},"","",null,{"$f":"VLOOKUP(A458,'Mapa de Preços'!$A$16:$J$2988,10,0)","v":"Falta Orçamento"},"",null,431,null,0]
[432,{"$f":"IF(VLOOKUP(A459,'Mapa de Preços'!$A$16:$B$2988,2,0)=FALSE,\"Falta (U.M.)\",VLOOKUP(A459,'Mapa de Preços'!$A$16:$B$2988,2,0))","v":"Falta (U.M.)"},"","",null,{"$f":"VLOOKUP(A459,'Mapa de Preços'!$A$16:$J$2988,10,0)","v":"Falta Orçamento"},"",null,432,null,0]
[433,{"$f":"IF(VLOOKUP(A460,'Mapa de Preços'!$A$16:$B$2988,2,0)=FALSE,\"Falta (U.M.)\",VLOOKUP(A460,'Mapa de Preços'!$A$16:$B$2988,2,0))","v":"Falta (U.M.)"},"","",null,{"$f":"VLOOKUP(A460,'Mapa de Preços'!$A$16:$J$2988,10,0)","v":"Falta Orçamento"},"",null,433,null,0]
[434,{"$f":"IF(VLOOKUP(A461,'Mapa de Preços'!$A$16:$B$2988,2,0)=FALSE,\"Falta (U.M.)\",VLOOKUP(A461,'Mapa de Preços'!$A$16:$B$2988,2,0))","v":"Falta (U.M.)"},"","",null,{"$f":"VLOOKUP(A461,'Mapa de Preços'!$A$16:$J$2988,10,0)","v":"Falta Orçamento"},"",null,434,null,0]
[435,{"$f":"IF(VLOOKUP(A462,'Mapa de Preços'!$A$16:$B$2988,2,0)=FALSE,\"Falta (U.M.)\",VLOOKUP(A462,'Mapa de Preços'!$A$16:$B$2988,2,0))","v":"Falta (U.M.)"},"","",null,{"$f":"VLOOKUP(A462,'Mapa de Preços'!$A$16:$J$2988,10,0)","v":"Falta Orçamento"},"",null,435,null,0]
[436,{"$f":"IF(VLOOKUP(A463,'Mapa de Preços'!$A$16:$B$2988,2,0)=FALSE,\"Falta (U.M.)\",VLOOKUP(A463,'Mapa de Preços'!$A$16:$B$2988,2,0))","v":"Falta (U.M.)"},"","",null,{"$f":"VLOOKUP(A463,'Mapa de Preços'!$A$16:$J$2988,10,0)","v":"Falta Orçamento"},"",null,436,null,0]
[437,{"$f":"IF(VLOOKUP(A464,'Mapa de Preços'!$A$16:$B$2988,2,0)=FALSE,\"Falta (U.M.)\",VLOOKUP(A464,'Mapa de Preços'!$A$16:$B$2988,2,0))","v":"Falta (U.M.)"},"","",null,{"$f":"VLOOKUP(A464,'Mapa de Preços'!$A$16:$J$2988,10,0)","v":"Falta Orçamento"},"",null,437,null,0]
[438,{"$f":"IF(VLOOKUP(A465,'Mapa de Preços'!$A$16:$B$2988,2,0)=FALSE,\"Falta (U.M.)\",VLOOKUP(A465,'Mapa de Preços'!$A$16:$B$2988,2,0))","v":"Falta (U.M.)"},"","",null,{"$f":"VLOOKUP(A465,'Mapa de Preços'!$A$16:$J$2988,10,0)","v":"Falta Orçamento"},"",null,438,null,0]
[439,{"$f":"IF(VLOOKUP(A466,'Mapa de Preços'!$A$16:$B$2988,2,0)=FALSE,\"Falta (U.M.)\",VLOOKUP(A466,'Mapa de Preços'!$A$16:$B$2988,2,0))","v":"Falta (U.M.)"},"","",null,{"$f":"VLOOKUP(A466,'Mapa de Preços'!$A$16:$J$2988,10,0)","v":"Falta Orçamento"},"",null,439,null,0]
[440,{"$f":"IF(VLOOKUP(A467,'Mapa de Preços'!$A$16:$B$2988,2,0)=FALSE,\"Falta (U.M.)\",VLOOKUP(A467,'Mapa de Preços'!$A$16:$B$2988,2,0))","v":"Falta (U.M.)"},"","",null,{"$f":"VLOOKUP(A467,'Mapa de Preços'!$A$16:$J$2988,10,0)","v":"Falta Orçamento"},"",null,440,null,0]
[441,{"$f":"IF(VLOOKUP(A468,'Mapa de Preços'!$A$16:$B$2988,2,0)=FALSE,\"Falta (U.M.)\",VLOOKUP(A468,'Mapa de Preços'!$A$16:$B$2988,2,0))","v":"Falta (U.M.)"},"","",null,{"$f":"VLOOKUP(A468,'Mapa de Preços'!$A$16:$J$2988,10,0)","v":"Falta Orçamento"},"",null,441,null,0]
[442,{"$f":"IF(VLOOKUP(A469,'Mapa de Preços'!$A$16:$B$2988,2,0)=FALSE,\"Falta (U.M.)\",VLOOKUP(A469,'Mapa de Preços'!$A$16:$B$2988,2,0))","v":"Falta (U.M.)"},"","",null,{"$f":"VLOOKUP(A469,'Mapa de Preços'!$A$16:$J$2988,10,0)","v":"Falta Orçamento"},"",null,442,null,0]
[443,{"$f":"IF(VLOOKUP(A470,'Mapa de Preços'!$A$16:$B$2988,2,0)=FALSE,\"Falta (U.M.)\",VLOOKUP(A470,'Mapa de Preços'!$A$16:$B$2988,2,0))","v":"Falta (U.M.)"},"","",null,{"$f":"VLOOKUP(A470,'Mapa de Preços'!$A$16:$J$2988,10,0)","v":"Falta Orçamento"},"",null,443,null,0]
[444,{"$f":"IF(VLOOKUP(A471,'Mapa de Preços'!$A$16:$B$2988,2,0)=FALSE,\"Falta (U.M.)\",VLOOKUP(A471,'Mapa de Preços'!$A$16:$B$2988,2,0))","v":"Falta (U.M.)"},"","",null,{"$f":"VLOOKUP(A471,'Mapa de Preços'!$A$16:$J$2988,10,0)","v":"Falta Orçamento"},"",null,444,null,0]
[445,{"$f":"IF(VLOOKUP(A472,'Mapa de Preços'!$A$16:$B$2988,2,0)=FALSE,\"Falta (U.M.)\",VLOOKUP(A472,'Mapa de Preços'!$A$16:$B$2988,2,0))","v":"Falta (U.M.)"},"","",null,{"$f":"VLOOKUP(A472,'Mapa de Preços'!$A$16:$J$2988,10,0)","v":"Falta Orçamento"},"",null,445,null,0]
[446,{"$f":"IF(VLOOKUP(A473,'Mapa de Preços'!$A$16:$B$2988,2,0)=FALSE,\"Falta (U.M.)\",VLOOKUP(A473,'Mapa de Preços'!$A$16:$B$2988,2,0))","v":"Falta (U.M.)"},"","",null,{"$f":"VLOOKUP(A473,'Mapa de Preços'!$A$16:$J$2988,10,0)","v":"Falta Orçamento"},"",null,446,null,0]
[447,{"$f":"IF(VLOOKUP(A474,'Mapa de Preços'!$A$16:$B$2988,2,0)=FALSE,\"Falta (U.M.)\",VLOOKUP(A474,'Mapa de Preços'!$A$16:$B$2988,2,0))","v":"Falta (U.M.)"},"","",null,{"$f":"VLOOKUP(A474,'Mapa de Preços'!$A$16:$J$2988,10,0)","v":"Falta Orçamento"},"",null,447,null,0]
[448,{"$f":"IF(VLOOKUP(A475,'Mapa de Preços'!$A$16:$B$2988,2,0)=FALSE,\"Falta (U.M.)\",VLOOKUP(A475,'Mapa de Preços'!$A$16:$B$2988,2,0))","v":"Falta (U.M.)"},"","",null,{"$f":"VLOOKUP(A475,'Mapa de Preços'!$A$16:$J$2988,10,0)","v":"Falta Orçamento"},"",null,448,null,0]
[449,{"$f":"IF(VLOOKUP(A476,'Mapa de Preços'!$A$16:$B$2988,2,0)=FALSE,\"Falta (U.M.)\",VLOOKUP(A476,'Mapa de Preços'!$A$16:$B$2988,2,0))","v":"Falta (U.M.)"},"","",null,{"$f":"VLOOKUP(A476,'Mapa de Preços'!$A$16:$J$2988,10,0)","v":"Falta Orçamento"},"",null,449,null,{"$f":"SUM(L476:AI476)","v":0}]
[450,{"$f":"IF(VLOOKUP(A477,'Mapa de Preços'!$A$16:$B$2988,2,0)=FALSE,\"Falta (U.M.)\",VLOOKUP(A477,'Mapa de Preços'!$A$16:$B$2988,2,0))","v":"Falta (U.M.)"},{"$f":"IF(J477<>\"\",J477,\"\")","v":""},{"$f":"IF(VLOOKUP(A477,$I$28:$AI$3000,$G$26,FALSE)<>\"\",VLOOKUP(A477,$I$28:$AI$3000,$G$26,FALSE),\"\")","v":""},null,{"$f":"VLOOKUP(A477,'Mapa de Preços'!$A$16:$J$2988,10,0)","v":"Falta Orçamento"},{"$f":"IF(F477=\"Falta Orçamento\",\"\",F477*D477)","v":""},null,450,null,0]
[451,{"$f":"IF(VLOOKUP(A478,'Mapa de Preços'!$A$16:$B$2988,2,0)=FALSE,\"Falta (U.M.)\",VLOOKUP(A478,'Mapa de Preços'!$A$16:$B$2988,2,0))","v":"Falta (U.M.)"},"","",null,{"$f":"VLOOKUP(A478,'Mapa de Preços'!$A$16:$J$2988,10,0)","v":"Falta Orçamento"},"",null,451,null,0]
[452,{"$f":"IF(VLOOKUP(A479,'Mapa de Preços'!$A$16:$B$2988,2,0)=FALSE,\"Falta (U.M.)\",VLOOKUP(A479,'Mapa de Preços'!$A$16:$B$2988,2,0))","v":"Falta (U.M.)"},"","",null,{"$f":"VLOOKUP(A479,'Mapa de Preços'!$A$16:$J$2988,10,0)","v":"Falta Orçamento"},"",null,452,null,0]
[453,{"$f":"IF(VLOOKUP(A480,'Mapa de Preços'!$A$16:$B$2988,2,0)=FALSE,\"Falta (U.M.)\",VLOOKUP(A480,'Mapa de Preços'!$A$16:$B$2988,2,0))","v":"Falta (U.M.)"},"","",null,{"$f":"VLOOKUP(A480,'Mapa de Preços'!$A$16:$J$2988,10,0)","v":"Falta Orçamento"},"",null,453,null,0]
[454,{"$f":"IF(VLOOKUP(A481,'Mapa de Preços'!$A$16:$B$2988,2,0)=FALSE,\"Falta (U.M.)\",VLOOKUP(A481,'Mapa de Preços'!$A$16:$B$2988,2,0))","v":"Falta (U.M.)"},"","",null,{"$f":"VLOOKUP(A481,'Mapa de Preços'!$A$16:$J$2988,10,0)","v":"Falta Orçamento"},"",null,454,null,0]
[455,{"$f":"IF(VLOOKUP(A482,'Mapa de Preços'!$A$16:$B$2988,2,0)=FALSE,\"Falta (U.M.)\",VLOOKUP(A482,'Mapa de Preços'!$A$16:$B$2988,2,0))","v":"Falta (U.M.)"},"","",null,{"$f":"VLOOKUP(A482,'Mapa de Preços'!$A$16:$J$2988,10,0)","v":"Falta Orçamento"},"",null,455,null,0]
[456,{"$f":"IF(VLOOKUP(A483,'Mapa de Preços'!$A$16:$B$2988,2,0)=FALSE,\"Falta (U.M.)\",VLOOKUP(A483,'Mapa de Preços'!$A$16:$B$2988,2,0))","v":"Falta (U.M.)"},"","",null,{"$f":"VLOOKUP(A483,'Mapa de Preços'!$A$16:$J$2988,10,0)","v":"Falta Orçamento"},"",null,456,null,0]
[457,{"$f":"IF(VLOOKUP(A484,'Mapa de Preços'!$A$16:$B$2988,2,0)=FALSE,\"Falta (U.M.)\",VLOOKUP(A484,'Mapa de Preços'!$A$16:$B$2988,2,0))","v":"Falta (U.M.)"},"","",null,{"$f":"VLOOKUP(A484,'Mapa de Preços'!$A$16:$J$2988,10,0)","v":"Falta Orçamento"},"",null,457,null,0]
[458,{"$f":"IF(VLOOKUP(A485,'Mapa de Preços'!$A$16:$B$2988,2,0)=FALSE,\"Falta (U.M.)\",VLOOKUP(A485,'Mapa de Preços'!$A$16:$B$2988,2,0))","v":"Falta (U.M.)"},"","",null,{"$f":"VLOOKUP(A485,'Mapa de Preços'!$A$16:$J$2988,10,0)","v":"Falta Orçamento"},"",null,458,null,0]
[459,{"$f":"IF(VLOOKUP(A486,'Mapa de Preços'!$A$16:$B$2988,2,0)=FALSE,\"Falta (U.M.)\",VLOOKUP(A486,'Mapa de Preços'!$A$16:$B$2988,2,0))","v":"Falta (U.M.)"},"","",null,{"$f":"VLOOKUP(A486,'Mapa de Preços'!$A$16:$J$2988,10,0)","v":"Falta Orçamento"},"",null,459,null,0]
[460,{"$f":"IF(VLOOKUP(A487,'Mapa de Preços'!$A$16:$B$2988,2,0)=FALSE,\"Falta (U.M.)\",VLOOKUP(A487,'Mapa de Preços'!$A$16:$B$2988,2,0))","v":"Falta (U.M.)"},"","",null,{"$f":"VLOOKUP(A487,'Mapa de Preços'!$A$16:$J$2988,10,0)","v":"Falta Orçamento"},"",null,460,null,0]
[461,{"$f":"IF(VLOOKUP(A488,'Mapa de Preços'!$A$16:$B$2988,2,0)=FALSE,\"Falta (U.M.)\",VLOOKUP(A488,'Mapa de Preços'!$A$16:$B$2988,2,0))","v":"Falta (U.M.)"},"","",null,{"$f":"VLOOKUP(A488,'Mapa de Preços'!$A$16:$J$2988,10,0)","v":"Falta Orçamento"},"",null,461,null,0]
[462,{"$f":"IF(VLOOKUP(A489,'Mapa de Preços'!$A$16:$B$2988,2,0)=FALSE,\"Falta (U.M.)\",VLOOKUP(A489,'Mapa de Preços'!$A$16:$B$2988,2,0))","v":"Falta (U.M.)"},"","",null,{"$f":"VLOOKUP(A489,'Mapa de Preços'!$A$16:$J$2988,10,0)","v":"Falta Orçamento"},"",null,462,null,0]
[463,{"$f":"IF(VLOOKUP(A490,'Mapa de Preços'!$A$16:$B$2988,2,0)=FALSE,\"Falta (U.M.)\",VLOOKUP(A490,'Mapa de Preços'!$A$16:$B$2988,2,0))","v":"Falta (U.M.)"},"","",null,{"$f":"VLOOKUP(A490,'Mapa de Preços'!$A$16:$J$2988,10,0)","v":"Falta Orçamento"},"",null,463,null,0]
[464,{"$f":"IF(VLOOKUP(A491,'Mapa de Preços'!$A$16:$B$2988,2,0)=FALSE,\"Falta (U.M.)\",VLOOKUP(A491,'Mapa de Preços'!$A$16:$B$2988,2,0))","v":"Falta (U.M.)"},"","",null,{"$f":"VLOOKUP(A491,'Mapa de Preços'!$A$16:$J$2988,10,0)","v":"Falta Orçamento"},"",null,464,null,0]
[465,{"$f":"IF(VLOOKUP(A492,'Mapa de Preços'!$A$16:$B$2988,2,0)=FALSE,\"Falta (U.M.)\",VLOOKUP(A492,'Mapa de Preços'!$A$16:$B$2988,2,0))","v":"Falta (U.M.)"},"","",null,{"$f":"VLOOKUP(A492,'Mapa de Preços'!$A$16:$J$2988,10,0)","v":"Falta Orçamento"},"",null,465,null,0]
[466,{"$f":"IF(VLOOKUP(A493,'Mapa de Preços'!$A$16:$B$2988,2,0)=FALSE,\"Falta (U.M.)\",VLOOKUP(A493,'Mapa de Preços'!$A$16:$B$2988,2,0))","v":"Falta (U.M.)"},"","",null,{"$f":"VLOOKUP(A493,'Mapa de Preços'!$A$16:$J$2988,10,0)","v":"Falta Orçamento"},"",null,466,null,0]
[467,{"$f":"IF(VLOOKUP(A494,'Mapa de Preços'!$A$16:$B$2988,2,0)=FALSE,\"Falta (U.M.)\",VLOOKUP(A494,'Mapa de Preços'!$A$16:$B$2988,2,0))","v":"Falta (U.M.)"},"","",null,{"$f":"VLOOKUP(A494,'Mapa de Preços'!$A$16:$J$2988,10,0)","v":"Falta Orçamento"},"",null,467,null,0]
[468,{"$f":"IF(VLOOKUP(A495,'Mapa de Preços'!$A$16:$B$2988,2,0)=FALSE,\"Falta (U.M.)\",VLOOKUP(A495,'Mapa de Preços'!$A$16:$B$2988,2,0))","v":"Falta (U.M.)"},"","",null,{"$f":"VLOOKUP(A495,'Mapa de Preços'!$A$16:$J$2988,10,0)","v":"Falta Orçamento"},"",null,468,null,0]
[469,{"$f":"IF(VLOOKUP(A496,'Mapa de Preços'!$A$16:$B$2988,2,0)=FALSE,\"Falta (U.M.)\",VLOOKUP(A496,'Mapa de Preços'!$A$16:$B$2988,2,0))","v":"Falta (U.M.)"},"","",null,{"$f":"VLOOKUP(A496,'Mapa de Preços'!$A$16:$J$2988,10,0)","v":"Falta Orçamento"},"",null,469,null,0]
[470,{"$f":"IF(VLOOKUP(A497,'Mapa de Preços'!$A$16:$B$2988,2,0)=FALSE,\"Falta (U.M.)\",VLOOKUP(A497,'Mapa de Preços'!$A$16:$B$2988,2,0))","v":"Falta (U.M.)"},"","",null,{"$f":"VLOOKUP(A497,'Mapa de Preços'!$A$16:$J$2988,10,0)","v":"Falta Orçamento"},"",null,470,null,0]
[471,{"$f":"IF(VLOOKUP(A498,'Mapa de Preços'!$A$16:$B$2988,2,0)=FALSE,\"Falta (U.M.)\",VLOOKUP(A498,'Mapa de Preços'!$A$16:$B$2988,2,0))","v":"Falta (U.M.)"},"","",null,{"$f":"VLOOKUP(A498,'Mapa de Preços'!$A$16:$J$2988,10,0)","v":"Falta Orçamento"},"",null,471,null,0]
[472,{"$f":"IF(VLOOKUP(A499,'Mapa de Preços'!$A$16:$B$2988,2,0)=FALSE,\"Falta (U.M.)\",VLOOKUP(A499,'Mapa de Preços'!$A$16:$B$2988,2,0))","v":"Falta (U.M.)"},"","",null,{"$f":"VLOOKUP(A499,'Mapa de Preços'!$A$16:$J$2988,10,0)","v":"Falta Orçamento"},"",null,472,null,0]
[473,{"$f":"IF(VLOOKUP(A500,'Mapa de Preços'!$A$16:$B$2988,2,0)=FALSE,\"Falta (U.M.)\",VLOOKUP(A500,'Mapa de Preços'!$A$16:$B$2988,2,0))","v":"Falta (U.M.)"},"","",null,{"$f":"VLOOKUP(A500,'Mapa de Preços'!$A$16:$J$2988,10,0)","v":"Falta Orçamento"},"",null,473,null,0]
[474,{"$f":"IF(VLOOKUP(A501,'Mapa de Preços'!$A$16:$B$2988,2,0)=FALSE,\"Falta (U.M.)\",VLOOKUP(A501,'Mapa de Preços'!$A$16:$B$2988,2,0))","v":"Falta (U.M.)"},"","",null,{"$f":"VLOOKUP(A501,'Mapa de Preços'!$A$16:$J$2988,10,0)","v":"Falta Orçamento"},"",null,474,null,0]
[475,{"$f":"IF(VLOOKUP(A502,'Mapa de Preços'!$A$16:$B$2988,2,0)=FALSE,\"Falta (U.M.)\",VLOOKUP(A502,'Mapa de Preços'!$A$16:$B$2988,2,0))","v":"Falta (U.M.)"},"","",null,{"$f":"VLOOKUP(A502,'Mapa de Preços'!$A$16:$J$2988,10,0)","v":"Falta Orçamento"},"",null,475,null,0]
[476,{"$f":"IF(VLOOKUP(A503,'Mapa de Preços'!$A$16:$B$2988,2,0)=FALSE,\"Falta (U.M.)\",VLOOKUP(A503,'Mapa de Preços'!$A$16:$B$2988,2,0))","v":"Falta (U.M.)"},"","",null,{"$f":"VLOOKUP(A503,'Mapa de Preços'!$A$16:$J$2988,10,0)","v":"Falta Orçamento"},"",null,476,null,0]
[477,{"$f":"IF(VLOOKUP(A504,'Mapa de Preços'!$A$16:$B$2988,2,0)=FALSE,\"Falta (U.M.)\",VLOOKUP(A504,'Mapa de Preços'!$A$16:$B$2988,2,0))","v":"Falta (U.M.)"},"","",null,{"$f":"VLOOKUP(A504,'Mapa de Preços'!$A$16:$J$2988,10,0)","v":"Falta Orçamento"},"",null,477,null,0]
[478,{"$f":"IF(VLOOKUP(A505,'Mapa de Preços'!$A$16:$B$2988,2,0)=FALSE,\"Falta (U.M.)\",VLOOKUP(A505,'Mapa de Preços'!$A$16:$B$2988,2,0))","v":"Falta (U.M.)"},"","",null,{"$f":"VLOOKUP(A505,'Mapa de Preços'!$A$16:$J$2988,10,0)","v":"Falta Orçamento"},"",null,478,null,0]
[479,{"$f":"IF(VLOOKUP(A506,'Mapa de Preços'!$A$16:$B$2988,2,0)=FALSE,\"Falta (U.M.)\",VLOOKUP(A506,'Mapa de Preços'!$A$16:$B$2988,2,0))","v":"Falta (U.M.)"},"","",null,{"$f":"VLOOKUP(A506,'Mapa de Preços'!$A$16:$J$2988,10,0)","v":"Falta Orçamento"},"",null,479,null,0]
[480,{"$f":"IF(VLOOKUP(A507,'Mapa de Preços'!$A$16:$B$2988,2,0)=FALSE,\"Falta (U.M.)\",VLOOKUP(A507,'Mapa de Preços'!$A$16:$B$2988,2,0))","v":"Falta (U.M.)"},"","",null,{"$f":"VLOOKUP(A507,'Mapa de Preços'!$A$16:$J$2988,10,0)","v":"Falta Orçamento"},"",null,480,null,0]
[481,{"$f":"IF(VLOOKUP(A508,'Mapa de Preços'!$A$16:$B$2988,2,0)=FALSE,\"Falta (U.M.)\",VLOOKUP(A508,'Mapa de Preços'!$A$16:$B$2988,2,0))","v":"Falta (U.M.)"},"","",null,{"$f":"VLOOKUP(A508,'Mapa de Preços'!$A$16:$J$2988,10,0)","v":"Falta Orçamento"},"",null,481,null,0]
[482,{"$f":"IF(VLOOKUP(A509,'Mapa de Preços'!$A$16:$B$2988,2,0)=FALSE,\"Falta (U.M.)\",VLOOKUP(A509,'Mapa de Preços'!$A$16:$B$2988,2,0))","v":"Falta (U.M.)"},"","",null,{"$f":"VLOOKUP(A509,'Mapa de Preços'!$A$16:$J$2988,10,0)","v":"Falta Orçamento"},"",null,482,null,0]
[483,{"$f":"IF(VLOOKUP(A510,'Mapa de Preços'!$A$16:$B$2988,2,0)=FALSE,\"Falta (U.M.)\",VLOOKUP(A510,'Mapa de Preços'!$A$16:$B$2988,2,0))","v":"Falta (U.M.)"},"","",null,{"$f":"VLOOKUP(A510,'Mapa de Preços'!$A$16:$J$2988,10,0)","v":"Falta Orçamento"},"",null,483,null,0]
[484,{"$f":"IF(VLOOKUP(A511,'Mapa de Preços'!$A$16:$B$2988,2,0)=FALSE,\"Falta (U.M.)\",VLOOKUP(A511,'Mapa de Preços'!$A$16:$B$2988,2,0))","v":"Falta (U.M.)"},"","",null,{"$f":"VLOOKUP(A511,'Mapa de Preços'!$A$16:$J$2988,10,0)","v":"Falta Orçamento"},"",null,484,null,0]
[485,{"$f":"IF(VLOOKUP(A512,'Mapa de Preços'!$A$16:$B$2988,2,0)=FALSE,\"Falta (U.M.)\",VLOOKUP(A512,'Mapa de Preços'!$A$16:$B$2988,2,0))","v":"Falta (U.M.)"},"","",null,{"$f":"VLOOKUP(A512,'Mapa de Preços'!$A$16:$J$2988,10,0)","v":"Falta Orçamento"},"",null,485,null,0]
[486,{"$f":"IF(VLOOKUP(A513,'Mapa de Preços'!$A$16:$B$2988,2,0)=FALSE,\"Falta (U.M.)\",VLOOKUP(A513,'Mapa de Preços'!$A$16:$B$2988,2,0))","v":"Falta (U.M.)"},"","",null,{"$f":"VLOOKUP(A513,'Mapa de Preços'!$A$16:$J$2988,10,0)","v":"Falta Orçamento"},"",null,486,null,0]
[487,{"$f":"IF(VLOOKUP(A514,'Mapa de Preços'!$A$16:$B$2988,2,0)=FALSE,\"Falta (U.M.)\",VLOOKUP(A514,'Mapa de Preços'!$A$16:$B$2988,2,0))","v":"Falta (U.M.)"},"","",null,{"$f":"VLOOKUP(A514,'Mapa de Preços'!$A$16:$J$2988,10,0)","v":"Falta Orçamento"},"",null,487,null,0]
[488,{"$f":"IF(VLOOKUP(A515,'Mapa de Preços'!$A$16:$B$2988,2,0)=FALSE,\"Falta (U.M.)\",VLOOKUP(A515,'Mapa de Preços'!$A$16:$B$2988,2,0))","v":"Falta (U.M.)"},"","",null,{"$f":"VLOOKUP(A515,'Mapa de Preços'!$A$16:$J$2988,10,0)","v":"Falta Orçamento"},"",null,488,null,0]
[489,{"$f":"IF(VLOOKUP(A516,'Mapa de Preços'!$A$16:$B$2988,2,0)=FALSE,\"Falta (U.M.)\",VLOOKUP(A516,'Mapa de Preços'!$A$16:$B$2988,2,0))","v":"Falta (U.M.)"},"","",null,{"$f":"VLOOKUP(A516,'Mapa de Preços'!$A$16:$J$2988,10,0)","v":"Falta Orçamento"},"",null,489,null,0]
[490,{"$f":"IF(VLOOKUP(A517,'Mapa de Preços'!$A$16:$B$2988,2,0)=FALSE,\"Falta (U.M.)\",VLOOKUP(A517,'Mapa de Preços'!$A$16:$B$2988,2,0))","v":"Falta (U.M.)"},"","",null,{"$f":"VLOOKUP(A517,'Mapa de Preços'!$A$16:$J$2988,10,0)","v":"Falta Orçamento"},"",null,490,null,0]
[491,{"$f":"IF(VLOOKUP(A518,'Mapa de Preços'!$A$16:$B$2988,2,0)=FALSE,\"Falta (U.M.)\",VLOOKUP(A518,'Mapa de Preços'!$A$16:$B$2988,2,0))","v":"Falta (U.M.)"},"","",null,{"$f":"VLOOKUP(A518,'Mapa de Preços'!$A$16:$J$2988,10,0)","v":"Falta Orçamento"},"",null,491,null,0]
[492,{"$f":"IF(VLOOKUP(A519,'Mapa de Preços'!$A$16:$B$2988,2,0)=FALSE,\"Falta (U.M.)\",VLOOKUP(A519,'Mapa de Preços'!$A$16:$B$2988,2,0))","v":"Falta (U.M.)"},"","",null,{"$f":"VLOOKUP(A519,'Mapa de Preços'!$A$16:$J$2988,10,0)","v":"Falta Orçamento"},"",null,492,null,0]
[493,{"$f":"IF(VLOOKUP(A520,'Mapa de Preços'!$A$16:$B$2988,2,0)=FALSE,\"Falta (U.M.)\",VLOOKUP(A520,'Mapa de Preços'!$A$16:$B$2988,2,0))","v":"Falta (U.M.)"},"","",null,{"$f":"VLOOKUP(A520,'Mapa de Preços'!$A$16:$J$2988,10,0)","v":"Falta Orçamento"},"",null,493,null,0]
[494,{"$f":"IF(VLOOKUP(A521,'Mapa de Preços'!$A$16:$B$2988,2,0)=FALSE,\"Falta (U.M.)\",VLOOKUP(A521,'Mapa de Preços'!$A$16:$B$2988,2,0))","v":"Falta (U.M.)"},"","",null,{"$f":"VLOOKUP(A521,'Mapa de Preços'!$A$16:$J$2988,10,0)","v":"Falta Orçamento"},"",null,494,null,0]
[495,{"$f":"IF(VLOOKUP(A522,'Mapa de Preços'!$A$16:$B$2988,2,0)=FALSE,\"Falta (U.M.)\",VLOOKUP(A522,'Mapa de Preços'!$A$16:$B$2988,2,0))","v":"Falta (U.M.)"},"","",null,{"$f":"VLOOKUP(A522,'Mapa de Preços'!$A$16:$J$2988,10,0)","v":"Falta Orçamento"},"",null,495,null,0]
[496,{"$f":"IF(VLOOKUP(A523,'Mapa de Preços'!$A$16:$B$2988,2,0)=FALSE,\"Falta (U.M.)\",VLOOKUP(A523,'Mapa de Preços'!$A$16:$B$2988,2,0))","v":"Falta (U.M.)"},"","",null,{"$f":"VLOOKUP(A523,'Mapa de Preços'!$A$16:$J$2988,10,0)","v":"Falta Orçamento"},"",null,496,null,0]
[497,{"$f":"IF(VLOOKUP(A524,'Mapa de Preços'!$A$16:$B$2988,2,0)=FALSE,\"Falta (U.M.)\",VLOOKUP(A524,'Mapa de Preços'!$A$16:$B$2988,2,0))","v":"Falta (U.M.)"},"","",null,{"$f":"VLOOKUP(A524,'Mapa de Preços'!$A$16:$J$2988,10,0)","v":"Falta Orçamento"},"",null,497,null,0]
[498,{"$f":"IF(VLOOKUP(A525,'Mapa de Preços'!$A$16:$B$2988,2,0)=FALSE,\"Falta (U.M.)\",VLOOKUP(A525,'Mapa de Preços'!$A$16:$B$2988,2,0))","v":"Falta (U.M.)"},"","",null,{"$f":"VLOOKUP(A525,'Mapa de Preços'!$A$16:$J$2988,10,0)","v":"Falta Orçamento"},"",null,498,null,0]
[499,{"$f":"IF(VLOOKUP(A526,'Mapa de Preços'!$A$16:$B$2988,2,0)=FALSE,\"Falta (U.M.)\",VLOOKUP(A526,'Mapa de Preços'!$A$16:$B$2988,2,0))","v":"Falta (U.M.)"},"","",null,{"$f":"VLOOKUP(A526,'Mapa de Preços'!$A$16:$J$2988,10,0)","v":"Falta Orçamento"},"",null,499,null,0]
[500,{"$f":"IF(VLOOKUP(A527,'Mapa de Preços'!$A$16:$B$2988,2,0)=FALSE,\"Falta (U.M.)\",VLOOKUP(A527,'Mapa de Preços'!$A$16:$B$2988,2,0))","v":"Falta (U.M.)"},"","",null,{"$f":"VLOOKUP(A527,'Mapa de Preços'!$A$16:$J$2988,10,0)","v":"Falta Orçamento"},"",null,500,null,0]
[501,{"$f":"IF(VLOOKUP(A528,'Mapa de Preços'!$A$16:$B$2988,2,0)=FALSE,\"Falta (U.M.)\",VLOOKUP(A528,'Mapa de Preços'!$A$16:$B$2988,2,0))","v":"Falta (U.M.)"},"","",null,{"$f":"VLOOKUP(A528,'Mapa de Preços'!$A$16:$J$2988,10,0)","v":"Falta Orçamento"},"",null,501,null,0]
[502,{"$f":"IF(VLOOKUP(A529,'Mapa de Preços'!$A$16:$B$2988,2,0)=FALSE,\"Falta (U.M.)\",VLOOKUP(A529,'Mapa de Preços'!$A$16:$B$2988,2,0))","v":"Falta (U.M.)"},"","",null,{"$f":"VLOOKUP(A529,'Mapa de Preços'!$A$16:$J$2988,10,0)","v":"Falta Orçamento"},"",null,502,null,0]
[503,{"$f":"IF(VLOOKUP(A530,'Mapa de Preços'!$A$16:$B$2988,2,0)=FALSE,\"Falta (U.M.)\",VLOOKUP(A530,'Mapa de Preços'!$A$16:$B$2988,2,0))","v":"Falta (U.M.)"},"","",null,{"$f":"VLOOKUP(A530,'Mapa de Preços'!$A$16:$J$2988,10,0)","v":"Falta Orçamento"},"",null,503,null,0]
[504,{"$f":"IF(VLOOKUP(A531,'Mapa de Preços'!$A$16:$B$2988,2,0)=FALSE,\"Falta (U.M.)\",VLOOKUP(A531,'Mapa de Preços'!$A$16:$B$2988,2,0))","v":"Falta (U.M.)"},"","",null,{"$f":"VLOOKUP(A531,'Mapa de Preços'!$A$16:$J$2988,10,0)","v":"Falta Orçamento"},"",null,504,null,0]
[505,{"$f":"IF(VLOOKUP(A532,'Mapa de Preços'!$A$16:$B$2988,2,0)=FALSE,\"Falta (U.M.)\",VLOOKUP(A532,'Mapa de Preços'!$A$16:$B$2988,2,0))","v":"Falta (U.M.)"},"","",null,{"$f":"VLOOKUP(A532,'Mapa de Preços'!$A$16:$J$2988,10,0)","v":"Falta Orçamento"},"",null,505,null,0]
[506,{"$f":"IF(VLOOKUP(A533,'Mapa de Preços'!$A$16:$B$2988,2,0)=FALSE,\"Falta (U.M.)\",VLOOKUP(A533,'Mapa de Preços'!$A$16:$B$2988,2,0))","v":"Falta (U.M.)"},"","",null,{"$f":"VLOOKUP(A533,'Mapa de Preços'!$A$16:$J$2988,10,0)","v":"Falta Orçamento"},"",null,506,null,0]
[507,{"$f":"IF(VLOOKUP(A534,'Mapa de Preços'!$A$16:$B$2988,2,0)=FALSE,\"Falta (U.M.)\",VLOOKUP(A534,'Mapa de Preços'!$A$16:$B$2988,2,0))","v":"Falta (U.M.)"},"","",null,{"$f":"VLOOKUP(A534,'Mapa de Preços'!$A$16:$J$2988,10,0)","v":"Falta Orçamento"},"",null,507,null,0]
[508,{"$f":"IF(VLOOKUP(A535,'Mapa de Preços'!$A$16:$B$2988,2,0)=FALSE,\"Falta (U.M.)\",VLOOKUP(A535,'Mapa de Preços'!$A$16:$B$2988,2,0))","v":"Falta (U.M.)"},"","",null,{"$f":"VLOOKUP(A535,'Mapa de Preços'!$A$16:$J$2988,10,0)","v":"Falta Orçamento"},"",null,508,null,0]
[509,{"$f":"IF(VLOOKUP(A536,'Mapa de Preços'!$A$16:$B$2988,2,0)=FALSE,\"Falta (U.M.)\",VLOOKUP(A536,'Mapa de Preços'!$A$16:$B$2988,2,0))","v":"Falta (U.M.)"},"","",null,{"$f":"VLOOKUP(A536,'Mapa de Preços'!$A$16:$J$2988,10,0)","v":"Falta Orçamento"},"",null,509,null,0]
[510,{"$f":"IF(VLOOKUP(A537,'Mapa de Preços'!$A$16:$B$2988,2,0)=FALSE,\"Falta (U.M.)\",VLOOKUP(A537,'Mapa de Preços'!$A$16:$B$2988,2,0))","v":"Falta (U.M.)"},"","",null,{"$f":"VLOOKUP(A537,'Mapa de Preços'!$A$16:$J$2988,10,0)","v":"Falta Orçamento"},"",null,510,null,0]
[511,{"$f":"IF(VLOOKUP(A538,'Mapa de Preços'!$A$16:$B$2988,2,0)=FALSE,\"Falta (U.M.)\",VLOOKUP(A538,'Mapa de Preços'!$A$16:$B$2988,2,0))","v":"Falta (U.M.)"},"","",null,{"$f":"VLOOKUP(A538,'Mapa de Preços'!$A$16:$J$2988,10,0)","v":"Falta Orçamento"},"",null,511,null,0]
[512,{"$f":"IF(VLOOKUP(A539,'Mapa de Preços'!$A$16:$B$2988,2,0)=FALSE,\"Falta (U.M.)\",VLOOKUP(A539,'Mapa de Preços'!$A$16:$B$2988,2,0))","v":"Falta (U.M.)"},"","",null,{"$f":"VLOOKUP(A539,'Mapa de Preços'!$A$16:$J$2988,10,0)","v":"Falta Orçamento"},"",null,512,null,0]
[513,{"$f":"IF(VLOOKUP(A540,'Mapa de Preços'!$A$16:$B$2988,2,0)=FALSE,\"Falta (U.M.)\",VLOOKUP(A540,'Mapa de Preços'!$A$16:$B$2988,2,0))","v":"Falta (U.M.)"},"","",null,{"$f":"VLOOKUP(A540,'Mapa de Preços'!$A$16:$J$2988,10,0)","v":"Falta Orçamento"},"",null,513,null,{"$f":"SUM(L540:AI540)","v":0}]
[514,{"$f":"IF(VLOOKUP(A541,'Mapa de Preços'!$A$16:$B$2988,2,0)=FALSE,\"Falta (U.M.)\",VLOOKUP(A541,'Mapa de Preços'!$A$16:$B$2988,2,0))","v":"Falta (U.M.)"},{"$f":"IF(J541<>\"\",J541,\"\")","v":""},{"$f":"IF(VLOOKUP(A541,$I$28:$AI$3000,$G$26,FALSE)<>\"\",VLOOKUP(A541,$I$28:$AI$3000,$G$26,FALSE),\"\")","v":""},null,{"$f":"VLOOKUP(A541,'Mapa de Preços'!$A$16:$J$2988,10,0)","v":"Falta Orçamento"},{"$f":"IF(F541=\"Falta Orçamento\",\"\",F541*D541)","v":""},null,514,null,0]
[515,{"$f":"IF(VLOOKUP(A542,'Mapa de Preços'!$A$16:$B$2988,2,0)=FALSE,\"Falta (U.M.)\",VLOOKUP(A542,'Mapa de Preços'!$A$16:$B$2988,2,0))","v":"Falta (U.M.)"},"","",null,{"$f":"VLOOKUP(A542,'Mapa de Preços'!$A$16:$J$2988,10,0)","v":"Falta Orçamento"},"",null,515,null,0]
[516,{"$f":"IF(VLOOKUP(A543,'Mapa de Preços'!$A$16:$B$2988,2,0)=FALSE,\"Falta (U.M.)\",VLOOKUP(A543,'Mapa de Preços'!$A$16:$B$2988,2,0))","v":"Falta (U.M.)"},"","",null,{"$f":"VLOOKUP(A543,'Mapa de Preços'!$A$16:$J$2988,10,0)","v":"Falta Orçamento"},"",null,516,null,0]
[517,{"$f":"IF(VLOOKUP(A544,'Mapa de Preços'!$A$16:$B$2988,2,0)=FALSE,\"Falta (U.M.)\",VLOOKUP(A544,'Mapa de Preços'!$A$16:$B$2988,2,0))","v":"Falta (U.M.)"},"","",null,{"$f":"VLOOKUP(A544,'Mapa de Preços'!$A$16:$J$2988,10,0)","v":"Falta Orçamento"},"",null,517,null,0]
[518,{"$f":"IF(VLOOKUP(A545,'Mapa de Preços'!$A$16:$B$2988,2,0)=FALSE,\"Falta (U.M.)\",VLOOKUP(A545,'Mapa de Preços'!$A$16:$B$2988,2,0))","v":"Falta (U.M.)"},"","",null,{"$f":"VLOOKUP(A545,'Mapa de Preços'!$A$16:$J$2988,10,0)","v":"Falta Orçamento"},"",null,518,null,0]
[519,{"$f":"IF(VLOOKUP(A546,'Mapa de Preços'!$A$16:$B$2988,2,0)=FALSE,\"Falta (U.M.)\",VLOOKUP(A546,'Mapa de Preços'!$A$16:$B$2988,2,0))","v":"Falta (U.M.)"},"","",null,{"$f":"VLOOKUP(A546,'Mapa de Preços'!$A$16:$J$2988,10,0)","v":"Falta Orçamento"},"",null,519,null,0]
[520,{"$f":"IF(VLOOKUP(A547,'Mapa de Preços'!$A$16:$B$2988,2,0)=FALSE,\"Falta (U.M.)\",VLOOKUP(A547,'Mapa de Preços'!$A$16:$B$2988,2,0))","v":"Falta (U.M.)"},"","",null,{"$f":"VLOOKUP(A547,'Mapa de Preços'!$A$16:$J$2988,10,0)","v":"Falta Orçamento"},"",null,520,null,0]
[521,{"$f":"IF(VLOOKUP(A548,'Mapa de Preços'!$A$16:$B$2988,2,0)=FALSE,\"Falta (U.M.)\",VLOOKUP(A548,'Mapa de Preços'!$A$16:$B$2988,2,0))","v":"Falta (U.M.)"},"","",null,{"$f":"VLOOKUP(A548,'Mapa de Preços'!$A$16:$J$2988,10,0)","v":"Falta Orçamento"},"",null,521,null,0]
[522,{"$f":"IF(VLOOKUP(A549,'Mapa de Preços'!$A$16:$B$2988,2,0)=FALSE,\"Falta (U.M.)\",VLOOKUP(A549,'Mapa de Preços'!$A$16:$B$2988,2,0))","v":"Falta (U.M.)"},"","",null,{"$f":"VLOOKUP(A549,'Mapa de Preços'!$A$16:$J$2988,10,0)","v":"Falta Orçamento"},"",null,522,null,0]
[523,{"$f":"IF(VLOOKUP(A550,'Mapa de Preços'!$A$16:$B$2988,2,0)=FALSE,\"Falta (U.M.)\",VLOOKUP(A550,'Mapa de Preços'!$A$16:$B$2988,2,0))","v":"Falta (U.M.)"},"","",null,{"$f":"VLOOKUP(A550,'Mapa de Preços'!$A$16:$J$2988,10,0)","v":"Falta Orçamento"},"",null,523,null,0]
[524,{"$f":"IF(VLOOKUP(A551,'Mapa de Preços'!$A$16:$B$2988,2,0)=FALSE,\"Falta (U.M.)\",VLOOKUP(A551,'Mapa de Preços'!$A$16:$B$2988,2,0))","v":"Falta (U.M.)"},"","",null,{"$f":"VLOOKUP(A551,'Mapa de Preços'!$A$16:$J$2988,10,0)","v":"Falta Orçamento"},"",null,524,null,0]
[525,{"$f":"IF(VLOOKUP(A552,'Mapa de Preços'!$A$16:$B$2988,2,0)=FALSE,\"Falta (U.M.)\",VLOOKUP(A552,'Mapa de Preços'!$A$16:$B$2988,2,0))","v":"Falta (U.M.)"},"","",null,{"$f":"VLOOKUP(A552,'Mapa de Preços'!$A$16:$J$2988,10,0)","v":"Falta Orçamento"},"",null,525,null,0]
[526,{"$f":"IF(VLOOKUP(A553,'Mapa de Preços'!$A$16:$B$2988,2,0)=FALSE,\"Falta (U.M.)\",VLOOKUP(A553,'Mapa de Preços'!$A$16:$B$2988,2,0))","v":"Falta (U.M.)"},"","",null,{"$f":"VLOOKUP(A553,'Mapa de Preços'!$A$16:$J$2988,10,0)","v":"Falta Orçamento"},"",null,526,null,0]
[527,{"$f":"IF(VLOOKUP(A554,'Mapa de Preços'!$A$16:$B$2988,2,0)=FALSE,\"Falta (U.M.)\",VLOOKUP(A554,'Mapa de Preços'!$A$16:$B$2988,2,0))","v":"Falta (U.M.)"},"","",null,{"$f":"VLOOKUP(A554,'Mapa de Preços'!$A$16:$J$2988,10,0)","v":"Falta Orçamento"},"",null,527,null,0]
[528,{"$f":"IF(VLOOKUP(A555,'Mapa de Preços'!$A$16:$B$2988,2,0)=FALSE,\"Falta (U.M.)\",VLOOKUP(A555,'Mapa de Preços'!$A$16:$B$2988,2,0))","v":"Falta (U.M.)"},"","",null,{"$f":"VLOOKUP(A555,'Mapa de Preços'!$A$16:$J$2988,10,0)","v":"Falta Orçamento"},"",null,528,null,0]
[529,{"$f":"IF(VLOOKUP(A556,'Mapa de Preços'!$A$16:$B$2988,2,0)=FALSE,\"Falta (U.M.)\",VLOOKUP(A556,'Mapa de Preços'!$A$16:$B$2988,2,0))","v":"Falta (U.M.)"},"","",null,{"$f":"VLOOKUP(A556,'Mapa de Preços'!$A$16:$J$2988,10,0)","v":"Falta Orçamento"},"",null,529,null,0]
[530,{"$f":"IF(VLOOKUP(A557,'Mapa de Preços'!$A$16:$B$2988,2,0)=FALSE,\"Falta (U.M.)\",VLOOKUP(A557,'Mapa de Preços'!$A$16:$B$2988,2,0))","v":"Falta (U.M.)"},"","",null,{"$f":"VLOOKUP(A557,'Mapa de Preços'!$A$16:$J$2988,10,0)","v":"Falta Orçamento"},"",null,530,null,0]
[531,{"$f":"IF(VLOOKUP(A558,'Mapa de Preços'!$A$16:$B$2988,2,0)=FALSE,\"Falta (U.M.)\",VLOOKUP(A558,'Mapa de Preços'!$A$16:$B$2988,2,0))","v":"Falta (U.M.)"},"","",null,{"$f":"VLOOKUP(A558,'Mapa de Preços'!$A$16:$J$2988,10,0)","v":"Falta Orçamento"},"",null,531,null,0]
[532,{"$f":"IF(VLOOKUP(A559,'Mapa de Preços'!$A$16:$B$2988,2,0)=FALSE,\"Falta (U.M.)\",VLOOKUP(A559,'Mapa de Preços'!$A$16:$B$2988,2,0))","v":"Falta (U.M.)"},"","",null,{"$f":"VLOOKUP(A559,'Mapa de Preços'!$A$16:$J$2988,10,0)","v":"Falta Orçamento"},"",null,532,null,0]
[533,{"$f":"IF(VLOOKUP(A560,'Mapa de Preços'!$A$16:$B$2988,2,0)=FALSE,\"Falta (U.M.)\",VLOOKUP(A560,'Mapa de Preços'!$A$16:$B$2988,2,0))","v":"Falta (U.M.)"},"","",null,{"$f":"VLOOKUP(A560,'Mapa de Preços'!$A$16:$J$2988,10,0)","v":"Falta Orçamento"},"",null,533,null,0]
[534,{"$f":"IF(VLOOKUP(A561,'Mapa de Preços'!$A$16:$B$2988,2,0)=FALSE,\"Falta (U.M.)\",VLOOKUP(A561,'Mapa de Preços'!$A$16:$B$2988,2,0))","v":"Falta (U.M.)"},"","",null,{"$f":"VLOOKUP(A561,'Mapa de Preços'!$A$16:$J$2988,10,0)","v":"Falta Orçamento"},"",null,534,null,0]
[535,{"$f":"IF(VLOOKUP(A562,'Mapa de Preços'!$A$16:$B$2988,2,0)=FALSE,\"Falta (U.M.)\",VLOOKUP(A562,'Mapa de Preços'!$A$16:$B$2988,2,0))","v":"Falta (U.M.)"},"","",null,{"$f":"VLOOKUP(A562,'Mapa de Preços'!$A$16:$J$2988,10,0)","v":"Falta Orçamento"},"",null,535,null,0]
[536,{"$f":"IF(VLOOKUP(A563,'Mapa de Preços'!$A$16:$B$2988,2,0)=FALSE,\"Falta (U.M.)\",VLOOKUP(A563,'Mapa de Preços'!$A$16:$B$2988,2,0))","v":"Falta (U.M.)"},"","",null,{"$f":"VLOOKUP(A563,'Mapa de Preços'!$A$16:$J$2988,10,0)","v":"Falta Orçamento"},"",null,536,null,0]
[537,{"$f":"IF(VLOOKUP(A564,'Mapa de Preços'!$A$16:$B$2988,2,0)=FALSE,\"Falta (U.M.)\",VLOOKUP(A564,'Mapa de Preços'!$A$16:$B$2988,2,0))","v":"Falta (U.M.)"},"","",null,{"$f":"VLOOKUP(A564,'Mapa de Preços'!$A$16:$J$2988,10,0)","v":"Falta Orçamento"},"",null,537,null,0]
[538,{"$f":"IF(VLOOKUP(A565,'Mapa de Preços'!$A$16:$B$2988,2,0)=FALSE,\"Falta (U.M.)\",VLOOKUP(A565,'Mapa de Preços'!$A$16:$B$2988,2,0))","v":"Falta (U.M.)"},"","",null,{"$f":"VLOOKUP(A565,'Mapa de Preços'!$A$16:$J$2988,10,0)","v":"Falta Orçamento"},"",null,538,null,0]
[539,{"$f":"IF(VLOOKUP(A566,'Mapa de Preços'!$A$16:$B$2988,2,0)=FALSE,\"Falta (U.M.)\",VLOOKUP(A566,'Mapa de Preços'!$A$16:$B$2988,2,0))","v":"Falta (U.M.)"},"","",null,{"$f":"VLOOKUP(A566,'Mapa de Preços'!$A$16:$J$2988,10,0)","v":"Falta Orçamento"},"",null,539,null,0]
[540,{"$f":"IF(VLOOKUP(A567,'Mapa de Preços'!$A$16:$B$2988,2,0)=FALSE,\"Falta (U.M.)\",VLOOKUP(A567,'Mapa de Preços'!$A$16:$B$2988,2,0))","v":"Falta (U.M.)"},"","",null,{"$f":"VLOOKUP(A567,'Mapa de Preços'!$A$16:$J$2988,10,0)","v":"Falta Orçamento"},"",null,540,null,0]
[541,{"$f":"IF(VLOOKUP(A568,'Mapa de Preços'!$A$16:$B$2988,2,0)=FALSE,\"Falta (U.M.)\",VLOOKUP(A568,'Mapa de Preços'!$A$16:$B$2988,2,0))","v":"Falta (U.M.)"},"","",3,{"$f":"VLOOKUP(A568,'Mapa de Preços'!$A$16:$J$2988,10,0)","v":"Falta Orçamento"},"",null,541,null,0]
[542,{"$f":"IF(VLOOKUP(A569,'Mapa de Preços'!$A$16:$B$2988,2,0)=FALSE,\"Falta (U.M.)\",VLOOKUP(A569,'Mapa de Preços'!$A$16:$B$2988,2,0))","v":"Falta (U.M.)"},"","",2,{"$f":"VLOOKUP(A569,'Mapa de Preços'!$A$16:$J$2988,10,0)","v":"Falta Orçamento"},"",null,542,null,0]
[543,{"$f":"IF(VLOOKUP(A570,'Mapa de Preços'!$A$16:$B$2988,2,0)=FALSE,\"Falta (U.M.)\",VLOOKUP(A570,'Mapa de Preços'!$A$16:$B$2988,2,0))","v":"Falta (U.M.)"},"","",null,{"$f":"VLOOKUP(A570,'Mapa de Preços'!$A$16:$J$2988,10,0)","v":"Falta Orçamento"},"",null,543,null,0]
[544,{"$f":"IF(VLOOKUP(A571,'Mapa de Preços'!$A$16:$B$2988,2,0)=FALSE,\"Falta (U.M.)\",VLOOKUP(A571,'Mapa de Preços'!$A$16:$B$2988,2,0))","v":"Falta (U.M.)"},"","",null,{"$f":"VLOOKUP(A571,'Mapa de Preços'!$A$16:$J$2988,10,0)","v":"Falta Orçamento"},"",null,544,null,0]
[545,{"$f":"IF(VLOOKUP(A572,'Mapa de Preços'!$A$16:$B$2988,2,0)=FALSE,\"Falta (U.M.)\",VLOOKUP(A572,'Mapa de Preços'!$A$16:$B$2988,2,0))","v":"Falta (U.M.)"},"","",null,{"$f":"VLOOKUP(A572,'Mapa de Preços'!$A$16:$J$2988,10,0)","v":"Falta Orçamento"},"",null,545,null,0]
[546,{"$f":"IF(VLOOKUP(A573,'Mapa de Preços'!$A$16:$B$2988,2,0)=FALSE,\"Falta (U.M.)\",VLOOKUP(A573,'Mapa de Preços'!$A$16:$B$2988,2,0))","v":"Falta (U.M.)"},"","",null,{"$f":"VLOOKUP(A573,'Mapa de Preços'!$A$16:$J$2988,10,0)","v":"Falta Orçamento"},"",null,546,null,0]
[547,{"$f":"IF(VLOOKUP(A574,'Mapa de Preços'!$A$16:$B$2988,2,0)=FALSE,\"Falta (U.M.)\",VLOOKUP(A574,'Mapa de Preços'!$A$16:$B$2988,2,0))","v":"Falta (U.M.)"},"","",null,{"$f":"VLOOKUP(A574,'Mapa de Preços'!$A$16:$J$2988,10,0)","v":"Falta Orçamento"},"",null,547,null,0]
[548,{"$f":"IF(VLOOKUP(A575,'Mapa de Preços'!$A$16:$B$2988,2,0)=FALSE,\"Falta (U.M.)\",VLOOKUP(A575,'Mapa de Preços'!$A$16:$B$2988,2,0))","v":"Falta (U.M.)"},"","",null,{"$f":"VLOOKUP(A575,'Mapa de Preços'!$A$16:$J$2988,10,0)","v":"Falta Orçamento"},"",null,548,null,0]
[549,{"$f":"IF(VLOOKUP(A576,'Mapa de Preços'!$A$16:$B$2988,2,0)=FALSE,\"Falta (U.M.)\",VLOOKUP(A576,'Mapa de Preços'!$A$16:$B$2988,2,0))","v":"Falta (U.M.)"},"","",null,{"$f":"VLOOKUP(A576,'Mapa de Preços'!$A$16:$J$2988,10,0)","v":"Falta Orçamento"},"",null,549,null,0]
[550,{"$f":"IF(VLOOKUP(A577,'Mapa de Preços'!$A$16:$B$2988,2,0)=FALSE,\"Falta (U.M.)\",VLOOKUP(A577,'Mapa de Preços'!$A$16:$B$2988,2,0))","v":"Falta (U.M.)"},"","",null,{"$f":"VLOOKUP(A577,'Mapa de Preços'!$A$16:$J$2988,10,0)","v":"Falta Orçamento"},"",null,550,null,0]
[551,{"$f":"IF(VLOOKUP(A578,'Mapa de Preços'!$A$16:$B$2988,2,0)=FALSE,\"Falta (U.M.)\",VLOOKUP(A578,'Mapa de Preços'!$A$16:$B$2988,2,0))","v":"Falta (U.M.)"},"","",null,{"$f":"VLOOKUP(A578,'Mapa de Preços'!$A$16:$J$2988,10,0)","v":"Falta Orçamento"},"",null,551,null,0]
[552,{"$f":"IF(VLOOKUP(A579,'Mapa de Preços'!$A$16:$B$2988,2,0)=FALSE,\"Falta (U.M.)\",VLOOKUP(A579,'Mapa de Preços'!$A$16:$B$2988,2,0))","v":"Falta (U.M.)"},"","",null,{"$f":"VLOOKUP(A579,'Mapa de Preços'!$A$16:$J$2988,10,0)","v":"Falta Orçamento"},"",null,552,null,0]
[553,{"$f":"IF(VLOOKUP(A580,'Mapa de Preços'!$A$16:$B$2988,2,0)=FALSE,\"Falta (U.M.)\",VLOOKUP(A580,'Mapa de Preços'!$A$16:$B$2988,2,0))","v":"Falta (U.M.)"},"","",null,{"$f":"VLOOKUP(A580,'Mapa de Preços'!$A$16:$J$2988,10,0)","v":"Falta Orçamento"},"",null,553,null,0]
[554,{"$f":"IF(VLOOKUP(A581,'Mapa de Preços'!$A$16:$B$2988,2,0)=FALSE,\"Falta (U.M.)\",VLOOKUP(A581,'Mapa de Preços'!$A$16:$B$2988,2,0))","v":"Falta (U.M.)"},"","",null,{"$f":"VLOOKUP(A581,'Mapa de Preços'!$A$16:$J$2988,10,0)","v":"Falta Orçamento"},"",null,554,null,0]
[555,{"$f":"IF(VLOOKUP(A582,'Mapa de Preços'!$A$16:$B$2988,2,0)=FALSE,\"Falta (U.M.)\",VLOOKUP(A582,'Mapa de Preços'!$A$16:$B$2988,2,0))","v":"Falta (U.M.)"},"","",null,{"$f":"VLOOKUP(A582,'Mapa de Preços'!$A$16:$J$2988,10,0)","v":"Falta Orçamento"},"",null,555,null,0]
[556,{"$f":"IF(VLOOKUP(A583,'Mapa de Preços'!$A$16:$B$2988,2,0)=FALSE,\"Falta (U.M.)\",VLOOKUP(A583,'Mapa de Preços'!$A$16:$B$2988,2,0))","v":"Falta (U.M.)"},"","",null,{"$f":"VLOOKUP(A583,'Mapa de Preços'!$A$16:$J$2988,10,0)","v":"Falta Orçamento"},"",null,556,null,0]
[557,{"$f":"IF(VLOOKUP(A584,'Mapa de Preços'!$A$16:$B$2988,2,0)=FALSE,\"Falta (U.M.)\",VLOOKUP(A584,'Mapa de Preços'!$A$16:$B$2988,2,0))","v":"Falta (U.M.)"},"","",null,{"$f":"VLOOKUP(A584,'Mapa de Preços'!$A$16:$J$2988,10,0)","v":"Falta Orçamento"},"",null,557,null,0]
[558,{"$f":"IF(VLOOKUP(A585,'Mapa de Preços'!$A$16:$B$2988,2,0)=FALSE,\"Falta (U.M.)\",VLOOKUP(A585,'Mapa de Preços'!$A$16:$B$2988,2,0))","v":"Falta (U.M.)"},"","",null,{"$f":"VLOOKUP(A585,'Mapa de Preços'!$A$16:$J$2988,10,0)","v":"Falta Orçamento"},"",null,558,null,0]
[559,{"$f":"IF(VLOOKUP(A586,'Mapa de Preços'!$A$16:$B$2988,2,0)=FALSE,\"Falta (U.M.)\",VLOOKUP(A586,'Mapa de Preços'!$A$16:$B$2988,2,0))","v":"Falta (U.M.)"},"","",null,{"$f":"VLOOKUP(A586,'Mapa de Preços'!$A$16:$J$2988,10,0)","v":"Falta Orçamento"},"",null,559,null,0]
[560,{"$f":"IF(VLOOKUP(A587,'Mapa de Preços'!$A$16:$B$2988,2,0)=FALSE,\"Falta (U.M.)\",VLOOKUP(A587,'Mapa de Preços'!$A$16:$B$2988,2,0))","v":"Falta (U.M.)"},"","",null,{"$f":"VLOOKUP(A587,'Mapa de Preços'!$A$16:$J$2988,10,0)","v":"Falta Orçamento"},"",null,560,null,0]
[561,{"$f":"IF(VLOOKUP(A588,'Mapa de Preços'!$A$16:$B$2988,2,0)=FALSE,\"Falta (U.M.)\",VLOOKUP(A588,'Mapa de Preços'!$A$16:$B$2988,2,0))","v":"Falta (U.M.)"},"","",null,{"$f":"VLOOKUP(A588,'Mapa de Preços'!$A$16:$J$2988,10,0)","v":"Falta Orçamento"},"",null,561,null,0]
[562,{"$f":"IF(VLOOKUP(A589,'Mapa de Preços'!$A$16:$B$2988,2,0)=FALSE,\"Falta (U.M.)\",VLOOKUP(A589,'Mapa de Preços'!$A$16:$B$2988,2,0))","v":"Falta (U.M.)"},"","",null,{"$f":"VLOOKUP(A589,'Mapa de Preços'!$A$16:$J$2988,10,0)","v":"Falta Orçamento"},"",null,562,null,0]
[563,{"$f":"IF(VLOOKUP(A590,'Mapa de Preços'!$A$16:$B$2988,2,0)=FALSE,\"Falta (U.M.)\",VLOOKUP(A590,'Mapa de Preços'!$A$16:$B$2988,2,0))","v":"Falta (U.M.)"},"","",null,{"$f":"VLOOKUP(A590,'Mapa de Preços'!$A$16:$J$2988,10,0)","v":"Falta Orçamento"},"",null,563,null,0]
[564,{"$f":"IF(VLOOKUP(A591,'Mapa de Preços'!$A$16:$B$2988,2,0)=FALSE,\"Falta (U.M.)\",VLOOKUP(A591,'Mapa de Preços'!$A$16:$B$2988,2,0))","v":"Falta (U.M.)"},"","",null,{"$f":"VLOOKUP(A591,'Mapa de Preços'!$A$16:$J$2988,10,0)","v":"Falta Orçamento"},"",null,564,null,0]
[565,{"$f":"IF(VLOOKUP(A592,'Mapa de Preços'!$A$16:$B$2988,2,0)=FALSE,\"Falta (U.M.)\",VLOOKUP(A592,'Mapa de Preços'!$A$16:$B$2988,2,0))","v":"Falta (U.M.)"},"","",null,{"$f":"VLOOKUP(A592,'Mapa de Preços'!$A$16:$J$2988,10,0)","v":"Falta Orçamento"},"",null,565,null,0]
[566,{"$f":"IF(VLOOKUP(A593,'Mapa de Preços'!$A$16:$B$2988,2,0)=FALSE,\"Falta (U.M.)\",VLOOKUP(A593,'Mapa de Preços'!$A$16:$B$2988,2,0))","v":"Falta (U.M.)"},"","",null,{"$f":"VLOOKUP(A593,'Mapa de Preços'!$A$16:$J$2988,10,0)","v":"Falta Orçamento"},"",null,566,null,0]
[567,{"$f":"IF(VLOOKUP(A594,'Mapa de Preços'!$A$16:$B$2988,2,0)=FALSE,\"Falta (U.M.)\",VLOOKUP(A594,'Mapa de Preços'!$A$16:$B$2988,2,0))","v":"Falta (U.M.)"},"","",null,{"$f":"VLOOKUP(A594,'Mapa de Preços'!$A$16:$J$2988,10,0)","v":"Falta Orçamento"},"",null,567,null,0]
[568,{"$f":"IF(VLOOKUP(A595,'Mapa de Preços'!$A$16:$B$2988,2,0)=FALSE,\"Falta (U.M.)\",VLOOKUP(A595,'Mapa de Preços'!$A$16:$B$2988,2,0))","v":"Falta (U.M.)"},"","",null,{"$f":"VLOOKUP(A595,'Mapa de Preços'!$A$16:$J$2988,10,0)","v":"Falta Orçamento"},"",null,568,null,0]
[569,{"$f":"IF(VLOOKUP(A596,'Mapa de Preços'!$A$16:$B$2988,2,0)=FALSE,\"Falta (U.M.)\",VLOOKUP(A596,'Mapa de Preços'!$A$16:$B$2988,2,0))","v":"Falta (U.M.)"},"","",null,{"$f":"VLOOKUP(A596,'Mapa de Preços'!$A$16:$J$2988,10,0)","v":"Falta Orçamento"},"",null,569,null,0]
[570,{"$f":"IF(VLOOKUP(A597,'Mapa de Preços'!$A$16:$B$2988,2,0)=FALSE,\"Falta (U.M.)\",VLOOKUP(A597,'Mapa de Preços'!$A$16:$B$2988,2,0))","v":"Falta (U.M.)"},"","",null,{"$f":"VLOOKUP(A597,'Mapa de Preços'!$A$16:$J$2988,10,0)","v":"Falta Orçamento"},"",null,570,null,0]
[571,{"$f":"IF(VLOOKUP(A598,'Mapa de Preços'!$A$16:$B$2988,2,0)=FALSE,\"Falta (U.M.)\",VLOOKUP(A598,'Mapa de Preços'!$A$16:$B$2988,2,0))","v":"Falta (U.M.)"},"","",null,{"$f":"VLOOKUP(A598,'Mapa de Preços'!$A$16:$J$2988,10,0)","v":"Falta Orçamento"},"",null,571,null,0]
[572,{"$f":"IF(VLOOKUP(A599,'Mapa de Preços'!$A$16:$B$2988,2,0)=FALSE,\"Falta (U.M.)\",VLOOKUP(A599,'Mapa de Preços'!$A$16:$B$2988,2,0))","v":"Falta (U.M.)"},"","",null,{"$f":"VLOOKUP(A599,'Mapa de Preços'!$A$16:$J$2988,10,0)","v":"Falta Orçamento"},"",null,572,null,0]
[573,{"$f":"IF(VLOOKUP(A600,'Mapa de Preços'!$A$16:$B$2988,2,0)=FALSE,\"Falta (U.M.)\",VLOOKUP(A600,'Mapa de Preços'!$A$16:$B$2988,2,0))","v":"Falta (U.M.)"},"","",null,{"$f":"VLOOKUP(A600,'Mapa de Preços'!$A$16:$J$2988,10,0)","v":"Falta Orçamento"},"",null,573,null,0]
[574,{"$f":"IF(VLOOKUP(A601,'Mapa de Preços'!$A$16:$B$2988,2,0)=FALSE,\"Falta (U.M.)\",VLOOKUP(A601,'Mapa de Preços'!$A$16:$B$2988,2,0))","v":"Falta (U.M.)"},"","",null,{"$f":"VLOOKUP(A601,'Mapa de Preços'!$A$16:$J$2988,10,0)","v":"Falta Orçamento"},"",null,574,null,0]
[575,{"$f":"IF(VLOOKUP(A602,'Mapa de Preços'!$A$16:$B$2988,2,0)=FALSE,\"Falta (U.M.)\",VLOOKUP(A602,'Mapa de Preços'!$A$16:$B$2988,2,0))","v":"Falta (U.M.)"},"","",null,{"$f":"VLOOKUP(A602,'Mapa de Preços'!$A$16:$J$2988,10,0)","v":"Falta Orçamento"},"",null,575,null,0]
[576,{"$f":"IF(VLOOKUP(A603,'Mapa de Preços'!$A$16:$B$2988,2,0)=FALSE,\"Falta (U.M.)\",VLOOKUP(A603,'Mapa de Preços'!$A$16:$B$2988,2,0))","v":"Falta (U.M.)"},"","",null,{"$f":"VLOOKUP(A603,'Mapa de Preços'!$A$16:$J$2988,10,0)","v":"Falta Orçamento"},"",null,576,null,0]
[577,{"$f":"IF(VLOOKUP(A604,'Mapa de Preços'!$A$16:$B$2988,2,0)=FALSE,\"Falta (U.M.)\",VLOOKUP(A604,'Mapa de Preços'!$A$16:$B$2988,2,0))","v":"Falta (U.M.)"},"","",null,{"$f":"VLOOKUP(A604,'Mapa de Preços'!$A$16:$J$2988,10,0)","v":"Falta Orçamento"},"",null,577,null,{"$f":"SUM(L604:AI604)","v":0}]
[578,{"$f":"IF(VLOOKUP(A605,'Mapa de Preços'!$A$16:$B$2988,2,0)=FALSE,\"Falta (U.M.)\",VLOOKUP(A605,'Mapa de Preços'!$A$16:$B$2988,2,0))","v":"Falta (U.M.)"},{"$f":"IF(J605<>\"\",J605,\"\")","v":""},{"$f":"IF(VLOOKUP(A605,$I$28:$AI$3000,$G$26,FALSE)<>\"\",VLOOKUP(A605,$I$28:$AI$3000,$G$26,FALSE),\"\")","v":""},null,{"$f":"VLOOKUP(A605,'Mapa de Preços'!$A$16:$J$2988,10,0)","v":"Falta Orçamento"},{"$f":"IF(F605=\"Falta Orçamento\",\"\",F605*D605)","v":""},null,578,null,0]
[579,{"$f":"IF(VLOOKUP(A606,'Mapa de Preços'!$A$16:$B$2988,2,0)=FALSE,\"Falta (U.M.)\",VLOOKUP(A606,'Mapa de Preços'!$A$16:$B$2988,2,0))","v":"Falta (U.M.)"},"","",null,{"$f":"VLOOKUP(A606,'Mapa de Preços'!$A$16:$J$2988,10,0)","v":"Falta Orçamento"},"",null,579,null,0]
[580,{"$f":"IF(VLOOKUP(A607,'Mapa de Preços'!$A$16:$B$2988,2,0)=FALSE,\"Falta (U.M.)\",VLOOKUP(A607,'Mapa de Preços'!$A$16:$B$2988,2,0))","v":"Falta (U.M.)"},"","",null,{"$f":"VLOOKUP(A607,'Mapa de Preços'!$A$16:$J$2988,10,0)","v":"Falta Orçamento"},"",null,580,null,0]
[581,{"$f":"IF(VLOOKUP(A608,'Mapa de Preços'!$A$16:$B$2988,2,0)=FALSE,\"Falta (U.M.)\",VLOOKUP(A608,'Mapa de Preços'!$A$16:$B$2988,2,0))","v":"Falta (U.M.)"},"","",null,{"$f":"VLOOKUP(A608,'Mapa de Preços'!$A$16:$J$2988,10,0)","v":"Falta Orçamento"},"",null,581,null,0]
[582,{"$f":"IF(VLOOKUP(A609,'Mapa de Preços'!$A$16:$B$2988,2,0)=FALSE,\"Falta (U.M.)\",VLOOKUP(A609,'Mapa de Preços'!$A$16:$B$2988,2,0))","v":"Falta (U.M.)"},"","",null,{"$f":"VLOOKUP(A609,'Mapa de Preços'!$A$16:$J$2988,10,0)","v":"Falta Orçamento"},"",null,582,null,0]
[583,{"$f":"IF(VLOOKUP(A610,'Mapa de Preços'!$A$16:$B$2988,2,0)=FALSE,\"Falta (U.M.)\",VLOOKUP(A610,'Mapa de Preços'!$A$16:$B$2988,2,0))","v":"Falta (U.M.)"},"","",null,{"$f":"VLOOKUP(A610,'Mapa de Preços'!$A$16:$J$2988,10,0)","v":"Falta Orçamento"},"",null,583,null,0]
[584,{"$f":"IF(VLOOKUP(A611,'Mapa de Preços'!$A$16:$B$2988,2,0)=FALSE,\"Falta (U.M.)\",VLOOKUP(A611,'Mapa de Preços'!$A$16:$B$2988,2,0))","v":"Falta (U.M.)"},"","",null,{"$f":"VLOOKUP(A611,'Mapa de Preços'!$A$16:$J$2988,10,0)","v":"Falta Orçamento"},"",null,584,null,0]
[585,{"$f":"IF(VLOOKUP(A612,'Mapa de Preços'!$A$16:$B$2988,2,0)=FALSE,\"Falta (U.M.)\",VLOOKUP(A612,'Mapa de Preços'!$A$16:$B$2988,2,0))","v":"Falta (U.M.)"},"","",null,{"$f":"VLOOKUP(A612,'Mapa de Preços'!$A$16:$J$2988,10,0)","v":"Falta Orçamento"},"",null,585,null,0]
[586,{"$f":"IF(VLOOKUP(A613,'Mapa de Preços'!$A$16:$B$2988,2,0)=FALSE,\"Falta (U.M.)\",VLOOKUP(A613,'Mapa de Preços'!$A$16:$B$2988,2,0))","v":"Falta (U.M.)"},"","",null,{"$f":"VLOOKUP(A613,'Mapa de Preços'!$A$16:$J$2988,10,0)","v":"Falta Orçamento"},"",null,586,null,0]
[587,{"$f":"IF(VLOOKUP(A614,'Mapa de Preços'!$A$16:$B$2988,2,0)=FALSE,\"Falta (U.M.)\",VLOOKUP(A614,'Mapa de Preços'!$A$16:$B$2988,2,0))","v":"Falta (U.M.)"},"","",null,{"$f":"VLOOKUP(A614,'Mapa de Preços'!$A$16:$J$2988,10,0)","v":"Falta Orçamento"},"",null,587,null,0]
[588,{"$f":"IF(VLOOKUP(A615,'Mapa de Preços'!$A$16:$B$2988,2,0)=FALSE,\"Falta (U.M.)\",VLOOKUP(A615,'Mapa de Preços'!$A$16:$B$2988,2,0))","v":"Falta (U.M.)"},"","",null,{"$f":"VLOOKUP(A615,'Mapa de Preços'!$A$16:$J$2988,10,0)","v":"Falta Orçamento"},"",null,588,null,0]
[589,{"$f":"IF(VLOOKUP(A616,'Mapa de Preços'!$A$16:$B$2988,2,0)=FALSE,\"Falta (U.M.)\",VLOOKUP(A616,'Mapa de Preços'!$A$16:$B$2988,2,0))","v":"Falta (U.M.)"},"","",null,{"$f":"VLOOKUP(A616,'Mapa de Preços'!$A$16:$J$2988,10,0)","v":"Falta Orçamento"},"",null,589,null,0]
[590,{"$f":"IF(VLOOKUP(A617,'Mapa de Preços'!$A$16:$B$2988,2,0)=FALSE,\"Falta (U.M.)\",VLOOKUP(A617,'Mapa de Preços'!$A$16:$B$2988,2,0))","v":"Falta (U.M.)"},"","",null,{"$f":"VLOOKUP(A617,'Mapa de Preços'!$A$16:$J$2988,10,0)","v":"Falta Orçamento"},"",null,590,null,0]
[591,{"$f":"IF(VLOOKUP(A618,'Mapa de Preços'!$A$16:$B$2988,2,0)=FALSE,\"Falta (U.M.)\",VLOOKUP(A618,'Mapa de Preços'!$A$16:$B$2988,2,0))","v":"Falta (U.M.)"},"","",null,{"$f":"VLOOKUP(A618,'Mapa de Preços'!$A$16:$J$2988,10,0)","v":"Falta Orçamento"},"",null,591,null,0]
[592,{"$f":"IF(VLOOKUP(A619,'Mapa de Preços'!$A$16:$B$2988,2,0)=FALSE,\"Falta (U.M.)\",VLOOKUP(A619,'Mapa de Preços'!$A$16:$B$2988,2,0))","v":"Falta (U.M.)"},"","",null,{"$f":"VLOOKUP(A619,'Mapa de Preços'!$A$16:$J$2988,10,0)","v":"Falta Orçamento"},"",null,592,null,0]
[593,{"$f":"IF(VLOOKUP(A620,'Mapa de Preços'!$A$16:$B$2988,2,0)=FALSE,\"Falta (U.M.)\",VLOOKUP(A620,'Mapa de Preços'!$A$16:$B$2988,2,0))","v":"Falta (U.M.)"},"","",null,{"$f":"VLOOKUP(A620,'Mapa de Preços'!$A$16:$J$2988,10,0)","v":"Falta Orçamento"},"",null,593,null,0]
[594,{"$f":"IF(VLOOKUP(A621,'Mapa de Preços'!$A$16:$B$2988,2,0)=FALSE,\"Falta (U.M.)\",VLOOKUP(A621,'Mapa de Preços'!$A$16:$B$2988,2,0))","v":"Falta (U.M.)"},"","",null,{"$f":"VLOOKUP(A621,'Mapa de Preços'!$A$16:$J$2988,10,0)","v":"Falta Orçamento"},"",null,594,null,0]
[595,{"$f":"IF(VLOOKUP(A622,'Mapa de Preços'!$A$16:$B$2988,2,0)=FALSE,\"Falta (U.M.)\",VLOOKUP(A622,'Mapa de Preços'!$A$16:$B$2988,2,0))","v":"Falta (U.M.)"},"","",null,{"$f":"VLOOKUP(A622,'Mapa de Preços'!$A$16:$J$2988,10,0)","v":"Falta Orçamento"},"",null,595,null,0]
[596,{"$f":"IF(VLOOKUP(A623,'Mapa de Preços'!$A$16:$B$2988,2,0)=FALSE,\"Falta (U.M.)\",VLOOKUP(A623,'Mapa de Preços'!$A$16:$B$2988,2,0))","v":"Falta (U.M.)"},"","",null,{"$f":"VLOOKUP(A623,'Mapa de Preços'!$A$16:$J$2988,10,0)","v":"Falta Orçamento"},"",null,596,null,0]
[597,{"$f":"IF(VLOOKUP(A624,'Mapa de Preços'!$A$16:$B$2988,2,0)=FALSE,\"Falta (U.M.)\",VLOOKUP(A624,'Mapa de Preços'!$A$16:$B$2988,2,0))","v":"Falta (U.M.)"},"","",null,{"$f":"VLOOKUP(A624,'Mapa de Preços'!$A$16:$J$2988,10,0)","v":"Falta Orçamento"},"",null,597,null,0]
[598,{"$f":"IF(VLOOKUP(A625,'Mapa de Preços'!$A$16:$B$2988,2,0)=FALSE,\"Falta (U.M.)\",VLOOKUP(A625,'Mapa de Preços'!$A$16:$B$2988,2,0))","v":"Falta (U.M.)"},"","",null,{"$f":"VLOOKUP(A625,'Mapa de Preços'!$A$16:$J$2988,10,0)","v":"Falta Orçamento"},"",null,598,null,0]
[599,{"$f":"IF(VLOOKUP(A626,'Mapa de Preços'!$A$16:$B$2988,2,0)=FALSE,\"Falta (U.M.)\",VLOOKUP(A626,'Mapa de Preços'!$A$16:$B$2988,2,0))","v":"Falta (U.M.)"},"","",null,{"$f":"VLOOKUP(A626,'Mapa de Preços'!$A$16:$J$2988,10,0)","v":"Falta Orçamento"},"",null,599,null,0]
[600,{"$f":"IF(VLOOKUP(A627,'Mapa de Preços'!$A$16:$B$2988,2,0)=FALSE,\"Falta (U.M.)\",VLOOKUP(A627,'Mapa de Preços'!$A$16:$B$2988,2,0))","v":"Falta (U.M.)"},"","",null,{"$f":"VLOOKUP(A627,'Mapa de Preços'!$A$16:$J$2988,10,0)","v":"Falta Orçamento"},"",null,600,null,0]
[601,{"$f":"IF(VLOOKUP(A628,'Mapa de Preços'!$A$16:$B$2988,2,0)=FALSE,\"Falta (U.M.)\",VLOOKUP(A628,'Mapa de Preços'!$A$16:$B$2988,2,0))","v":"Falta (U.M.)"},"","",null,{"$f":"VLOOKUP(A628,'Mapa de Preços'!$A$16:$J$2988,10,0)","v":"Falta Orçamento"},"",null,601,null,0]
[602,{"$f":"IF(VLOOKUP(A629,'Mapa de Preços'!$A$16:$B$2988,2,0)=FALSE,\"Falta (U.M.)\",VLOOKUP(A629,'Mapa de Preços'!$A$16:$B$2988,2,0))","v":"Falta (U.M.)"},"","",null,{"$f":"VLOOKUP(A629,'Mapa de Preços'!$A$16:$J$2988,10,0)","v":"Falta Orçamento"},"",null,602,null,0]
[603,{"$f":"IF(VLOOKUP(A630,'Mapa de Preços'!$A$16:$B$2988,2,0)=FALSE,\"Falta (U.M.)\",VLOOKUP(A630,'Mapa de Preços'!$A$16:$B$2988,2,0))","v":"Falta (U.M.)"},"","",null,{"$f":"VLOOKUP(A630,'Mapa de Preços'!$A$16:$J$2988,10,0)","v":"Falta Orçamento"},"",null,603,null,0]
[604,{"$f":"IF(VLOOKUP(A631,'Mapa de Preços'!$A$16:$B$2988,2,0)=FALSE,\"Falta (U.M.)\",VLOOKUP(A631,'Mapa de Preços'!$A$16:$B$2988,2,0))","v":"Falta (U.M.)"},"","",null,{"$f":"VLOOKUP(A631,'Mapa de Preços'!$A$16:$J$2988,10,0)","v":"Falta Orçamento"},"",null,604,null,0]
[605,{"$f":"IF(VLOOKUP(A632,'Mapa de Preços'!$A$16:$B$2988,2,0)=FALSE,\"Falta (U.M.)\",VLOOKUP(A632,'Mapa de Preços'!$A$16:$B$2988,2,0))","v":"Falta (U.M.)"},"","",null,{"$f":"VLOOKUP(A632,'Mapa de Preços'!$A$16:$J$2988,10,0)","v":"Falta Orçamento"},"",null,605,null,0]
[606,{"$f":"IF(VLOOKUP(A633,'Mapa de Preços'!$A$16:$B$2988,2,0)=FALSE,\"Falta (U.M.)\",VLOOKUP(A633,'Mapa de Preços'!$A$16:$B$2988,2,0))","v":"Falta (U.M.)"},"","",null,{"$f":"VLOOKUP(A633,'Mapa de Preços'!$A$16:$J$2988,10,0)","v":"Falta Orçamento"},"",null,606,null,0]
[607,{"$f":"IF(VLOOKUP(A634,'Mapa de Preços'!$A$16:$B$2988,2,0)=FALSE,\"Falta (U.M.)\",VLOOKUP(A634,'Mapa de Preços'!$A$16:$B$2988,2,0))","v":"Falta (U.M.)"},"","",null,{"$f":"VLOOKUP(A634,'Mapa de Preços'!$A$16:$J$2988,10,0)","v":"Falta Orçamento"},"",null,607,null,0]
[608,{"$f":"IF(VLOOKUP(A635,'Mapa de Preços'!$A$16:$B$2988,2,0)=FALSE,\"Falta (U.M.)\",VLOOKUP(A635,'Mapa de Preços'!$A$16:$B$2988,2,0))","v":"Falta (U.M.)"},"","",null,{"$f":"VLOOKUP(A635,'Mapa de Preços'!$A$16:$J$2988,10,0)","v":"Falta Orçamento"},"",null,608,null,0]
[609,{"$f":"IF(VLOOKUP(A636,'Mapa de Preços'!$A$16:$B$2988,2,0)=FALSE,\"Falta (U.M.)\",VLOOKUP(A636,'Mapa de Preços'!$A$16:$B$2988,2,0))","v":"Falta (U.M.)"},"","",null,{"$f":"VLOOKUP(A636,'Mapa de Preços'!$A$16:$J$2988,10,0)","v":"Falta Orçamento"},"",null,609,null,0]
[610,{"$f":"IF(VLOOKUP(A637,'Mapa de Preços'!$A$16:$B$2988,2,0)=FALSE,\"Falta (U.M.)\",VLOOKUP(A637,'Mapa de Preços'!$A$16:$B$2988,2,0))","v":"Falta (U.M.)"},"","",null,{"$f":"VLOOKUP(A637,'Mapa de Preços'!$A$16:$J$2988,10,0)","v":"Falta Orçamento"},"",null,610,null,0]
[611,{"$f":"IF(VLOOKUP(A638,'Mapa de Preços'!$A$16:$B$2988,2,0)=FALSE,\"Falta (U.M.)\",VLOOKUP(A638,'Mapa de Preços'!$A$16:$B$2988,2,0))","v":"Falta (U.M.)"},"","",null,{"$f":"VLOOKUP(A638,'Mapa de Preços'!$A$16:$J$2988,10,0)","v":"Falta Orçamento"},"",null,611,null,0]
[612,{"$f":"IF(VLOOKUP(A639,'Mapa de Preços'!$A$16:$B$2988,2,0)=FALSE,\"Falta (U.M.)\",VLOOKUP(A639,'Mapa de Preços'!$A$16:$B$2988,2,0))","v":"Falta (U.M.)"},"","",null,{"$f":"VLOOKUP(A639,'Mapa de Preços'!$A$16:$J$2988,10,0)","v":"Falta Orçamento"},"",null,612,null,0]
[613,{"$f":"IF(VLOOKUP(A640,'Mapa de Preços'!$A$16:$B$2988,2,0)=FALSE,\"Falta (U.M.)\",VLOOKUP(A640,'Mapa de Preços'!$A$16:$B$2988,2,0))","v":"Falta (U.M.)"},"","",null,{"$f":"VLOOKUP(A640,'Mapa de Preços'!$A$16:$J$2988,10,0)","v":"Falta Orçamento"},"",null,613,null,0]
[614,{"$f":"IF(VLOOKUP(A641,'Mapa de Preços'!$A$16:$B$2988,2,0)=FALSE,\"Falta (U.M.)\",VLOOKUP(A641,'Mapa de Preços'!$A$16:$B$2988,2,0))","v":"Falta (U.M.)"},"","",null,{"$f":"VLOOKUP(A641,'Mapa de Preços'!$A$16:$J$2988,10,0)","v":"Falta Orçamento"},"",null,614,null,0]
[615,{"$f":"IF(VLOOKUP(A642,'Mapa de Preços'!$A$16:$B$2988,2,0)=FALSE,\"Falta (U.M.)\",VLOOKUP(A642,'Mapa de Preços'!$A$16:$B$2988,2,0))","v":"Falta (U.M.)"},"","",null,{"$f":"VLOOKUP(A642,'Mapa de Preços'!$A$16:$J$2988,10,0)","v":"Falta Orçamento"},"",null,615,null,0]
[616,{"$f":"IF(VLOOKUP(A643,'Mapa de Preços'!$A$16:$B$2988,2,0)=FALSE,\"Falta (U.M.)\",VLOOKUP(A643,'Mapa de Preços'!$A$16:$B$2988,2,0))","v":"Falta (U.M.)"},"","",null,{"$f":"VLOOKUP(A643,'Mapa de Preços'!$A$16:$J$2988,10,0)","v":"Falta Orçamento"},"",null,616,null,0]
[617,{"$f":"IF(VLOOKUP(A644,'Mapa de Preços'!$A$16:$B$2988,2,0)=FALSE,\"Falta (U.M.)\",VLOOKUP(A644,'Mapa de Preços'!$A$16:$B$2988,2,0))","v":"Falta (U.M.)"},"","",null,{"$f":"VLOOKUP(A644,'Mapa de Preços'!$A$16:$J$2988,10,0)","v":"Falta Orçamento"},"",null,617,null,0]
[618,{"$f":"IF(VLOOKUP(A645,'Mapa de Preços'!$A$16:$B$2988,2,0)=FALSE,\"Falta (U.M.)\",VLOOKUP(A645,'Mapa de Preços'!$A$16:$B$2988,2,0))","v":"Falta (U.M.)"},"","",null,{"$f":"VLOOKUP(A645,'Mapa de Preços'!$A$16:$J$2988,10,0)","v":"Falta Orçamento"},"",null,618,null,0]
[619,{"$f":"IF(VLOOKUP(A646,'Mapa de Preços'!$A$16:$B$2988,2,0)=FALSE,\"Falta (U.M.)\",VLOOKUP(A646,'Mapa de Preços'!$A$16:$B$2988,2,0))","v":"Falta (U.M.)"},"","",null,{"$f":"VLOOKUP(A646,'Mapa de Preços'!$A$16:$J$2988,10,0)","v":"Falta Orçamento"},"",null,619,null,0]
[620,{"$f":"IF(VLOOKUP(A647,'Mapa de Preços'!$A$16:$B$2988,2,0)=FALSE,\"Falta (U.M.)\",VLOOKUP(A647,'Mapa de Preços'!$A$16:$B$2988,2,0))","v":"Falta (U.M.)"},"","",null,{"$f":"VLOOKUP(A647,'Mapa de Preços'!$A$16:$J$2988,10,0)","v":"Falta Orçamento"},"",null,620,null,0]
[621,{"$f":"IF(VLOOKUP(A648,'Mapa de Preços'!$A$16:$B$2988,2,0)=FALSE,\"Falta (U.M.)\",VLOOKUP(A648,'Mapa de Preços'!$A$16:$B$2988,2,0))","v":"Falta (U.M.)"},"","",null,{"$f":"VLOOKUP(A648,'Mapa de Preços'!$A$16:$J$2988,10,0)","v":"Falta Orçamento"},"",null,621,null,0]
[622,{"$f":"IF(VLOOKUP(A649,'Mapa de Preços'!$A$16:$B$2988,2,0)=FALSE,\"Falta (U.M.)\",VLOOKUP(A649,'Mapa de Preços'!$A$16:$B$2988,2,0))","v":"Falta (U.M.)"},"","",null,{"$f":"VLOOKUP(A649,'Mapa de Preços'!$A$16:$J$2988,10,0)","v":"Falta Orçamento"},"",null,622,null,0]
[623,{"$f":"IF(VLOOKUP(A650,'Mapa de Preços'!$A$16:$B$2988,2,0)=FALSE,\"Falta (U.M.)\",VLOOKUP(A650,'Mapa de Preços'!$A$16:$B$2988,2,0))","v":"Falta (U.M.)"},"","",null,{"$f":"VLOOKUP(A650,'Mapa de Preços'!$A$16:$J$2988,10,0)","v":"Falta Orçamento"},"",null,623,null,0]
[624,{"$f":"IF(VLOOKUP(A651,'Mapa de Preços'!$A$16:$B$2988,2,0)=FALSE,\"Falta (U.M.)\",VLOOKUP(A651,'Mapa de Preços'!$A$16:$B$2988,2,0))","v":"Falta (U.M.)"},"","",null,{"$f":"VLOOKUP(A651,'Mapa de Preços'!$A$16:$J$2988,10,0)","v":"Falta Orçamento"},"",null,624,null,0]
[625,{"$f":"IF(VLOOKUP(A652,'Mapa de Preços'!$A$16:$B$2988,2,0)=FALSE,\"Falta (U.M.)\",VLOOKUP(A652,'Mapa de Preços'!$A$16:$B$2988,2,0))","v":"Falta (U.M.)"},"","",null,{"$f":"VLOOKUP(A652,'Mapa de Preços'!$A$16:$J$2988,10,0)","v":"Falta Orçamento"},"",null,625,null,0]
[626,{"$f":"IF(VLOOKUP(A653,'Mapa de Preços'!$A$16:$B$2988,2,0)=FALSE,\"Falta (U.M.)\",VLOOKUP(A653,'Mapa de Preços'!$A$16:$B$2988,2,0))","v":"Falta (U.M.)"},"","",null,{"$f":"VLOOKUP(A653,'Mapa de Preços'!$A$16:$J$2988,10,0)","v":"Falta Orçamento"},"",null,626,null,0]
[627,{"$f":"IF(VLOOKUP(A654,'Mapa de Preços'!$A$16:$B$2988,2,0)=FALSE,\"Falta (U.M.)\",VLOOKUP(A654,'Mapa de Preços'!$A$16:$B$2988,2,0))","v":"Falta (U.M.)"},"","",null,{"$f":"VLOOKUP(A654,'Mapa de Preços'!$A$16:$J$2988,10,0)","v":"Falta Orçamento"},"",null,627,null,0]
[628,{"$f":"IF(VLOOKUP(A655,'Mapa de Preços'!$A$16:$B$2988,2,0)=FALSE,\"Falta (U.M.)\",VLOOKUP(A655,'Mapa de Preços'!$A$16:$B$2988,2,0))","v":"Falta (U.M.)"},"","",null,{"$f":"VLOOKUP(A655,'Mapa de Preços'!$A$16:$J$2988,10,0)","v":"Falta Orçamento"},"",null,628,null,0]
[629,{"$f":"IF(VLOOKUP(A656,'Mapa de Preços'!$A$16:$B$2988,2,0)=FALSE,\"Falta (U.M.)\",VLOOKUP(A656,'Mapa de Preços'!$A$16:$B$2988,2,0))","v":"Falta (U.M.)"},"","",null,{"$f":"VLOOKUP(A656,'Mapa de Preços'!$A$16:$J$2988,10,0)","v":"Falta Orçamento"},"",null,629,null,0]
[630,{"$f":"IF(VLOOKUP(A657,'Mapa de Preços'!$A$16:$B$2988,2,0)=FALSE,\"Falta (U.M.)\",VLOOKUP(A657,'Mapa de Preços'!$A$16:$B$2988,2,0))","v":"Falta (U.M.)"},"","",null,{"$f":"VLOOKUP(A657,'Mapa de Preços'!$A$16:$J$2988,10,0)","v":"Falta Orçamento"},"",null,630,null,0]
[631,{"$f":"IF(VLOOKUP(A658,'Mapa de Preços'!$A$16:$B$2988,2,0)=FALSE,\"Falta (U.M.)\",VLOOKUP(A658,'Mapa de Preços'!$A$16:$B$2988,2,0))","v":"Falta (U.M.)"},"","",null,{"$f":"VLOOKUP(A658,'Mapa de Preços'!$A$16:$J$2988,10,0)","v":"Falta Orçamento"},"",null,631,null,0]
[632,{"$f":"IF(VLOOKUP(A659,'Mapa de Preços'!$A$16:$B$2988,2,0)=FALSE,\"Falta (U.M.)\",VLOOKUP(A659,'Mapa de Preços'!$A$16:$B$2988,2,0))","v":"Falta (U.M.)"},"","",null,{"$f":"VLOOKUP(A659,'Mapa de Preços'!$A$16:$J$2988,10,0)","v":"Falta Orçamento"},"",null,632,null,0]
[633,{"$f":"IF(VLOOKUP(A660,'Mapa de Preços'!$A$16:$B$2988,2,0)=FALSE,\"Falta (U.M.)\",VLOOKUP(A660,'Mapa de Preços'!$A$16:$B$2988,2,0))","v":"Falta (U.M.)"},"","",null,{"$f":"VLOOKUP(A660,'Mapa de Preços'!$A$16:$J$2988,10,0)","v":"Falta Orçamento"},"",null,633,null,0]
[634,{"$f":"IF(VLOOKUP(A661,'Mapa de Preços'!$A$16:$B$2988,2,0)=FALSE,\"Falta (U.M.)\",VLOOKUP(A661,'Mapa de Preços'!$A$16:$B$2988,2,0))","v":"Falta (U.M.)"},"","",null,{"$f":"VLOOKUP(A661,'Mapa de Preços'!$A$16:$J$2988,10,0)","v":"Falta Orçamento"},"",null,634,null,0]
[635,{"$f":"IF(VLOOKUP(A662,'Mapa de Preços'!$A$16:$B$2988,2,0)=FALSE,\"Falta (U.M.)\",VLOOKUP(A662,'Mapa de Preços'!$A$16:$B$2988,2,0))","v":"Falta (U.M.)"},"","",null,{"$f":"VLOOKUP(A662,'Mapa de Preços'!$A$16:$J$2988,10,0)","v":"Falta Orçamento"},"",null,635,null,0]
[636,{"$f":"IF(VLOOKUP(A663,'Mapa de Preços'!$A$16:$B$2988,2,0)=FALSE,\"Falta (U.M.)\",VLOOKUP(A663,'Mapa de Preços'!$A$16:$B$2988,2,0))","v":"Falta (U.M.)"},"","",null,{"$f":"VLOOKUP(A663,'Mapa de Preços'!$A$16:$J$2988,10,0)","v":"Falta Orçamento"},"",null,636,null,0]
[637,{"$f":"IF(VLOOKUP(A664,'Mapa de Preços'!$A$16:$B$2988,2,0)=FALSE,\"Falta (U.M.)\",VLOOKUP(A664,'Mapa de Preços'!$A$16:$B$2988,2,0))","v":"Falta (U.M.)"},"","",null,{"$f":"VLOOKUP(A664,'Mapa de Preços'!$A$16:$J$2988,10,0)","v":"Falta Orçamento"},"",null,637,null,0]
[638,{"$f":"IF(VLOOKUP(A665,'Mapa de Preços'!$A$16:$B$2988,2,0)=FALSE,\"Falta (U.M.)\",VLOOKUP(A665,'Mapa de Preços'!$A$16:$B$2988,2,0))","v":"Falta (U.M.)"},"","",null,{"$f":"VLOOKUP(A665,'Mapa de Preços'!$A$16:$J$2988,10,0)","v":"Falta Orçamento"},"",null,638,null,0]
[639,{"$f":"IF(VLOOKUP(A666,'Mapa de Preços'!$A$16:$B$2988,2,0)=FALSE,\"Falta (U.M.)\",VLOOKUP(A666,'Mapa de Preços'!$A$16:$B$2988,2,0))","v":"Falta (U.M.)"},"","",null,{"$f":"VLOOKUP(A666,'Mapa de Preços'!$A$16:$J$2988,10,0)","v":"Falta Orçamento"},"",null,639,null,0]
[640,{"$f":"IF(VLOOKUP(A667,'Mapa de Preços'!$A$16:$B$2988,2,0)=FALSE,\"Falta (U.M.)\",VLOOKUP(A667,'Mapa de Preços'!$A$16:$B$2988,2,0))","v":"Falta (U.M.)"},"","",null,{"$f":"VLOOKUP(A667,'Mapa de Preços'!$A$16:$J$2988,10,0)","v":"Falta Orçamento"},"",null,640,null,0]
[641,{"$f":"IF(VLOOKUP(A668,'Mapa de Preços'!$A$16:$B$2988,2,0)=FALSE,\"Falta (U.M.)\",VLOOKUP(A668,'Mapa de Preços'!$A$16:$B$2988,2,0))","v":"Falta (U.M.)"},"","",null,{"$f":"VLOOKUP(A668,'Mapa de Preços'!$A$16:$J$2988,10,0)","v":"Falta Orçamento"},"",null,641,null,{"$f":"SUM(L668:AI668)","v":0}]
[642,{"$f":"IF(VLOOKUP(A669,'Mapa de Preços'!$A$16:$B$2988,2,0)=FALSE,\"Falta (U.M.)\",VLOOKUP(A669,'Mapa de Preços'!$A$16:$B$2988,2,0))","v":"Falta (U.M.)"},{"$f":"IF(J669<>\"\",J669,\"\")","v":""},{"$f":"IF(VLOOKUP(A669,$I$28:$AI$3000,$G$26,FALSE)<>\"\",VLOOKUP(A669,$I$28:$AI$3000,$G$26,FALSE),\"\")","v":""},null,{"$f":"VLOOKUP(A669,'Mapa de Preços'!$A$16:$J$2988,10,0)","v":"Falta Orçamento"},{"$f":"IF(F669=\"Falta Orçamento\",\"\",F669*D669)","v":""},null,642,null,0]
[643,{"$f":"IF(VLOOKUP(A670,'Mapa de Preços'!$A$16:$B$2988,2,0)=FALSE,\"Falta (U.M.)\",VLOOKUP(A670,'Mapa de Preços'!$A$16:$B$2988,2,0))","v":"Falta (U.M.)"},"","",null,{"$f":"VLOOKUP(A670,'Mapa de Preços'!$A$16:$J$2988,10,0)","v":"Falta Orçamento"},"",null,643,null,0]
[644,{"$f":"IF(VLOOKUP(A671,'Mapa de Preços'!$A$16:$B$2988,2,0)=FALSE,\"Falta (U.M.)\",VLOOKUP(A671,'Mapa de Preços'!$A$16:$B$2988,2,0))","v":"Falta (U.M.)"},"","",null,{"$f":"VLOOKUP(A671,'Mapa de Preços'!$A$16:$J$2988,10,0)","v":"Falta Orçamento"},"",null,644,null,0]
[645,{"$f":"IF(VLOOKUP(A672,'Mapa de Preços'!$A$16:$B$2988,2,0)=FALSE,\"Falta (U.M.)\",VLOOKUP(A672,'Mapa de Preços'!$A$16:$B$2988,2,0))","v":"Falta (U.M.)"},"","",null,{"$f":"VLOOKUP(A672,'Mapa de Preços'!$A$16:$J$2988,10,0)","v":"Falta Orçamento"},"",null,645,null,0]
[646,{"$f":"IF(VLOOKUP(A673,'Mapa de Preços'!$A$16:$B$2988,2,0)=FALSE,\"Falta (U.M.)\",VLOOKUP(A673,'Mapa de Preços'!$A$16:$B$2988,2,0))","v":"Falta (U.M.)"},"","",null,{"$f":"VLOOKUP(A673,'Mapa de Preços'!$A$16:$J$2988,10,0)","v":"Falta Orçamento"},"",null,646,null,0]
[647,{"$f":"IF(VLOOKUP(A674,'Mapa de Preços'!$A$16:$B$2988,2,0)=FALSE,\"Falta (U.M.)\",VLOOKUP(A674,'Mapa de Preços'!$A$16:$B$2988,2,0))","v":"Falta (U.M.)"},"","",null,{"$f":"VLOOKUP(A674,'Mapa de Preços'!$A$16:$J$2988,10,0)","v":"Falta Orçamento"},"",null,647,null,0]
[648,{"$f":"IF(VLOOKUP(A675,'Mapa de Preços'!$A$16:$B$2988,2,0)=FALSE,\"Falta (U.M.)\",VLOOKUP(A675,'Mapa de Preços'!$A$16:$B$2988,2,0))","v":"Falta (U.M.)"},"","",null,{"$f":"VLOOKUP(A675,'Mapa de Preços'!$A$16:$J$2988,10,0)","v":"Falta Orçamento"},"",null,648,null,0]
[649,{"$f":"IF(VLOOKUP(A676,'Mapa de Preços'!$A$16:$B$2988,2,0)=FALSE,\"Falta (U.M.)\",VLOOKUP(A676,'Mapa de Preços'!$A$16:$B$2988,2,0))","v":"Falta (U.M.)"},"","",null,{"$f":"VLOOKUP(A676,'Mapa de Preços'!$A$16:$J$2988,10,0)","v":"Falta Orçamento"},"",null,649,null,0]
[650,{"$f":"IF(VLOOKUP(A677,'Mapa de Preços'!$A$16:$B$2988,2,0)=FALSE,\"Falta (U.M.)\",VLOOKUP(A677,'Mapa de Preços'!$A$16:$B$2988,2,0))","v":"Falta (U.M.)"},"","",null,{"$f":"VLOOKUP(A677,'Mapa de Preços'!$A$16:$J$2988,10,0)","v":"Falta Orçamento"},"",null,650,null,0]
[651,{"$f":"IF(VLOOKUP(A678,'Mapa de Preços'!$A$16:$B$2988,2,0)=FALSE,\"Falta (U.M.)\",VLOOKUP(A678,'Mapa de Preços'!$A$16:$B$2988,2,0))","v":"Falta (U.M.)"},"","",null,{"$f":"VLOOKUP(A678,'Mapa de Preços'!$A$16:$J$2988,10,0)","v":"Falta Orçamento"},"",null,651,null,0]
[652,{"$f":"IF(VLOOKUP(A679,'Mapa de Preços'!$A$16:$B$2988,2,0)=FALSE,\"Falta (U.M.)\",VLOOKUP(A679,'Mapa de Preços'!$A$16:$B$2988,2,0))","v":"Falta (U.M.)"},"","",null,{"$f":"VLOOKUP(A679,'Mapa de Preços'!$A$16:$J$2988,10,0)","v":"Falta Orçamento"},"",null,652,null,0]
[653,{"$f":"IF(VLOOKUP(A680,'Mapa de Preços'!$A$16:$B$2988,2,0)=FALSE,\"Falta (U.M.)\",VLOOKUP(A680,'Mapa de Preços'!$A$16:$B$2988,2,0))","v":"Falta (U.M.)"},"","",null,{"$f":"VLOOKUP(A680,'Mapa de Preços'!$A$16:$J$2988,10,0)","v":"Falta Orçamento"},"",null,653,null,0]
[654,{"$f":"IF(VLOOKUP(A681,'Mapa de Preços'!$A$16:$B$2988,2,0)=FALSE,\"Falta (U.M.)\",VLOOKUP(A681,'Mapa de Preços'!$A$16:$B$2988,2,0))","v":"Falta (U.M.)"},"","",null,{"$f":"VLOOKUP(A681,'Mapa de Preços'!$A$16:$J$2988,10,0)","v":"Falta Orçamento"},"",null,654,null,0]
[655,{"$f":"IF(VLOOKUP(A682,'Mapa de Preços'!$A$16:$B$2988,2,0)=FALSE,\"Falta (U.M.)\",VLOOKUP(A682,'Mapa de Preços'!$A$16:$B$2988,2,0))","v":"Falta (U.M.)"},"","",null,{"$f":"VLOOKUP(A682,'Mapa de Preços'!$A$16:$J$2988,10,0)","v":"Falta Orçamento"},"",null,655,null,0]
[656,{"$f":"IF(VLOOKUP(A683,'Mapa de Preços'!$A$16:$B$2988,2,0)=FALSE,\"Falta (U.M.)\",VLOOKUP(A683,'Mapa de Preços'!$A$16:$B$2988,2,0))","v":"Falta (U.M.)"},"","",null,{"$f":"VLOOKUP(A683,'Mapa de Preços'!$A$16:$J$2988,10,0)","v":"Falta Orçamento"},"",null,656,null,0]
[657,{"$f":"IF(VLOOKUP(A684,'Mapa de Preços'!$A$16:$B$2988,2,0)=FALSE,\"Falta (U.M.)\",VLOOKUP(A684,'Mapa de Preços'!$A$16:$B$2988,2,0))","v":"Falta (U.M.)"},"","",null,{"$f":"VLOOKUP(A684,'Mapa de Preços'!$A$16:$J$2988,10,0)","v":"Falta Orçamento"},"",null,657,null,0]
[658,{"$f":"IF(VLOOKUP(A685,'Mapa de Preços'!$A$16:$B$2988,2,0)=FALSE,\"Falta (U.M.)\",VLOOKUP(A685,'Mapa de Preços'!$A$16:$B$2988,2,0))","v":"Falta (U.M.)"},"","",null,{"$f":"VLOOKUP(A685,'Mapa de Preços'!$A$16:$J$2988,10,0)","v":"Falta Orçamento"},"",null,658,null,0]
[659,{"$f":"IF(VLOOKUP(A686,'Mapa de Preços'!$A$16:$B$2988,2,0)=FALSE,\"Falta (U.M.)\",VLOOKUP(A686,'Mapa de Preços'!$A$16:$B$2988,2,0))","v":"Falta (U.M.)"},"","",null,{"$f":"VLOOKUP(A686,'Mapa de Preços'!$A$16:$J$2988,10,0)","v":"Falta Orçamento"},"",null,659,null,0]
[660,{"$f":"IF(VLOOKUP(A687,'Mapa de Preços'!$A$16:$B$2988,2,0)=FALSE,\"Falta (U.M.)\",VLOOKUP(A687,'Mapa de Preços'!$A$16:$B$2988,2,0))","v":"Falta (U.M.)"},"","",null,{"$f":"VLOOKUP(A687,'Mapa de Preços'!$A$16:$J$2988,10,0)","v":"Falta Orçamento"},"",null,660,null,0]
[661,{"$f":"IF(VLOOKUP(A688,'Mapa de Preços'!$A$16:$B$2988,2,0)=FALSE,\"Falta (U.M.)\",VLOOKUP(A688,'Mapa de Preços'!$A$16:$B$2988,2,0))","v":"Falta (U.M.)"},"","",null,{"$f":"VLOOKUP(A688,'Mapa de Preços'!$A$16:$J$2988,10,0)","v":"Falta Orçamento"},"",null,661,null,0]
[662,{"$f":"IF(VLOOKUP(A689,'Mapa de Preços'!$A$16:$B$2988,2,0)=FALSE,\"Falta (U.M.)\",VLOOKUP(A689,'Mapa de Preços'!$A$16:$B$2988,2,0))","v":"Falta (U.M.)"},"","",null,{"$f":"VLOOKUP(A689,'Mapa de Preços'!$A$16:$J$2988,10,0)","v":"Falta Orçamento"},"",null,662,null,0]
[663,{"$f":"IF(VLOOKUP(A690,'Mapa de Preços'!$A$16:$B$2988,2,0)=FALSE,\"Falta (U.M.)\",VLOOKUP(A690,'Mapa de Preços'!$A$16:$B$2988,2,0))","v":"Falta (U.M.)"},"","",null,{"$f":"VLOOKUP(A690,'Mapa de Preços'!$A$16:$J$2988,10,0)","v":"Falta Orçamento"},"",null,663,null,0]
[664,{"$f":"IF(VLOOKUP(A691,'Mapa de Preços'!$A$16:$B$2988,2,0)=FALSE,\"Falta (U.M.)\",VLOOKUP(A691,'Mapa de Preços'!$A$16:$B$2988,2,0))","v":"Falta (U.M.)"},"","",null,{"$f":"VLOOKUP(A691,'Mapa de Preços'!$A$16:$J$2988,10,0)","v":"Falta Orçamento"},"",null,664,null,0]
[665,{"$f":"IF(VLOOKUP(A692,'Mapa de Preços'!$A$16:$B$2988,2,0)=FALSE,\"Falta (U.M.)\",VLOOKUP(A692,'Mapa de Preços'!$A$16:$B$2988,2,0))","v":"Falta (U.M.)"},"","",null,{"$f":"VLOOKUP(A692,'Mapa de Preços'!$A$16:$J$2988,10,0)","v":"Falta Orçamento"},"",null,665,null,0]
[666,{"$f":"IF(VLOOKUP(A693,'Mapa de Preços'!$A$16:$B$2988,2,0)=FALSE,\"Falta (U.M.)\",VLOOKUP(A693,'Mapa de Preços'!$A$16:$B$2988,2,0))","v":"Falta (U.M.)"},"","",null,{"$f":"VLOOKUP(A693,'Mapa de Preços'!$A$16:$J$2988,10,0)","v":"Falta Orçamento"},"",null,666,null,0]
[667,{"$f":"IF(VLOOKUP(A694,'Mapa de Preços'!$A$16:$B$2988,2,0)=FALSE,\"Falta (U.M.)\",VLOOKUP(A694,'Mapa de Preços'!$A$16:$B$2988,2,0))","v":"Falta (U.M.)"},"","",null,{"$f":"VLOOKUP(A694,'Mapa de Preços'!$A$16:$J$2988,10,0)","v":"Falta Orçamento"},"",null,667,null,0]
[668,{"$f":"IF(VLOOKUP(A695,'Mapa de Preços'!$A$16:$B$2988,2,0)=FALSE,\"Falta (U.M.)\",VLOOKUP(A695,'Mapa de Preços'!$A$16:$B$2988,2,0))","v":"Falta (U.M.)"},"","",null,{"$f":"VLOOKUP(A695,'Mapa de Preços'!$A$16:$J$2988,10,0)","v":"Falta Orçamento"},"",null,668,null,0]
[669,{"$f":"IF(VLOOKUP(A696,'Mapa de Preços'!$A$16:$B$2988,2,0)=FALSE,\"Falta (U.M.)\",VLOOKUP(A696,'Mapa de Preços'!$A$16:$B$2988,2,0))","v":"Falta (U.M.)"},"","",null,{"$f":"VLOOKUP(A696,'Mapa de Preços'!$A$16:$J$2988,10,0)","v":"Falta Orçamento"},"",null,669,null,0]
[670,{"$f":"IF(VLOOKUP(A697,'Mapa de Preços'!$A$16:$B$2988,2,0)=FALSE,\"Falta (U.M.)\",VLOOKUP(A697,'Mapa de Preços'!$A$16:$B$2988,2,0))","v":"Falta (U.M.)"},"","",null,{"$f":"VLOOKUP(A697,'Mapa de Preços'!$A$16:$J$2988,10,0)","v":"Falta Orçamento"},"",null,670,null,0]
[671,{"$f":"IF(VLOOKUP(A698,'Mapa de Preços'!$A$16:$B$2988,2,0)=FALSE,\"Falta (U.M.)\",VLOOKUP(A698,'Mapa de Preços'!$A$16:$B$2988,2,0))","v":"Falta (U.M.)"},"","",null,{"$f":"VLOOKUP(A698,'Mapa de Preços'!$A$16:$J$2988,10,0)","v":"Falta Orçamento"},"",null,671,null,0]
[672,{"$f":"IF(VLOOKUP(A699,'Mapa de Preços'!$A$16:$B$2988,2,0)=FALSE,\"Falta (U.M.)\",VLOOKUP(A699,'Mapa de Preços'!$A$16:$B$2988,2,0))","v":"Falta (U.M.)"},"","",null,{"$f":"VLOOKUP(A699,'Mapa de Preços'!$A$16:$J$2988,10,0)","v":"Falta Orçamento"},"",null,672,null,0]
[673,{"$f":"IF(VLOOKUP(A700,'Mapa de Preços'!$A$16:$B$2988,2,0)=FALSE,\"Falta (U.M.)\",VLOOKUP(A700,'Mapa de Preços'!$A$16:$B$2988,2,0))","v":"Falta (U.M.)"},"","",null,{"$f":"VLOOKUP(A700,'Mapa de Preços'!$A$16:$J$2988,10,0)","v":"Falta Orçamento"},"",null,673,null,0]
[674,{"$f":"IF(VLOOKUP(A701,'Mapa de Preços'!$A$16:$B$2988,2,0)=FALSE,\"Falta (U.M.)\",VLOOKUP(A701,'Mapa de Preços'!$A$16:$B$2988,2,0))","v":"Falta (U.M.)"},"","",null,{"$f":"VLOOKUP(A701,'Mapa de Preços'!$A$16:$J$2988,10,0)","v":"Falta Orçamento"},"",null,674,null,0]
[675,{"$f":"IF(VLOOKUP(A702,'Mapa de Preços'!$A$16:$B$2988,2,0)=FALSE,\"Falta (U.M.)\",VLOOKUP(A702,'Mapa de Preços'!$A$16:$B$2988,2,0))","v":"Falta (U.M.)"},"","",null,{"$f":"VLOOKUP(A702,'Mapa de Preços'!$A$16:$J$2988,10,0)","v":"Falta Orçamento"},"",null,675,null,0]
[676,{"$f":"IF(VLOOKUP(A703,'Mapa de Preços'!$A$16:$B$2988,2,0)=FALSE,\"Falta (U.M.)\",VLOOKUP(A703,'Mapa de Preços'!$A$16:$B$2988,2,0))","v":"Falta (U.M.)"},"","",null,{"$f":"VLOOKUP(A703,'Mapa de Preços'!$A$16:$J$2988,10,0)","v":"Falta Orçamento"},"",null,676,null,0]
[677,{"$f":"IF(VLOOKUP(A704,'Mapa de Preços'!$A$16:$B$2988,2,0)=FALSE,\"Falta (U.M.)\",VLOOKUP(A704,'Mapa de Preços'!$A$16:$B$2988,2,0))","v":"Falta (U.M.)"},"","",null,{"$f":"VLOOKUP(A704,'Mapa de Preços'!$A$16:$J$2988,10,0)","v":"Falta Orçamento"},"",null,677,null,0]
[678,{"$f":"IF(VLOOKUP(A705,'Mapa de Preços'!$A$16:$B$2988,2,0)=FALSE,\"Falta (U.M.)\",VLOOKUP(A705,'Mapa de Preços'!$A$16:$B$2988,2,0))","v":"Falta (U.M.)"},"","",null,{"$f":"VLOOKUP(A705,'Mapa de Preços'!$A$16:$J$2988,10,0)","v":"Falta Orçamento"},"",null,678,null,0]
[679,{"$f":"IF(VLOOKUP(A706,'Mapa de Preços'!$A$16:$B$2988,2,0)=FALSE,\"Falta (U.M.)\",VLOOKUP(A706,'Mapa de Preços'!$A$16:$B$2988,2,0))","v":"Falta (U.M.)"},"","",null,{"$f":"VLOOKUP(A706,'Mapa de Preços'!$A$16:$J$2988,10,0)","v":"Falta Orçamento"},"",null,679,null,0]
[680,{"$f":"IF(VLOOKUP(A707,'Mapa de Preços'!$A$16:$B$2988,2,0)=FALSE,\"Falta (U.M.)\",VLOOKUP(A707,'Mapa de Preços'!$A$16:$B$2988,2,0))","v":"Falta (U.M.)"},"","",null,{"$f":"VLOOKUP(A707,'Mapa de Preços'!$A$16:$J$2988,10,0)","v":"Falta Orçamento"},"",null,680,null,0]
[681,{"$f":"IF(VLOOKUP(A708,'Mapa de Preços'!$A$16:$B$2988,2,0)=FALSE,\"Falta (U.M.)\",VLOOKUP(A708,'Mapa de Preços'!$A$16:$B$2988,2,0))","v":"Falta (U.M.)"},"","",null,{"$f":"VLOOKUP(A708,'Mapa de Preços'!$A$16:$J$2988,10,0)","v":"Falta Orçamento"},"",null,681,null,0]
[682,{"$f":"IF(VLOOKUP(A709,'Mapa de Preços'!$A$16:$B$2988,2,0)=FALSE,\"Falta (U.M.)\",VLOOKUP(A709,'Mapa de Preços'!$A$16:$B$2988,2,0))","v":"Falta (U.M.)"},"","",null,{"$f":"VLOOKUP(A709,'Mapa de Preços'!$A$16:$J$2988,10,0)","v":"Falta Orçamento"},"",null,682,null,0]
[683,{"$f":"IF(VLOOKUP(A710,'Mapa de Preços'!$A$16:$B$2988,2,0)=FALSE,\"Falta (U.M.)\",VLOOKUP(A710,'Mapa de Preços'!$A$16:$B$2988,2,0))","v":"Falta (U.M.)"},"","",null,{"$f":"VLOOKUP(A710,'Mapa de Preços'!$A$16:$J$2988,10,0)","v":"Falta Orçamento"},"",null,683,null,0]
[684,{"$f":"IF(VLOOKUP(A711,'Mapa de Preços'!$A$16:$B$2988,2,0)=FALSE,\"Falta (U.M.)\",VLOOKUP(A711,'Mapa de Preços'!$A$16:$B$2988,2,0))","v":"Falta (U.M.)"},"","",null,{"$f":"VLOOKUP(A711,'Mapa de Preços'!$A$16:$J$2988,10,0)","v":"Falta Orçamento"},"",null,684,null,0]
[685,{"$f":"IF(VLOOKUP(A712,'Mapa de Preços'!$A$16:$B$2988,2,0)=FALSE,\"Falta (U.M.)\",VLOOKUP(A712,'Mapa de Preços'!$A$16:$B$2988,2,0))","v":"Falta (U.M.)"},"","",null,{"$f":"VLOOKUP(A712,'Mapa de Preços'!$A$16:$J$2988,10,0)","v":"Falta Orçamento"},"",null,685,null,0]
[686,{"$f":"IF(VLOOKUP(A713,'Mapa de Preços'!$A$16:$B$2988,2,0)=FALSE,\"Falta (U.M.)\",VLOOKUP(A713,'Mapa de Preços'!$A$16:$B$2988,2,0))","v":"Falta (U.M.)"},"","",null,{"$f":"VLOOKUP(A713,'Mapa de Preços'!$A$16:$J$2988,10,0)","v":"Falta Orçamento"},"",null,686,null,0]
[687,{"$f":"IF(VLOOKUP(A714,'Mapa de Preços'!$A$16:$B$2988,2,0)=FALSE,\"Falta (U.M.)\",VLOOKUP(A714,'Mapa de Preços'!$A$16:$B$2988,2,0))","v":"Falta (U.M.)"},"","",null,{"$f":"VLOOKUP(A714,'Mapa de Preços'!$A$16:$J$2988,10,0)","v":"Falta Orçamento"},"",null,687,null,0]
[688,{"$f":"IF(VLOOKUP(A715,'Mapa de Preços'!$A$16:$B$2988,2,0)=FALSE,\"Falta (U.M.)\",VLOOKUP(A715,'Mapa de Preços'!$A$16:$B$2988,2,0))","v":"Falta (U.M.)"},"","",null,{"$f":"VLOOKUP(A715,'Mapa de Preços'!$A$16:$J$2988,10,0)","v":"Falta Orçamento"},"",null,688,null,0]
[689,{"$f":"IF(VLOOKUP(A716,'Mapa de Preços'!$A$16:$B$2988,2,0)=FALSE,\"Falta (U.M.)\",VLOOKUP(A716,'Mapa de Preços'!$A$16:$B$2988,2,0))","v":"Falta (U.M.)"},"","",null,{"$f":"VLOOKUP(A716,'Mapa de Preços'!$A$16:$J$2988,10,0)","v":"Falta Orçamento"},"",null,689,null,0]
[690,{"$f":"IF(VLOOKUP(A717,'Mapa de Preços'!$A$16:$B$2988,2,0)=FALSE,\"Falta (U.M.)\",VLOOKUP(A717,'Mapa de Preços'!$A$16:$B$2988,2,0))","v":"Falta (U.M.)"},"","",null,{"$f":"VLOOKUP(A717,'Mapa de Preços'!$A$16:$J$2988,10,0)","v":"Falta Orçamento"},"",null,690,null,0]
[691,{"$f":"IF(VLOOKUP(A718,'Mapa de Preços'!$A$16:$B$2988,2,0)=FALSE,\"Falta (U.M.)\",VLOOKUP(A718,'Mapa de Preços'!$A$16:$B$2988,2,0))","v":"Falta (U.M.)"},"","",null,{"$f":"VLOOKUP(A718,'Mapa de Preços'!$A$16:$J$2988,10,0)","v":"Falta Orçamento"},"",null,691,null,0]
[692,{"$f":"IF(VLOOKUP(A719,'Mapa de Preços'!$A$16:$B$2988,2,0)=FALSE,\"Falta (U.M.)\",VLOOKUP(A719,'Mapa de Preços'!$A$16:$B$2988,2,0))","v":"Falta (U.M.)"},"","",null,{"$f":"VLOOKUP(A719,'Mapa de Preços'!$A$16:$J$2988,10,0)","v":"Falta Orçamento"},"",null,692,null,0]
[693,{"$f":"IF(VLOOKUP(A720,'Mapa de Preços'!$A$16:$B$2988,2,0)=FALSE,\"Falta (U.M.)\",VLOOKUP(A720,'Mapa de Preços'!$A$16:$B$2988,2,0))","v":"Falta (U.M.)"},"","",null,{"$f":"VLOOKUP(A720,'Mapa de Preços'!$A$16:$J$2988,10,0)","v":"Falta Orçamento"},"",null,693,null,0]
[694,{"$f":"IF(VLOOKUP(A721,'Mapa de Preços'!$A$16:$B$2988,2,0)=FALSE,\"Falta (U.M.)\",VLOOKUP(A721,'Mapa de Preços'!$A$16:$B$2988,2,0))","v":"Falta (U.M.)"},"","",null,{"$f":"VLOOKUP(A721,'Mapa de Preços'!$A$16:$J$2988,10,0)","v":"Falta Orçamento"},"",null,694,null,0]
[695,{"$f":"IF(VLOOKUP(A722,'Mapa de Preços'!$A$16:$B$2988,2,0)=FALSE,\"Falta (U.M.)\",VLOOKUP(A722,'Mapa de Preços'!$A$16:$B$2988,2,0))","v":"Falta (U.M.)"},"","",null,{"$f":"VLOOKUP(A722,'Mapa de Preços'!$A$16:$J$2988,10,0)","v":"Falta Orçamento"},"",null,695,null,0]
[696,{"$f":"IF(VLOOKUP(A723,'Mapa de Preços'!$A$16:$B$2988,2,0)=FALSE,\"Falta (U.M.)\",VLOOKUP(A723,'Mapa de Preços'!$A$16:$B$2988,2,0))","v":"Falta (U.M.)"},"","",null,{"$f":"VLOOKUP(A723,'Mapa de Preços'!$A$16:$J$2988,10,0)","v":"Falta Orçamento"},"",null,696,null,0]
[697,{"$f":"IF(VLOOKUP(A724,'Mapa de Preços'!$A$16:$B$2988,2,0)=FALSE,\"Falta (U.M.)\",VLOOKUP(A724,'Mapa de Preços'!$A$16:$B$2988,2,0))","v":"Falta (U.M.)"},"","",null,{"$f":"VLOOKUP(A724,'Mapa de Preços'!$A$16:$J$2988,10,0)","v":"Falta Orçamento"},"",null,697,null,0]
[698,{"$f":"IF(VLOOKUP(A725,'Mapa de Preços'!$A$16:$B$2988,2,0)=FALSE,\"Falta (U.M.)\",VLOOKUP(A725,'Mapa de Preços'!$A$16:$B$2988,2,0))","v":"Falta (U.M.)"},"","",null,{"$f":"VLOOKUP(A725,'Mapa de Preços'!$A$16:$J$2988,10,0)","v":"Falta Orçamento"},"",null,698,null,0]
[699,{"$f":"IF(VLOOKUP(A726,'Mapa de Preços'!$A$16:$B$2988,2,0)=FALSE,\"Falta (U.M.)\",VLOOKUP(A726,'Mapa de Preços'!$A$16:$B$2988,2,0))","v":"Falta (U.M.)"},"","",null,{"$f":"VLOOKUP(A726,'Mapa de Preços'!$A$16:$J$2988,10,0)","v":"Falta Orçamento"},"",null,699,null,0]
[700,{"$f":"IF(VLOOKUP(A727,'Mapa de Preços'!$A$16:$B$2988,2,0)=FALSE,\"Falta (U.M.)\",VLOOKUP(A727,'Mapa de Preços'!$A$16:$B$2988,2,0))","v":"Falta (U.M.)"},"","",null,{"$f":"VLOOKUP(A727,'Mapa de Preços'!$A$16:$J$2988,10,0)","v":"Falta Orçamento"},"",null,700,null,0]
[701,{"$f":"IF(VLOOKUP(A728,'Mapa de Preços'!$A$16:$B$2988,2,0)=FALSE,\"Falta (U.M.)\",VLOOKUP(A728,'Mapa de Preços'!$A$16:$B$2988,2,0))","v":"Falta (U.M.)"},"","",null,{"$f":"VLOOKUP(A728,'Mapa de Preços'!$A$16:$J$2988,10,0)","v":"Falta Orçamento"},"",null,701,null,0]
[702,{"$f":"IF(VLOOKUP(A729,'Mapa de Preços'!$A$16:$B$2988,2,0)=FALSE,\"Falta (U.M.)\",VLOOKUP(A729,'Mapa de Preços'!$A$16:$B$2988,2,0))","v":"Falta (U.M.)"},"","",null,{"$f":"VLOOKUP(A729,'Mapa de Preços'!$A$16:$J$2988,10,0)","v":"Falta Orçamento"},"",null,702,null,0]
[703,{"$f":"IF(VLOOKUP(A730,'Mapa de Preços'!$A$16:$B$2988,2,0)=FALSE,\"Falta (U.M.)\",VLOOKUP(A730,'Mapa de Preços'!$A$16:$B$2988,2,0))","v":"Falta (U.M.)"},"","",null,{"$f":"VLOOKUP(A730,'Mapa de Preços'!$A$16:$J$2988,10,0)","v":"Falta Orçamento"},"",null,703,null,0]
[704,{"$f":"IF(VLOOKUP(A731,'Mapa de Preços'!$A$16:$B$2988,2,0)=FALSE,\"Falta (U.M.)\",VLOOKUP(A731,'Mapa de Preços'!$A$16:$B$2988,2,0))","v":"Falta (U.M.)"},"","",null,{"$f":"VLOOKUP(A731,'Mapa de Preços'!$A$16:$J$2988,10,0)","v":"Falta Orçamento"},"",null,704,null,0]
[705,{"$f":"IF(VLOOKUP(A732,'Mapa de Preços'!$A$16:$B$2988,2,0)=FALSE,\"Falta (U.M.)\",VLOOKUP(A732,'Mapa de Preços'!$A$16:$B$2988,2,0))","v":"Falta (U.M.)"},"","",null,{"$f":"VLOOKUP(A732,'Mapa de Preços'!$A$16:$J$2988,10,0)","v":"Falta Orçamento"},"",null,705,null,{"$f":"SUM(L732:AI732)","v":0}]
[706,{"$f":"IF(VLOOKUP(A733,'Mapa de Preços'!$A$16:$B$2988,2,0)=FALSE,\"Falta (U.M.)\",VLOOKUP(A733,'Mapa de Preços'!$A$16:$B$2988,2,0))","v":"Falta (U.M.)"},{"$f":"IF(J733<>\"\",J733,\"\")","v":""},{"$f":"IF(VLOOKUP(A733,$I$28:$AI$3000,$G$26,FALSE)<>\"\",VLOOKUP(A733,$I$28:$AI$3000,$G$26,FALSE),\"\")","v":""},null,{"$f":"VLOOKUP(A733,'Mapa de Preços'!$A$16:$J$2988,10,0)","v":"Falta Orçamento"},{"$f":"IF(F733=\"Falta Orçamento\",\"\",F733*D733)","v":""},null,706,null,0]
[707,{"$f":"IF(VLOOKUP(A734,'Mapa de Preços'!$A$16:$B$2988,2,0)=FALSE,\"Falta (U.M.)\",VLOOKUP(A734,'Mapa de Preços'!$A$16:$B$2988,2,0))","v":"Falta (U.M.)"},"","",null,{"$f":"VLOOKUP(A734,'Mapa de Preços'!$A$16:$J$2988,10,0)","v":"Falta Orçamento"},"",null,707,null,0]
[708,{"$f":"IF(VLOOKUP(A735,'Mapa de Preços'!$A$16:$B$2988,2,0)=FALSE,\"Falta (U.M.)\",VLOOKUP(A735,'Mapa de Preços'!$A$16:$B$2988,2,0))","v":"Falta (U.M.)"},"","",null,{"$f":"VLOOKUP(A735,'Mapa de Preços'!$A$16:$J$2988,10,0)","v":"Falta Orçamento"},"",null,708,null,0]
[709,{"$f":"IF(VLOOKUP(A736,'Mapa de Preços'!$A$16:$B$2988,2,0)=FALSE,\"Falta (U.M.)\",VLOOKUP(A736,'Mapa de Preços'!$A$16:$B$2988,2,0))","v":"Falta (U.M.)"},"","",null,{"$f":"VLOOKUP(A736,'Mapa de Preços'!$A$16:$J$2988,10,0)","v":"Falta Orçamento"},"",null,709,null,0]
[710,{"$f":"IF(VLOOKUP(A737,'Mapa de Preços'!$A$16:$B$2988,2,0)=FALSE,\"Falta (U.M.)\",VLOOKUP(A737,'Mapa de Preços'!$A$16:$B$2988,2,0))","v":"Falta (U.M.)"},"","",null,{"$f":"VLOOKUP(A737,'Mapa de Preços'!$A$16:$J$2988,10,0)","v":"Falta Orçamento"},"",null,710,null,0]
[711,{"$f":"IF(VLOOKUP(A738,'Mapa de Preços'!$A$16:$B$2988,2,0)=FALSE,\"Falta (U.M.)\",VLOOKUP(A738,'Mapa de Preços'!$A$16:$B$2988,2,0))","v":"Falta (U.M.)"},"","",null,{"$f":"VLOOKUP(A738,'Mapa de Preços'!$A$16:$J$2988,10,0)","v":"Falta Orçamento"},"",null,711,null,0]
[712,{"$f":"IF(VLOOKUP(A739,'Mapa de Preços'!$A$16:$B$2988,2,0)=FALSE,\"Falta (U.M.)\",VLOOKUP(A739,'Mapa de Preços'!$A$16:$B$2988,2,0))","v":"Falta (U.M.)"},"","",null,{"$f":"VLOOKUP(A739,'Mapa de Preços'!$A$16:$J$2988,10,0)","v":"Falta Orçamento"},"",null,712,null,0]
[713,{"$f":"IF(VLOOKUP(A740,'Mapa de Preços'!$A$16:$B$2988,2,0)=FALSE,\"Falta (U.M.)\",VLOOKUP(A740,'Mapa de Preços'!$A$16:$B$2988,2,0))","v":"Falta (U.M.)"},"","",null,{"$f":"VLOOKUP(A740,'Mapa de Preços'!$A$16:$J$2988,10,0)","v":"Falta Orçamento"},"",null,713,null,0]
[714,{"$f":"IF(VLOOKUP(A741,'Mapa de Preços'!$A$16:$B$2988,2,0)=FALSE,\"Falta (U.M.)\",VLOOKUP(A741,'Mapa de Preços'!$A$16:$B$2988,2,0))","v":"Falta (U.M.)"},"","",null,{"$f":"VLOOKUP(A741,'Mapa de Preços'!$A$16:$J$2988,10,0)","v":"Falta Orçamento"},"",null,714,null,0]
[715,{"$f":"IF(VLOOKUP(A742,'Mapa de Preços'!$A$16:$B$2988,2,0)=FALSE,\"Falta (U.M.)\",VLOOKUP(A742,'Mapa de Preços'!$A$16:$B$2988,2,0))","v":"Falta (U.M.)"},"","",null,{"$f":"VLOOKUP(A742,'Mapa de Preços'!$A$16:$J$2988,10,0)","v":"Falta Orçamento"},"",null,715,null,0]
[716,{"$f":"IF(VLOOKUP(A743,'Mapa de Preços'!$A$16:$B$2988,2,0)=FALSE,\"Falta (U.M.)\",VLOOKUP(A743,'Mapa de Preços'!$A$16:$B$2988,2,0))","v":"Falta (U.M.)"},"","",null,{"$f":"VLOOKUP(A743,'Mapa de Preços'!$A$16:$J$2988,10,0)","v":"Falta Orçamento"},"",null,716,null,0]
[717,{"$f":"IF(VLOOKUP(A744,'Mapa de Preços'!$A$16:$B$2988,2,0)=FALSE,\"Falta (U.M.)\",VLOOKUP(A744,'Mapa de Preços'!$A$16:$B$2988,2,0))","v":"Falta (U.M.)"},"","",null,{"$f":"VLOOKUP(A744,'Mapa de Preços'!$A$16:$J$2988,10,0)","v":"Falta Orçamento"},"",null,717,null,0]
[718,{"$f":"IF(VLOOKUP(A745,'Mapa de Preços'!$A$16:$B$2988,2,0)=FALSE,\"Falta (U.M.)\",VLOOKUP(A745,'Mapa de Preços'!$A$16:$B$2988,2,0))","v":"Falta (U.M.)"},"","",null,{"$f":"VLOOKUP(A745,'Mapa de Preços'!$A$16:$J$2988,10,0)","v":"Falta Orçamento"},"",null,718,null,0]
[719,{"$f":"IF(VLOOKUP(A746,'Mapa de Preços'!$A$16:$B$2988,2,0)=FALSE,\"Falta (U.M.)\",VLOOKUP(A746,'Mapa de Preços'!$A$16:$B$2988,2,0))","v":"Falta (U.M.)"},"","",null,{"$f":"VLOOKUP(A746,'Mapa de Preços'!$A$16:$J$2988,10,0)","v":"Falta Orçamento"},"",null,719,null,0]
[720,{"$f":"IF(VLOOKUP(A747,'Mapa de Preços'!$A$16:$B$2988,2,0)=FALSE,\"Falta (U.M.)\",VLOOKUP(A747,'Mapa de Preços'!$A$16:$B$2988,2,0))","v":"Falta (U.M.)"},"","",null,{"$f":"VLOOKUP(A747,'Mapa de Preços'!$A$16:$J$2988,10,0)","v":"Falta Orçamento"},"",null,720,null,0]
[721,{"$f":"IF(VLOOKUP(A748,'Mapa de Preços'!$A$16:$B$2988,2,0)=FALSE,\"Falta (U.M.)\",VLOOKUP(A748,'Mapa de Preços'!$A$16:$B$2988,2,0))","v":"Falta (U.M.)"},"","",null,{"$f":"VLOOKUP(A748,'Mapa de Preços'!$A$16:$J$2988,10,0)","v":"Falta Orçamento"},"",null,721,null,0]
[722,{"$f":"IF(VLOOKUP(A749,'Mapa de Preços'!$A$16:$B$2988,2,0)=FALSE,\"Falta (U.M.)\",VLOOKUP(A749,'Mapa de Preços'!$A$16:$B$2988,2,0))","v":"Falta (U.M.)"},"","",null,{"$f":"VLOOKUP(A749,'Mapa de Preços'!$A$16:$J$2988,10,0)","v":"Falta Orçamento"},"",null,722,null,0]
[723,{"$f":"IF(VLOOKUP(A750,'Mapa de Preços'!$A$16:$B$2988,2,0)=FALSE,\"Falta (U.M.)\",VLOOKUP(A750,'Mapa de Preços'!$A$16:$B$2988,2,0))","v":"Falta (U.M.)"},"","",null,{"$f":"VLOOKUP(A750,'Mapa de Preços'!$A$16:$J$2988,10,0)","v":"Falta Orçamento"},"",null,723,null,0]
[724,{"$f":"IF(VLOOKUP(A751,'Mapa de Preços'!$A$16:$B$2988,2,0)=FALSE,\"Falta (U.M.)\",VLOOKUP(A751,'Mapa de Preços'!$A$16:$B$2988,2,0))","v":"Falta (U.M.)"},"","",null,{"$f":"VLOOKUP(A751,'Mapa de Preços'!$A$16:$J$2988,10,0)","v":"Falta Orçamento"},"",null,724,null,0]
[725,{"$f":"IF(VLOOKUP(A752,'Mapa de Preços'!$A$16:$B$2988,2,0)=FALSE,\"Falta (U.M.)\",VLOOKUP(A752,'Mapa de Preços'!$A$16:$B$2988,2,0))","v":"Falta (U.M.)"},"","",null,{"$f":"VLOOKUP(A752,'Mapa de Preços'!$A$16:$J$2988,10,0)","v":"Falta Orçamento"},"",null,725,null,0]
[726,{"$f":"IF(VLOOKUP(A753,'Mapa de Preços'!$A$16:$B$2988,2,0)=FALSE,\"Falta (U.M.)\",VLOOKUP(A753,'Mapa de Preços'!$A$16:$B$2988,2,0))","v":"Falta (U.M.)"},"","",null,{"$f":"VLOOKUP(A753,'Mapa de Preços'!$A$16:$J$2988,10,0)","v":"Falta Orçamento"},"",null,726,null,0]
[727,{"$f":"IF(VLOOKUP(A754,'Mapa de Preços'!$A$16:$B$2988,2,0)=FALSE,\"Falta (U.M.)\",VLOOKUP(A754,'Mapa de Preços'!$A$16:$B$2988,2,0))","v":"Falta (U.M.)"},"","",null,{"$f":"VLOOKUP(A754,'Mapa de Preços'!$A$16:$J$2988,10,0)","v":"Falta Orçamento"},"",null,727,null,0]
[728,{"$f":"IF(VLOOKUP(A755,'Mapa de Preços'!$A$16:$B$2988,2,0)=FALSE,\"Falta (U.M.)\",VLOOKUP(A755,'Mapa de Preços'!$A$16:$B$2988,2,0))","v":"Falta (U.M.)"},"","",null,{"$f":"VLOOKUP(A755,'Mapa de Preços'!$A$16:$J$2988,10,0)","v":"Falta Orçamento"},"",null,728,null,0]
[729,{"$f":"IF(VLOOKUP(A756,'Mapa de Preços'!$A$16:$B$2988,2,0)=FALSE,\"Falta (U.M.)\",VLOOKUP(A756,'Mapa de Preços'!$A$16:$B$2988,2,0))","v":"Falta (U.M.)"},"","",null,{"$f":"VLOOKUP(A756,'Mapa de Preços'!$A$16:$J$2988,10,0)","v":"Falta Orçamento"},"",null,729,null,0]
[730,{"$f":"IF(VLOOKUP(A757,'Mapa de Preços'!$A$16:$B$2988,2,0)=FALSE,\"Falta (U.M.)\",VLOOKUP(A757,'Mapa de Preços'!$A$16:$B$2988,2,0))","v":"Falta (U.M.)"},"","",null,{"$f":"VLOOKUP(A757,'Mapa de Preços'!$A$16:$J$2988,10,0)","v":"Falta Orçamento"},"",null,730,null,0]
[731,{"$f":"IF(VLOOKUP(A758,'Mapa de Preços'!$A$16:$B$2988,2,0)=FALSE,\"Falta (U.M.)\",VLOOKUP(A758,'Mapa de Preços'!$A$16:$B$2988,2,0))","v":"Falta (U.M.)"},"","",null,{"$f":"VLOOKUP(A758,'Mapa de Preços'!$A$16:$J$2988,10,0)","v":"Falta Orçamento"},"",null,731,null,0]
[732,{"$f":"IF(VLOOKUP(A759,'Mapa de Preços'!$A$16:$B$2988,2,0)=FALSE,\"Falta (U.M.)\",VLOOKUP(A759,'Mapa de Preços'!$A$16:$B$2988,2,0))","v":"Falta (U.M.)"},"","",null,{"$f":"VLOOKUP(A759,'Mapa de Preços'!$A$16:$J$2988,10,0)","v":"Falta Orçamento"},"",null,732,null,0]
[733,{"$f":"IF(VLOOKUP(A760,'Mapa de Preços'!$A$16:$B$2988,2,0)=FALSE,\"Falta (U.M.)\",VLOOKUP(A760,'Mapa de Preços'!$A$16:$B$2988,2,0))","v":"Falta (U.M.)"},"","",null,{"$f":"VLOOKUP(A760,'Mapa de Preços'!$A$16:$J$2988,10,0)","v":"Falta Orçamento"},"",null,733,null,0]
[734,{"$f":"IF(VLOOKUP(A761,'Mapa de Preços'!$A$16:$B$2988,2,0)=FALSE,\"Falta (U.M.)\",VLOOKUP(A761,'Mapa de Preços'!$A$16:$B$2988,2,0))","v":"Falta (U.M.)"},"","",null,{"$f":"VLOOKUP(A761,'Mapa de Preços'!$A$16:$J$2988,10,0)","v":"Falta Orçamento"},"",null,734,null,0]
[735,{"$f":"IF(VLOOKUP(A762,'Mapa de Preços'!$A$16:$B$2988,2,0)=FALSE,\"Falta (U.M.)\",VLOOKUP(A762,'Mapa de Preços'!$A$16:$B$2988,2,0))","v":"Falta (U.M.)"},"","",null,{"$f":"VLOOKUP(A762,'Mapa de Preços'!$A$16:$J$2988,10,0)","v":"Falta Orçamento"},"",null,735,null,0]
[736,{"$f":"IF(VLOOKUP(A763,'Mapa de Preços'!$A$16:$B$2988,2,0)=FALSE,\"Falta (U.M.)\",VLOOKUP(A763,'Mapa de Preços'!$A$16:$B$2988,2,0))","v":"Falta (U.M.)"},"","",null,{"$f":"VLOOKUP(A763,'Mapa de Preços'!$A$16:$J$2988,10,0)","v":"Falta Orçamento"},"",null,736,null,0]
[737,{"$f":"IF(VLOOKUP(A764,'Mapa de Preços'!$A$16:$B$2988,2,0)=FALSE,\"Falta (U.M.)\",VLOOKUP(A764,'Mapa de Preços'!$A$16:$B$2988,2,0))","v":"Falta (U.M.)"},"","",null,{"$f":"VLOOKUP(A764,'Mapa de Preços'!$A$16:$J$2988,10,0)","v":"Falta Orçamento"},"",null,737,null,0]
[738,{"$f":"IF(VLOOKUP(A765,'Mapa de Preços'!$A$16:$B$2988,2,0)=FALSE,\"Falta (U.M.)\",VLOOKUP(A765,'Mapa de Preços'!$A$16:$B$2988,2,0))","v":"Falta (U.M.)"},"","",null,{"$f":"VLOOKUP(A765,'Mapa de Preços'!$A$16:$J$2988,10,0)","v":"Falta Orçamento"},"",null,738,null,0]
[739,{"$f":"IF(VLOOKUP(A766,'Mapa de Preços'!$A$16:$B$2988,2,0)=FALSE,\"Falta (U.M.)\",VLOOKUP(A766,'Mapa de Preços'!$A$16:$B$2988,2,0))","v":"Falta (U.M.)"},"","",null,{"$f":"VLOOKUP(A766,'Mapa de Preços'!$A$16:$J$2988,10,0)","v":"Falta Orçamento"},"",null,739,null,0]
[740,{"$f":"IF(VLOOKUP(A767,'Mapa de Preços'!$A$16:$B$2988,2,0)=FALSE,\"Falta (U.M.)\",VLOOKUP(A767,'Mapa de Preços'!$A$16:$B$2988,2,0))","v":"Falta (U.M.)"},"","",null,{"$f":"VLOOKUP(A767,'Mapa de Preços'!$A$16:$J$2988,10,0)","v":"Falta Orçamento"},"",null,740,null,0]
[741,{"$f":"IF(VLOOKUP(A768,'Mapa de Preços'!$A$16:$B$2988,2,0)=FALSE,\"Falta (U.M.)\",VLOOKUP(A768,'Mapa de Preços'!$A$16:$B$2988,2,0))","v":"Falta (U.M.)"},"","",null,{"$f":"VLOOKUP(A768,'Mapa de Preços'!$A$16:$J$2988,10,0)","v":"Falta Orçamento"},"",null,741,null,0]
[742,{"$f":"IF(VLOOKUP(A769,'Mapa de Preços'!$A$16:$B$2988,2,0)=FALSE,\"Falta (U.M.)\",VLOOKUP(A769,'Mapa de Preços'!$A$16:$B$2988,2,0))","v":"Falta (U.M.)"},"","",null,{"$f":"VLOOKUP(A769,'Mapa de Preços'!$A$16:$J$2988,10,0)","v":"Falta Orçamento"},"",null,742,null,0]
[743,{"$f":"IF(VLOOKUP(A770,'Mapa de Preços'!$A$16:$B$2988,2,0)=FALSE,\"Falta (U.M.)\",VLOOKUP(A770,'Mapa de Preços'!$A$16:$B$2988,2,0))","v":"Falta (U.M.)"},"","",null,{"$f":"VLOOKUP(A770,'Mapa de Preços'!$A$16:$J$2988,10,0)","v":"Falta Orçamento"},"",null,743,null,0]
[744,{"$f":"IF(VLOOKUP(A771,'Mapa de Preços'!$A$16:$B$2988,2,0)=FALSE,\"Falta (U.M.)\",VLOOKUP(A771,'Mapa de Preços'!$A$16:$B$2988,2,0))","v":"Falta (U.M.)"},"","",null,{"$f":"VLOOKUP(A771,'Mapa de Preços'!$A$16:$J$2988,10,0)","v":"Falta Orçamento"},"",null,744,null,0]
[745,{"$f":"IF(VLOOKUP(A772,'Mapa de Preços'!$A$16:$B$2988,2,0)=FALSE,\"Falta (U.M.)\",VLOOKUP(A772,'Mapa de Preços'!$A$16:$B$2988,2,0))","v":"Falta (U.M.)"},"","",null,{"$f":"VLOOKUP(A772,'Mapa de Preços'!$A$16:$J$2988,10,0)","v":"Falta Orçamento"},"",null,745,null,0]
[746,{"$f":"IF(VLOOKUP(A773,'Mapa de Preços'!$A$16:$B$2988,2,0)=FALSE,\"Falta (U.M.)\",VLOOKUP(A773,'Mapa de Preços'!$A$16:$B$2988,2,0))","v":"Falta (U.M.)"},"","",null,{"$f":"VLOOKUP(A773,'Mapa de Preços'!$A$16:$J$2988,10,0)","v":"Falta Orçamento"},"",null,746,null,0]
[747,{"$f":"IF(VLOOKUP(A774,'Mapa de Preços'!$A$16:$B$2988,2,0)=FALSE,\"Falta (U.M.)\",VLOOKUP(A774,'Mapa de Preços'!$A$16:$B$2988,2,0))","v":"Falta (U.M.)"},"","",null,{"$f":"VLOOKUP(A774,'Mapa de Preços'!$A$16:$J$2988,10,0)","v":"Falta Orçamento"},"",null,747,null,0]
[748,{"$f":"IF(VLOOKUP(A775,'Mapa de Preços'!$A$16:$B$2988,2,0)=FALSE,\"Falta (U.M.)\",VLOOKUP(A775,'Mapa de Preços'!$A$16:$B$2988,2,0))","v":"Falta (U.M.)"},"","",null,{"$f":"VLOOKUP(A775,'Mapa de Preços'!$A$16:$J$2988,10,0)","v":"Falta Orçamento"},"",null,748,null,0]
[749,{"$f":"IF(VLOOKUP(A776,'Mapa de Preços'!$A$16:$B$2988,2,0)=FALSE,\"Falta (U.M.)\",VLOOKUP(A776,'Mapa de Preços'!$A$16:$B$2988,2,0))","v":"Falta (U.M.)"},"","",null,{"$f":"VLOOKUP(A776,'Mapa de Preços'!$A$16:$J$2988,10,0)","v":"Falta Orçamento"},"",null,749,null,0]
[750,{"$f":"IF(VLOOKUP(A777,'Mapa de Preços'!$A$16:$B$2988,2,0)=FALSE,\"Falta (U.M.)\",VLOOKUP(A777,'Mapa de Preços'!$A$16:$B$2988,2,0))","v":"Falta (U.M.)"},"","",null,{"$f":"VLOOKUP(A777,'Mapa de Preços'!$A$16:$J$2988,10,0)","v":"Falta Orçamento"},"",null,750,null,0]
[751,{"$f":"IF(VLOOKUP(A778,'Mapa de Preços'!$A$16:$B$2988,2,0)=FALSE,\"Falta (U.M.)\",VLOOKUP(A778,'Mapa de Preços'!$A$16:$B$2988,2,0))","v":"Falta (U.M.)"},"","",null,{"$f":"VLOOKUP(A778,'Mapa de Preços'!$A$16:$J$2988,10,0)","v":"Falta Orçamento"},"",null,751,null,0]
[752,{"$f":"IF(VLOOKUP(A779,'Mapa de Preços'!$A$16:$B$2988,2,0)=FALSE,\"Falta (U.M.)\",VLOOKUP(A779,'Mapa de Preços'!$A$16:$B$2988,2,0))","v":"Falta (U.M.)"},"","",null,{"$f":"VLOOKUP(A779,'Mapa de Preços'!$A$16:$J$2988,10,0)","v":"Falta Orçamento"},"",null,752,null,0]
[753,{"$f":"IF(VLOOKUP(A780,'Mapa de Preços'!$A$16:$B$2988,2,0)=FALSE,\"Falta (U.M.)\",VLOOKUP(A780,'Mapa de Preços'!$A$16:$B$2988,2,0))","v":"UND"},"","",null,{"$f":"VLOOKUP(A780,'Mapa de Preços'!$A$16:$J$2988,10,0)","v":"Falta Orçamento"},"",null,753,null,0]
[754,{"$f":"IF(VLOOKUP(A781,'Mapa de Preços'!$A$16:$B$2988,2,0)=FALSE,\"Falta (U.M.)\",VLOOKUP(A781,'Mapa de Preços'!$A$16:$B$2988,2,0))","v":"UND"},"","",null,{"$f":"VLOOKUP(A781,'Mapa de Preços'!$A$16:$J$2988,10,0)","v":"Falta Orçamento"},"",null,754,null,0]
[755,{"$f":"IF(VLOOKUP(A782,'Mapa de Preços'!$A$16:$B$2988,2,0)=FALSE,\"Falta (U.M.)\",VLOOKUP(A782,'Mapa de Preços'!$A$16:$B$2988,2,0))","v":"CX C/100"},"","",null,{"$f":"VLOOKUP(A782,'Mapa de Preços'!$A$16:$J$2988,10,0)","v":"Falta Orçamento"},"",null,755,null,0]
[756,{"$f":"IF(VLOOKUP(A783,'Mapa de Preços'!$A$16:$B$2988,2,0)=FALSE,\"Falta (U.M.)\",VLOOKUP(A783,'Mapa de Preços'!$A$16:$B$2988,2,0))","v":"CX C/50"},"","",null,{"$f":"VLOOKUP(A783,'Mapa de Preços'!$A$16:$J$2988,10,0)","v":"Falta Orçamento"},"",null,756,null,0]
[757,{"$f":"IF(VLOOKUP(A784,'Mapa de Preços'!$A$16:$B$2988,2,0)=FALSE,\"Falta (U.M.)\",VLOOKUP(A784,'Mapa de Preços'!$A$16:$B$2988,2,0))","v":"CX C/100"},"","",null,{"$f":"VLOOKUP(A784,'Mapa de Preços'!$A$16:$J$2988,10,0)","v":"Falta Orçamento"},"",null,757,null,0]
[758,{"$f":"IF(VLOOKUP(A785,'Mapa de Preços'!$A$16:$B$2988,2,0)=FALSE,\"Falta (U.M.)\",VLOOKUP(A785,'Mapa de Preços'!$A$16:$B$2988,2,0))","v":"CX"},"","",null,{"$f":"VLOOKUP(A785,'Mapa de Preços'!$A$16:$J$2988,10,0)","v":"Falta Orçamento"},"",null,758,null,0]
[759,{"$f":"IF(VLOOKUP(A786,'Mapa de Preços'!$A$16:$B$2988,2,0)=FALSE,\"Falta (U.M.)\",VLOOKUP(A786,'Mapa de Preços'!$A$16:$B$2988,2,0))","v":"Falta (U.M.)"},"","",null,{"$f":"VLOOKUP(A786,'Mapa de Preços'!$A$16:$J$2988,10,0)","v":"Falta Orçamento"},"",null,759,null,0]
[760,{"$f":"IF(VLOOKUP(A787,'Mapa de Preços'!$A$16:$B$2988,2,0)=FALSE,\"Falta (U.M.)\",VLOOKUP(A787,'Mapa de Preços'!$A$16:$B$2988,2,0))","v":"Falta (U.M.)"},"","",null,{"$f":"VLOOKUP(A787,'Mapa de Preços'!$A$16:$J$2988,10,0)","v":"Falta Orçamento"},"",null,760,null,0]
[761,{"$f":"IF(VLOOKUP(A788,'Mapa de Preços'!$A$16:$B$2988,2,0)=FALSE,\"Falta (U.M.)\",VLOOKUP(A788,'Mapa de Preços'!$A$16:$B$2988,2,0))","v":"Falta (U.M.)"},"","",null,{"$f":"VLOOKUP(A788,'Mapa de Preços'!$A$16:$J$2988,10,0)","v":"Falta Orçamento"},"",null,761,null,0]
[762,{"$f":"IF(VLOOKUP(A789,'Mapa de Preços'!$A$16:$B$2988,2,0)=FALSE,\"Falta (U.M.)\",VLOOKUP(A789,'Mapa de Preços'!$A$16:$B$2988,2,0))","v":"Falta (U.M.)"},"","",null,{"$f":"VLOOKUP(A789,'Mapa de Preços'!$A$16:$J$2988,10,0)","v":"Falta Orçamento"},"",null,762,null,0]
[763,{"$f":"IF(VLOOKUP(A790,'Mapa de Preços'!$A$16:$B$2988,2,0)=FALSE,\"Falta (U.M.)\",VLOOKUP(A790,'Mapa de Preços'!$A$16:$B$2988,2,0))","v":"Falta (U.M.)"},"","",null,{"$f":"VLOOKUP(A790,'Mapa de Preços'!$A$16:$J$2988,10,0)","v":"Falta Orçamento"},"",null,763,null,0]
[764,{"$f":"IF(VLOOKUP(A791,'Mapa de Preços'!$A$16:$B$2988,2,0)=FALSE,\"Falta (U.M.)\",VLOOKUP(A791,'Mapa de Preços'!$A$16:$B$2988,2,0))","v":"Falta (U.M.)"},"","",null,{"$f":"VLOOKUP(A791,'Mapa de Preços'!$A$16:$J$2988,10,0)","v":"Falta Orçamento"},"",null,764,null,0]
[765,{"$f":"IF(VLOOKUP(A792,'Mapa de Preços'!$A$16:$B$2988,2,0)=FALSE,\"Falta (U.M.)\",VLOOKUP(A792,'Mapa de Preços'!$A$16:$B$2988,2,0))","v":"Falta (U.M.)"},"","",null,{"$f":"VLOOKUP(A792,'Mapa de Preços'!$A$16:$J$2988,10,0)","v":"Falta Orçamento"},"",null,765,null,0]
[766,{"$f":"IF(VLOOKUP(A793,'Mapa de Preços'!$A$16:$B$2988,2,0)=FALSE,\"Falta (U.M.)\",VLOOKUP(A793,'Mapa de Preços'!$A$16:$B$2988,2,0))","v":"Falta (U.M.)"},"","",null,{"$f":"VLOOKUP(A793,'Mapa de Preços'!$A$16:$J$2988,10,0)","v":"Falta Orçamento"},"",null,766,null,0]
[767,{"$f":"IF(VLOOKUP(A794,'Mapa de Preços'!$A$16:$B$2988,2,0)=FALSE,\"Falta (U.M.)\",VLOOKUP(A794,'Mapa de Preços'!$A$16:$B$2988,2,0))","v":"Unid."},"","",null,{"$f":"VLOOKUP(A794,'Mapa de Preços'!$A$16:$J$2988,10,0)","v":"Falta Orçamento"},"",null,767,null,0]
[768,{"$f":"IF(VLOOKUP(A795,'Mapa de Preços'!$A$16:$B$2988,2,0)=FALSE,\"Falta (U.M.)\",VLOOKUP(A795,'Mapa de Preços'!$A$16:$B$2988,2,0))","v":"Unid."},"","",null,{"$f":"VLOOKUP(A795,'Mapa de Preços'!$A$16:$J$2988,10,0)","v":"Falta Orçamento"},"",null,768,null,0]
[769,{"$f":"IF(VLOOKUP(A796,'Mapa de Preços'!$A$16:$B$2988,2,0)=FALSE,\"Falta (U.M.)\",VLOOKUP(A796,'Mapa de Preços'!$A$16:$B$2988,2,0))","v":"Unid."},"","",null,{"$f":"VLOOKUP(A796,'Mapa de Preços'!$A$16:$J$2988,10,0)","v":"Falta Orçamento"},"",null,769,null,{"$f":"SUM(L796:AI796)","v":0}]
[770,{"$f":"IF(VLOOKUP(A797,'Mapa de Preços'!$A$16:$B$2988,2,0)=FALSE,\"Falta (U.M.)\",VLOOKUP(A797,'Mapa de Preços'!$A$16:$B$2988,2,0))","v":"Unid."},{"$f":"IF(J797<>\"\",J797,\"\")","v":""},{"$f":"IF(VLOOKUP(A797,$I$28:$AI$3000,$G$26,FALSE)<>\"\",VLOOKUP(A797,$I$28:$AI$3000,$G$26,FALSE),\"\")","v":""},null,{"$f":"VLOOKUP(A797,'Mapa de Preços'!$A$16:$J$2988,10,0)","v":"Falta Orçamento"},{"$f":"IF(F797=\"Falta Orçamento\",\"\",F797*D797)","v":""},null,770,null,0]
[771,{"$f":"IF(VLOOKUP(A798,'Mapa de Preços'!$A$16:$B$2988,2,0)=FALSE,\"Falta (U.M.)\",VLOOKUP(A798,'Mapa de Preços'!$A$16:$B$2988,2,0))","v":"Unid."},"","",null,{"$f":"VLOOKUP(A798,'Mapa de Preços'!$A$16:$J$2988,10,0)","v":"Falta Orçamento"},"",null,771,null,0]
[772,{"$f":"IF(VLOOKUP(A799,'Mapa de Preços'!$A$16:$B$2988,2,0)=FALSE,\"Falta (U.M.)\",VLOOKUP(A799,'Mapa de Preços'!$A$16:$B$2988,2,0))","v":"Falta (U.M.)"},"","",null,{"$f":"VLOOKUP(A799,'Mapa de Preços'!$A$16:$J$2988,10,0)","v":"Falta Orçamento"},"",null,772,null,0]
[773,{"$f":"IF(VLOOKUP(A800,'Mapa de Preços'!$A$16:$B$2988,2,0)=FALSE,\"Falta (U.M.)\",VLOOKUP(A800,'Mapa de Preços'!$A$16:$B$2988,2,0))","v":"Falta (U.M.)"},"","",null,{"$f":"VLOOKUP(A800,'Mapa de Preços'!$A$16:$J$2988,10,0)","v":"Falta Orçamento"},"",null,773,null,0]
[774,{"$f":"IF(VLOOKUP(A801,'Mapa de Preços'!$A$16:$B$2988,2,0)=FALSE,\"Falta (U.M.)\",VLOOKUP(A801,'Mapa de Preços'!$A$16:$B$2988,2,0))","v":"Falta (U.M.)"},"","",null,{"$f":"VLOOKUP(A801,'Mapa de Preços'!$A$16:$J$2988,10,0)","v":"Falta Orçamento"},"",null,774,null,0]
[775,{"$f":"IF(VLOOKUP(A802,'Mapa de Preços'!$A$16:$B$2988,2,0)=FALSE,\"Falta (U.M.)\",VLOOKUP(A802,'Mapa de Preços'!$A$16:$B$2988,2,0))","v":"Falta (U.M.)"},"","",null,{"$f":"VLOOKUP(A802,'Mapa de Preços'!$A$16:$J$2988,10,0)","v":"Falta Orçamento"},"",null,775,null,0]
[776,{"$f":"IF(VLOOKUP(A803,'Mapa de Preços'!$A$16:$B$2988,2,0)=FALSE,\"Falta (U.M.)\",VLOOKUP(A803,'Mapa de Preços'!$A$16:$B$2988,2,0))","v":"Falta (U.M.)"},"","",null,{"$f":"VLOOKUP(A803,'Mapa de Preços'!$A$16:$J$2988,10,0)","v":"Falta Orçamento"},"",null,776,null,0]
[777,{"$f":"IF(VLOOKUP(A804,'Mapa de Preços'!$A$16:$B$2988,2,0)=FALSE,\"Falta (U.M.)\",VLOOKUP(A804,'Mapa de Preços'!$A$16:$B$2988,2,0))","v":"Falta (U.M.)"},"","",null,{"$f":"VLOOKUP(A804,'Mapa de Preços'!$A$16:$J$2988,10,0)","v":"Falta Orçamento"},"",null,777,null,0]
[778,{"$f":"IF(VLOOKUP(A805,'Mapa de Preços'!$A$16:$B$2988,2,0)=FALSE,\"Falta (U.M.)\",VLOOKUP(A805,'Mapa de Preços'!$A$16:$B$2988,2,0))","v":"Falta (U.M.)"},"","",null,{"$f":"VLOOKUP(A805,'Mapa de Preços'!$A$16:$J$2988,10,0)","v":"Falta Orçamento"},"",null,778,null,0]
[779,{"$f":"IF(VLOOKUP(A806,'Mapa de Preços'!$A$16:$B$2988,2,0)=FALSE,\"Falta (U.M.)\",VLOOKUP(A806,'Mapa de Preços'!$A$16:$B$2988,2,0))","v":"Falta (U.M.)"},"","",null,{"$f":"VLOOKUP(A806,'Mapa de Preços'!$A$16:$J$2988,10,0)","v":"Falta Orçamento"},"",null,779,null,0]
[780,{"$f":"IF(VLOOKUP(A807,'Mapa de Preços'!$A$16:$B$2988,2,0)=FALSE,\"Falta (U.M.)\",VLOOKUP(A807,'Mapa de Preços'!$A$16:$B$2988,2,0))","v":"Falta (U.M.)"},"","",null,{"$f":"VLOOKUP(A807,'Mapa de Preços'!$A$16:$J$2988,10,0)","v":"Falta Orçamento"},"",null,780,null,0]
[781,{"$f":"IF(VLOOKUP(A808,'Mapa de Preços'!$A$16:$B$2988,2,0)=FALSE,\"Falta (U.M.)\",VLOOKUP(A808,'Mapa de Preços'!$A$16:$B$2988,2,0))","v":"Falta (U.M.)"},"","",null,{"$f":"VLOOKUP(A808,'Mapa de Preços'!$A$16:$J$2988,10,0)","v":"Falta Orçamento"},"",null,781,null,0]
[782,{"$f":"IF(VLOOKUP(A809,'Mapa de Preços'!$A$16:$B$2988,2,0)=FALSE,\"Falta (U.M.)\",VLOOKUP(A809,'Mapa de Preços'!$A$16:$B$2988,2,0))","v":"Falta (U.M.)"},"","",null,{"$f":"VLOOKUP(A809,'Mapa de Preços'!$A$16:$J$2988,10,0)","v":"Falta Orçamento"},"",null,782,null,0]
[783,{"$f":"IF(VLOOKUP(A810,'Mapa de Preços'!$A$16:$B$2988,2,0)=FALSE,\"Falta (U.M.)\",VLOOKUP(A810,'Mapa de Preços'!$A$16:$B$2988,2,0))","v":"Falta (U.M.)"},"","",null,{"$f":"VLOOKUP(A810,'Mapa de Preços'!$A$16:$J$2988,10,0)","v":"Falta Orçamento"},"",null,783,null,0]
[784,{"$f":"IF(VLOOKUP(A811,'Mapa de Preços'!$A$16:$B$2988,2,0)=FALSE,\"Falta (U.M.)\",VLOOKUP(A811,'Mapa de Preços'!$A$16:$B$2988,2,0))","v":"Falta (U.M.)"},"","",null,{"$f":"VLOOKUP(A811,'Mapa de Preços'!$A$16:$J$2988,10,0)","v":"Falta Orçamento"},"",null,784,null,0]
[785,{"$f":"IF(VLOOKUP(A812,'Mapa de Preços'!$A$16:$B$2988,2,0)=FALSE,\"Falta (U.M.)\",VLOOKUP(A812,'Mapa de Preços'!$A$16:$B$2988,2,0))","v":"Falta (U.M.)"},"","",null,{"$f":"VLOOKUP(A812,'Mapa de Preços'!$A$16:$J$2988,10,0)","v":"Falta Orçamento"},"",null,785,null,0]
[786,{"$f":"IF(VLOOKUP(A813,'Mapa de Preços'!$A$16:$B$2988,2,0)=FALSE,\"Falta (U.M.)\",VLOOKUP(A813,'Mapa de Preços'!$A$16:$B$2988,2,0))","v":"Falta (U.M.)"},"","",null,{"$f":"VLOOKUP(A813,'Mapa de Preços'!$A$16:$J$2988,10,0)","v":"Falta Orçamento"},"",null,786,null,0]
[787,{"$f":"IF(VLOOKUP(A814,'Mapa de Preços'!$A$16:$B$2988,2,0)=FALSE,\"Falta (U.M.)\",VLOOKUP(A814,'Mapa de Preços'!$A$16:$B$2988,2,0))","v":"Falta (U.M.)"},"","",null,{"$f":"VLOOKUP(A814,'Mapa de Preços'!$A$16:$J$2988,10,0)","v":"Falta Orçamento"},"",null,787,null,0]
[788,{"$f":"IF(VLOOKUP(A815,'Mapa de Preços'!$A$16:$B$2988,2,0)=FALSE,\"Falta (U.M.)\",VLOOKUP(A815,'Mapa de Preços'!$A$16:$B$2988,2,0))","v":"Falta (U.M.)"},"","",null,{"$f":"VLOOKUP(A815,'Mapa de Preços'!$A$16:$J$2988,10,0)","v":"Falta Orçamento"},"",null,788,null,0]
[789,{"$f":"IF(VLOOKUP(A816,'Mapa de Preços'!$A$16:$B$2988,2,0)=FALSE,\"Falta (U.M.)\",VLOOKUP(A816,'Mapa de Preços'!$A$16:$B$2988,2,0))","v":"Falta (U.M.)"},"","",null,{"$f":"VLOOKUP(A816,'Mapa de Preços'!$A$16:$J$2988,10,0)","v":"Falta Orçamento"},"",null,789,null,0]
[790,{"$f":"IF(VLOOKUP(A817,'Mapa de Preços'!$A$16:$B$2988,2,0)=FALSE,\"Falta (U.M.)\",VLOOKUP(A817,'Mapa de Preços'!$A$16:$B$2988,2,0))","v":"Falta (U.M.)"},"","",null,{"$f":"VLOOKUP(A817,'Mapa de Preços'!$A$16:$J$2988,10,0)","v":"Falta Orçamento"},"",null,790,null,0]
[791,{"$f":"IF(VLOOKUP(A818,'Mapa de Preços'!$A$16:$B$2988,2,0)=FALSE,\"Falta (U.M.)\",VLOOKUP(A818,'Mapa de Preços'!$A$16:$B$2988,2,0))","v":"Falta (U.M.)"},"","",null,{"$f":"VLOOKUP(A818,'Mapa de Preços'!$A$16:$J$2988,10,0)","v":"Falta Orçamento"},"",null,791,null,0]
[792,{"$f":"IF(VLOOKUP(A819,'Mapa de Preços'!$A$16:$B$2988,2,0)=FALSE,\"Falta (U.M.)\",VLOOKUP(A819,'Mapa de Preços'!$A$16:$B$2988,2,0))","v":"Falta (U.M.)"},"","",null,{"$f":"VLOOKUP(A819,'Mapa de Preços'!$A$16:$J$2988,10,0)","v":"Falta Orçamento"},"",null,792,null,0]
[793,{"$f":"IF(VLOOKUP(A820,'Mapa de Preços'!$A$16:$B$2988,2,0)=FALSE,\"Falta (U.M.)\",VLOOKUP(A820,'Mapa de Preços'!$A$16:$B$2988,2,0))","v":"Falta (U.M.)"},"","",null,{"$f":"VLOOKUP(A820,'Mapa de Preços'!$A$16:$J$2988,10,0)","v":"Falta Orçamento"},"",null,793,null,0]
[794,{"$f":"IF(VLOOKUP(A821,'Mapa de Preços'!$A$16:$B$2988,2,0)=FALSE,\"Falta (U.M.)\",VLOOKUP(A821,'Mapa de Preços'!$A$16:$B$2988,2,0))","v":"Falta (U.M.)"},"","",null,{"$f":"VLOOKUP(A821,'Mapa de Preços'!$A$16:$J$2988,10,0)","v":"Falta Orçamento"},"",null,794,null,0]
[795,{"$f":"IF(VLOOKUP(A822,'Mapa de Preços'!$A$16:$B$2988,2,0)=FALSE,\"Falta (U.M.)\",VLOOKUP(A822,'Mapa de Preços'!$A$16:$B$2988,2,0))","v":"Falta (U.M.)"},"","",null,{"$f":"VLOOKUP(A822,'Mapa de Preços'!$A$16:$J$2988,10,0)","v":"Falta Orçamento"},"",null,795,null,0]
[796,{"$f":"IF(VLOOKUP(A823,'Mapa de Preços'!$A$16:$B$2988,2,0)=FALSE,\"Falta (U.M.)\",VLOOKUP(A823,'Mapa de Preços'!$A$16:$B$2988,2,0))","v":"Falta (U.M.)"},"","",null,{"$f":"VLOOKUP(A823,'Mapa de Preços'!$A$16:$J$2988,10,0)","v":"Falta Orçamento"},"",null,796,null,0]
[797,{"$f":"IF(VLOOKUP(A824,'Mapa de Preços'!$A$16:$B$2988,2,0)=FALSE,\"Falta (U.M.)\",VLOOKUP(A824,'Mapa de Preços'!$A$16:$B$2988,2,0))","v":"Falta (U.M.)"},"","",null,{"$f":"VLOOKUP(A824,'Mapa de Preços'!$A$16:$J$2988,10,0)","v":"Falta Orçamento"},"",null,797,null,0]
[798,{"$f":"IF(VLOOKUP(A825,'Mapa de Preços'!$A$16:$B$2988,2,0)=FALSE,\"Falta (U.M.)\",VLOOKUP(A825,'Mapa de Preços'!$A$16:$B$2988,2,0))","v":"Falta (U.M.)"},"","",null,{"$f":"VLOOKUP(A825,'Mapa de Preços'!$A$16:$J$2988,10,0)","v":"Falta Orçamento"},"",null,798,null,0]
[799,{"$f":"IF(VLOOKUP(A826,'Mapa de Preços'!$A$16:$B$2988,2,0)=FALSE,\"Falta (U.M.)\",VLOOKUP(A826,'Mapa de Preços'!$A$16:$B$2988,2,0))","v":"Falta (U.M.)"},"","",null,{"$f":"VLOOKUP(A826,'Mapa de Preços'!$A$16:$J$2988,10,0)","v":"Falta Orçamento"},"",null,799,null,0]
[800,{"$f":"IF(VLOOKUP(A827,'Mapa de Preços'!$A$16:$B$2988,2,0)=FALSE,\"Falta (U.M.)\",VLOOKUP(A827,'Mapa de Preços'!$A$16:$B$2988,2,0))","v":"Falta (U.M.)"},"","",null,{"$f":"VLOOKUP(A827,'Mapa de Preços'!$A$16:$J$2988,10,0)","v":"Falta Orçamento"},"",null,800,null,0]
[801,{"$f":"IF(VLOOKUP(A828,'Mapa de Preços'!$A$16:$B$2988,2,0)=FALSE,\"Falta (U.M.)\",VLOOKUP(A828,'Mapa de Preços'!$A$16:$B$2988,2,0))","v":"Falta (U.M.)"},"","",null,{"$f":"VLOOKUP(A828,'Mapa de Preços'!$A$16:$J$2988,10,0)","v":"Falta Orçamento"},"",null,801,null,0]
[802,{"$f":"IF(VLOOKUP(A829,'Mapa de Preços'!$A$16:$B$2988,2,0)=FALSE,\"Falta (U.M.)\",VLOOKUP(A829,'Mapa de Preços'!$A$16:$B$2988,2,0))","v":"Falta (U.M.)"},"","",null,{"$f":"VLOOKUP(A829,'Mapa de Preços'!$A$16:$J$2988,10,0)","v":"Falta Orçamento"},"",null,802,null,0]
[803,{"$f":"IF(VLOOKUP(A830,'Mapa de Preços'!$A$16:$B$2988,2,0)=FALSE,\"Falta (U.M.)\",VLOOKUP(A830,'Mapa de Preços'!$A$16:$B$2988,2,0))","v":"Falta (U.M.)"},"","",null,{"$f":"VLOOKUP(A830,'Mapa de Preços'!$A$16:$J$2988,10,0)","v":"Falta Orçamento"},"",null,803,null,0]
[804,{"$f":"IF(VLOOKUP(A831,'Mapa de Preços'!$A$16:$B$2988,2,0)=FALSE,\"Falta (U.M.)\",VLOOKUP(A831,'Mapa de Preços'!$A$16:$B$2988,2,0))","v":"Falta (U.M.)"},"","",null,{"$f":"VLOOKUP(A831,'Mapa de Preços'!$A$16:$J$2988,10,0)","v":"Falta Orçamento"},"",null,804,null,0]
[805,{"$f":"IF(VLOOKUP(A832,'Mapa de Preços'!$A$16:$B$2988,2,0)=FALSE,\"Falta (U.M.)\",VLOOKUP(A832,'Mapa de Preços'!$A$16:$B$2988,2,0))","v":"Falta (U.M.)"},"","",null,{"$f":"VLOOKUP(A832,'Mapa de Preços'!$A$16:$J$2988,10,0)","v":"Falta Orçamento"},"",null,805,null,0]
[806,{"$f":"IF(VLOOKUP(A833,'Mapa de Preços'!$A$16:$B$2988,2,0)=FALSE,\"Falta (U.M.)\",VLOOKUP(A833,'Mapa de Preços'!$A$16:$B$2988,2,0))","v":"Falta (U.M.)"},"","",null,{"$f":"VLOOKUP(A833,'Mapa de Preços'!$A$16:$J$2988,10,0)","v":"Falta Orçamento"},"",null,806,null,0]
[807,{"$f":"IF(VLOOKUP(A834,'Mapa de Preços'!$A$16:$B$2988,2,0)=FALSE,\"Falta (U.M.)\",VLOOKUP(A834,'Mapa de Preços'!$A$16:$B$2988,2,0))","v":"Falta (U.M.)"},"","",null,{"$f":"VLOOKUP(A834,'Mapa de Preços'!$A$16:$J$2988,10,0)","v":"Falta Orçamento"},"",null,807,null,0]
[808,{"$f":"IF(VLOOKUP(A835,'Mapa de Preços'!$A$16:$B$2988,2,0)=FALSE,\"Falta (U.M.)\",VLOOKUP(A835,'Mapa de Preços'!$A$16:$B$2988,2,0))","v":"Falta (U.M.)"},"","",null,{"$f":"VLOOKUP(A835,'Mapa de Preços'!$A$16:$J$2988,10,0)","v":"Falta Orçamento"},"",null,808,null,0]
[809,{"$f":"IF(VLOOKUP(A836,'Mapa de Preços'!$A$16:$B$2988,2,0)=FALSE,\"Falta (U.M.)\",VLOOKUP(A836,'Mapa de Preços'!$A$16:$B$2988,2,0))","v":"Falta (U.M.)"},"","",null,{"$f":"VLOOKUP(A836,'Mapa de Preços'!$A$16:$J$2988,10,0)","v":"Falta Orçamento"},"",null,809,null,0]
[810,{"$f":"IF(VLOOKUP(A837,'Mapa de Preços'!$A$16:$B$2988,2,0)=FALSE,\"Falta (U.M.)\",VLOOKUP(A837,'Mapa de Preços'!$A$16:$B$2988,2,0))","v":"Falta (U.M.)"},"","",null,{"$f":"VLOOKUP(A837,'Mapa de Preços'!$A$16:$J$2988,10,0)","v":"Falta Orçamento"},"",null,810,null,0]
[811,{"$f":"IF(VLOOKUP(A838,'Mapa de Preços'!$A$16:$B$2988,2,0)=FALSE,\"Falta (U.M.)\",VLOOKUP(A838,'Mapa de Preços'!$A$16:$B$2988,2,0))","v":"Falta (U.M.)"},"","",null,{"$f":"VLOOKUP(A838,'Mapa de Preços'!$A$16:$J$2988,10,0)","v":"Falta Orçamento"},"",null,811,null,0]
[812,{"$f":"IF(VLOOKUP(A839,'Mapa de Preços'!$A$16:$B$2988,2,0)=FALSE,\"Falta (U.M.)\",VLOOKUP(A839,'Mapa de Preços'!$A$16:$B$2988,2,0))","v":"Falta (U.M.)"},"","",null,{"$f":"VLOOKUP(A839,'Mapa de Preços'!$A$16:$J$2988,10,0)","v":"Falta Orçamento"},"",null,812,null,0]
[813,{"$f":"IF(VLOOKUP(A840,'Mapa de Preços'!$A$16:$B$2988,2,0)=FALSE,\"Falta (U.M.)\",VLOOKUP(A840,'Mapa de Preços'!$A$16:$B$2988,2,0))","v":"Falta (U.M.)"},"","",null,{"$f":"VLOOKUP(A840,'Mapa de Preços'!$A$16:$J$2988,10,0)","v":"Falta Orçamento"},"",null,813,null,0]
[814,{"$f":"IF(VLOOKUP(A841,'Mapa de Preços'!$A$16:$B$2988,2,0)=FALSE,\"Falta (U.M.)\",VLOOKUP(A841,'Mapa de Preços'!$A$16:$B$2988,2,0))","v":"Falta (U.M.)"},"","",null,{"$f":"VLOOKUP(A841,'Mapa de Preços'!$A$16:$J$2988,10,0)","v":"Falta Orçamento"},"",null,814,null,0]
[815,{"$f":"IF(VLOOKUP(A842,'Mapa de Preços'!$A$16:$B$2988,2,0)=FALSE,\"Falta (U.M.)\",VLOOKUP(A842,'Mapa de Preços'!$A$16:$B$2988,2,0))","v":"Falta (U.M.)"},"","",null,{"$f":"VLOOKUP(A842,'Mapa de Preços'!$A$16:$J$2988,10,0)","v":"Falta Orçamento"},"",null,815,null,0]
[816,{"$f":"IF(VLOOKUP(A843,'Mapa de Preços'!$A$16:$B$2988,2,0)=FALSE,\"Falta (U.M.)\",VLOOKUP(A843,'Mapa de Preços'!$A$16:$B$2988,2,0))","v":"Falta (U.M.)"},"","",null,{"$f":"VLOOKUP(A843,'Mapa de Preços'!$A$16:$J$2988,10,0)","v":"Falta Orçamento"},"",null,816,null,0]
[817,{"$f":"IF(VLOOKUP(A844,'Mapa de Preços'!$A$16:$B$2988,2,0)=FALSE,\"Falta (U.M.)\",VLOOKUP(A844,'Mapa de Preços'!$A$16:$B$2988,2,0))","v":"Falta (U.M.)"},"","",null,{"$f":"VLOOKUP(A844,'Mapa de Preços'!$A$16:$J$2988,10,0)","v":"Falta Orçamento"},"",null,817,null,0]
[818,{"$f":"IF(VLOOKUP(A845,'Mapa de Preços'!$A$16:$B$2988,2,0)=FALSE,\"Falta (U.M.)\",VLOOKUP(A845,'Mapa de Preços'!$A$16:$B$2988,2,0))","v":"Falta (U.M.)"},"","",null,{"$f":"VLOOKUP(A845,'Mapa de Preços'!$A$16:$J$2988,10,0)","v":"Falta Orçamento"},"",null,818,null,0]
[819,{"$f":"IF(VLOOKUP(A846,'Mapa de Preços'!$A$16:$B$2988,2,0)=FALSE,\"Falta (U.M.)\",VLOOKUP(A846,'Mapa de Preços'!$A$16:$B$2988,2,0))","v":"Falta (U.M.)"},"","",null,{"$f":"VLOOKUP(A846,'Mapa de Preços'!$A$16:$J$2988,10,0)","v":"Falta Orçamento"},"",null,819,null,0]
[820,{"$f":"IF(VLOOKUP(A847,'Mapa de Preços'!$A$16:$B$2988,2,0)=FALSE,\"Falta (U.M.)\",VLOOKUP(A847,'Mapa de Preços'!$A$16:$B$2988,2,0))","v":"Falta (U.M.)"},"","",null,{"$f":"VLOOKUP(A847,'Mapa de Preços'!$A$16:$J$2988,10,0)","v":"Falta Orçamento"},"",null,820,null,0]
[821,{"$f":"IF(VLOOKUP(A848,'Mapa de Preços'!$A$16:$B$2988,2,0)=FALSE,\"Falta (U.M.)\",VLOOKUP(A848,'Mapa de Preços'!$A$16:$B$2988,2,0))","v":"Falta (U.M.)"},"","",null,{"$f":"VLOOKUP(A848,'Mapa de Preços'!$A$16:$J$2988,10,0)","v":"Falta Orçamento"},"",null,821,null,0]
[822,{"$f":"IF(VLOOKUP(A849,'Mapa de Preços'!$A$16:$B$2988,2,0)=FALSE,\"Falta (U.M.)\",VLOOKUP(A849,'Mapa de Preços'!$A$16:$B$2988,2,0))","v":"Falta (U.M.)"},"","",null,{"$f":"VLOOKUP(A849,'Mapa de Preços'!$A$16:$J$2988,10,0)","v":"Falta Orçamento"},"",null,822,null,0]
[823,{"$f":"IF(VLOOKUP(A850,'Mapa de Preços'!$A$16:$B$2988,2,0)=FALSE,\"Falta (U.M.)\",VLOOKUP(A850,'Mapa de Preços'!$A$16:$B$2988,2,0))","v":"Falta (U.M.)"},"","",null,{"$f":"VLOOKUP(A850,'Mapa de Preços'!$A$16:$J$2988,10,0)","v":"Falta Orçamento"},"",null,823,null,0]
[824,{"$f":"IF(VLOOKUP(A851,'Mapa de Preços'!$A$16:$B$2988,2,0)=FALSE,\"Falta (U.M.)\",VLOOKUP(A851,'Mapa de Preços'!$A$16:$B$2988,2,0))","v":"Falta (U.M.)"},"","",null,{"$f":"VLOOKUP(A851,'Mapa de Preços'!$A$16:$J$2988,10,0)","v":"Falta Orçamento"},"",null,824,null,0]
[825,{"$f":"IF(VLOOKUP(A852,'Mapa de Preços'!$A$16:$B$2988,2,0)=FALSE,\"Falta (U.M.)\",VLOOKUP(A852,'Mapa de Preços'!$A$16:$B$2988,2,0))","v":"Falta (U.M.)"},"","",null,{"$f":"VLOOKUP(A852,'Mapa de Preços'!$A$16:$J$2988,10,0)","v":"Falta Orçamento"},"",null,825,null,0]
[826,{"$f":"IF(VLOOKUP(A853,'Mapa de Preços'!$A$16:$B$2988,2,0)=FALSE,\"Falta (U.M.)\",VLOOKUP(A853,'Mapa de Preços'!$A$16:$B$2988,2,0))","v":"Falta (U.M.)"},"","",null,{"$f":"VLOOKUP(A853,'Mapa de Preços'!$A$16:$J$2988,10,0)","v":"Falta Orçamento"},"",null,826,null,0]
[827,{"$f":"IF(VLOOKUP(A854,'Mapa de Preços'!$A$16:$B$2988,2,0)=FALSE,\"Falta (U.M.)\",VLOOKUP(A854,'Mapa de Preços'!$A$16:$B$2988,2,0))","v":"Falta (U.M.)"},"","",null,{"$f":"VLOOKUP(A854,'Mapa de Preços'!$A$16:$J$2988,10,0)","v":"Falta Orçamento"},"",null,827,null,0]
[828,{"$f":"IF(VLOOKUP(A855,'Mapa de Preços'!$A$16:$B$2988,2,0)=FALSE,\"Falta (U.M.)\",VLOOKUP(A855,'Mapa de Preços'!$A$16:$B$2988,2,0))","v":"Falta (U.M.)"},"","",null,{"$f":"VLOOKUP(A855,'Mapa de Preços'!$A$16:$J$2988,10,0)","v":"Falta Orçamento"},"",null,828,null,0]
[829,{"$f":"IF(VLOOKUP(A856,'Mapa de Preços'!$A$16:$B$2988,2,0)=FALSE,\"Falta (U.M.)\",VLOOKUP(A856,'Mapa de Preços'!$A$16:$B$2988,2,0))","v":"Falta (U.M.)"},"","",null,{"$f":"VLOOKUP(A856,'Mapa de Preços'!$A$16:$J$2988,10,0)","v":"Falta Orçamento"},"",null,829,null,0]
[830,{"$f":"IF(VLOOKUP(A857,'Mapa de Preços'!$A$16:$B$2988,2,0)=FALSE,\"Falta (U.M.)\",VLOOKUP(A857,'Mapa de Preços'!$A$16:$B$2988,2,0))","v":"Falta (U.M.)"},"","",null,{"$f":"VLOOKUP(A857,'Mapa de Preços'!$A$16:$J$2988,10,0)","v":"Falta Orçamento"},"",null,830,null,0]
[831,{"$f":"IF(VLOOKUP(A858,'Mapa de Preços'!$A$16:$B$2988,2,0)=FALSE,\"Falta (U.M.)\",VLOOKUP(A858,'Mapa de Preços'!$A$16:$B$2988,2,0))","v":"Falta (U.M.)"},"","",null,{"$f":"VLOOKUP(A858,'Mapa de Preços'!$A$16:$J$2988,10,0)","v":"Falta Orçamento"},"",null,831,null,0]
[832,{"$f":"IF(VLOOKUP(A859,'Mapa de Preços'!$A$16:$B$2988,2,0)=FALSE,\"Falta (U.M.)\",VLOOKUP(A859,'Mapa de Preços'!$A$16:$B$2988,2,0))","v":"Falta (U.M.)"},"","",null,{"$f":"VLOOKUP(A859,'Mapa de Preços'!$A$16:$J$2988,10,0)","v":"Falta Orçamento"},"",null,832,null,0]
[833,{"$f":"IF(VLOOKUP(A860,'Mapa de Preços'!$A$16:$B$2988,2,0)=FALSE,\"Falta (U.M.)\",VLOOKUP(A860,'Mapa de Preços'!$A$16:$B$2988,2,0))","v":"Falta (U.M.)"},"","",null,{"$f":"VLOOKUP(A860,'Mapa de Preços'!$A$16:$J$2988,10,0)","v":"Falta Orçamento"},"",null,833,null,{"$f":"SUM(L860:AI860)","v":0}]
[834,{"$f":"IF(VLOOKUP(A861,'Mapa de Preços'!$A$16:$B$2988,2,0)=FALSE,\"Falta (U.M.)\",VLOOKUP(A861,'Mapa de Preços'!$A$16:$B$2988,2,0))","v":"Falta (U.M.)"},{"$f":"IF(J861<>\"\",J861,\"\")","v":""},{"$f":"IF(VLOOKUP(A861,$I$28:$AI$3000,$G$26,FALSE)<>\"\",VLOOKUP(A861,$I$28:$AI$3000,$G$26,FALSE),\"\")","v":""},null,{"$f":"VLOOKUP(A861,'Mapa de Preços'!$A$16:$J$2988,10,0)","v":"Falta Orçamento"},{"$f":"IF(F861=\"Falta Orçamento\",\"\",F861*D861)","v":""},null,834,null,0]
[835,{"$f":"IF(VLOOKUP(A862,'Mapa de Preços'!$A$16:$B$2988,2,0)=FALSE,\"Falta (U.M.)\",VLOOKUP(A862,'Mapa de Preços'!$A$16:$B$2988,2,0))","v":"Falta (U.M.)"},"","",null,{"$f":"VLOOKUP(A862,'Mapa de Preços'!$A$16:$J$2988,10,0)","v":"Falta Orçamento"},"",null,835,null,0]
[836,{"$f":"IF(VLOOKUP(A863,'Mapa de Preços'!$A$16:$B$2988,2,0)=FALSE,\"Falta (U.M.)\",VLOOKUP(A863,'Mapa de Preços'!$A$16:$B$2988,2,0))","v":"Falta (U.M.)"},"","",null,{"$f":"VLOOKUP(A863,'Mapa de Preços'!$A$16:$J$2988,10,0)","v":"Falta Orçamento"},"",null,836,null,0]
[837,{"$f":"IF(VLOOKUP(A864,'Mapa de Preços'!$A$16:$B$2988,2,0)=FALSE,\"Falta (U.M.)\",VLOOKUP(A864,'Mapa de Preços'!$A$16:$B$2988,2,0))","v":"Falta (U.M.)"},"","",null,{"$f":"VLOOKUP(A864,'Mapa de Preços'!$A$16:$J$2988,10,0)","v":"Falta Orçamento"},"",null,837,null,0]
[838,{"$f":"IF(VLOOKUP(A865,'Mapa de Preços'!$A$16:$B$2988,2,0)=FALSE,\"Falta (U.M.)\",VLOOKUP(A865,'Mapa de Preços'!$A$16:$B$2988,2,0))","v":"Falta (U.M.)"},"","",null,{"$f":"VLOOKUP(A865,'Mapa de Preços'!$A$16:$J$2988,10,0)","v":"Falta Orçamento"},"",null,838,null,0]
[839,{"$f":"IF(VLOOKUP(A866,'Mapa de Preços'!$A$16:$B$2988,2,0)=FALSE,\"Falta (U.M.)\",VLOOKUP(A866,'Mapa de Preços'!$A$16:$B$2988,2,0))","v":"Falta (U.M.)"},"","",null,{"$f":"VLOOKUP(A866,'Mapa de Preços'!$A$16:$J$2988,10,0)","v":"Falta Orçamento"},"",null,839,null,0]
[840,{"$f":"IF(VLOOKUP(A867,'Mapa de Preços'!$A$16:$B$2988,2,0)=FALSE,\"Falta (U.M.)\",VLOOKUP(A867,'Mapa de Preços'!$A$16:$B$2988,2,0))","v":"Falta (U.M.)"},"","",null,{"$f":"VLOOKUP(A867,'Mapa de Preços'!$A$16:$J$2988,10,0)","v":"Falta Orçamento"},"",null,840,null,0]
[841,{"$f":"IF(VLOOKUP(A868,'Mapa de Preços'!$A$16:$B$2988,2,0)=FALSE,\"Falta (U.M.)\",VLOOKUP(A868,'Mapa de Preços'!$A$16:$B$2988,2,0))","v":"Falta (U.M.)"},"","",null,{"$f":"VLOOKUP(A868,'Mapa de Preços'!$A$16:$J$2988,10,0)","v":"Falta Orçamento"},"",null,841,null,0]
[842,{"$f":"IF(VLOOKUP(A869,'Mapa de Preços'!$A$16:$B$2988,2,0)=FALSE,\"Falta (U.M.)\",VLOOKUP(A869,'Mapa de Preços'!$A$16:$B$2988,2,0))","v":"Falta (U.M.)"},"","",null,{"$f":"VLOOKUP(A869,'Mapa de Preços'!$A$16:$J$2988,10,0)","v":"Falta Orçamento"},"",null,842,null,0]
[843,{"$f":"IF(VLOOKUP(A870,'Mapa de Preços'!$A$16:$B$2988,2,0)=FALSE,\"Falta (U.M.)\",VLOOKUP(A870,'Mapa de Preços'!$A$16:$B$2988,2,0))","v":"Falta (U.M.)"},"","",null,{"$f":"VLOOKUP(A870,'Mapa de Preços'!$A$16:$J$2988,10,0)","v":"Falta Orçamento"},"",null,843,null,0]
[844,{"$f":"IF(VLOOKUP(A871,'Mapa de Preços'!$A$16:$B$2988,2,0)=FALSE,\"Falta (U.M.)\",VLOOKUP(A871,'Mapa de Preços'!$A$16:$B$2988,2,0))","v":"Falta (U.M.)"},"","",null,{"$f":"VLOOKUP(A871,'Mapa de Preços'!$A$16:$J$2988,10,0)","v":"Falta Orçamento"},"",null,844,null,0]
[845,{"$f":"IF(VLOOKUP(A872,'Mapa de Preços'!$A$16:$B$2988,2,0)=FALSE,\"Falta (U.M.)\",VLOOKUP(A872,'Mapa de Preços'!$A$16:$B$2988,2,0))","v":"Falta (U.M.)"},"","",null,{"$f":"VLOOKUP(A872,'Mapa de Preços'!$A$16:$J$2988,10,0)","v":"Falta Orçamento"},"",null,845,null,0]
[846,{"$f":"IF(VLOOKUP(A873,'Mapa de Preços'!$A$16:$B$2988,2,0)=FALSE,\"Falta (U.M.)\",VLOOKUP(A873,'Mapa de Preços'!$A$16:$B$2988,2,0))","v":"Falta (U.M.)"},"","",null,{"$f":"VLOOKUP(A873,'Mapa de Preços'!$A$16:$J$2988,10,0)","v":"Falta Orçamento"},"",null,846,null,0]
[847,{"$f":"IF(VLOOKUP(A874,'Mapa de Preços'!$A$16:$B$2988,2,0)=FALSE,\"Falta (U.M.)\",VLOOKUP(A874,'Mapa de Preços'!$A$16:$B$2988,2,0))","v":"Falta (U.M.)"},"","",null,{"$f":"VLOOKUP(A874,'Mapa de Preços'!$A$16:$J$2988,10,0)","v":"Falta Orçamento"},"",null,847,null,0]
[848,{"$f":"IF(VLOOKUP(A875,'Mapa de Preços'!$A$16:$B$2988,2,0)=FALSE,\"Falta (U.M.)\",VLOOKUP(A875,'Mapa de Preços'!$A$16:$B$2988,2,0))","v":"Falta (U.M.)"},"","",null,{"$f":"VLOOKUP(A875,'Mapa de Preços'!$A$16:$J$2988,10,0)","v":"Falta Orçamento"},"",null,848,null,0]
[849,{"$f":"IF(VLOOKUP(A876,'Mapa de Preços'!$A$16:$B$2988,2,0)=FALSE,\"Falta (U.M.)\",VLOOKUP(A876,'Mapa de Preços'!$A$16:$B$2988,2,0))","v":"Falta (U.M.)"},"","",null,{"$f":"VLOOKUP(A876,'Mapa de Preços'!$A$16:$J$2988,10,0)","v":"Falta Orçamento"},"",null,849,null,0]
[850,{"$f":"IF(VLOOKUP(A877,'Mapa de Preços'!$A$16:$B$2988,2,0)=FALSE,\"Falta (U.M.)\",VLOOKUP(A877,'Mapa de Preços'!$A$16:$B$2988,2,0))","v":"Falta (U.M.)"},"","",null,{"$f":"VLOOKUP(A877,'Mapa de Preços'!$A$16:$J$2988,10,0)","v":"Falta Orçamento"},"",null,850,null,0]
[851,{"$f":"IF(VLOOKUP(A878,'Mapa de Preços'!$A$16:$B$2988,2,0)=FALSE,\"Falta (U.M.)\",VLOOKUP(A878,'Mapa de Preços'!$A$16:$B$2988,2,0))","v":"Falta (U.M.)"},"","",null,{"$f":"VLOOKUP(A878,'Mapa de Preços'!$A$16:$J$2988,10,0)","v":"Falta Orçamento"},"",null,851,null,0]
[852,{"$f":"IF(VLOOKUP(A879,'Mapa de Preços'!$A$16:$B$2988,2,0)=FALSE,\"Falta (U.M.)\",VLOOKUP(A879,'Mapa de Preços'!$A$16:$B$2988,2,0))","v":"Falta (U.M.)"},"","",null,{"$f":"VLOOKUP(A879,'Mapa de Preços'!$A$16:$J$2988,10,0)","v":"Falta Orçamento"},"",null,852,null,0]
[853,{"$f":"IF(VLOOKUP(A880,'Mapa de Preços'!$A$16:$B$2988,2,0)=FALSE,\"Falta (U.M.)\",VLOOKUP(A880,'Mapa de Preços'!$A$16:$B$2988,2,0))","v":"Falta (U.M.)"},"","",null,{"$f":"VLOOKUP(A880,'Mapa de Preços'!$A$16:$J$2988,10,0)","v":"Falta Orçamento"},"",null,853,null,0]
[854,{"$f":"IF(VLOOKUP(A881,'Mapa de Preços'!$A$16:$B$2988,2,0)=FALSE,\"Falta (U.M.)\",VLOOKUP(A881,'Mapa de Preços'!$A$16:$B$2988,2,0))","v":"Falta (U.M.)"},"","",null,{"$f":"VLOOKUP(A881,'Mapa de Preços'!$A$16:$J$2988,10,0)","v":"Falta Orçamento"},"",null,854,null,0]
[855,{"$f":"IF(VLOOKUP(A882,'Mapa de Preços'!$A$16:$B$2988,2,0)=FALSE,\"Falta (U.M.)\",VLOOKUP(A882,'Mapa de Preços'!$A$16:$B$2988,2,0))","v":"Falta (U.M.)"},"","",null,{"$f":"VLOOKUP(A882,'Mapa de Preços'!$A$16:$J$2988,10,0)","v":"Falta Orçamento"},"",null,855,null,0]
[856,{"$f":"IF(VLOOKUP(A883,'Mapa de Preços'!$A$16:$B$2988,2,0)=FALSE,\"Falta (U.M.)\",VLOOKUP(A883,'Mapa de Preços'!$A$16:$B$2988,2,0))","v":"Falta (U.M.)"},"","",null,{"$f":"VLOOKUP(A883,'Mapa de Preços'!$A$16:$J$2988,10,0)","v":"Falta Orçamento"},"",null,856,null,0]
[857,{"$f":"IF(VLOOKUP(A884,'Mapa de Preços'!$A$16:$B$2988,2,0)=FALSE,\"Falta (U.M.)\",VLOOKUP(A884,'Mapa de Preços'!$A$16:$B$2988,2,0))","v":"Falta (U.M.)"},"","",null,{"$f":"VLOOKUP(A884,'Mapa de Preços'!$A$16:$J$2988,10,0)","v":"Falta Orçamento"},"",null,857,null,0]
[858,{"$f":"IF(VLOOKUP(A885,'Mapa de Preços'!$A$16:$B$2988,2,0)=FALSE,\"Falta (U.M.)\",VLOOKUP(A885,'Mapa de Preços'!$A$16:$B$2988,2,0))","v":"Falta (U.M.)"},"","",null,{"$f":"VLOOKUP(A885,'Mapa de Preços'!$A$16:$J$2988,10,0)","v":"Falta Orçamento"},"",null,858,null,0]
[859,{"$f":"IF(VLOOKUP(A886,'Mapa de Preços'!$A$16:$B$2988,2,0)=FALSE,\"Falta (U.M.)\",VLOOKUP(A886,'Mapa de Preços'!$A$16:$B$2988,2,0))","v":"Falta (U.M.)"},"","",null,{"$f":"VLOOKUP(A886,'Mapa de Preços'!$A$16:$J$2988,10,0)","v":"Falta Orçamento"},"",null,859,null,0]
[860,{"$f":"IF(VLOOKUP(A887,'Mapa de Preços'!$A$16:$B$2988,2,0)=FALSE,\"Falta (U.M.)\",VLOOKUP(A887,'Mapa de Preços'!$A$16:$B$2988,2,0))","v":"Falta (U.M.)"},"","",null,{"$f":"VLOOKUP(A887,'Mapa de Preços'!$A$16:$J$2988,10,0)","v":"Falta Orçamento"},"",null,860,null,0]
[861,{"$f":"IF(VLOOKUP(A888,'Mapa de Preços'!$A$16:$B$2988,2,0)=FALSE,\"Falta (U.M.)\",VLOOKUP(A888,'Mapa de Preços'!$A$16:$B$2988,2,0))","v":"Falta (U.M.)"},"","",null,{"$f":"VLOOKUP(A888,'Mapa de Preços'!$A$16:$J$2988,10,0)","v":"Falta Orçamento"},"",null,861,null,0]
[862,{"$f":"IF(VLOOKUP(A889,'Mapa de Preços'!$A$16:$B$2988,2,0)=FALSE,\"Falta (U.M.)\",VLOOKUP(A889,'Mapa de Preços'!$A$16:$B$2988,2,0))","v":"Falta (U.M.)"},"","",null,{"$f":"VLOOKUP(A889,'Mapa de Preços'!$A$16:$J$2988,10,0)","v":"Falta Orçamento"},"",null,862,null,0]
[863,{"$f":"IF(VLOOKUP(A890,'Mapa de Preços'!$A$16:$B$2988,2,0)=FALSE,\"Falta (U.M.)\",VLOOKUP(A890,'Mapa de Preços'!$A$16:$B$2988,2,0))","v":"Falta (U.M.)"},"","",null,{"$f":"VLOOKUP(A890,'Mapa de Preços'!$A$16:$J$2988,10,0)","v":"Falta Orçamento"},"",null,863,null,0]
[864,{"$f":"IF(VLOOKUP(A891,'Mapa de Preços'!$A$16:$B$2988,2,0)=FALSE,\"Falta (U.M.)\",VLOOKUP(A891,'Mapa de Preços'!$A$16:$B$2988,2,0))","v":"Falta (U.M.)"},"","",null,{"$f":"VLOOKUP(A891,'Mapa de Preços'!$A$16:$J$2988,10,0)","v":"Falta Orçamento"},"",null,864,null,0]
[865,{"$f":"IF(VLOOKUP(A892,'Mapa de Preços'!$A$16:$B$2988,2,0)=FALSE,\"Falta (U.M.)\",VLOOKUP(A892,'Mapa de Preços'!$A$16:$B$2988,2,0))","v":"Falta (U.M.)"},"","",null,{"$f":"VLOOKUP(A892,'Mapa de Preços'!$A$16:$J$2988,10,0)","v":"Falta Orçamento"},"",null,865,null,0]
[866,{"$f":"IF(VLOOKUP(A893,'Mapa de Preços'!$A$16:$B$2988,2,0)=FALSE,\"Falta (U.M.)\",VLOOKUP(A893,'Mapa de Preços'!$A$16:$B$2988,2,0))","v":"Falta (U.M.)"},"","",null,{"$f":"VLOOKUP(A893,'Mapa de Preços'!$A$16:$J$2988,10,0)","v":"Falta Orçamento"},"",null,866,null,0]
[867,{"$f":"IF(VLOOKUP(A894,'Mapa de Preços'!$A$16:$B$2988,2,0)=FALSE,\"Falta (U.M.)\",VLOOKUP(A894,'Mapa de Preços'!$A$16:$B$2988,2,0))","v":"Falta (U.M.)"},"","",null,{"$f":"VLOOKUP(A894,'Mapa de Preços'!$A$16:$J$2988,10,0)","v":"Falta Orçamento"},"",null,867,null,0]
[868,{"$f":"IF(VLOOKUP(A895,'Mapa de Preços'!$A$16:$B$2988,2,0)=FALSE,\"Falta (U.M.)\",VLOOKUP(A895,'Mapa de Preços'!$A$16:$B$2988,2,0))","v":"Falta (U.M.)"},"","",null,{"$f":"VLOOKUP(A895,'Mapa de Preços'!$A$16:$J$2988,10,0)","v":"Falta Orçamento"},"",null,868,null,0]
[869,{"$f":"IF(VLOOKUP(A896,'Mapa de Preços'!$A$16:$B$2988,2,0)=FALSE,\"Falta (U.M.)\",VLOOKUP(A896,'Mapa de Preços'!$A$16:$B$2988,2,0))","v":"Falta (U.M.)"},"","",null,{"$f":"VLOOKUP(A896,'Mapa de Preços'!$A$16:$J$2988,10,0)","v":"Falta Orçamento"},"",null,869,null,0]
[870,{"$f":"IF(VLOOKUP(A897,'Mapa de Preços'!$A$16:$B$2988,2,0)=FALSE,\"Falta (U.M.)\",VLOOKUP(A897,'Mapa de Preços'!$A$16:$B$2988,2,0))","v":"Falta (U.M.)"},"","",null,{"$f":"VLOOKUP(A897,'Mapa de Preços'!$A$16:$J$2988,10,0)","v":"Falta Orçamento"},"",null,870,null,0]
[871,{"$f":"IF(VLOOKUP(A898,'Mapa de Preços'!$A$16:$B$2988,2,0)=FALSE,\"Falta (U.M.)\",VLOOKUP(A898,'Mapa de Preços'!$A$16:$B$2988,2,0))","v":"Falta (U.M.)"},"","",null,{"$f":"VLOOKUP(A898,'Mapa de Preços'!$A$16:$J$2988,10,0)","v":"Falta Orçamento"},"",null,871,null,0]
[872,{"$f":"IF(VLOOKUP(A899,'Mapa de Preços'!$A$16:$B$2988,2,0)=FALSE,\"Falta (U.M.)\",VLOOKUP(A899,'Mapa de Preços'!$A$16:$B$2988,2,0))","v":"Falta (U.M.)"},"","",null,{"$f":"VLOOKUP(A899,'Mapa de Preços'!$A$16:$J$2988,10,0)","v":"Falta Orçamento"},"",null,872,null,0]
[873,{"$f":"IF(VLOOKUP(A900,'Mapa de Preços'!$A$16:$B$2988,2,0)=FALSE,\"Falta (U.M.)\",VLOOKUP(A900,'Mapa de Preços'!$A$16:$B$2988,2,0))","v":"Falta (U.M.)"},"","",null,{"$f":"VLOOKUP(A900,'Mapa de Preços'!$A$16:$J$2988,10,0)","v":"Falta Orçamento"},"",null,873,null,0]
[874,{"$f":"IF(VLOOKUP(A901,'Mapa de Preços'!$A$16:$B$2988,2,0)=FALSE,\"Falta (U.M.)\",VLOOKUP(A901,'Mapa de Preços'!$A$16:$B$2988,2,0))","v":"Falta (U.M.)"},"","",null,{"$f":"VLOOKUP(A901,'Mapa de Preços'!$A$16:$J$2988,10,0)","v":"Falta Orçamento"},"",null,874,null,0]
[875,{"$f":"IF(VLOOKUP(A902,'Mapa de Preços'!$A$16:$B$2988,2,0)=FALSE,\"Falta (U.M.)\",VLOOKUP(A902,'Mapa de Preços'!$A$16:$B$2988,2,0))","v":"Falta (U.M.)"},"","",null,{"$f":"VLOOKUP(A902,'Mapa de Preços'!$A$16:$J$2988,10,0)","v":"Falta Orçamento"},"",null,875,null,0]
[876,{"$f":"IF(VLOOKUP(A903,'Mapa de Preços'!$A$16:$B$2988,2,0)=FALSE,\"Falta (U.M.)\",VLOOKUP(A903,'Mapa de Preços'!$A$16:$B$2988,2,0))","v":"Falta (U.M.)"},"","",null,{"$f":"VLOOKUP(A903,'Mapa de Preços'!$A$16:$J$2988,10,0)","v":"Falta Orçamento"},"",null,876,null,0]
[877,{"$f":"IF(VLOOKUP(A904,'Mapa de Preços'!$A$16:$B$2988,2,0)=FALSE,\"Falta (U.M.)\",VLOOKUP(A904,'Mapa de Preços'!$A$16:$B$2988,2,0))","v":"Falta (U.M.)"},"","",null,{"$f":"VLOOKUP(A904,'Mapa de Preços'!$A$16:$J$2988,10,0)","v":"Falta Orçamento"},"",null,877,null,0]
[878,{"$f":"IF(VLOOKUP(A905,'Mapa de Preços'!$A$16:$B$2988,2,0)=FALSE,\"Falta (U.M.)\",VLOOKUP(A905,'Mapa de Preços'!$A$16:$B$2988,2,0))","v":"Falta (U.M.)"},"","",null,{"$f":"VLOOKUP(A905,'Mapa de Preços'!$A$16:$J$2988,10,0)","v":"Falta Orçamento"},"",null,878,null,0]
[879,{"$f":"IF(VLOOKUP(A906,'Mapa de Preços'!$A$16:$B$2988,2,0)=FALSE,\"Falta (U.M.)\",VLOOKUP(A906,'Mapa de Preços'!$A$16:$B$2988,2,0))","v":"Falta (U.M.)"},"","",null,{"$f":"VLOOKUP(A906,'Mapa de Preços'!$A$16:$J$2988,10,0)","v":"Falta Orçamento"},"",null,879,null,0]
[880,{"$f":"IF(VLOOKUP(A907,'Mapa de Preços'!$A$16:$B$2988,2,0)=FALSE,\"Falta (U.M.)\",VLOOKUP(A907,'Mapa de Preços'!$A$16:$B$2988,2,0))","v":"Falta (U.M.)"},"","",null,{"$f":"VLOOKUP(A907,'Mapa de Preços'!$A$16:$J$2988,10,0)","v":"Falta Orçamento"},"",null,880,null,0]
[881,{"$f":"IF(VLOOKUP(A908,'Mapa de Preços'!$A$16:$B$2988,2,0)=FALSE,\"Falta (U.M.)\",VLOOKUP(A908,'Mapa de Preços'!$A$16:$B$2988,2,0))","v":"Falta (U.M.)"},"","",null,{"$f":"VLOOKUP(A908,'Mapa de Preços'!$A$16:$J$2988,10,0)","v":"Falta Orçamento"},"",null,881,null,0]
[882,{"$f":"IF(VLOOKUP(A909,'Mapa de Preços'!$A$16:$B$2988,2,0)=FALSE,\"Falta (U.M.)\",VLOOKUP(A909,'Mapa de Preços'!$A$16:$B$2988,2,0))","v":"Falta (U.M.)"},"","",null,{"$f":"VLOOKUP(A909,'Mapa de Preços'!$A$16:$J$2988,10,0)","v":"Falta Orçamento"},"",null,882,null,0]
[883,{"$f":"IF(VLOOKUP(A910,'Mapa de Preços'!$A$16:$B$2988,2,0)=FALSE,\"Falta (U.M.)\",VLOOKUP(A910,'Mapa de Preços'!$A$16:$B$2988,2,0))","v":"Falta (U.M.)"},"","",null,{"$f":"VLOOKUP(A910,'Mapa de Preços'!$A$16:$J$2988,10,0)","v":"Falta Orçamento"},"",null,883,null,0]
[884,{"$f":"IF(VLOOKUP(A911,'Mapa de Preços'!$A$16:$B$2988,2,0)=FALSE,\"Falta (U.M.)\",VLOOKUP(A911,'Mapa de Preços'!$A$16:$B$2988,2,0))","v":"Falta (U.M.)"},"","",null,{"$f":"VLOOKUP(A911,'Mapa de Preços'!$A$16:$J$2988,10,0)","v":"Falta Orçamento"},"",null,884,null,0]
[885,{"$f":"IF(VLOOKUP(A912,'Mapa de Preços'!$A$16:$B$2988,2,0)=FALSE,\"Falta (U.M.)\",VLOOKUP(A912,'Mapa de Preços'!$A$16:$B$2988,2,0))","v":"Falta (U.M.)"},"","",null,{"$f":"VLOOKUP(A912,'Mapa de Preços'!$A$16:$J$2988,10,0)","v":"Falta Orçamento"},"",null,885,null,0]
[886,{"$f":"IF(VLOOKUP(A913,'Mapa de Preços'!$A$16:$B$2988,2,0)=FALSE,\"Falta (U.M.)\",VLOOKUP(A913,'Mapa de Preços'!$A$16:$B$2988,2,0))","v":"Falta (U.M.)"},"","",null,{"$f":"VLOOKUP(A913,'Mapa de Preços'!$A$16:$J$2988,10,0)","v":"Falta Orçamento"},"",null,886,null,0]
[887,{"$f":"IF(VLOOKUP(A914,'Mapa de Preços'!$A$16:$B$2988,2,0)=FALSE,\"Falta (U.M.)\",VLOOKUP(A914,'Mapa de Preços'!$A$16:$B$2988,2,0))","v":"Falta (U.M.)"},"","",null,{"$f":"VLOOKUP(A914,'Mapa de Preços'!$A$16:$J$2988,10,0)","v":"Falta Orçamento"},"",null,887,null,0]
[888,{"$f":"IF(VLOOKUP(A915,'Mapa de Preços'!$A$16:$B$2988,2,0)=FALSE,\"Falta (U.M.)\",VLOOKUP(A915,'Mapa de Preços'!$A$16:$B$2988,2,0))","v":"Falta (U.M.)"},"","",null,{"$f":"VLOOKUP(A915,'Mapa de Preços'!$A$16:$J$2988,10,0)","v":"Falta Orçamento"},"",null,888,null,0]
[889,{"$f":"IF(VLOOKUP(A916,'Mapa de Preços'!$A$16:$B$2988,2,0)=FALSE,\"Falta (U.M.)\",VLOOKUP(A916,'Mapa de Preços'!$A$16:$B$2988,2,0))","v":"Falta (U.M.)"},"","",null,{"$f":"VLOOKUP(A916,'Mapa de Preços'!$A$16:$J$2988,10,0)","v":"Falta Orçamento"},"",null,889,null,0]
[890,{"$f":"IF(VLOOKUP(A917,'Mapa de Preços'!$A$16:$B$2988,2,0)=FALSE,\"Falta (U.M.)\",VLOOKUP(A917,'Mapa de Preços'!$A$16:$B$2988,2,0))","v":"Falta (U.M.)"},"","",null,{"$f":"VLOOKUP(A917,'Mapa de Preços'!$A$16:$J$2988,10,0)","v":"Falta Orçamento"},"",null,890,null,0]
[891,{"$f":"IF(VLOOKUP(A918,'Mapa de Preços'!$A$16:$B$2988,2,0)=FALSE,\"Falta (U.M.)\",VLOOKUP(A918,'Mapa de Preços'!$A$16:$B$2988,2,0))","v":"Falta (U.M.)"},"","",null,{"$f":"VLOOKUP(A918,'Mapa de Preços'!$A$16:$J$2988,10,0)","v":"Falta Orçamento"},"",null,891,null,0]
[892,{"$f":"IF(VLOOKUP(A919,'Mapa de Preços'!$A$16:$B$2988,2,0)=FALSE,\"Falta (U.M.)\",VLOOKUP(A919,'Mapa de Preços'!$A$16:$B$2988,2,0))","v":"Falta (U.M.)"},"","",null,{"$f":"VLOOKUP(A919,'Mapa de Preços'!$A$16:$J$2988,10,0)","v":"Falta Orçamento"},"",null,892,null,0]
[893,{"$f":"IF(VLOOKUP(A920,'Mapa de Preços'!$A$16:$B$2988,2,0)=FALSE,\"Falta (U.M.)\",VLOOKUP(A920,'Mapa de Preços'!$A$16:$B$2988,2,0))","v":"Falta (U.M.)"},"","",null,{"$f":"VLOOKUP(A920,'Mapa de Preços'!$A$16:$J$2988,10,0)","v":"Falta Orçamento"},"",null,893,null,0]
[894,{"$f":"IF(VLOOKUP(A921,'Mapa de Preços'!$A$16:$B$2988,2,0)=FALSE,\"Falta (U.M.)\",VLOOKUP(A921,'Mapa de Preços'!$A$16:$B$2988,2,0))","v":"Falta (U.M.)"},"","",null,{"$f":"VLOOKUP(A921,'Mapa de Preços'!$A$16:$J$2988,10,0)","v":"Falta Orçamento"},"",null,894,null,0]
[895,{"$f":"IF(VLOOKUP(A922,'Mapa de Preços'!$A$16:$B$2988,2,0)=FALSE,\"Falta (U.M.)\",VLOOKUP(A922,'Mapa de Preços'!$A$16:$B$2988,2,0))","v":"Falta (U.M.)"},"","",null,{"$f":"VLOOKUP(A922,'Mapa de Preços'!$A$16:$J$2988,10,0)","v":"Falta Orçamento"},"",null,895,null,0]
[896,{"$f":"IF(VLOOKUP(A923,'Mapa de Preços'!$A$16:$B$2988,2,0)=FALSE,\"Falta (U.M.)\",VLOOKUP(A923,'Mapa de Preços'!$A$16:$B$2988,2,0))","v":"Falta (U.M.)"},"","",null,{"$f":"VLOOKUP(A923,'Mapa de Preços'!$A$16:$J$2988,10,0)","v":"Falta Orçamento"},"",null,896,null,0]
[897,{"$f":"IF(VLOOKUP(A924,'Mapa de Preços'!$A$16:$B$2988,2,0)=FALSE,\"Falta (U.M.)\",VLOOKUP(A924,'Mapa de Preços'!$A$16:$B$2988,2,0))","v":"Falta (U.M.)"},"","",null,{"$f":"VLOOKUP(A924,'Mapa de Preços'!$A$16:$J$2988,10,0)","v":"Falta Orçamento"},"",null,897,null,{"$f":"SUM(L924:AI924)","v":0}]
[898,{"$f":"IF(VLOOKUP(A925,'Mapa de Preços'!$A$16:$B$2988,2,0)=FALSE,\"Falta (U.M.)\",VLOOKUP(A925,'Mapa de Preços'!$A$16:$B$2988,2,0))","v":"Falta (U.M.)"},{"$f":"IF(J925<>\"\",J925,\"\")","v":""},{"$f":"IF(VLOOKUP(A925,$I$28:$AI$3000,$G$26,FALSE)<>\"\",VLOOKUP(A925,$I$28:$AI$3000,$G$26,FALSE),\"\")","v":""},null,{"$f":"VLOOKUP(A925,'Mapa de Preços'!$A$16:$J$2988,10,0)","v":"Falta Orçamento"},{"$f":"IF(F925=\"Falta Orçamento\",\"\",F925*D925)","v":""},null,898,null,0]
[899,{"$f":"IF(VLOOKUP(A926,'Mapa de Preços'!$A$16:$B$2988,2,0)=FALSE,\"Falta (U.M.)\",VLOOKUP(A926,'Mapa de Preços'!$A$16:$B$2988,2,0))","v":"Falta (U.M.)"},"","",null,{"$f":"VLOOKUP(A926,'Mapa de Preços'!$A$16:$J$2988,10,0)","v":"Falta Orçamento"},"",null,899,null,0]
[900,{"$f":"IF(VLOOKUP(A927,'Mapa de Preços'!$A$16:$B$2988,2,0)=FALSE,\"Falta (U.M.)\",VLOOKUP(A927,'Mapa de Preços'!$A$16:$B$2988,2,0))","v":"Falta (U.M.)"},"","",null,{"$f":"VLOOKUP(A927,'Mapa de Preços'!$A$16:$J$2988,10,0)","v":"Falta Orçamento"},"",null,900,null,0]
[901,{"$f":"IF(VLOOKUP(A928,'Mapa de Preços'!$A$16:$B$2988,2,0)=FALSE,\"Falta (U.M.)\",VLOOKUP(A928,'Mapa de Preços'!$A$16:$B$2988,2,0))","v":"Falta (U.M.)"},"","",null,{"$f":"VLOOKUP(A928,'Mapa de Preços'!$A$16:$J$2988,10,0)","v":"Falta Orçamento"},"",null,901,null,0]
[902,{"$f":"IF(VLOOKUP(A929,'Mapa de Preços'!$A$16:$B$2988,2,0)=FALSE,\"Falta (U.M.)\",VLOOKUP(A929,'Mapa de Preços'!$A$16:$B$2988,2,0))","v":"Falta (U.M.)"},"","",null,{"$f":"VLOOKUP(A929,'Mapa de Preços'!$A$16:$J$2988,10,0)","v":"Falta Orçamento"},"",null,902,null,0]
[903,{"$f":"IF(VLOOKUP(A930,'Mapa de Preços'!$A$16:$B$2988,2,0)=FALSE,\"Falta (U.M.)\",VLOOKUP(A930,'Mapa de Preços'!$A$16:$B$2988,2,0))","v":"Falta (U.M.)"},"","",null,{"$f":"VLOOKUP(A930,'Mapa de Preços'!$A$16:$J$2988,10,0)","v":"Falta Orçamento"},"",null,903,null,0]
[904,{"$f":"IF(VLOOKUP(A931,'Mapa de Preços'!$A$16:$B$2988,2,0)=FALSE,\"Falta (U.M.)\",VLOOKUP(A931,'Mapa de Preços'!$A$16:$B$2988,2,0))","v":"Falta (U.M.)"},"","",null,{"$f":"VLOOKUP(A931,'Mapa de Preços'!$A$16:$J$2988,10,0)","v":"Falta Orçamento"},"",null,904,null,0]
[905,{"$f":"IF(VLOOKUP(A932,'Mapa de Preços'!$A$16:$B$2988,2,0)=FALSE,\"Falta (U.M.)\",VLOOKUP(A932,'Mapa de Preços'!$A$16:$B$2988,2,0))","v":"Falta (U.M.)"},"","",null,{"$f":"VLOOKUP(A932,'Mapa de Preços'!$A$16:$J$2988,10,0)","v":"Falta Orçamento"},"",null,905,null,0]
[906,{"$f":"IF(VLOOKUP(A933,'Mapa de Preços'!$A$16:$B$2988,2,0)=FALSE,\"Falta (U.M.)\",VLOOKUP(A933,'Mapa de Preços'!$A$16:$B$2988,2,0))","v":"Falta (U.M.)"},"","",null,{"$f":"VLOOKUP(A933,'Mapa de Preços'!$A$16:$J$2988,10,0)","v":"Falta Orçamento"},"",null,906,null,0]
[907,{"$f":"IF(VLOOKUP(A934,'Mapa de Preços'!$A$16:$B$2988,2,0)=FALSE,\"Falta (U.M.)\",VLOOKUP(A934,'Mapa de Preços'!$A$16:$B$2988,2,0))","v":"Falta (U.M.)"},"","",null,{"$f":"VLOOKUP(A934,'Mapa de Preços'!$A$16:$J$2988,10,0)","v":"Falta Orçamento"},"",null,907,null,0]
[908,{"$f":"IF(VLOOKUP(A935,'Mapa de Preços'!$A$16:$B$2988,2,0)=FALSE,\"Falta (U.M.)\",VLOOKUP(A935,'Mapa de Preços'!$A$16:$B$2988,2,0))","v":"Falta (U.M.)"},"","",null,{"$f":"VLOOKUP(A935,'Mapa de Preços'!$A$16:$J$2988,10,0)","v":"Falta Orçamento"},"",null,908,null,0]
[909,{"$f":"IF(VLOOKUP(A936,'Mapa de Preços'!$A$16:$B$2988,2,0)=FALSE,\"Falta (U.M.)\",VLOOKUP(A936,'Mapa de Preços'!$A$16:$B$2988,2,0))","v":"Falta (U.M.)"},"","",null,{"$f":"VLOOKUP(A936,'Mapa de Preços'!$A$16:$J$2988,10,0)","v":"Falta Orçamento"},"",null,909,null,0]
[910,{"$f":"IF(VLOOKUP(A937,'Mapa de Preços'!$A$16:$B$2988,2,0)=FALSE,\"Falta (U.M.)\",VLOOKUP(A937,'Mapa de Preços'!$A$16:$B$2988,2,0))","v":"Falta (U.M.)"},"","",null,{"$f":"VLOOKUP(A937,'Mapa de Preços'!$A$16:$J$2988,10,0)","v":"Falta Orçamento"},"",null,910,null,0]
[911,{"$f":"IF(VLOOKUP(A938,'Mapa de Preços'!$A$16:$B$2988,2,0)=FALSE,\"Falta (U.M.)\",VLOOKUP(A938,'Mapa de Preços'!$A$16:$B$2988,2,0))","v":"Falta (U.M.)"},"","",null,{"$f":"VLOOKUP(A938,'Mapa de Preços'!$A$16:$J$2988,10,0)","v":"Falta Orçamento"},"",null,911,null,0]
[912,{"$f":"IF(VLOOKUP(A939,'Mapa de Preços'!$A$16:$B$2988,2,0)=FALSE,\"Falta (U.M.)\",VLOOKUP(A939,'Mapa de Preços'!$A$16:$B$2988,2,0))","v":"Falta (U.M.)"},"","",null,{"$f":"VLOOKUP(A939,'Mapa de Preços'!$A$16:$J$2988,10,0)","v":"Falta Orçamento"},"",null,912,null,0]
[913,{"$f":"IF(VLOOKUP(A940,'Mapa de Preços'!$A$16:$B$2988,2,0)=FALSE,\"Falta (U.M.)\",VLOOKUP(A940,'Mapa de Preços'!$A$16:$B$2988,2,0))","v":"Falta (U.M.)"},"","",null,{"$f":"VLOOKUP(A940,'Mapa de Preços'!$A$16:$J$2988,10,0)","v":"Falta Orçamento"},"",null,913,null,0]
[914,{"$f":"IF(VLOOKUP(A941,'Mapa de Preços'!$A$16:$B$2988,2,0)=FALSE,\"Falta (U.M.)\",VLOOKUP(A941,'Mapa de Preços'!$A$16:$B$2988,2,0))","v":"Falta (U.M.)"},"","",null,{"$f":"VLOOKUP(A941,'Mapa de Preços'!$A$16:$J$2988,10,0)","v":"Falta Orçamento"},"",null,914,null,0]
[915,{"$f":"IF(VLOOKUP(A942,'Mapa de Preços'!$A$16:$B$2988,2,0)=FALSE,\"Falta (U.M.)\",VLOOKUP(A942,'Mapa de Preços'!$A$16:$B$2988,2,0))","v":"Falta (U.M.)"},"","",null,{"$f":"VLOOKUP(A942,'Mapa de Preços'!$A$16:$J$2988,10,0)","v":"Falta Orçamento"},"",null,915,null,0]
[916,{"$f":"IF(VLOOKUP(A943,'Mapa de Preços'!$A$16:$B$2988,2,0)=FALSE,\"Falta (U.M.)\",VLOOKUP(A943,'Mapa de Preços'!$A$16:$B$2988,2,0))","v":"Falta (U.M.)"},"","",null,{"$f":"VLOOKUP(A943,'Mapa de Preços'!$A$16:$J$2988,10,0)","v":"Falta Orçamento"},"",null,916,null,0]
[917,{"$f":"IF(VLOOKUP(A944,'Mapa de Preços'!$A$16:$B$2988,2,0)=FALSE,\"Falta (U.M.)\",VLOOKUP(A944,'Mapa de Preços'!$A$16:$B$2988,2,0))","v":"Falta (U.M.)"},"","",null,{"$f":"VLOOKUP(A944,'Mapa de Preços'!$A$16:$J$2988,10,0)","v":"Falta Orçamento"},"",null,917,null,0]
[918,{"$f":"IF(VLOOKUP(A945,'Mapa de Preços'!$A$16:$B$2988,2,0)=FALSE,\"Falta (U.M.)\",VLOOKUP(A945,'Mapa de Preços'!$A$16:$B$2988,2,0))","v":"Falta (U.M.)"},"","",null,{"$f":"VLOOKUP(A945,'Mapa de Preços'!$A$16:$J$2988,10,0)","v":"Falta Orçamento"},"",null,918,null,0]
[919,{"$f":"IF(VLOOKUP(A946,'Mapa de Preços'!$A$16:$B$2988,2,0)=FALSE,\"Falta (U.M.)\",VLOOKUP(A946,'Mapa de Preços'!$A$16:$B$2988,2,0))","v":"Falta (U.M.)"},"","",null,{"$f":"VLOOKUP(A946,'Mapa de Preços'!$A$16:$J$2988,10,0)","v":"Falta Orçamento"},"",null,919,null,0]
[920,{"$f":"IF(VLOOKUP(A947,'Mapa de Preços'!$A$16:$B$2988,2,0)=FALSE,\"Falta (U.M.)\",VLOOKUP(A947,'Mapa de Preços'!$A$16:$B$2988,2,0))","v":"Falta (U.M.)"},"","",null,{"$f":"VLOOKUP(A947,'Mapa de Preços'!$A$16:$J$2988,10,0)","v":"Falta Orçamento"},"",null,920,null,0]
[921,{"$f":"IF(VLOOKUP(A948,'Mapa de Preços'!$A$16:$B$2988,2,0)=FALSE,\"Falta (U.M.)\",VLOOKUP(A948,'Mapa de Preços'!$A$16:$B$2988,2,0))","v":"Falta (U.M.)"},"","",null,{"$f":"VLOOKUP(A948,'Mapa de Preços'!$A$16:$J$2988,10,0)","v":"Falta Orçamento"},"",null,921,null,0]
[922,{"$f":"IF(VLOOKUP(A949,'Mapa de Preços'!$A$16:$B$2988,2,0)=FALSE,\"Falta (U.M.)\",VLOOKUP(A949,'Mapa de Preços'!$A$16:$B$2988,2,0))","v":"Falta (U.M.)"},"","",null,{"$f":"VLOOKUP(A949,'Mapa de Preços'!$A$16:$J$2988,10,0)","v":"Falta Orçamento"},"",null,922,null,0]
[923,{"$f":"IF(VLOOKUP(A950,'Mapa de Preços'!$A$16:$B$2988,2,0)=FALSE,\"Falta (U.M.)\",VLOOKUP(A950,'Mapa de Preços'!$A$16:$B$2988,2,0))","v":"Falta (U.M.)"},"","",null,{"$f":"VLOOKUP(A950,'Mapa de Preços'!$A$16:$J$2988,10,0)","v":"Falta Orçamento"},"",null,923,null,0]
[924,{"$f":"IF(VLOOKUP(A951,'Mapa de Preços'!$A$16:$B$2988,2,0)=FALSE,\"Falta (U.M.)\",VLOOKUP(A951,'Mapa de Preços'!$A$16:$B$2988,2,0))","v":"Falta (U.M.)"},"","",null,{"$f":"VLOOKUP(A951,'Mapa de Preços'!$A$16:$J$2988,10,0)","v":"Falta Orçamento"},"",null,924,null,0]
[925,{"$f":"IF(VLOOKUP(A952,'Mapa de Preços'!$A$16:$B$2988,2,0)=FALSE,\"Falta (U.M.)\",VLOOKUP(A952,'Mapa de Preços'!$A$16:$B$2988,2,0))","v":"Falta (U.M.)"},"","",null,{"$f":"VLOOKUP(A952,'Mapa de Preços'!$A$16:$J$2988,10,0)","v":"Falta Orçamento"},"",null,925,null,0]
[926,{"$f":"IF(VLOOKUP(A953,'Mapa de Preços'!$A$16:$B$2988,2,0)=FALSE,\"Falta (U.M.)\",VLOOKUP(A953,'Mapa de Preços'!$A$16:$B$2988,2,0))","v":"Falta (U.M.)"},"","",null,{"$f":"VLOOKUP(A953,'Mapa de Preços'!$A$16:$J$2988,10,0)","v":"Falta Orçamento"},"",null,926,null,0]
[927,{"$f":"IF(VLOOKUP(A954,'Mapa de Preços'!$A$16:$B$2988,2,0)=FALSE,\"Falta (U.M.)\",VLOOKUP(A954,'Mapa de Preços'!$A$16:$B$2988,2,0))","v":"Falta (U.M.)"},"","",null,{"$f":"VLOOKUP(A954,'Mapa de Preços'!$A$16:$J$2988,10,0)","v":"Falta Orçamento"},"",null,927,null,0]
[928,{"$f":"IF(VLOOKUP(A955,'Mapa de Preços'!$A$16:$B$2988,2,0)=FALSE,\"Falta (U.M.)\",VLOOKUP(A955,'Mapa de Preços'!$A$16:$B$2988,2,0))","v":"Falta (U.M.)"},"","",null,{"$f":"VLOOKUP(A955,'Mapa de Preços'!$A$16:$J$2988,10,0)","v":"Falta Orçamento"},"",null,928,null,0]
[929,{"$f":"IF(VLOOKUP(A956,'Mapa de Preços'!$A$16:$B$2988,2,0)=FALSE,\"Falta (U.M.)\",VLOOKUP(A956,'Mapa de Preços'!$A$16:$B$2988,2,0))","v":"Falta (U.M.)"},"","",null,{"$f":"VLOOKUP(A956,'Mapa de Preços'!$A$16:$J$2988,10,0)","v":"Falta Orçamento"},"",null,929,null,0]
[930,{"$f":"IF(VLOOKUP(A957,'Mapa de Preços'!$A$16:$B$2988,2,0)=FALSE,\"Falta (U.M.)\",VLOOKUP(A957,'Mapa de Preços'!$A$16:$B$2988,2,0))","v":"Falta (U.M.)"},"","",null,{"$f":"VLOOKUP(A957,'Mapa de Preços'!$A$16:$J$2988,10,0)","v":"Falta Orçamento"},"",null,930,null,0]
[931,{"$f":"IF(VLOOKUP(A958,'Mapa de Preços'!$A$16:$B$2988,2,0)=FALSE,\"Falta (U.M.)\",VLOOKUP(A958,'Mapa de Preços'!$A$16:$B$2988,2,0))","v":"Falta (U.M.)"},"","",null,{"$f":"VLOOKUP(A958,'Mapa de Preços'!$A$16:$J$2988,10,0)","v":"Falta Orçamento"},"",null,931,null,0]
[932,{"$f":"IF(VLOOKUP(A959,'Mapa de Preços'!$A$16:$B$2988,2,0)=FALSE,\"Falta (U.M.)\",VLOOKUP(A959,'Mapa de Preços'!$A$16:$B$2988,2,0))","v":"Falta (U.M.)"},"","",null,{"$f":"VLOOKUP(A959,'Mapa de Preços'!$A$16:$J$2988,10,0)","v":"Falta Orçamento"},"",null,932,null,0]
[933,{"$f":"IF(VLOOKUP(A960,'Mapa de Preços'!$A$16:$B$2988,2,0)=FALSE,\"Falta (U.M.)\",VLOOKUP(A960,'Mapa de Preços'!$A$16:$B$2988,2,0))","v":"Falta (U.M.)"},"","",null,{"$f":"VLOOKUP(A960,'Mapa de Preços'!$A$16:$J$2988,10,0)","v":"Falta Orçamento"},"",null,933,null,0]
[934,{"$f":"IF(VLOOKUP(A961,'Mapa de Preços'!$A$16:$B$2988,2,0)=FALSE,\"Falta (U.M.)\",VLOOKUP(A961,'Mapa de Preços'!$A$16:$B$2988,2,0))","v":"Falta (U.M.)"},"","",null,{"$f":"VLOOKUP(A961,'Mapa de Preços'!$A$16:$J$2988,10,0)","v":"Falta Orçamento"},"",null,934,null,0]
[935,{"$f":"IF(VLOOKUP(A962,'Mapa de Preços'!$A$16:$B$2988,2,0)=FALSE,\"Falta (U.M.)\",VLOOKUP(A962,'Mapa de Preços'!$A$16:$B$2988,2,0))","v":"Falta (U.M.)"},"","",null,{"$f":"VLOOKUP(A962,'Mapa de Preços'!$A$16:$J$2988,10,0)","v":"Falta Orçamento"},"",null,935,null,0]
[936,{"$f":"IF(VLOOKUP(A963,'Mapa de Preços'!$A$16:$B$2988,2,0)=FALSE,\"Falta (U.M.)\",VLOOKUP(A963,'Mapa de Preços'!$A$16:$B$2988,2,0))","v":"Falta (U.M.)"},"","",null,{"$f":"VLOOKUP(A963,'Mapa de Preços'!$A$16:$J$2988,10,0)","v":"Falta Orçamento"},"",null,936,null,0]
[937,{"$f":"IF(VLOOKUP(A964,'Mapa de Preços'!$A$16:$B$2988,2,0)=FALSE,\"Falta (U.M.)\",VLOOKUP(A964,'Mapa de Preços'!$A$16:$B$2988,2,0))","v":"Falta (U.M.)"},"","",null,{"$f":"VLOOKUP(A964,'Mapa de Preços'!$A$16:$J$2988,10,0)","v":"Falta Orçamento"},"",null,937,null,0]
[938,{"$f":"IF(VLOOKUP(A965,'Mapa de Preços'!$A$16:$B$2988,2,0)=FALSE,\"Falta (U.M.)\",VLOOKUP(A965,'Mapa de Preços'!$A$16:$B$2988,2,0))","v":"Falta (U.M.)"},"","",null,{"$f":"VLOOKUP(A965,'Mapa de Preços'!$A$16:$J$2988,10,0)","v":"Falta Orçamento"},"",null,938,null,0]
[939,{"$f":"IF(VLOOKUP(A966,'Mapa de Preços'!$A$16:$B$2988,2,0)=FALSE,\"Falta (U.M.)\",VLOOKUP(A966,'Mapa de Preços'!$A$16:$B$2988,2,0))","v":"Falta (U.M.)"},"","",null,{"$f":"VLOOKUP(A966,'Mapa de Preços'!$A$16:$J$2988,10,0)","v":"Falta Orçamento"},"",null,939,null,0]
[940,{"$f":"IF(VLOOKUP(A967,'Mapa de Preços'!$A$16:$B$2988,2,0)=FALSE,\"Falta (U.M.)\",VLOOKUP(A967,'Mapa de Preços'!$A$16:$B$2988,2,0))","v":"Falta (U.M.)"},"","",null,{"$f":"VLOOKUP(A967,'Mapa de Preços'!$A$16:$J$2988,10,0)","v":"Falta Orçamento"},"",null,940,null,0]
[941,{"$f":"IF(VLOOKUP(A968,'Mapa de Preços'!$A$16:$B$2988,2,0)=FALSE,\"Falta (U.M.)\",VLOOKUP(A968,'Mapa de Preços'!$A$16:$B$2988,2,0))","v":"Falta (U.M.)"},"","",null,{"$f":"VLOOKUP(A968,'Mapa de Preços'!$A$16:$J$2988,10,0)","v":"Falta Orçamento"},"",null,941,null,0]
[942,{"$f":"IF(VLOOKUP(A969,'Mapa de Preços'!$A$16:$B$2988,2,0)=FALSE,\"Falta (U.M.)\",VLOOKUP(A969,'Mapa de Preços'!$A$16:$B$2988,2,0))","v":"Falta (U.M.)"},"","",null,{"$f":"VLOOKUP(A969,'Mapa de Preços'!$A$16:$J$2988,10,0)","v":"Falta Orçamento"},"",null,942,null,0]
[943,{"$f":"IF(VLOOKUP(A970,'Mapa de Preços'!$A$16:$B$2988,2,0)=FALSE,\"Falta (U.M.)\",VLOOKUP(A970,'Mapa de Preços'!$A$16:$B$2988,2,0))","v":"Falta (U.M.)"},"","",null,{"$f":"VLOOKUP(A970,'Mapa de Preços'!$A$16:$J$2988,10,0)","v":"Falta Orçamento"},"",null,943,null,0]
[944,{"$f":"IF(VLOOKUP(A971,'Mapa de Preços'!$A$16:$B$2988,2,0)=FALSE,\"Falta (U.M.)\",VLOOKUP(A971,'Mapa de Preços'!$A$16:$B$2988,2,0))","v":"Falta (U.M.)"},"","",null,{"$f":"VLOOKUP(A971,'Mapa de Preços'!$A$16:$J$2988,10,0)","v":"Falta Orçamento"},"",null,944,null,0]
[945,{"$f":"IF(VLOOKUP(A972,'Mapa de Preços'!$A$16:$B$2988,2,0)=FALSE,\"Falta (U.M.)\",VLOOKUP(A972,'Mapa de Preços'!$A$16:$B$2988,2,0))","v":"Falta (U.M.)"},"","",null,{"$f":"VLOOKUP(A972,'Mapa de Preços'!$A$16:$J$2988,10,0)","v":"Falta Orçamento"},"",null,945,null,0]
[946,{"$f":"IF(VLOOKUP(A973,'Mapa de Preços'!$A$16:$B$2988,2,0)=FALSE,\"Falta (U.M.)\",VLOOKUP(A973,'Mapa de Preços'!$A$16:$B$2988,2,0))","v":"Falta (U.M.)"},"","",null,{"$f":"VLOOKUP(A973,'Mapa de Preços'!$A$16:$J$2988,10,0)","v":"Falta Orçamento"},"",null,946,null,0]
[947,{"$f":"IF(VLOOKUP(A974,'Mapa de Preços'!$A$16:$B$2988,2,0)=FALSE,\"Falta (U.M.)\",VLOOKUP(A974,'Mapa de Preços'!$A$16:$B$2988,2,0))","v":"Falta (U.M.)"},"","",null,{"$f":"VLOOKUP(A974,'Mapa de Preços'!$A$16:$J$2988,10,0)","v":"Falta Orçamento"},"",null,947,null,0]
[948,{"$f":"IF(VLOOKUP(A975,'Mapa de Preços'!$A$16:$B$2988,2,0)=FALSE,\"Falta (U.M.)\",VLOOKUP(A975,'Mapa de Preços'!$A$16:$B$2988,2,0))","v":"Falta (U.M.)"},"","",null,{"$f":"VLOOKUP(A975,'Mapa de Preços'!$A$16:$J$2988,10,0)","v":"Falta Orçamento"},"",null,948,null,0]
[949,{"$f":"IF(VLOOKUP(A976,'Mapa de Preços'!$A$16:$B$2988,2,0)=FALSE,\"Falta (U.M.)\",VLOOKUP(A976,'Mapa de Preços'!$A$16:$B$2988,2,0))","v":"Falta (U.M.)"},"","",null,{"$f":"VLOOKUP(A976,'Mapa de Preços'!$A$16:$J$2988,10,0)","v":"Falta Orçamento"},"",null,949,null,0]
[950,{"$f":"IF(VLOOKUP(A977,'Mapa de Preços'!$A$16:$B$2988,2,0)=FALSE,\"Falta (U.M.)\",VLOOKUP(A977,'Mapa de Preços'!$A$16:$B$2988,2,0))","v":"Falta (U.M.)"},"","",null,{"$f":"VLOOKUP(A977,'Mapa de Preços'!$A$16:$J$2988,10,0)","v":"Falta Orçamento"},"",null,950,null,0]
[951,{"$f":"IF(VLOOKUP(A978,'Mapa de Preços'!$A$16:$B$2988,2,0)=FALSE,\"Falta (U.M.)\",VLOOKUP(A978,'Mapa de Preços'!$A$16:$B$2988,2,0))","v":"Falta (U.M.)"},"","",null,{"$f":"VLOOKUP(A978,'Mapa de Preços'!$A$16:$J$2988,10,0)","v":"Falta Orçamento"},"",null,951,null,0]
[952,{"$f":"IF(VLOOKUP(A979,'Mapa de Preços'!$A$16:$B$2988,2,0)=FALSE,\"Falta (U.M.)\",VLOOKUP(A979,'Mapa de Preços'!$A$16:$B$2988,2,0))","v":"Falta (U.M.)"},"","",null,{"$f":"VLOOKUP(A979,'Mapa de Preços'!$A$16:$J$2988,10,0)","v":"Falta Orçamento"},"",null,952,null,0]
[953,{"$f":"IF(VLOOKUP(A980,'Mapa de Preços'!$A$16:$B$2988,2,0)=FALSE,\"Falta (U.M.)\",VLOOKUP(A980,'Mapa de Preços'!$A$16:$B$2988,2,0))","v":"Falta (U.M.)"},"","",null,{"$f":"VLOOKUP(A980,'Mapa de Preços'!$A$16:$J$2988,10,0)","v":"Falta Orçamento"},"",null,953,null,0]
[954,{"$f":"IF(VLOOKUP(A981,'Mapa de Preços'!$A$16:$B$2988,2,0)=FALSE,\"Falta (U.M.)\",VLOOKUP(A981,'Mapa de Preços'!$A$16:$B$2988,2,0))","v":"Falta (U.M.)"},"","",null,{"$f":"VLOOKUP(A981,'Mapa de Preços'!$A$16:$J$2988,10,0)","v":"Falta Orçamento"},"",null,954,null,0]
[955,{"$f":"IF(VLOOKUP(A982,'Mapa de Preços'!$A$16:$B$2988,2,0)=FALSE,\"Falta (U.M.)\",VLOOKUP(A982,'Mapa de Preços'!$A$16:$B$2988,2,0))","v":"Falta (U.M.)"},"","",null,{"$f":"VLOOKUP(A982,'Mapa de Preços'!$A$16:$J$2988,10,0)","v":"Falta Orçamento"},"",null,955,null,0]
[956,{"$f":"IF(VLOOKUP(A983,'Mapa de Preços'!$A$16:$B$2988,2,0)=FALSE,\"Falta (U.M.)\",VLOOKUP(A983,'Mapa de Preços'!$A$16:$B$2988,2,0))","v":"Falta (U.M.)"},"","",null,{"$f":"VLOOKUP(A983,'Mapa de Preços'!$A$16:$J$2988,10,0)","v":"Falta Orçamento"},"",null,956,null,0]
[957,{"$f":"IF(VLOOKUP(A984,'Mapa de Preços'!$A$16:$B$2988,2,0)=FALSE,\"Falta (U.M.)\",VLOOKUP(A984,'Mapa de Preços'!$A$16:$B$2988,2,0))","v":"Falta (U.M.)"},"","",null,{"$f":"VLOOKUP(A984,'Mapa de Preços'!$A$16:$J$2988,10,0)","v":"Falta Orçamento"},"",null,957,null,0]
[958,{"$f":"IF(VLOOKUP(A985,'Mapa de Preços'!$A$16:$B$2988,2,0)=FALSE,\"Falta (U.M.)\",VLOOKUP(A985,'Mapa de Preços'!$A$16:$B$2988,2,0))","v":"Falta (U.M.)"},"","",null,{"$f":"VLOOKUP(A985,'Mapa de Preços'!$A$16:$J$2988,10,0)","v":"Falta Orçamento"},"",null,958,null,0]
[959,{"$f":"IF(VLOOKUP(A986,'Mapa de Preços'!$A$16:$B$2988,2,0)=FALSE,\"Falta (U.M.)\",VLOOKUP(A986,'Mapa de Preços'!$A$16:$B$2988,2,0))","v":"Falta (U.M.)"},"","",null,{"$f":"VLOOKUP(A986,'Mapa de Preços'!$A$16:$J$2988,10,0)","v":"Falta Orçamento"},"",null,959,null,0]
[960,{"$f":"IF(VLOOKUP(A987,'Mapa de Preços'!$A$16:$B$2988,2,0)=FALSE,\"Falta (U.M.)\",VLOOKUP(A987,'Mapa de Preços'!$A$16:$B$2988,2,0))","v":"Falta (U.M.)"},"","",null,{"$f":"VLOOKUP(A987,'Mapa de Preços'!$A$16:$J$2988,10,0)","v":"Falta Orçamento"},"",null,960,null,0]
[961,{"$f":"IF(VLOOKUP(A988,'Mapa de Preços'!$A$16:$B$2988,2,0)=FALSE,\"Falta (U.M.)\",VLOOKUP(A988,'Mapa de Preços'!$A$16:$B$2988,2,0))","v":"Falta (U.M.)"},"","",null,{"$f":"VLOOKUP(A988,'Mapa de Preços'!$A$16:$J$2988,10,0)","v":"Falta Orçamento"},"",null,961,null,{"$f":"SUM(L988:AI988)","v":0}]
[962,{"$f":"IF(VLOOKUP(A989,'Mapa de Preços'!$A$16:$B$2988,2,0)=FALSE,\"Falta (U.M.)\",VLOOKUP(A989,'Mapa de Preços'!$A$16:$B$2988,2,0))","v":"Falta (U.M.)"},{"$f":"IF(J989<>\"\",J989,\"\")","v":""},{"$f":"IF(VLOOKUP(A989,$I$28:$AI$3000,$G$26,FALSE)<>\"\",VLOOKUP(A989,$I$28:$AI$3000,$G$26,FALSE),\"\")","v":""},null,{"$f":"VLOOKUP(A989,'Mapa de Preços'!$A$16:$J$2988,10,0)","v":"Falta Orçamento"},{"$f":"IF(F989=\"Falta Orçamento\",\"\",F989*D989)","v":""},null,962,null,0]
[963,{"$f":"IF(VLOOKUP(A990,'Mapa de Preços'!$A$16:$B$2988,2,0)=FALSE,\"Falta (U.M.)\",VLOOKUP(A990,'Mapa de Preços'!$A$16:$B$2988,2,0))","v":"Falta (U.M.)"},"","",null,{"$f":"VLOOKUP(A990,'Mapa de Preços'!$A$16:$J$2988,10,0)","v":"Falta Orçamento"},"",null,963,null,0]
[964,{"$f":"IF(VLOOKUP(A991,'Mapa de Preços'!$A$16:$B$2988,2,0)=FALSE,\"Falta (U.M.)\",VLOOKUP(A991,'Mapa de Preços'!$A$16:$B$2988,2,0))","v":"Falta (U.M.)"},"","",null,{"$f":"VLOOKUP(A991,'Mapa de Preços'!$A$16:$J$2988,10,0)","v":"Falta Orçamento"},"",null,964,null,0]
[965,{"$f":"IF(VLOOKUP(A992,'Mapa de Preços'!$A$16:$B$2988,2,0)=FALSE,\"Falta (U.M.)\",VLOOKUP(A992,'Mapa de Preços'!$A$16:$B$2988,2,0))","v":"Falta (U.M.)"},"","",null,{"$f":"VLOOKUP(A992,'Mapa de Preços'!$A$16:$J$2988,10,0)","v":"Falta Orçamento"},"",null,965,null,0]
[966,{"$f":"IF(VLOOKUP(A993,'Mapa de Preços'!$A$16:$B$2988,2,0)=FALSE,\"Falta (U.M.)\",VLOOKUP(A993,'Mapa de Preços'!$A$16:$B$2988,2,0))","v":"Falta (U.M.)"},"","",null,{"$f":"VLOOKUP(A993,'Mapa de Preços'!$A$16:$J$2988,10,0)","v":"Falta Orçamento"},"",null,966,null,0]
[967,{"$f":"IF(VLOOKUP(A994,'Mapa de Preços'!$A$16:$B$2988,2,0)=FALSE,\"Falta (U.M.)\",VLOOKUP(A994,'Mapa de Preços'!$A$16:$B$2988,2,0))","v":"Falta (U.M.)"},"","",null,{"$f":"VLOOKUP(A994,'Mapa de Preços'!$A$16:$J$2988,10,0)","v":"Falta Orçamento"},"",null,967,null,0]
[968,{"$f":"IF(VLOOKUP(A995,'Mapa de Preços'!$A$16:$B$2988,2,0)=FALSE,\"Falta (U.M.)\",VLOOKUP(A995,'Mapa de Preços'!$A$16:$B$2988,2,0))","v":"Falta (U.M.)"},"","",null,{"$f":"VLOOKUP(A995,'Mapa de Preços'!$A$16:$J$2988,10,0)","v":"Falta Orçamento"},"",null,968,null,0]
[969,{"$f":"IF(VLOOKUP(A996,'Mapa de Preços'!$A$16:$B$2988,2,0)=FALSE,\"Falta (U.M.)\",VLOOKUP(A996,'Mapa de Preços'!$A$16:$B$2988,2,0))","v":"Falta (U.M.)"},"","",null,{"$f":"VLOOKUP(A996,'Mapa de Preços'!$A$16:$J$2988,10,0)","v":"Falta Orçamento"},"",null,969,null,0]
[970,{"$f":"IF(VLOOKUP(A997,'Mapa de Preços'!$A$16:$B$2988,2,0)=FALSE,\"Falta (U.M.)\",VLOOKUP(A997,'Mapa de Preços'!$A$16:$B$2988,2,0))","v":"Falta (U.M.)"},"","",null,{"$f":"VLOOKUP(A997,'Mapa de Preços'!$A$16:$J$2988,10,0)","v":"Falta Orçamento"},"",null,970,null,0]
[971,{"$f":"IF(VLOOKUP(A998,'Mapa de Preços'!$A$16:$B$2988,2,0)=FALSE,\"Falta (U.M.)\",VLOOKUP(A998,'Mapa de Preços'!$A$16:$B$2988,2,0))","v":"Falta (U.M.)"},"","",null,{"$f":"VLOOKUP(A998,'Mapa de Preços'!$A$16:$J$2988,10,0)","v":"Falta Orçamento"},"",null,971,null,0]
[972,{"$f":"IF(VLOOKUP(A999,'Mapa de Preços'!$A$16:$B$2988,2,0)=FALSE,\"Falta (U.M.)\",VLOOKUP(A999,'Mapa de Preços'!$A$16:$B$2988,2,0))","v":"Falta (U.M.)"},"","",null,{"$f":"VLOOKUP(A999,'Mapa de Preços'!$A$16:$J$2988,10,0)","v":"Falta Orçamento"},"",null,972,null,0]
[973,{"$f":"IF(VLOOKUP(A1000,'Mapa de Preços'!$A$16:$B$2988,2,0)=FALSE,\"Falta (U.M.)\",VLOOKUP(A1000,'Mapa de Preços'!$A$16:$B$2988,2,0))","v":"Falta (U.M.)"},"","",null,{"$f":"VLOOKUP(A1000,'Mapa de Preços'!$A$16:$J$2988,10,0)","v":"Falta Orçamento"},"",null,973,null,0]
[974,{"$f":"IF(VLOOKUP(A1001,'Mapa de Preços'!$A$16:$B$2988,2,0)=FALSE,\"Falta (U.M.)\",VLOOKUP(A1001,'Mapa de Preços'!$A$16:$B$2988,2,0))","v":"Falta (U.M.)"},"","",null,{"$f":"VLOOKUP(A1001,'Mapa de Preços'!$A$16:$J$2988,10,0)","v":"Falta Orçamento"},"",null,974,null,0]
[975,{"$f":"IF(VLOOKUP(A1002,'Mapa de Preços'!$A$16:$B$2988,2,0)=FALSE,\"Falta (U.M.)\",VLOOKUP(A1002,'Mapa de Preços'!$A$16:$B$2988,2,0))","v":"Falta (U.M.)"},"","",null,{"$f":"VLOOKUP(A1002,'Mapa de Preços'!$A$16:$J$2988,10,0)","v":"Falta Orçamento"},"",null,975,null,0]
[976,{"$f":"IF(VLOOKUP(A1003,'Mapa de Preços'!$A$16:$B$2988,2,0)=FALSE,\"Falta (U.M.)\",VLOOKUP(A1003,'Mapa de Preços'!$A$16:$B$2988,2,0))","v":"Falta (U.M.)"},"","",null,{"$f":"VLOOKUP(A1003,'Mapa de Preços'!$A$16:$J$2988,10,0)","v":"Falta Orçamento"},"",null,976,null,0]
[977,{"$f":"IF(VLOOKUP(A1004,'Mapa de Preços'!$A$16:$B$2988,2,0)=FALSE,\"Falta (U.M.)\",VLOOKUP(A1004,'Mapa de Preços'!$A$16:$B$2988,2,0))","v":"Falta (U.M.)"},"","",null,{"$f":"VLOOKUP(A1004,'Mapa de Preços'!$A$16:$J$2988,10,0)","v":"Falta Orçamento"},"",null,977,null,0]
[978,{"$f":"IF(VLOOKUP(A1005,'Mapa de Preços'!$A$16:$B$2988,2,0)=FALSE,\"Falta (U.M.)\",VLOOKUP(A1005,'Mapa de Preços'!$A$16:$B$2988,2,0))","v":"Falta (U.M.)"},"","",null,{"$f":"VLOOKUP(A1005,'Mapa de Preços'!$A$16:$J$2988,10,0)","v":"Falta Orçamento"},"",null,978,null,0]
[979,{"$f":"IF(VLOOKUP(A1006,'Mapa de Preços'!$A$16:$B$2988,2,0)=FALSE,\"Falta (U.M.)\",VLOOKUP(A1006,'Mapa de Preços'!$A$16:$B$2988,2,0))","v":"Falta (U.M.)"},"","",null,{"$f":"VLOOKUP(A1006,'Mapa de Preços'!$A$16:$J$2988,10,0)","v":"Falta Orçamento"},"",null,979,null,0]
[980,{"$f":"IF(VLOOKUP(A1007,'Mapa de Preços'!$A$16:$B$2988,2,0)=FALSE,\"Falta (U.M.)\",VLOOKUP(A1007,'Mapa de Preços'!$A$16:$B$2988,2,0))","v":"Falta (U.M.)"},"","",null,{"$f":"VLOOKUP(A1007,'Mapa de Preços'!$A$16:$J$2988,10,0)","v":"Falta Orçamento"},"",null,980,null,0]
[981,{"$f":"IF(VLOOKUP(A1008,'Mapa de Preços'!$A$16:$B$2988,2,0)=FALSE,\"Falta (U.M.)\",VLOOKUP(A1008,'Mapa de Preços'!$A$16:$B$2988,2,0))","v":"Falta (U.M.)"},"","",null,{"$f":"VLOOKUP(A1008,'Mapa de Preços'!$A$16:$J$2988,10,0)","v":"Falta Orçamento"},"",null,981,null,0]
[982,{"$f":"IF(VLOOKUP(A1009,'Mapa de Preços'!$A$16:$B$2988,2,0)=FALSE,\"Falta (U.M.)\",VLOOKUP(A1009,'Mapa de Preços'!$A$16:$B$2988,2,0))","v":"Falta (U.M.)"},"","",null,{"$f":"VLOOKUP(A1009,'Mapa de Preços'!$A$16:$J$2988,10,0)","v":"Falta Orçamento"},"",null,982,null,0]
[983,{"$f":"IF(VLOOKUP(A1010,'Mapa de Preços'!$A$16:$B$2988,2,0)=FALSE,\"Falta (U.M.)\",VLOOKUP(A1010,'Mapa de Preços'!$A$16:$B$2988,2,0))","v":"Falta (U.M.)"},"","",null,{"$f":"VLOOKUP(A1010,'Mapa de Preços'!$A$16:$J$2988,10,0)","v":"Falta Orçamento"},"",null,983,null,0]
[984,{"$f":"IF(VLOOKUP(A1011,'Mapa de Preços'!$A$16:$B$2988,2,0)=FALSE,\"Falta (U.M.)\",VLOOKUP(A1011,'Mapa de Preços'!$A$16:$B$2988,2,0))","v":"Falta (U.M.)"},"","",null,{"$f":"VLOOKUP(A1011,'Mapa de Preços'!$A$16:$J$2988,10,0)","v":"Falta Orçamento"},"",null,984,null,0]
[985,{"$f":"IF(VLOOKUP(A1012,'Mapa de Preços'!$A$16:$B$2988,2,0)=FALSE,\"Falta (U.M.)\",VLOOKUP(A1012,'Mapa de Preços'!$A$16:$B$2988,2,0))","v":"Falta (U.M.)"},"","",null,{"$f":"VLOOKUP(A1012,'Mapa de Preços'!$A$16:$J$2988,10,0)","v":"Falta Orçamento"},"",null,985,null,0]
[986,{"$f":"IF(VLOOKUP(A1013,'Mapa de Preços'!$A$16:$B$2988,2,0)=FALSE,\"Falta (U.M.)\",VLOOKUP(A1013,'Mapa de Preços'!$A$16:$B$2988,2,0))","v":"Falta (U.M.)"},"","",null,{"$f":"VLOOKUP(A1013,'Mapa de Preços'!$A$16:$J$2988,10,0)","v":"Falta Orçamento"},"",null,986,null,0]
[987,{"$f":"IF(VLOOKUP(A1014,'Mapa de Preços'!$A$16:$B$2988,2,0)=FALSE,\"Falta (U.M.)\",VLOOKUP(A1014,'Mapa de Preços'!$A$16:$B$2988,2,0))","v":"Falta (U.M.)"},"","",null,{"$f":"VLOOKUP(A1014,'Mapa de Preços'!$A$16:$J$2988,10,0)","v":"Falta Orçamento"},"",null,987,null,0]
[988,{"$f":"IF(VLOOKUP(A1015,'Mapa de Preços'!$A$16:$B$2988,2,0)=FALSE,\"Falta (U.M.)\",VLOOKUP(A1015,'Mapa de Preços'!$A$16:$B$2988,2,0))","v":"Falta (U.M.)"},"","",null,{"$f":"VLOOKUP(A1015,'Mapa de Preços'!$A$16:$J$2988,10,0)","v":"Falta Orçamento"},"",null,988,null,0]
[989,{"$f":"IF(VLOOKUP(A1016,'Mapa de Preços'!$A$16:$B$2988,2,0)=FALSE,\"Falta (U.M.)\",VLOOKUP(A1016,'Mapa de Preços'!$A$16:$B$2988,2,0))","v":"Falta (U.M.)"},"","",null,{"$f":"VLOOKUP(A1016,'Mapa de Preços'!$A$16:$J$2988,10,0)","v":"Falta Orçamento"},"",null,989,null,0]
[990,{"$f":"IF(VLOOKUP(A1017,'Mapa de Preços'!$A$16:$B$2988,2,0)=FALSE,\"Falta (U.M.)\",VLOOKUP(A1017,'Mapa de Preços'!$A$16:$B$2988,2,0))","v":"Falta (U.M.)"},"","",null,{"$f":"VLOOKUP(A1017,'Mapa de Preços'!$A$16:$J$2988,10,0)","v":"Falta Orçamento"},"",null,990,null,0]
[991,{"$f":"IF(VLOOKUP(A1018,'Mapa de Preços'!$A$16:$B$2988,2,0)=FALSE,\"Falta (U.M.)\",VLOOKUP(A1018,'Mapa de Preços'!$A$16:$B$2988,2,0))","v":"Falta (U.M.)"},"","",null,{"$f":"VLOOKUP(A1018,'Mapa de Preços'!$A$16:$J$2988,10,0)","v":"Falta Orçamento"},"",null,991,null,0]
[992,{"$f":"IF(VLOOKUP(A1019,'Mapa de Preços'!$A$16:$B$2988,2,0)=FALSE,\"Falta (U.M.)\",VLOOKUP(A1019,'Mapa de Preços'!$A$16:$B$2988,2,0))","v":"Falta (U.M.)"},"","",null,{"$f":"VLOOKUP(A1019,'Mapa de Preços'!$A$16:$J$2988,10,0)","v":"Falta Orçamento"},"",null,992,null,0]
[993,{"$f":"IF(VLOOKUP(A1020,'Mapa de Preços'!$A$16:$B$2988,2,0)=FALSE,\"Falta (U.M.)\",VLOOKUP(A1020,'Mapa de Preços'!$A$16:$B$2988,2,0))","v":"Falta (U.M.)"},"","",null,{"$f":"VLOOKUP(A1020,'Mapa de Preços'!$A$16:$J$2988,10,0)","v":"Falta Orçamento"},"",null,993,null,0]
[994,{"$f":"IF(VLOOKUP(A1021,'Mapa de Preços'!$A$16:$B$2988,2,0)=FALSE,\"Falta (U.M.)\",VLOOKUP(A1021,'Mapa de Preços'!$A$16:$B$2988,2,0))","v":"Falta (U.M.)"},"","",null,{"$f":"VLOOKUP(A1021,'Mapa de Preços'!$A$16:$J$2988,10,0)","v":"Falta Orçamento"},"",null,994,null,0]
[995,{"$f":"IF(VLOOKUP(A1022,'Mapa de Preços'!$A$16:$B$2988,2,0)=FALSE,\"Falta (U.M.)\",VLOOKUP(A1022,'Mapa de Preços'!$A$16:$B$2988,2,0))","v":"Falta (U.M.)"},"","",null,{"$f":"VLOOKUP(A1022,'Mapa de Preços'!$A$16:$J$2988,10,0)","v":"Falta Orçamento"},"",null,995,null,0]
[996,{"$f":"IF(VLOOKUP(A1023,'Mapa de Preços'!$A$16:$B$2988,2,0)=FALSE,\"Falta (U.M.)\",VLOOKUP(A1023,'Mapa de Preços'!$A$16:$B$2988,2,0))","v":"Falta (U.M.)"},"","",null,{"$f":"VLOOKUP(A1023,'Mapa de Preços'!$A$16:$J$2988,10,0)","v":"Falta Orçamento"},"",null,996,null,0]
[997,{"$f":"IF(VLOOKUP(A1024,'Mapa de Preços'!$A$16:$B$2988,2,0)=FALSE,\"Falta (U.M.)\",VLOOKUP(A1024,'Mapa de Preços'!$A$16:$B$2988,2,0))","v":"Falta (U.M.)"},"","",null,{"$f":"VLOOKUP(A1024,'Mapa de Preços'!$A$16:$J$2988,10,0)","v":"Falta Orçamento"},"",null,997,null,0]
[998,{"$f":"IF(VLOOKUP(A1025,'Mapa de Preços'!$A$16:$B$2988,2,0)=FALSE,\"Falta (U.M.)\",VLOOKUP(A1025,'Mapa de Preços'!$A$16:$B$2988,2,0))","v":"Falta (U.M.)"},"","",null,{"$f":"VLOOKUP(A1025,'Mapa de Preços'!$A$16:$J$2988,10,0)","v":"Falta Orçamento"},"",null,998,null,0]
[999,{"$f":"IF(VLOOKUP(A1026,'Mapa de Preços'!$A$16:$B$2988,2,0)=FALSE,\"Falta (U.M.)\",VLOOKUP(A1026,'Mapa de Preços'!$A$16:$B$2988,2,0))","v":"Falta (U.M.)"},"","",null,{"$f":"VLOOKUP(A1026,'Mapa de Preços'!$A$16:$J$2988,10,0)","v":"Falta Orçamento"},"",null,999,null,0]
[1000,{"$f":"IF(VLOOKUP(A1027,'Mapa de Preços'!$A$16:$B$2988,2,0)=FALSE,\"Falta (U.M.)\",VLOOKUP(A1027,'Mapa de Preços'!$A$16:$B$2988,2,0))","v":"Falta (U.M.)"},"","",null,{"$f":"VLOOKUP(A1027,'Mapa de Preços'!$A$16:$J$2988,10,0)","v":"Falta Orçamento"},"",null,1000,null,0]
[1001,{"$f":"IF(VLOOKUP(A1028,'Mapa de Preços'!$A$16:$B$2988,2,0)=FALSE,\"Falta (U.M.)\",VLOOKUP(A1028,'Mapa de Preços'!$A$16:$B$2988,2,0))","v":"Falta (U.M.)"},"","",null,{"$f":"VLOOKUP(A1028,'Mapa de Preços'!$A$16:$J$2988,10,0)","v":"Falta Orçamento"},"",null,1001,null,0]
[1002,{"$f":"IF(VLOOKUP(A1029,'Mapa de Preços'!$A$16:$B$2988,2,0)=FALSE,\"Falta (U.M.)\",VLOOKUP(A1029,'Mapa de Preços'!$A$16:$B$2988,2,0))","v":"Falta (U.M.)"},"","",null,{"$f":"VLOOKUP(A1029,'Mapa de Preços'!$A$16:$J$2988,10,0)","v":"Falta Orçamento"},"",null,1002,null,0]
[1003,{"$f":"IF(VLOOKUP(A1030,'Mapa de Preços'!$A$16:$B$2988,2,0)=FALSE,\"Falta (U.M.)\",VLOOKUP(A1030,'Mapa de Preços'!$A$16:$B$2988,2,0))","v":"Falta (U.M.)"},"","",null,{"$f":"VLOOKUP(A1030,'Mapa de Preços'!$A$16:$J$2988,10,0)","v":"Falta Orçamento"},"",null,1003,null,0]
[1004,{"$f":"IF(VLOOKUP(A1031,'Mapa de Preços'!$A$16:$B$2988,2,0)=FALSE,\"Falta (U.M.)\",VLOOKUP(A1031,'Mapa de Preços'!$A$16:$B$2988,2,0))","v":"Falta (U.M.)"},"","",null,{"$f":"VLOOKUP(A1031,'Mapa de Preços'!$A$16:$J$2988,10,0)","v":"Falta Orçamento"},"",null,1004,null,0]
[1005,{"$f":"IF(VLOOKUP(A1032,'Mapa de Preços'!$A$16:$B$2988,2,0)=FALSE,\"Falta (U.M.)\",VLOOKUP(A1032,'Mapa de Preços'!$A$16:$B$2988,2,0))","v":"Falta (U.M.)"},"","",null,{"$f":"VLOOKUP(A1032,'Mapa de Preços'!$A$16:$J$2988,10,0)","v":"Falta Orçamento"},"",null,1005,null,0]
[1006,{"$f":"IF(VLOOKUP(A1033,'Mapa de Preços'!$A$16:$B$2988,2,0)=FALSE,\"Falta (U.M.)\",VLOOKUP(A1033,'Mapa de Preços'!$A$16:$B$2988,2,0))","v":"Falta (U.M.)"},"","",null,{"$f":"VLOOKUP(A1033,'Mapa de Preços'!$A$16:$J$2988,10,0)","v":"Falta Orçamento"},"",null,1006,null,0]
[1007,{"$f":"IF(VLOOKUP(A1034,'Mapa de Preços'!$A$16:$B$2988,2,0)=FALSE,\"Falta (U.M.)\",VLOOKUP(A1034,'Mapa de Preços'!$A$16:$B$2988,2,0))","v":"Falta (U.M.)"},"","",null,{"$f":"VLOOKUP(A1034,'Mapa de Preços'!$A$16:$J$2988,10,0)","v":"Falta Orçamento"},"",null,1007,null,0]
[1008,{"$f":"IF(VLOOKUP(A1035,'Mapa de Preços'!$A$16:$B$2988,2,0)=FALSE,\"Falta (U.M.)\",VLOOKUP(A1035,'Mapa de Preços'!$A$16:$B$2988,2,0))","v":"Falta (U.M.)"},"","",null,{"$f":"VLOOKUP(A1035,'Mapa de Preços'!$A$16:$J$2988,10,0)","v":"Falta Orçamento"},"",null,1008,null,0]
[1009,{"$f":"IF(VLOOKUP(A1036,'Mapa de Preços'!$A$16:$B$2988,2,0)=FALSE,\"Falta (U.M.)\",VLOOKUP(A1036,'Mapa de Preços'!$A$16:$B$2988,2,0))","v":"Falta (U.M.)"},"","",null,{"$f":"VLOOKUP(A1036,'Mapa de Preços'!$A$16:$J$2988,10,0)","v":"Falta Orçamento"},"",null,1009,null,0]
[1010,{"$f":"IF(VLOOKUP(A1037,'Mapa de Preços'!$A$16:$B$2988,2,0)=FALSE,\"Falta (U.M.)\",VLOOKUP(A1037,'Mapa de Preços'!$A$16:$B$2988,2,0))","v":"Falta (U.M.)"},"","",null,{"$f":"VLOOKUP(A1037,'Mapa de Preços'!$A$16:$J$2988,10,0)","v":"Falta Orçamento"},"",null,1010,null,0]
[1011,{"$f":"IF(VLOOKUP(A1038,'Mapa de Preços'!$A$16:$B$2988,2,0)=FALSE,\"Falta (U.M.)\",VLOOKUP(A1038,'Mapa de Preços'!$A$16:$B$2988,2,0))","v":"Falta (U.M.)"},"","",null,{"$f":"VLOOKUP(A1038,'Mapa de Preços'!$A$16:$J$2988,10,0)","v":"Falta Orçamento"},"",null,1011,null,0]
[1012,{"$f":"IF(VLOOKUP(A1039,'Mapa de Preços'!$A$16:$B$2988,2,0)=FALSE,\"Falta (U.M.)\",VLOOKUP(A1039,'Mapa de Preços'!$A$16:$B$2988,2,0))","v":"Falta (U.M.)"},"","",null,{"$f":"VLOOKUP(A1039,'Mapa de Preços'!$A$16:$J$2988,10,0)","v":"Falta Orçamento"},"",null,1012,null,0]
[1013,{"$f":"IF(VLOOKUP(A1040,'Mapa de Preços'!$A$16:$B$2988,2,0)=FALSE,\"Falta (U.M.)\",VLOOKUP(A1040,'Mapa de Preços'!$A$16:$B$2988,2,0))","v":"Falta (U.M.)"},"","",null,{"$f":"VLOOKUP(A1040,'Mapa de Preços'!$A$16:$J$2988,10,0)","v":"Falta Orçamento"},"",null,1013,null,0]
[1014,{"$f":"IF(VLOOKUP(A1041,'Mapa de Preços'!$A$16:$B$2988,2,0)=FALSE,\"Falta (U.M.)\",VLOOKUP(A1041,'Mapa de Preços'!$A$16:$B$2988,2,0))","v":"Falta (U.M.)"},"","",null,{"$f":"VLOOKUP(A1041,'Mapa de Preços'!$A$16:$J$2988,10,0)","v":"Falta Orçamento"},"",null,1014,null,0]
[1015,{"$f":"IF(VLOOKUP(A1042,'Mapa de Preços'!$A$16:$B$2988,2,0)=FALSE,\"Falta (U.M.)\",VLOOKUP(A1042,'Mapa de Preços'!$A$16:$B$2988,2,0))","v":"Falta (U.M.)"},"","",null,{"$f":"VLOOKUP(A1042,'Mapa de Preços'!$A$16:$J$2988,10,0)","v":"Falta Orçamento"},"",null,1015,null,0]
[1016,{"$f":"IF(VLOOKUP(A1043,'Mapa de Preços'!$A$16:$B$2988,2,0)=FALSE,\"Falta (U.M.)\",VLOOKUP(A1043,'Mapa de Preços'!$A$16:$B$2988,2,0))","v":"Falta (U.M.)"},"","",null,{"$f":"VLOOKUP(A1043,'Mapa de Preços'!$A$16:$J$2988,10,0)","v":"Falta Orçamento"},"",null,1016,null,0]
[1017,{"$f":"IF(VLOOKUP(A1044,'Mapa de Preços'!$A$16:$B$2988,2,0)=FALSE,\"Falta (U.M.)\",VLOOKUP(A1044,'Mapa de Preços'!$A$16:$B$2988,2,0))","v":"Falta (U.M.)"},"","",null,{"$f":"VLOOKUP(A1044,'Mapa de Preços'!$A$16:$J$2988,10,0)","v":"Falta Orçamento"},"",null,1017,null,0]
[1018,{"$f":"IF(VLOOKUP(A1045,'Mapa de Preços'!$A$16:$B$2988,2,0)=FALSE,\"Falta (U.M.)\",VLOOKUP(A1045,'Mapa de Preços'!$A$16:$B$2988,2,0))","v":"Falta (U.M.)"},"","",null,{"$f":"VLOOKUP(A1045,'Mapa de Preços'!$A$16:$J$2988,10,0)","v":"Falta Orçamento"},"",null,1018,null,0]
[1019,{"$f":"IF(VLOOKUP(A1046,'Mapa de Preços'!$A$16:$B$2988,2,0)=FALSE,\"Falta (U.M.)\",VLOOKUP(A1046,'Mapa de Preços'!$A$16:$B$2988,2,0))","v":"Falta (U.M.)"},"","",null,{"$f":"VLOOKUP(A1046,'Mapa de Preços'!$A$16:$J$2988,10,0)","v":"Falta Orçamento"},"",null,1019,null,0]
[1020,{"$f":"IF(VLOOKUP(A1047,'Mapa de Preços'!$A$16:$B$2988,2,0)=FALSE,\"Falta (U.M.)\",VLOOKUP(A1047,'Mapa de Preços'!$A$16:$B$2988,2,0))","v":"Falta (U.M.)"},"","",null,{"$f":"VLOOKUP(A1047,'Mapa de Preços'!$A$16:$J$2988,10,0)","v":"Falta Orçamento"},"",null,1020,null,0]
[1021,{"$f":"IF(VLOOKUP(A1048,'Mapa de Preços'!$A$16:$B$2988,2,0)=FALSE,\"Falta (U.M.)\",VLOOKUP(A1048,'Mapa de Preços'!$A$16:$B$2988,2,0))","v":"Falta (U.M.)"},"","",null,{"$f":"VLOOKUP(A1048,'Mapa de Preços'!$A$16:$J$2988,10,0)","v":"Falta Orçamento"},"",null,1021,null,0]
[1022,{"$f":"IF(VLOOKUP(A1049,'Mapa de Preços'!$A$16:$B$2988,2,0)=FALSE,\"Falta (U.M.)\",VLOOKUP(A1049,'Mapa de Preços'!$A$16:$B$2988,2,0))","v":"Falta (U.M.)"},"","",null,{"$f":"VLOOKUP(A1049,'Mapa de Preços'!$A$16:$J$2988,10,0)","v":"Falta Orçamento"},"",null,1022,null,0]
[1023,{"$f":"IF(VLOOKUP(A1050,'Mapa de Preços'!$A$16:$B$2988,2,0)=FALSE,\"Falta (U.M.)\",VLOOKUP(A1050,'Mapa de Preços'!$A$16:$B$2988,2,0))","v":"Falta (U.M.)"},"","",null,{"$f":"VLOOKUP(A1050,'Mapa de Preços'!$A$16:$J$2988,10,0)","v":"Falta Orçamento"},"",null,1023,null,0]
[1024,{"$f":"IF(VLOOKUP(A1051,'Mapa de Preços'!$A$16:$B$2988,2,0)=FALSE,\"Falta (U.M.)\",VLOOKUP(A1051,'Mapa de Preços'!$A$16:$B$2988,2,0))","v":"Falta (U.M.)"},"","",null,{"$f":"VLOOKUP(A1051,'Mapa de Preços'!$A$16:$J$2988,10,0)","v":"Falta Orçamento"},"",null,1024,null,0]
[1025,{"$f":"IF(VLOOKUP(A1052,'Mapa de Preços'!$A$16:$B$2988,2,0)=FALSE,\"Falta (U.M.)\",VLOOKUP(A1052,'Mapa de Preços'!$A$16:$B$2988,2,0))","v":"Falta (U.M.)"},"","",null,{"$f":"VLOOKUP(A1052,'Mapa de Preços'!$A$16:$J$2988,10,0)","v":"Falta Orçamento"},"",null,1025,null,{"$f":"SUM(L1052:AI1052)","v":0}]
[1026,{"$f":"IF(VLOOKUP(A1053,'Mapa de Preços'!$A$16:$B$2988,2,0)=FALSE,\"Falta (U.M.)\",VLOOKUP(A1053,'Mapa de Preços'!$A$16:$B$2988,2,0))","v":"Falta (U.M.)"},{"$f":"IF(J1053<>\"\",J1053,\"\")","v":""},{"$f":"IF(VLOOKUP(A1053,$I$28:$AI$3000,$G$26,FALSE)<>\"\",VLOOKUP(A1053,$I$28:$AI$3000,$G$26,FALSE),\"\")","v":""},null,{"$f":"VLOOKUP(A1053,'Mapa de Preços'!$A$16:$J$2988,10,0)","v":"Falta Orçamento"},{"$f":"IF(F1053=\"Falta Orçamento\",\"\",F1053*D1053)","v":""},null,1026,null,0]
[1027,{"$f":"IF(VLOOKUP(A1054,'Mapa de Preços'!$A$16:$B$2988,2,0)=FALSE,\"Falta (U.M.)\",VLOOKUP(A1054,'Mapa de Preços'!$A$16:$B$2988,2,0))","v":"Falta (U.M.)"},"","",null,{"$f":"VLOOKUP(A1054,'Mapa de Preços'!$A$16:$J$2988,10,0)","v":"Falta Orçamento"},"",null,1027,null,0]
[1028,{"$f":"IF(VLOOKUP(A1055,'Mapa de Preços'!$A$16:$B$2988,2,0)=FALSE,\"Falta (U.M.)\",VLOOKUP(A1055,'Mapa de Preços'!$A$16:$B$2988,2,0))","v":"Falta (U.M.)"},"","",null,{"$f":"VLOOKUP(A1055,'Mapa de Preços'!$A$16:$J$2988,10,0)","v":"Falta Orçamento"},"",null,1028,null,0]
[1029,{"$f":"IF(VLOOKUP(A1056,'Mapa de Preços'!$A$16:$B$2988,2,0)=FALSE,\"Falta (U.M.)\",VLOOKUP(A1056,'Mapa de Preços'!$A$16:$B$2988,2,0))","v":"Falta (U.M.)"},"","",null,{"$f":"VLOOKUP(A1056,'Mapa de Preços'!$A$16:$J$2988,10,0)","v":"Falta Orçamento"},"",null,1029,null,0]
[1030,{"$f":"IF(VLOOKUP(A1057,'Mapa de Preços'!$A$16:$B$2988,2,0)=FALSE,\"Falta (U.M.)\",VLOOKUP(A1057,'Mapa de Preços'!$A$16:$B$2988,2,0))","v":"Falta (U.M.)"},"","",null,{"$f":"VLOOKUP(A1057,'Mapa de Preços'!$A$16:$J$2988,10,0)","v":"Falta Orçamento"},"",null,1030,null,0]
[1031,{"$f":"IF(VLOOKUP(A1058,'Mapa de Preços'!$A$16:$B$2988,2,0)=FALSE,\"Falta (U.M.)\",VLOOKUP(A1058,'Mapa de Preços'!$A$16:$B$2988,2,0))","v":"Falta (U.M.)"},"","",null,{"$f":"VLOOKUP(A1058,'Mapa de Preços'!$A$16:$J$2988,10,0)","v":"Falta Orçamento"},"",null,1031,null,0]
[1032,{"$f":"IF(VLOOKUP(A1059,'Mapa de Preços'!$A$16:$B$2988,2,0)=FALSE,\"Falta (U.M.)\",VLOOKUP(A1059,'Mapa de Preços'!$A$16:$B$2988,2,0))","v":"Falta (U.M.)"},"","",null,{"$f":"VLOOKUP(A1059,'Mapa de Preços'!$A$16:$J$2988,10,0)","v":"Falta Orçamento"},"",null,1032,null,0]
[1033,{"$f":"IF(VLOOKUP(A1060,'Mapa de Preços'!$A$16:$B$2988,2,0)=FALSE,\"Falta (U.M.)\",VLOOKUP(A1060,'Mapa de Preços'!$A$16:$B$2988,2,0))","v":"Falta (U.M.)"},"","",null,{"$f":"VLOOKUP(A1060,'Mapa de Preços'!$A$16:$J$2988,10,0)","v":"Falta Orçamento"},"",null,1033,null,0]
[1034,{"$f":"IF(VLOOKUP(A1061,'Mapa de Preços'!$A$16:$B$2988,2,0)=FALSE,\"Falta (U.M.)\",VLOOKUP(A1061,'Mapa de Preços'!$A$16:$B$2988,2,0))","v":"Falta (U.M.)"},"","",null,{"$f":"VLOOKUP(A1061,'Mapa de Preços'!$A$16:$J$2988,10,0)","v":"Falta Orçamento"},"",null,1034,null,0]
[1035,{"$f":"IF(VLOOKUP(A1062,'Mapa de Preços'!$A$16:$B$2988,2,0)=FALSE,\"Falta (U.M.)\",VLOOKUP(A1062,'Mapa de Preços'!$A$16:$B$2988,2,0))","v":"Falta (U.M.)"},"","",null,{"$f":"VLOOKUP(A1062,'Mapa de Preços'!$A$16:$J$2988,10,0)","v":"Falta Orçamento"},"",null,1035,null,0]
[1036,{"$f":"IF(VLOOKUP(A1063,'Mapa de Preços'!$A$16:$B$2988,2,0)=FALSE,\"Falta (U.M.)\",VLOOKUP(A1063,'Mapa de Preços'!$A$16:$B$2988,2,0))","v":"Falta (U.M.)"},"","",null,{"$f":"VLOOKUP(A1063,'Mapa de Preços'!$A$16:$J$2988,10,0)","v":"Falta Orçamento"},"",null,1036,null,0]
[1037,{"$f":"IF(VLOOKUP(A1064,'Mapa de Preços'!$A$16:$B$2988,2,0)=FALSE,\"Falta (U.M.)\",VLOOKUP(A1064,'Mapa de Preços'!$A$16:$B$2988,2,0))","v":"Falta (U.M.)"},"","",null,{"$f":"VLOOKUP(A1064,'Mapa de Preços'!$A$16:$J$2988,10,0)","v":"Falta Orçamento"},"",null,1037,null,0]
[1038,{"$f":"IF(VLOOKUP(A1065,'Mapa de Preços'!$A$16:$B$2988,2,0)=FALSE,\"Falta (U.M.)\",VLOOKUP(A1065,'Mapa de Preços'!$A$16:$B$2988,2,0))","v":"Falta (U.M.)"},"","",null,{"$f":"VLOOKUP(A1065,'Mapa de Preços'!$A$16:$J$2988,10,0)","v":"Falta Orçamento"},"",null,1038,null,0]
[1039,{"$f":"IF(VLOOKUP(A1066,'Mapa de Preços'!$A$16:$B$2988,2,0)=FALSE,\"Falta (U.M.)\",VLOOKUP(A1066,'Mapa de Preços'!$A$16:$B$2988,2,0))","v":"Falta (U.M.)"},"","",null,{"$f":"VLOOKUP(A1066,'Mapa de Preços'!$A$16:$J$2988,10,0)","v":"Falta Orçamento"},"",null,1039,null,0]
[1040,{"$f":"IF(VLOOKUP(A1067,'Mapa de Preços'!$A$16:$B$2988,2,0)=FALSE,\"Falta (U.M.)\",VLOOKUP(A1067,'Mapa de Preços'!$A$16:$B$2988,2,0))","v":"Falta (U.M.)"},"","",null,{"$f":"VLOOKUP(A1067,'Mapa de Preços'!$A$16:$J$2988,10,0)","v":"Falta Orçamento"},"",null,1040,null,0]
[1041,{"$f":"IF(VLOOKUP(A1068,'Mapa de Preços'!$A$16:$B$2988,2,0)=FALSE,\"Falta (U.M.)\",VLOOKUP(A1068,'Mapa de Preços'!$A$16:$B$2988,2,0))","v":"Falta (U.M.)"},"","",null,{"$f":"VLOOKUP(A1068,'Mapa de Preços'!$A$16:$J$2988,10,0)","v":"Falta Orçamento"},"",null,1041,null,0]
[1042,{"$f":"IF(VLOOKUP(A1069,'Mapa de Preços'!$A$16:$B$2988,2,0)=FALSE,\"Falta (U.M.)\",VLOOKUP(A1069,'Mapa de Preços'!$A$16:$B$2988,2,0))","v":"Falta (U.M.)"},"","",null,{"$f":"VLOOKUP(A1069,'Mapa de Preços'!$A$16:$J$2988,10,0)","v":"Falta Orçamento"},"",null,1042,null,0]
[1043,{"$f":"IF(VLOOKUP(A1070,'Mapa de Preços'!$A$16:$B$2988,2,0)=FALSE,\"Falta (U.M.)\",VLOOKUP(A1070,'Mapa de Preços'!$A$16:$B$2988,2,0))","v":"Falta (U.M.)"},"","",null,{"$f":"VLOOKUP(A1070,'Mapa de Preços'!$A$16:$J$2988,10,0)","v":"Falta Orçamento"},"",null,1043,null,0]
[1044,{"$f":"IF(VLOOKUP(A1071,'Mapa de Preços'!$A$16:$B$2988,2,0)=FALSE,\"Falta (U.M.)\",VLOOKUP(A1071,'Mapa de Preços'!$A$16:$B$2988,2,0))","v":"Falta (U.M.)"},"","",null,{"$f":"VLOOKUP(A1071,'Mapa de Preços'!$A$16:$J$2988,10,0)","v":"Falta Orçamento"},"",null,1044,null,0]
[1045,{"$f":"IF(VLOOKUP(A1072,'Mapa de Preços'!$A$16:$B$2988,2,0)=FALSE,\"Falta (U.M.)\",VLOOKUP(A1072,'Mapa de Preços'!$A$16:$B$2988,2,0))","v":"Falta (U.M.)"},"","",null,{"$f":"VLOOKUP(A1072,'Mapa de Preços'!$A$16:$J$2988,10,0)","v":"Falta Orçamento"},"",null,1045,null,0]
[1046,{"$f":"IF(VLOOKUP(A1073,'Mapa de Preços'!$A$16:$B$2988,2,0)=FALSE,\"Falta (U.M.)\",VLOOKUP(A1073,'Mapa de Preços'!$A$16:$B$2988,2,0))","v":"Falta (U.M.)"},"","",null,{"$f":"VLOOKUP(A1073,'Mapa de Preços'!$A$16:$J$2988,10,0)","v":"Falta Orçamento"},"",null,1046,null,0]
[1047,{"$f":"IF(VLOOKUP(A1074,'Mapa de Preços'!$A$16:$B$2988,2,0)=FALSE,\"Falta (U.M.)\",VLOOKUP(A1074,'Mapa de Preços'!$A$16:$B$2988,2,0))","v":"Falta (U.M.)"},"","",null,{"$f":"VLOOKUP(A1074,'Mapa de Preços'!$A$16:$J$2988,10,0)","v":"Falta Orçamento"},"",null,1047,null,0]
[1048,{"$f":"IF(VLOOKUP(A1075,'Mapa de Preços'!$A$16:$B$2988,2,0)=FALSE,\"Falta (U.M.)\",VLOOKUP(A1075,'Mapa de Preços'!$A$16:$B$2988,2,0))","v":"Falta (U.M.)"},"","",null,{"$f":"VLOOKUP(A1075,'Mapa de Preços'!$A$16:$J$2988,10,0)","v":"Falta Orçamento"},"",null,1048,null,0]
[1049,{"$f":"IF(VLOOKUP(A1076,'Mapa de Preços'!$A$16:$B$2988,2,0)=FALSE,\"Falta (U.M.)\",VLOOKUP(A1076,'Mapa de Preços'!$A$16:$B$2988,2,0))","v":"Falta (U.M.)"},"","",null,{"$f":"VLOOKUP(A1076,'Mapa de Preços'!$A$16:$J$2988,10,0)","v":"Falta Orçamento"},"",null,1049,null,0]
[1050,{"$f":"IF(VLOOKUP(A1077,'Mapa de Preços'!$A$16:$B$2988,2,0)=FALSE,\"Falta (U.M.)\",VLOOKUP(A1077,'Mapa de Preços'!$A$16:$B$2988,2,0))","v":"Falta (U.M.)"},"","",null,{"$f":"VLOOKUP(A1077,'Mapa de Preços'!$A$16:$J$2988,10,0)","v":"Falta Orçamento"},"",null,1050,null,0]
[1051,{"$f":"IF(VLOOKUP(A1078,'Mapa de Preços'!$A$16:$B$2988,2,0)=FALSE,\"Falta (U.M.)\",VLOOKUP(A1078,'Mapa de Preços'!$A$16:$B$2988,2,0))","v":"Falta (U.M.)"},"","",null,{"$f":"VLOOKUP(A1078,'Mapa de Preços'!$A$16:$J$2988,10,0)","v":"Falta Orçamento"},"",null,1051,null,0]
[1052,{"$f":"IF(VLOOKUP(A1079,'Mapa de Preços'!$A$16:$B$2988,2,0)=FALSE,\"Falta (U.M.)\",VLOOKUP(A1079,'Mapa de Preços'!$A$16:$B$2988,2,0))","v":"Falta (U.M.)"},"","",null,{"$f":"VLOOKUP(A1079,'Mapa de Preços'!$A$16:$J$2988,10,0)","v":"Falta Orçamento"},"",null,1052,null,0]
[1053,{"$f":"IF(VLOOKUP(A1080,'Mapa de Preços'!$A$16:$B$2988,2,0)=FALSE,\"Falta (U.M.)\",VLOOKUP(A1080,'Mapa de Preços'!$A$16:$B$2988,2,0))","v":"Falta (U.M.)"},"","",null,{"$f":"VLOOKUP(A1080,'Mapa de Preços'!$A$16:$J$2988,10,0)","v":"Falta Orçamento"},"",null,1053,null,0]
[1054,{"$f":"IF(VLOOKUP(A1081,'Mapa de Preços'!$A$16:$B$2988,2,0)=FALSE,\"Falta (U.M.)\",VLOOKUP(A1081,'Mapa de Preços'!$A$16:$B$2988,2,0))","v":"Falta (U.M.)"},"","",null,{"$f":"VLOOKUP(A1081,'Mapa de Preços'!$A$16:$J$2988,10,0)","v":"Falta Orçamento"},"",null,1054,null,0]
[1055,{"$f":"IF(VLOOKUP(A1082,'Mapa de Preços'!$A$16:$B$2988,2,0)=FALSE,\"Falta (U.M.)\",VLOOKUP(A1082,'Mapa de Preços'!$A$16:$B$2988,2,0))","v":"Falta (U.M.)"},"","",null,{"$f":"VLOOKUP(A1082,'Mapa de Preços'!$A$16:$J$2988,10,0)","v":"Falta Orçamento"},"",null,1055,null,0]
[1056,{"$f":"IF(VLOOKUP(A1083,'Mapa de Preços'!$A$16:$B$2988,2,0)=FALSE,\"Falta (U.M.)\",VLOOKUP(A1083,'Mapa de Preços'!$A$16:$B$2988,2,0))","v":"Falta (U.M.)"},"","",null,{"$f":"VLOOKUP(A1083,'Mapa de Preços'!$A$16:$J$2988,10,0)","v":"Falta Orçamento"},"",null,1056,null,0]
[1057,{"$f":"IF(VLOOKUP(A1084,'Mapa de Preços'!$A$16:$B$2988,2,0)=FALSE,\"Falta (U.M.)\",VLOOKUP(A1084,'Mapa de Preços'!$A$16:$B$2988,2,0))","v":"Falta (U.M.)"},"","",null,{"$f":"VLOOKUP(A1084,'Mapa de Preços'!$A$16:$J$2988,10,0)","v":"Falta Orçamento"},"",null,1057,null,0]
[1058,{"$f":"IF(VLOOKUP(A1085,'Mapa de Preços'!$A$16:$B$2988,2,0)=FALSE,\"Falta (U.M.)\",VLOOKUP(A1085,'Mapa de Preços'!$A$16:$B$2988,2,0))","v":"Falta (U.M.)"},"","",null,{"$f":"VLOOKUP(A1085,'Mapa de Preços'!$A$16:$J$2988,10,0)","v":"Falta Orçamento"},"",null,1058,null,0]
[1059,{"$f":"IF(VLOOKUP(A1086,'Mapa de Preços'!$A$16:$B$2988,2,0)=FALSE,\"Falta (U.M.)\",VLOOKUP(A1086,'Mapa de Preços'!$A$16:$B$2988,2,0))","v":"Falta (U.M.)"},"","",null,{"$f":"VLOOKUP(A1086,'Mapa de Preços'!$A$16:$J$2988,10,0)","v":"Falta Orçamento"},"",null,1059,null,0]
[1060,{"$f":"IF(VLOOKUP(A1087,'Mapa de Preços'!$A$16:$B$2988,2,0)=FALSE,\"Falta (U.M.)\",VLOOKUP(A1087,'Mapa de Preços'!$A$16:$B$2988,2,0))","v":"Falta (U.M.)"},"","",null,{"$f":"VLOOKUP(A1087,'Mapa de Preços'!$A$16:$J$2988,10,0)","v":"Falta Orçamento"},"",null,1060,null,0]
[1061,{"$f":"IF(VLOOKUP(A1088,'Mapa de Preços'!$A$16:$B$2988,2,0)=FALSE,\"Falta (U.M.)\",VLOOKUP(A1088,'Mapa de Preços'!$A$16:$B$2988,2,0))","v":"Falta (U.M.)"},"","",null,{"$f":"VLOOKUP(A1088,'Mapa de Preços'!$A$16:$J$2988,10,0)","v":"Falta Orçamento"},"",null,1061,null,0]
[1062,{"$f":"IF(VLOOKUP(A1089,'Mapa de Preços'!$A$16:$B$2988,2,0)=FALSE,\"Falta (U.M.)\",VLOOKUP(A1089,'Mapa de Preços'!$A$16:$B$2988,2,0))","v":"Falta (U.M.)"},"","",null,{"$f":"VLOOKUP(A1089,'Mapa de Preços'!$A$16:$J$2988,10,0)","v":"Falta Orçamento"},"",null,1062,null,0]
[1063,{"$f":"IF(VLOOKUP(A1090,'Mapa de Preços'!$A$16:$B$2988,2,0)=FALSE,\"Falta (U.M.)\",VLOOKUP(A1090,'Mapa de Preços'!$A$16:$B$2988,2,0))","v":"Falta (U.M.)"},"","",null,{"$f":"VLOOKUP(A1090,'Mapa de Preços'!$A$16:$J$2988,10,0)","v":"Falta Orçamento"},"",null,1063,null,0]
[1064,{"$f":"IF(VLOOKUP(A1091,'Mapa de Preços'!$A$16:$B$2988,2,0)=FALSE,\"Falta (U.M.)\",VLOOKUP(A1091,'Mapa de Preços'!$A$16:$B$2988,2,0))","v":"Falta (U.M.)"},"","",null,{"$f":"VLOOKUP(A1091,'Mapa de Preços'!$A$16:$J$2988,10,0)","v":"Falta Orçamento"},"",null,1064,null,0]
[1065,{"$f":"IF(VLOOKUP(A1092,'Mapa de Preços'!$A$16:$B$2988,2,0)=FALSE,\"Falta (U.M.)\",VLOOKUP(A1092,'Mapa de Preços'!$A$16:$B$2988,2,0))","v":"Falta (U.M.)"},"","",null,{"$f":"VLOOKUP(A1092,'Mapa de Preços'!$A$16:$J$2988,10,0)","v":"Falta Orçamento"},"",null,1065,null,0]
[1066,{"$f":"IF(VLOOKUP(A1093,'Mapa de Preços'!$A$16:$B$2988,2,0)=FALSE,\"Falta (U.M.)\",VLOOKUP(A1093,'Mapa de Preços'!$A$16:$B$2988,2,0))","v":"Falta (U.M.)"},"","",null,{"$f":"VLOOKUP(A1093,'Mapa de Preços'!$A$16:$J$2988,10,0)","v":"Falta Orçamento"},"",null,1066,null,0]
[1067,{"$f":"IF(VLOOKUP(A1094,'Mapa de Preços'!$A$16:$B$2988,2,0)=FALSE,\"Falta (U.M.)\",VLOOKUP(A1094,'Mapa de Preços'!$A$16:$B$2988,2,0))","v":"Falta (U.M.)"},"","",null,{"$f":"VLOOKUP(A1094,'Mapa de Preços'!$A$16:$J$2988,10,0)","v":"Falta Orçamento"},"",null,1067,null,0]
[1068,{"$f":"IF(VLOOKUP(A1095,'Mapa de Preços'!$A$16:$B$2988,2,0)=FALSE,\"Falta (U.M.)\",VLOOKUP(A1095,'Mapa de Preços'!$A$16:$B$2988,2,0))","v":"Falta (U.M.)"},"","",null,{"$f":"VLOOKUP(A1095,'Mapa de Preços'!$A$16:$J$2988,10,0)","v":"Falta Orçamento"},"",null,1068,null,0]
[1069,{"$f":"IF(VLOOKUP(A1096,'Mapa de Preços'!$A$16:$B$2988,2,0)=FALSE,\"Falta (U.M.)\",VLOOKUP(A1096,'Mapa de Preços'!$A$16:$B$2988,2,0))","v":"Falta (U.M.)"},"","",null,{"$f":"VLOOKUP(A1096,'Mapa de Preços'!$A$16:$J$2988,10,0)","v":"Falta Orçamento"},"",null,1069,null,0]
[1070,{"$f":"IF(VLOOKUP(A1097,'Mapa de Preços'!$A$16:$B$2988,2,0)=FALSE,\"Falta (U.M.)\",VLOOKUP(A1097,'Mapa de Preços'!$A$16:$B$2988,2,0))","v":"Falta (U.M.)"},"","",null,{"$f":"VLOOKUP(A1097,'Mapa de Preços'!$A$16:$J$2988,10,0)","v":"Falta Orçamento"},"",null,1070,null,0]
[1071,{"$f":"IF(VLOOKUP(A1098,'Mapa de Preços'!$A$16:$B$2988,2,0)=FALSE,\"Falta (U.M.)\",VLOOKUP(A1098,'Mapa de Preços'!$A$16:$B$2988,2,0))","v":"Falta (U.M.)"},"","",null,{"$f":"VLOOKUP(A1098,'Mapa de Preços'!$A$16:$J$2988,10,0)","v":"Falta Orçamento"},"",null,1071,null,0]
[1072,{"$f":"IF(VLOOKUP(A1099,'Mapa de Preços'!$A$16:$B$2988,2,0)=FALSE,\"Falta (U.M.)\",VLOOKUP(A1099,'Mapa de Preços'!$A$16:$B$2988,2,0))","v":"Falta (U.M.)"},"","",null,{"$f":"VLOOKUP(A1099,'Mapa de Preços'!$A$16:$J$2988,10,0)","v":"Falta Orçamento"},"",null,1072,null,0]
[1073,{"$f":"IF(VLOOKUP(A1100,'Mapa de Preços'!$A$16:$B$2988,2,0)=FALSE,\"Falta (U.M.)\",VLOOKUP(A1100,'Mapa de Preços'!$A$16:$B$2988,2,0))","v":"Falta (U.M.)"},"","",null,{"$f":"VLOOKUP(A1100,'Mapa de Preços'!$A$16:$J$2988,10,0)","v":"Falta Orçamento"},"",null,1073,null,0]
[1074,{"$f":"IF(VLOOKUP(A1101,'Mapa de Preços'!$A$16:$B$2988,2,0)=FALSE,\"Falta (U.M.)\",VLOOKUP(A1101,'Mapa de Preços'!$A$16:$B$2988,2,0))","v":"Falta (U.M.)"},"","",null,{"$f":"VLOOKUP(A1101,'Mapa de Preços'!$A$16:$J$2988,10,0)","v":"Falta Orçamento"},"",null,1074,null,0]
[1075,{"$f":"IF(VLOOKUP(A1102,'Mapa de Preços'!$A$16:$B$2988,2,0)=FALSE,\"Falta (U.M.)\",VLOOKUP(A1102,'Mapa de Preços'!$A$16:$B$2988,2,0))","v":"Falta (U.M.)"},"","",null,{"$f":"VLOOKUP(A1102,'Mapa de Preços'!$A$16:$J$2988,10,0)","v":"Falta Orçamento"},"",null,1075,null,0]
[1076,{"$f":"IF(VLOOKUP(A1103,'Mapa de Preços'!$A$16:$B$2988,2,0)=FALSE,\"Falta (U.M.)\",VLOOKUP(A1103,'Mapa de Preços'!$A$16:$B$2988,2,0))","v":"Falta (U.M.)"},"","",null,{"$f":"VLOOKUP(A1103,'Mapa de Preços'!$A$16:$J$2988,10,0)","v":"Falta Orçamento"},"",null,1076,null,0]
[1077,{"$f":"IF(VLOOKUP(A1104,'Mapa de Preços'!$A$16:$B$2988,2,0)=FALSE,\"Falta (U.M.)\",VLOOKUP(A1104,'Mapa de Preços'!$A$16:$B$2988,2,0))","v":"Falta (U.M.)"},"","",null,{"$f":"VLOOKUP(A1104,'Mapa de Preços'!$A$16:$J$2988,10,0)","v":"Falta Orçamento"},"",null,1077,null,0]
[1078,{"$f":"IF(VLOOKUP(A1105,'Mapa de Preços'!$A$16:$B$2988,2,0)=FALSE,\"Falta (U.M.)\",VLOOKUP(A1105,'Mapa de Preços'!$A$16:$B$2988,2,0))","v":"Falta (U.M.)"},"","",null,{"$f":"VLOOKUP(A1105,'Mapa de Preços'!$A$16:$J$2988,10,0)","v":"Falta Orçamento"},"",null,1078,null,0]
[1079,{"$f":"IF(VLOOKUP(A1106,'Mapa de Preços'!$A$16:$B$2988,2,0)=FALSE,\"Falta (U.M.)\",VLOOKUP(A1106,'Mapa de Preços'!$A$16:$B$2988,2,0))","v":"Falta (U.M.)"},"","",null,{"$f":"VLOOKUP(A1106,'Mapa de Preços'!$A$16:$J$2988,10,0)","v":"Falta Orçamento"},"",null,1079,null,0]
[1080,{"$f":"IF(VLOOKUP(A1107,'Mapa de Preços'!$A$16:$B$2988,2,0)=FALSE,\"Falta (U.M.)\",VLOOKUP(A1107,'Mapa de Preços'!$A$16:$B$2988,2,0))","v":"Falta (U.M.)"},"","",null,{"$f":"VLOOKUP(A1107,'Mapa de Preços'!$A$16:$J$2988,10,0)","v":"Falta Orçamento"},"",null,1080,null,0]
[1081,{"$f":"IF(VLOOKUP(A1108,'Mapa de Preços'!$A$16:$B$2988,2,0)=FALSE,\"Falta (U.M.)\",VLOOKUP(A1108,'Mapa de Preços'!$A$16:$B$2988,2,0))","v":"Falta (U.M.)"},"","",null,{"$f":"VLOOKUP(A1108,'Mapa de Preços'!$A$16:$J$2988,10,0)","v":"Falta Orçamento"},"",null,1081,null,0]
[1082,{"$f":"IF(VLOOKUP(A1109,'Mapa de Preços'!$A$16:$B$2988,2,0)=FALSE,\"Falta (U.M.)\",VLOOKUP(A1109,'Mapa de Preços'!$A$16:$B$2988,2,0))","v":"Falta (U.M.)"},"","",null,{"$f":"VLOOKUP(A1109,'Mapa de Preços'!$A$16:$J$2988,10,0)","v":"Falta Orçamento"},"",null,1082,null,0]
[1083,{"$f":"IF(VLOOKUP(A1110,'Mapa de Preços'!$A$16:$B$2988,2,0)=FALSE,\"Falta (U.M.)\",VLOOKUP(A1110,'Mapa de Preços'!$A$16:$B$2988,2,0))","v":"Falta (U.M.)"},"","",null,{"$f":"VLOOKUP(A1110,'Mapa de Preços'!$A$16:$J$2988,10,0)","v":"Falta Orçamento"},"",null,1083,null,0]
[1084,{"$f":"IF(VLOOKUP(A1111,'Mapa de Preços'!$A$16:$B$2988,2,0)=FALSE,\"Falta (U.M.)\",VLOOKUP(A1111,'Mapa de Preços'!$A$16:$B$2988,2,0))","v":"Falta (U.M.)"},"","",null,{"$f":"VLOOKUP(A1111,'Mapa de Preços'!$A$16:$J$2988,10,0)","v":"Falta Orçamento"},"",null,1084,null,0]
[1085,{"$f":"IF(VLOOKUP(A1112,'Mapa de Preços'!$A$16:$B$2988,2,0)=FALSE,\"Falta (U.M.)\",VLOOKUP(A1112,'Mapa de Preços'!$A$16:$B$2988,2,0))","v":"Falta (U.M.)"},"","",null,{"$f":"VLOOKUP(A1112,'Mapa de Preços'!$A$16:$J$2988,10,0)","v":"Falta Orçamento"},"",null,1085,null,0]
[1086,{"$f":"IF(VLOOKUP(A1113,'Mapa de Preços'!$A$16:$B$2988,2,0)=FALSE,\"Falta (U.M.)\",VLOOKUP(A1113,'Mapa de Preços'!$A$16:$B$2988,2,0))","v":"Falta (U.M.)"},"","",null,{"$f":"VLOOKUP(A1113,'Mapa de Preços'!$A$16:$J$2988,10,0)","v":"Falta Orçamento"},"",null,1086,null,0]
[1087,{"$f":"IF(VLOOKUP(A1114,'Mapa de Preços'!$A$16:$B$2988,2,0)=FALSE,\"Falta (U.M.)\",VLOOKUP(A1114,'Mapa de Preços'!$A$16:$B$2988,2,0))","v":"Falta (U.M.)"},"","",null,{"$f":"VLOOKUP(A1114,'Mapa de Preços'!$A$16:$J$2988,10,0)","v":"Falta Orçamento"},"",null,1087,null,0]
[1088,{"$f":"IF(VLOOKUP(A1115,'Mapa de Preços'!$A$16:$B$2988,2,0)=FALSE,\"Falta (U.M.)\",VLOOKUP(A1115,'Mapa de Preços'!$A$16:$B$2988,2,0))","v":"Falta (U.M.)"},"","",null,{"$f":"VLOOKUP(A1115,'Mapa de Preços'!$A$16:$J$2988,10,0)","v":"Falta Orçamento"},"",null,1088,null,0]
[1089,{"$f":"IF(VLOOKUP(A1116,'Mapa de Preços'!$A$16:$B$2988,2,0)=FALSE,\"Falta (U.M.)\",VLOOKUP(A1116,'Mapa de Preços'!$A$16:$B$2988,2,0))","v":"Falta (U.M.)"},"","",null,{"$f":"VLOOKUP(A1116,'Mapa de Preços'!$A$16:$J$2988,10,0)","v":"Falta Orçamento"},"",null,1089,null,{"$f":"SUM(L1116:AI1116)","v":0}]
[1090,{"$f":"IF(VLOOKUP(A1117,'Mapa de Preços'!$A$16:$B$2988,2,0)=FALSE,\"Falta (U.M.)\",VLOOKUP(A1117,'Mapa de Preços'!$A$16:$B$2988,2,0))","v":"Falta (U.M.)"},{"$f":"IF(J1117<>\"\",J1117,\"\")","v":""},{"$f":"IF(VLOOKUP(A1117,$I$28:$AI$3000,$G$26,FALSE)<>\"\",VLOOKUP(A1117,$I$28:$AI$3000,$G$26,FALSE),\"\")","v":""},null,{"$f":"VLOOKUP(A1117,'Mapa de Preços'!$A$16:$J$2988,10,0)","v":"Falta Orçamento"},{"$f":"IF(F1117=\"Falta Orçamento\",\"\",F1117*D1117)","v":""},null,1090,null,0]
[1091,{"$f":"IF(VLOOKUP(A1118,'Mapa de Preços'!$A$16:$B$2988,2,0)=FALSE,\"Falta (U.M.)\",VLOOKUP(A1118,'Mapa de Preços'!$A$16:$B$2988,2,0))","v":"Falta (U.M.)"},"","",null,{"$f":"VLOOKUP(A1118,'Mapa de Preços'!$A$16:$J$2988,10,0)","v":"Falta Orçamento"},"",null,1091,null,0]
[1092,{"$f":"IF(VLOOKUP(A1119,'Mapa de Preços'!$A$16:$B$2988,2,0)=FALSE,\"Falta (U.M.)\",VLOOKUP(A1119,'Mapa de Preços'!$A$16:$B$2988,2,0))","v":"Falta (U.M.)"},"","",null,{"$f":"VLOOKUP(A1119,'Mapa de Preços'!$A$16:$J$2988,10,0)","v":"Falta Orçamento"},"",null,1092,null,0]
[1093,{"$f":"IF(VLOOKUP(A1120,'Mapa de Preços'!$A$16:$B$2988,2,0)=FALSE,\"Falta (U.M.)\",VLOOKUP(A1120,'Mapa de Preços'!$A$16:$B$2988,2,0))","v":"Falta (U.M.)"},"","",null,{"$f":"VLOOKUP(A1120,'Mapa de Preços'!$A$16:$J$2988,10,0)","v":"Falta Orçamento"},"",null,1093,null,0]
[1094,{"$f":"IF(VLOOKUP(A1121,'Mapa de Preços'!$A$16:$B$2988,2,0)=FALSE,\"Falta (U.M.)\",VLOOKUP(A1121,'Mapa de Preços'!$A$16:$B$2988,2,0))","v":"Falta (U.M.)"},"","",null,{"$f":"VLOOKUP(A1121,'Mapa de Preços'!$A$16:$J$2988,10,0)","v":"Falta Orçamento"},"",null,1094,null,0]
[1095,{"$f":"IF(VLOOKUP(A1122,'Mapa de Preços'!$A$16:$B$2988,2,0)=FALSE,\"Falta (U.M.)\",VLOOKUP(A1122,'Mapa de Preços'!$A$16:$B$2988,2,0))","v":"Falta (U.M.)"},"","",null,{"$f":"VLOOKUP(A1122,'Mapa de Preços'!$A$16:$J$2988,10,0)","v":"Falta Orçamento"},"",null,1095,null,0]
[1096,{"$f":"IF(VLOOKUP(A1123,'Mapa de Preços'!$A$16:$B$2988,2,0)=FALSE,\"Falta (U.M.)\",VLOOKUP(A1123,'Mapa de Preços'!$A$16:$B$2988,2,0))","v":"Falta (U.M.)"},"","",null,{"$f":"VLOOKUP(A1123,'Mapa de Preços'!$A$16:$J$2988,10,0)","v":"Falta Orçamento"},"",null,1096,null,0]
[1097,{"$f":"IF(VLOOKUP(A1124,'Mapa de Preços'!$A$16:$B$2988,2,0)=FALSE,\"Falta (U.M.)\",VLOOKUP(A1124,'Mapa de Preços'!$A$16:$B$2988,2,0))","v":"Falta (U.M.)"},"","",null,{"$f":"VLOOKUP(A1124,'Mapa de Preços'!$A$16:$J$2988,10,0)","v":"Falta Orçamento"},"",null,1097,null,0]
[1098,{"$f":"IF(VLOOKUP(A1125,'Mapa de Preços'!$A$16:$B$2988,2,0)=FALSE,\"Falta (U.M.)\",VLOOKUP(A1125,'Mapa de Preços'!$A$16:$B$2988,2,0))","v":"Falta (U.M.)"},"","",null,{"$f":"VLOOKUP(A1125,'Mapa de Preços'!$A$16:$J$2988,10,0)","v":"Falta Orçamento"},"",null,1098,null,0]
[1099,{"$f":"IF(VLOOKUP(A1126,'Mapa de Preços'!$A$16:$B$2988,2,0)=FALSE,\"Falta (U.M.)\",VLOOKUP(A1126,'Mapa de Preços'!$A$16:$B$2988,2,0))","v":"Falta (U.M.)"},"","",null,{"$f":"VLOOKUP(A1126,'Mapa de Preços'!$A$16:$J$2988,10,0)","v":"Falta Orçamento"},"",null,1099,null,0]
[1100,{"$f":"IF(VLOOKUP(A1127,'Mapa de Preços'!$A$16:$B$2988,2,0)=FALSE,\"Falta (U.M.)\",VLOOKUP(A1127,'Mapa de Preços'!$A$16:$B$2988,2,0))","v":"Falta (U.M.)"},"","",null,{"$f":"VLOOKUP(A1127,'Mapa de Preços'!$A$16:$J$2988,10,0)","v":"Falta Orçamento"},"",null,1100,null,0]
[1101,{"$f":"IF(VLOOKUP(A1128,'Mapa de Preços'!$A$16:$B$2988,2,0)=FALSE,\"Falta (U.M.)\",VLOOKUP(A1128,'Mapa de Preços'!$A$16:$B$2988,2,0))","v":"Falta (U.M.)"},"","",null,{"$f":"VLOOKUP(A1128,'Mapa de Preços'!$A$16:$J$2988,10,0)","v":"Falta Orçamento"},"",null,1101,null,0]
[1102,{"$f":"IF(VLOOKUP(A1129,'Mapa de Preços'!$A$16:$B$2988,2,0)=FALSE,\"Falta (U.M.)\",VLOOKUP(A1129,'Mapa de Preços'!$A$16:$B$2988,2,0))","v":"Falta (U.M.)"},"","",null,{"$f":"VLOOKUP(A1129,'Mapa de Preços'!$A$16:$J$2988,10,0)","v":"Falta Orçamento"},"",null,1102,null,0]
[1103,{"$f":"IF(VLOOKUP(A1130,'Mapa de Preços'!$A$16:$B$2988,2,0)=FALSE,\"Falta (U.M.)\",VLOOKUP(A1130,'Mapa de Preços'!$A$16:$B$2988,2,0))","v":"Falta (U.M.)"},"","",null,{"$f":"VLOOKUP(A1130,'Mapa de Preços'!$A$16:$J$2988,10,0)","v":"Falta Orçamento"},"",null,1103,null,0]
[1104,{"$f":"IF(VLOOKUP(A1131,'Mapa de Preços'!$A$16:$B$2988,2,0)=FALSE,\"Falta (U.M.)\",VLOOKUP(A1131,'Mapa de Preços'!$A$16:$B$2988,2,0))","v":"Falta (U.M.)"},"","",null,{"$f":"VLOOKUP(A1131,'Mapa de Preços'!$A$16:$J$2988,10,0)","v":"Falta Orçamento"},"",null,1104,null,0]
[1105,{"$f":"IF(VLOOKUP(A1132,'Mapa de Preços'!$A$16:$B$2988,2,0)=FALSE,\"Falta (U.M.)\",VLOOKUP(A1132,'Mapa de Preços'!$A$16:$B$2988,2,0))","v":"Falta (U.M.)"},"","",null,{"$f":"VLOOKUP(A1132,'Mapa de Preços'!$A$16:$J$2988,10,0)","v":"Falta Orçamento"},"",null,1105,null,0]
[1106,{"$f":"IF(VLOOKUP(A1133,'Mapa de Preços'!$A$16:$B$2988,2,0)=FALSE,\"Falta (U.M.)\",VLOOKUP(A1133,'Mapa de Preços'!$A$16:$B$2988,2,0))","v":"Falta (U.M.)"},"","",null,{"$f":"VLOOKUP(A1133,'Mapa de Preços'!$A$16:$J$2988,10,0)","v":"Falta Orçamento"},"",null,1106,null,0]
[1107,{"$f":"IF(VLOOKUP(A1134,'Mapa de Preços'!$A$16:$B$2988,2,0)=FALSE,\"Falta (U.M.)\",VLOOKUP(A1134,'Mapa de Preços'!$A$16:$B$2988,2,0))","v":"Falta (U.M.)"},"","",null,{"$f":"VLOOKUP(A1134,'Mapa de Preços'!$A$16:$J$2988,10,0)","v":"Falta Orçamento"},"",null,1107,null,0]
[1108,{"$f":"IF(VLOOKUP(A1135,'Mapa de Preços'!$A$16:$B$2988,2,0)=FALSE,\"Falta (U.M.)\",VLOOKUP(A1135,'Mapa de Preços'!$A$16:$B$2988,2,0))","v":"Falta (U.M.)"},"","",null,{"$f":"VLOOKUP(A1135,'Mapa de Preços'!$A$16:$J$2988,10,0)","v":"Falta Orçamento"},"",null,1108,null,0]
[1109,{"$f":"IF(VLOOKUP(A1136,'Mapa de Preços'!$A$16:$B$2988,2,0)=FALSE,\"Falta (U.M.)\",VLOOKUP(A1136,'Mapa de Preços'!$A$16:$B$2988,2,0))","v":"Falta (U.M.)"},"","",null,{"$f":"VLOOKUP(A1136,'Mapa de Preços'!$A$16:$J$2988,10,0)","v":"Falta Orçamento"},"",null,1109,null,0]
[1110,{"$f":"IF(VLOOKUP(A1137,'Mapa de Preços'!$A$16:$B$2988,2,0)=FALSE,\"Falta (U.M.)\",VLOOKUP(A1137,'Mapa de Preços'!$A$16:$B$2988,2,0))","v":"Falta (U.M.)"},"","",null,{"$f":"VLOOKUP(A1137,'Mapa de Preços'!$A$16:$J$2988,10,0)","v":"Falta Orçamento"},"",null,1110,null,0]
[1111,{"$f":"IF(VLOOKUP(A1138,'Mapa de Preços'!$A$16:$B$2988,2,0)=FALSE,\"Falta (U.M.)\",VLOOKUP(A1138,'Mapa de Preços'!$A$16:$B$2988,2,0))","v":"Falta (U.M.)"},"","",null,{"$f":"VLOOKUP(A1138,'Mapa de Preços'!$A$16:$J$2988,10,0)","v":"Falta Orçamento"},"",null,1111,null,0]
[1112,{"$f":"IF(VLOOKUP(A1139,'Mapa de Preços'!$A$16:$B$2988,2,0)=FALSE,\"Falta (U.M.)\",VLOOKUP(A1139,'Mapa de Preços'!$A$16:$B$2988,2,0))","v":"Falta (U.M.)"},"","",null,{"$f":"VLOOKUP(A1139,'Mapa de Preços'!$A$16:$J$2988,10,0)","v":"Falta Orçamento"},"",null,1112,null,0]
[1113,{"$f":"IF(VLOOKUP(A1140,'Mapa de Preços'!$A$16:$B$2988,2,0)=FALSE,\"Falta (U.M.)\",VLOOKUP(A1140,'Mapa de Preços'!$A$16:$B$2988,2,0))","v":"Falta (U.M.)"},"","",null,{"$f":"VLOOKUP(A1140,'Mapa de Preços'!$A$16:$J$2988,10,0)","v":"Falta Orçamento"},"",null,1113,null,0]
[1114,{"$f":"IF(VLOOKUP(A1141,'Mapa de Preços'!$A$16:$B$2988,2,0)=FALSE,\"Falta (U.M.)\",VLOOKUP(A1141,'Mapa de Preços'!$A$16:$B$2988,2,0))","v":"Falta (U.M.)"},"","",null,{"$f":"VLOOKUP(A1141,'Mapa de Preços'!$A$16:$J$2988,10,0)","v":"Falta Orçamento"},"",null,1114,null,0]
[1115,{"$f":"IF(VLOOKUP(A1142,'Mapa de Preços'!$A$16:$B$2988,2,0)=FALSE,\"Falta (U.M.)\",VLOOKUP(A1142,'Mapa de Preços'!$A$16:$B$2988,2,0))","v":"Falta (U.M.)"},"","",null,{"$f":"VLOOKUP(A1142,'Mapa de Preços'!$A$16:$J$2988,10,0)","v":"Falta Orçamento"},"",null,1115,null,0]
[1116,{"$f":"IF(VLOOKUP(A1143,'Mapa de Preços'!$A$16:$B$2988,2,0)=FALSE,\"Falta (U.M.)\",VLOOKUP(A1143,'Mapa de Preços'!$A$16:$B$2988,2,0))","v":"Falta (U.M.)"},"","",null,{"$f":"VLOOKUP(A1143,'Mapa de Preços'!$A$16:$J$2988,10,0)","v":"Falta Orçamento"},"",null,1116,null,0]
[1117,{"$f":"IF(VLOOKUP(A1144,'Mapa de Preços'!$A$16:$B$2988,2,0)=FALSE,\"Falta (U.M.)\",VLOOKUP(A1144,'Mapa de Preços'!$A$16:$B$2988,2,0))","v":"Falta (U.M.)"},"","",null,{"$f":"VLOOKUP(A1144,'Mapa de Preços'!$A$16:$J$2988,10,0)","v":"Falta Orçamento"},"",null,1117,null,0]
[1118,{"$f":"IF(VLOOKUP(A1145,'Mapa de Preços'!$A$16:$B$2988,2,0)=FALSE,\"Falta (U.M.)\",VLOOKUP(A1145,'Mapa de Preços'!$A$16:$B$2988,2,0))","v":"Falta (U.M.)"},"","",null,{"$f":"VLOOKUP(A1145,'Mapa de Preços'!$A$16:$J$2988,10,0)","v":"Falta Orçamento"},"",null,1118,null,0]
[1119,{"$f":"IF(VLOOKUP(A1146,'Mapa de Preços'!$A$16:$B$2988,2,0)=FALSE,\"Falta (U.M.)\",VLOOKUP(A1146,'Mapa de Preços'!$A$16:$B$2988,2,0))","v":"Falta (U.M.)"},"","",null,{"$f":"VLOOKUP(A1146,'Mapa de Preços'!$A$16:$J$2988,10,0)","v":"Falta Orçamento"},"",null,1119,null,0]
[1120,{"$f":"IF(VLOOKUP(A1147,'Mapa de Preços'!$A$16:$B$2988,2,0)=FALSE,\"Falta (U.M.)\",VLOOKUP(A1147,'Mapa de Preços'!$A$16:$B$2988,2,0))","v":"Falta (U.M.)"},"","",null,{"$f":"VLOOKUP(A1147,'Mapa de Preços'!$A$16:$J$2988,10,0)","v":"Falta Orçamento"},"",null,1120,null,0]
[1121,{"$f":"IF(VLOOKUP(A1148,'Mapa de Preços'!$A$16:$B$2988,2,0)=FALSE,\"Falta (U.M.)\",VLOOKUP(A1148,'Mapa de Preços'!$A$16:$B$2988,2,0))","v":"Falta (U.M.)"},"","",null,{"$f":"VLOOKUP(A1148,'Mapa de Preços'!$A$16:$J$2988,10,0)","v":"Falta Orçamento"},"",null,1121,null,0]
[1122,{"$f":"IF(VLOOKUP(A1149,'Mapa de Preços'!$A$16:$B$2988,2,0)=FALSE,\"Falta (U.M.)\",VLOOKUP(A1149,'Mapa de Preços'!$A$16:$B$2988,2,0))","v":"Falta (U.M.)"},"","",null,{"$f":"VLOOKUP(A1149,'Mapa de Preços'!$A$16:$J$2988,10,0)","v":"Falta Orçamento"},"",null,1122,null,0]
[1123,{"$f":"IF(VLOOKUP(A1150,'Mapa de Preços'!$A$16:$B$2988,2,0)=FALSE,\"Falta (U.M.)\",VLOOKUP(A1150,'Mapa de Preços'!$A$16:$B$2988,2,0))","v":"Falta (U.M.)"},"","",null,{"$f":"VLOOKUP(A1150,'Mapa de Preços'!$A$16:$J$2988,10,0)","v":"Falta Orçamento"},"",null,1123,null,0]
[1124,{"$f":"IF(VLOOKUP(A1151,'Mapa de Preços'!$A$16:$B$2988,2,0)=FALSE,\"Falta (U.M.)\",VLOOKUP(A1151,'Mapa de Preços'!$A$16:$B$2988,2,0))","v":"Falta (U.M.)"},"","",null,{"$f":"VLOOKUP(A1151,'Mapa de Preços'!$A$16:$J$2988,10,0)","v":"Falta Orçamento"},"",null,1124,null,0]
[1125,{"$f":"IF(VLOOKUP(A1152,'Mapa de Preços'!$A$16:$B$2988,2,0)=FALSE,\"Falta (U.M.)\",VLOOKUP(A1152,'Mapa de Preços'!$A$16:$B$2988,2,0))","v":"Falta (U.M.)"},"","",null,{"$f":"VLOOKUP(A1152,'Mapa de Preços'!$A$16:$J$2988,10,0)","v":"Falta Orçamento"},"",null,1125,null,0]
[1126,{"$f":"IF(VLOOKUP(A1153,'Mapa de Preços'!$A$16:$B$2988,2,0)=FALSE,\"Falta (U.M.)\",VLOOKUP(A1153,'Mapa de Preços'!$A$16:$B$2988,2,0))","v":"Falta (U.M.)"},"","",null,{"$f":"VLOOKUP(A1153,'Mapa de Preços'!$A$16:$J$2988,10,0)","v":"Falta Orçamento"},"",null,1126,null,0]
[1127,{"$f":"IF(VLOOKUP(A1154,'Mapa de Preços'!$A$16:$B$2988,2,0)=FALSE,\"Falta (U.M.)\",VLOOKUP(A1154,'Mapa de Preços'!$A$16:$B$2988,2,0))","v":"Falta (U.M.)"},"","",null,{"$f":"VLOOKUP(A1154,'Mapa de Preços'!$A$16:$J$2988,10,0)","v":"Falta Orçamento"},"",null,1127,null,0]
[1128,{"$f":"IF(VLOOKUP(A1155,'Mapa de Preços'!$A$16:$B$2988,2,0)=FALSE,\"Falta (U.M.)\",VLOOKUP(A1155,'Mapa de Preços'!$A$16:$B$2988,2,0))","v":"Falta (U.M.)"},"","",null,{"$f":"VLOOKUP(A1155,'Mapa de Preços'!$A$16:$J$2988,10,0)","v":"Falta Orçamento"},"",null,1128,null,0]
[1129,{"$f":"IF(VLOOKUP(A1156,'Mapa de Preços'!$A$16:$B$2988,2,0)=FALSE,\"Falta (U.M.)\",VLOOKUP(A1156,'Mapa de Preços'!$A$16:$B$2988,2,0))","v":"Falta (U.M.)"},"","",null,{"$f":"VLOOKUP(A1156,'Mapa de Preços'!$A$16:$J$2988,10,0)","v":"Falta Orçamento"},"",null,1129,null,0]
[1130,{"$f":"IF(VLOOKUP(A1157,'Mapa de Preços'!$A$16:$B$2988,2,0)=FALSE,\"Falta (U.M.)\",VLOOKUP(A1157,'Mapa de Preços'!$A$16:$B$2988,2,0))","v":"Falta (U.M.)"},"","",null,{"$f":"VLOOKUP(A1157,'Mapa de Preços'!$A$16:$J$2988,10,0)","v":"Falta Orçamento"},"",null,1130,null,0]
[1131,{"$f":"IF(VLOOKUP(A1158,'Mapa de Preços'!$A$16:$B$2988,2,0)=FALSE,\"Falta (U.M.)\",VLOOKUP(A1158,'Mapa de Preços'!$A$16:$B$2988,2,0))","v":"Falta (U.M.)"},"","",null,{"$f":"VLOOKUP(A1158,'Mapa de Preços'!$A$16:$J$2988,10,0)","v":"Falta Orçamento"},"",null,1131,null,0]
[1132,{"$f":"IF(VLOOKUP(A1159,'Mapa de Preços'!$A$16:$B$2988,2,0)=FALSE,\"Falta (U.M.)\",VLOOKUP(A1159,'Mapa de Preços'!$A$16:$B$2988,2,0))","v":"Falta (U.M.)"},"","",null,{"$f":"VLOOKUP(A1159,'Mapa de Preços'!$A$16:$J$2988,10,0)","v":"Falta Orçamento"},"",null,1132,null,0]
[1133,{"$f":"IF(VLOOKUP(A1160,'Mapa de Preços'!$A$16:$B$2988,2,0)=FALSE,\"Falta (U.M.)\",VLOOKUP(A1160,'Mapa de Preços'!$A$16:$B$2988,2,0))","v":"Falta (U.M.)"},"","",null,{"$f":"VLOOKUP(A1160,'Mapa de Preços'!$A$16:$J$2988,10,0)","v":"Falta Orçamento"},"",null,1133,null,0]
[1134,{"$f":"IF(VLOOKUP(A1161,'Mapa de Preços'!$A$16:$B$2988,2,0)=FALSE,\"Falta (U.M.)\",VLOOKUP(A1161,'Mapa de Preços'!$A$16:$B$2988,2,0))","v":"Falta (U.M.)"},"","",null,{"$f":"VLOOKUP(A1161,'Mapa de Preços'!$A$16:$J$2988,10,0)","v":"Falta Orçamento"},"",null,1134,null,0]
[1135,{"$f":"IF(VLOOKUP(A1162,'Mapa de Preços'!$A$16:$B$2988,2,0)=FALSE,\"Falta (U.M.)\",VLOOKUP(A1162,'Mapa de Preços'!$A$16:$B$2988,2,0))","v":"Falta (U.M.)"},"","",null,{"$f":"VLOOKUP(A1162,'Mapa de Preços'!$A$16:$J$2988,10,0)","v":"Falta Orçamento"},"",null,1135,null,0]
[1136,{"$f":"IF(VLOOKUP(A1163,'Mapa de Preços'!$A$16:$B$2988,2,0)=FALSE,\"Falta (U.M.)\",VLOOKUP(A1163,'Mapa de Preços'!$A$16:$B$2988,2,0))","v":"Falta (U.M.)"},"","",null,{"$f":"VLOOKUP(A1163,'Mapa de Preços'!$A$16:$J$2988,10,0)","v":"Falta Orçamento"},"",null,1136,null,0]
[1137,{"$f":"IF(VLOOKUP(A1164,'Mapa de Preços'!$A$16:$B$2988,2,0)=FALSE,\"Falta (U.M.)\",VLOOKUP(A1164,'Mapa de Preços'!$A$16:$B$2988,2,0))","v":"Falta (U.M.)"},"","",null,{"$f":"VLOOKUP(A1164,'Mapa de Preços'!$A$16:$J$2988,10,0)","v":"Falta Orçamento"},"",null,1137,null,0]
[1138,{"$f":"IF(VLOOKUP(A1165,'Mapa de Preços'!$A$16:$B$2988,2,0)=FALSE,\"Falta (U.M.)\",VLOOKUP(A1165,'Mapa de Preços'!$A$16:$B$2988,2,0))","v":"Falta (U.M.)"},"","",null,{"$f":"VLOOKUP(A1165,'Mapa de Preços'!$A$16:$J$2988,10,0)","v":"Falta Orçamento"},"",null,1138,null,0]
[1139,{"$f":"IF(VLOOKUP(A1166,'Mapa de Preços'!$A$16:$B$2988,2,0)=FALSE,\"Falta (U.M.)\",VLOOKUP(A1166,'Mapa de Preços'!$A$16:$B$2988,2,0))","v":"Falta (U.M.)"},"","",null,{"$f":"VLOOKUP(A1166,'Mapa de Preços'!$A$16:$J$2988,10,0)","v":"Falta Orçamento"},"",null,1139,null,0]
[1140,{"$f":"IF(VLOOKUP(A1167,'Mapa de Preços'!$A$16:$B$2988,2,0)=FALSE,\"Falta (U.M.)\",VLOOKUP(A1167,'Mapa de Preços'!$A$16:$B$2988,2,0))","v":"Falta (U.M.)"},"","",null,{"$f":"VLOOKUP(A1167,'Mapa de Preços'!$A$16:$J$2988,10,0)","v":"Falta Orçamento"},"",null,1140,null,0]
[1141,{"$f":"IF(VLOOKUP(A1168,'Mapa de Preços'!$A$16:$B$2988,2,0)=FALSE,\"Falta (U.M.)\",VLOOKUP(A1168,'Mapa de Preços'!$A$16:$B$2988,2,0))","v":"Falta (U.M.)"},"","",null,{"$f":"VLOOKUP(A1168,'Mapa de Preços'!$A$16:$J$2988,10,0)","v":"Falta Orçamento"},"",null,1141,null,0]
[1142,{"$f":"IF(VLOOKUP(A1169,'Mapa de Preços'!$A$16:$B$2988,2,0)=FALSE,\"Falta (U.M.)\",VLOOKUP(A1169,'Mapa de Preços'!$A$16:$B$2988,2,0))","v":"Falta (U.M.)"},"","",null,{"$f":"VLOOKUP(A1169,'Mapa de Preços'!$A$16:$J$2988,10,0)","v":"Falta Orçamento"},"",null,1142,null,0]
[1143,{"$f":"IF(VLOOKUP(A1170,'Mapa de Preços'!$A$16:$B$2988,2,0)=FALSE,\"Falta (U.M.)\",VLOOKUP(A1170,'Mapa de Preços'!$A$16:$B$2988,2,0))","v":"Falta (U.M.)"},"","",null,{"$f":"VLOOKUP(A1170,'Mapa de Preços'!$A$16:$J$2988,10,0)","v":"Falta Orçamento"},"",null,1143,null,0]
[1144,{"$f":"IF(VLOOKUP(A1171,'Mapa de Preços'!$A$16:$B$2988,2,0)=FALSE,\"Falta (U.M.)\",VLOOKUP(A1171,'Mapa de Preços'!$A$16:$B$2988,2,0))","v":"Falta (U.M.)"},"","",null,{"$f":"VLOOKUP(A1171,'Mapa de Preços'!$A$16:$J$2988,10,0)","v":"Falta Orçamento"},"",null,1144,null,0]
[1145,{"$f":"IF(VLOOKUP(A1172,'Mapa de Preços'!$A$16:$B$2988,2,0)=FALSE,\"Falta (U.M.)\",VLOOKUP(A1172,'Mapa de Preços'!$A$16:$B$2988,2,0))","v":"Falta (U.M.)"},"","",null,{"$f":"VLOOKUP(A1172,'Mapa de Preços'!$A$16:$J$2988,10,0)","v":"Falta Orçamento"},"",null,1145,null,0]
[1146,{"$f":"IF(VLOOKUP(A1173,'Mapa de Preços'!$A$16:$B$2988,2,0)=FALSE,\"Falta (U.M.)\",VLOOKUP(A1173,'Mapa de Preços'!$A$16:$B$2988,2,0))","v":"Falta (U.M.)"},"","",null,{"$f":"VLOOKUP(A1173,'Mapa de Preços'!$A$16:$J$2988,10,0)","v":"Falta Orçamento"},"",null,1146,null,0]
[1147,{"$f":"IF(VLOOKUP(A1174,'Mapa de Preços'!$A$16:$B$2988,2,0)=FALSE,\"Falta (U.M.)\",VLOOKUP(A1174,'Mapa de Preços'!$A$16:$B$2988,2,0))","v":"Falta (U.M.)"},"","",null,{"$f":"VLOOKUP(A1174,'Mapa de Preços'!$A$16:$J$2988,10,0)","v":"Falta Orçamento"},"",null,1147,null,0]
[1148,{"$f":"IF(VLOOKUP(A1175,'Mapa de Preços'!$A$16:$B$2988,2,0)=FALSE,\"Falta (U.M.)\",VLOOKUP(A1175,'Mapa de Preços'!$A$16:$B$2988,2,0))","v":"Falta (U.M.)"},"","",null,{"$f":"VLOOKUP(A1175,'Mapa de Preços'!$A$16:$J$2988,10,0)","v":"Falta Orçamento"},"",null,1148,null,0]
[1149,{"$f":"IF(VLOOKUP(A1176,'Mapa de Preços'!$A$16:$B$2988,2,0)=FALSE,\"Falta (U.M.)\",VLOOKUP(A1176,'Mapa de Preços'!$A$16:$B$2988,2,0))","v":"Falta (U.M.)"},"","",null,{"$f":"VLOOKUP(A1176,'Mapa de Preços'!$A$16:$J$2988,10,0)","v":"Falta Orçamento"},"",null,1149,null,0]
[1150,{"$f":"IF(VLOOKUP(A1177,'Mapa de Preços'!$A$16:$B$2988,2,0)=FALSE,\"Falta (U.M.)\",VLOOKUP(A1177,'Mapa de Preços'!$A$16:$B$2988,2,0))","v":"Falta (U.M.)"},"","",null,{"$f":"VLOOKUP(A1177,'Mapa de Preços'!$A$16:$J$2988,10,0)","v":"Falta Orçamento"},"",null,1150,null,0]
[1151,{"$f":"IF(VLOOKUP(A1178,'Mapa de Preços'!$A$16:$B$2988,2,0)=FALSE,\"Falta (U.M.)\",VLOOKUP(A1178,'Mapa de Preços'!$A$16:$B$2988,2,0))","v":"Falta (U.M.)"},"","",null,{"$f":"VLOOKUP(A1178,'Mapa de Preços'!$A$16:$J$2988,10,0)","v":"Falta Orçamento"},"",null,1151,null,0]
[1152,{"$f":"IF(VLOOKUP(A1179,'Mapa de Preços'!$A$16:$B$2988,2,0)=FALSE,\"Falta (U.M.)\",VLOOKUP(A1179,'Mapa de Preços'!$A$16:$B$2988,2,0))","v":"Falta (U.M.)"},"","",null,{"$f":"VLOOKUP(A1179,'Mapa de Preços'!$A$16:$J$2988,10,0)","v":"Falta Orçamento"},"",null,1152,null,0]
[1153,{"$f":"IF(VLOOKUP(A1180,'Mapa de Preços'!$A$16:$B$2988,2,0)=FALSE,\"Falta (U.M.)\",VLOOKUP(A1180,'Mapa de Preços'!$A$16:$B$2988,2,0))","v":"Falta (U.M.)"},"","",null,{"$f":"VLOOKUP(A1180,'Mapa de Preços'!$A$16:$J$2988,10,0)","v":"Falta Orçamento"},"",null,1153,null,{"$f":"SUM(L1180:AI1180)","v":0}]
[1154,{"$f":"IF(VLOOKUP(A1181,'Mapa de Preços'!$A$16:$B$2988,2,0)=FALSE,\"Falta (U.M.)\",VLOOKUP(A1181,'Mapa de Preços'!$A$16:$B$2988,2,0))","v":"Falta (U.M.)"},{"$f":"IF(J1181<>\"\",J1181,\"\")","v":""},{"$f":"IF(VLOOKUP(A1181,$I$28:$AI$3000,$G$26,FALSE)<>\"\",VLOOKUP(A1181,$I$28:$AI$3000,$G$26,FALSE),\"\")","v":""},null,{"$f":"VLOOKUP(A1181,'Mapa de Preços'!$A$16:$J$2988,10,0)","v":"Falta Orçamento"},{"$f":"IF(F1181=\"Falta Orçamento\",\"\",F1181*D1181)","v":""},null,1154,null,0]
[1155,{"$f":"IF(VLOOKUP(A1182,'Mapa de Preços'!$A$16:$B$2988,2,0)=FALSE,\"Falta (U.M.)\",VLOOKUP(A1182,'Mapa de Preços'!$A$16:$B$2988,2,0))","v":"Falta (U.M.)"},"","",null,{"$f":"VLOOKUP(A1182,'Mapa de Preços'!$A$16:$J$2988,10,0)","v":"Falta Orçamento"},"",null,1155,null,0]
[1156,{"$f":"IF(VLOOKUP(A1183,'Mapa de Preços'!$A$16:$B$2988,2,0)=FALSE,\"Falta (U.M.)\",VLOOKUP(A1183,'Mapa de Preços'!$A$16:$B$2988,2,0))","v":"Falta (U.M.)"},"","",null,{"$f":"VLOOKUP(A1183,'Mapa de Preços'!$A$16:$J$2988,10,0)","v":"Falta Orçamento"},"",null,1156,null,0]
[1157,{"$f":"IF(VLOOKUP(A1184,'Mapa de Preços'!$A$16:$B$2988,2,0)=FALSE,\"Falta (U.M.)\",VLOOKUP(A1184,'Mapa de Preços'!$A$16:$B$2988,2,0))","v":"Falta (U.M.)"},"","",null,{"$f":"VLOOKUP(A1184,'Mapa de Preços'!$A$16:$J$2988,10,0)","v":"Falta Orçamento"},"",null,1157,null,0]
[1158,{"$f":"IF(VLOOKUP(A1185,'Mapa de Preços'!$A$16:$B$2988,2,0)=FALSE,\"Falta (U.M.)\",VLOOKUP(A1185,'Mapa de Preços'!$A$16:$B$2988,2,0))","v":"Falta (U.M.)"},"","",null,{"$f":"VLOOKUP(A1185,'Mapa de Preços'!$A$16:$J$2988,10,0)","v":"Falta Orçamento"},"",null,1158,null,0]
[1159,{"$f":"IF(VLOOKUP(A1186,'Mapa de Preços'!$A$16:$B$2988,2,0)=FALSE,\"Falta (U.M.)\",VLOOKUP(A1186,'Mapa de Preços'!$A$16:$B$2988,2,0))","v":"Falta (U.M.)"},"","",null,{"$f":"VLOOKUP(A1186,'Mapa de Preços'!$A$16:$J$2988,10,0)","v":"Falta Orçamento"},"",null,1159,null,0]
[1160,{"$f":"IF(VLOOKUP(A1187,'Mapa de Preços'!$A$16:$B$2988,2,0)=FALSE,\"Falta (U.M.)\",VLOOKUP(A1187,'Mapa de Preços'!$A$16:$B$2988,2,0))","v":"Falta (U.M.)"},"","",null,{"$f":"VLOOKUP(A1187,'Mapa de Preços'!$A$16:$J$2988,10,0)","v":"Falta Orçamento"},"",null,1160,null,0]
[1161,{"$f":"IF(VLOOKUP(A1188,'Mapa de Preços'!$A$16:$B$2988,2,0)=FALSE,\"Falta (U.M.)\",VLOOKUP(A1188,'Mapa de Preços'!$A$16:$B$2988,2,0))","v":"Falta (U.M.)"},"","",null,{"$f":"VLOOKUP(A1188,'Mapa de Preços'!$A$16:$J$2988,10,0)","v":"Falta Orçamento"},"",null,1161,null,0]
[1162,{"$f":"IF(VLOOKUP(A1189,'Mapa de Preços'!$A$16:$B$2988,2,0)=FALSE,\"Falta (U.M.)\",VLOOKUP(A1189,'Mapa de Preços'!$A$16:$B$2988,2,0))","v":"Falta (U.M.)"},"","",null,{"$f":"VLOOKUP(A1189,'Mapa de Preços'!$A$16:$J$2988,10,0)","v":"Falta Orçamento"},"",null,1162,null,0]
[1163,{"$f":"IF(VLOOKUP(A1190,'Mapa de Preços'!$A$16:$B$2988,2,0)=FALSE,\"Falta (U.M.)\",VLOOKUP(A1190,'Mapa de Preços'!$A$16:$B$2988,2,0))","v":"Falta (U.M.)"},"","",null,{"$f":"VLOOKUP(A1190,'Mapa de Preços'!$A$16:$J$2988,10,0)","v":"Falta Orçamento"},"",null,1163,null,0]
[1164,{"$f":"IF(VLOOKUP(A1191,'Mapa de Preços'!$A$16:$B$2988,2,0)=FALSE,\"Falta (U.M.)\",VLOOKUP(A1191,'Mapa de Preços'!$A$16:$B$2988,2,0))","v":"Falta (U.M.)"},"","",null,{"$f":"VLOOKUP(A1191,'Mapa de Preços'!$A$16:$J$2988,10,0)","v":"Falta Orçamento"},"",null,1164,null,0]
[1165,{"$f":"IF(VLOOKUP(A1192,'Mapa de Preços'!$A$16:$B$2988,2,0)=FALSE,\"Falta (U.M.)\",VLOOKUP(A1192,'Mapa de Preços'!$A$16:$B$2988,2,0))","v":"Falta (U.M.)"},"","",null,{"$f":"VLOOKUP(A1192,'Mapa de Preços'!$A$16:$J$2988,10,0)","v":"Falta Orçamento"},"",null,1165,null,0]
[1166,{"$f":"IF(VLOOKUP(A1193,'Mapa de Preços'!$A$16:$B$2988,2,0)=FALSE,\"Falta (U.M.)\",VLOOKUP(A1193,'Mapa de Preços'!$A$16:$B$2988,2,0))","v":"Falta (U.M.)"},"","",null,{"$f":"VLOOKUP(A1193,'Mapa de Preços'!$A$16:$J$2988,10,0)","v":"Falta Orçamento"},"",null,1166,null,0]
[1167,{"$f":"IF(VLOOKUP(A1194,'Mapa de Preços'!$A$16:$B$2988,2,0)=FALSE,\"Falta (U.M.)\",VLOOKUP(A1194,'Mapa de Preços'!$A$16:$B$2988,2,0))","v":"Falta (U.M.)"},"","",null,{"$f":"VLOOKUP(A1194,'Mapa de Preços'!$A$16:$J$2988,10,0)","v":"Falta Orçamento"},"",null,1167,null,0]
[1168,{"$f":"IF(VLOOKUP(A1195,'Mapa de Preços'!$A$16:$B$2988,2,0)=FALSE,\"Falta (U.M.)\",VLOOKUP(A1195,'Mapa de Preços'!$A$16:$B$2988,2,0))","v":"Falta (U.M.)"},"","",null,{"$f":"VLOOKUP(A1195,'Mapa de Preços'!$A$16:$J$2988,10,0)","v":"Falta Orçamento"},"",null,1168,null,0]
[1169,{"$f":"IF(VLOOKUP(A1196,'Mapa de Preços'!$A$16:$B$2988,2,0)=FALSE,\"Falta (U.M.)\",VLOOKUP(A1196,'Mapa de Preços'!$A$16:$B$2988,2,0))","v":"Falta (U.M.)"},"","",null,{"$f":"VLOOKUP(A1196,'Mapa de Preços'!$A$16:$J$2988,10,0)","v":"Falta Orçamento"},"",null,1169,null,0]
[1170,{"$f":"IF(VLOOKUP(A1197,'Mapa de Preços'!$A$16:$B$2988,2,0)=FALSE,\"Falta (U.M.)\",VLOOKUP(A1197,'Mapa de Preços'!$A$16:$B$2988,2,0))","v":"Falta (U.M.)"},"","",null,{"$f":"VLOOKUP(A1197,'Mapa de Preços'!$A$16:$J$2988,10,0)","v":"Falta Orçamento"},"",null,1170,null,0]
[1171,{"$f":"IF(VLOOKUP(A1198,'Mapa de Preços'!$A$16:$B$2988,2,0)=FALSE,\"Falta (U.M.)\",VLOOKUP(A1198,'Mapa de Preços'!$A$16:$B$2988,2,0))","v":"Falta (U.M.)"},"","",null,{"$f":"VLOOKUP(A1198,'Mapa de Preços'!$A$16:$J$2988,10,0)","v":"Falta Orçamento"},"",null,1171,null,0]
[1172,{"$f":"IF(VLOOKUP(A1199,'Mapa de Preços'!$A$16:$B$2988,2,0)=FALSE,\"Falta (U.M.)\",VLOOKUP(A1199,'Mapa de Preços'!$A$16:$B$2988,2,0))","v":"Falta (U.M.)"},"","",null,{"$f":"VLOOKUP(A1199,'Mapa de Preços'!$A$16:$J$2988,10,0)","v":"Falta Orçamento"},"",null,1172,null,0]
[1173,{"$f":"IF(VLOOKUP(A1200,'Mapa de Preços'!$A$16:$B$2988,2,0)=FALSE,\"Falta (U.M.)\",VLOOKUP(A1200,'Mapa de Preços'!$A$16:$B$2988,2,0))","v":"Falta (U.M.)"},"","",null,{"$f":"VLOOKUP(A1200,'Mapa de Preços'!$A$16:$J$2988,10,0)","v":"Falta Orçamento"},"",null,1173,null,0]
[1174,{"$f":"IF(VLOOKUP(A1201,'Mapa de Preços'!$A$16:$B$2988,2,0)=FALSE,\"Falta (U.M.)\",VLOOKUP(A1201,'Mapa de Preços'!$A$16:$B$2988,2,0))","v":"Falta (U.M.)"},"","",null,{"$f":"VLOOKUP(A1201,'Mapa de Preços'!$A$16:$J$2988,10,0)","v":"Falta Orçamento"},"",null,1174,null,0]
[1175,{"$f":"IF(VLOOKUP(A1202,'Mapa de Preços'!$A$16:$B$2988,2,0)=FALSE,\"Falta (U.M.)\",VLOOKUP(A1202,'Mapa de Preços'!$A$16:$B$2988,2,0))","v":"Falta (U.M.)"},"","",null,{"$f":"VLOOKUP(A1202,'Mapa de Preços'!$A$16:$J$2988,10,0)","v":"Falta Orçamento"},"",null,1175,null,0]
[1176,{"$f":"IF(VLOOKUP(A1203,'Mapa de Preços'!$A$16:$B$2988,2,0)=FALSE,\"Falta (U.M.)\",VLOOKUP(A1203,'Mapa de Preços'!$A$16:$B$2988,2,0))","v":"Falta (U.M.)"},"","",null,{"$f":"VLOOKUP(A1203,'Mapa de Preços'!$A$16:$J$2988,10,0)","v":"Falta Orçamento"},"",null,1176,null,0]
[1177,{"$f":"IF(VLOOKUP(A1204,'Mapa de Preços'!$A$16:$B$2988,2,0)=FALSE,\"Falta (U.M.)\",VLOOKUP(A1204,'Mapa de Preços'!$A$16:$B$2988,2,0))","v":"Falta (U.M.)"},"","",null,{"$f":"VLOOKUP(A1204,'Mapa de Preços'!$A$16:$J$2988,10,0)","v":"Falta Orçamento"},"",null,1177,null,0]
[1178,{"$f":"IF(VLOOKUP(A1205,'Mapa de Preços'!$A$16:$B$2988,2,0)=FALSE,\"Falta (U.M.)\",VLOOKUP(A1205,'Mapa de Preços'!$A$16:$B$2988,2,0))","v":"Falta (U.M.)"},"","",null,{"$f":"VLOOKUP(A1205,'Mapa de Preços'!$A$16:$J$2988,10,0)","v":"Falta Orçamento"},"",null,1178,null,0]
[1179,{"$f":"IF(VLOOKUP(A1206,'Mapa de Preços'!$A$16:$B$2988,2,0)=FALSE,\"Falta (U.M.)\",VLOOKUP(A1206,'Mapa de Preços'!$A$16:$B$2988,2,0))","v":"Falta (U.M.)"},"","",null,{"$f":"VLOOKUP(A1206,'Mapa de Preços'!$A$16:$J$2988,10,0)","v":"Falta Orçamento"},"",null,1179,null,0]
[1180,{"$f":"IF(VLOOKUP(A1207,'Mapa de Preços'!$A$16:$B$2988,2,0)=FALSE,\"Falta (U.M.)\",VLOOKUP(A1207,'Mapa de Preços'!$A$16:$B$2988,2,0))","v":"Falta (U.M.)"},"","",null,{"$f":"VLOOKUP(A1207,'Mapa de Preços'!$A$16:$J$2988,10,0)","v":"Falta Orçamento"},"",null,1180,null,0]
[1181,{"$f":"IF(VLOOKUP(A1208,'Mapa de Preços'!$A$16:$B$2988,2,0)=FALSE,\"Falta (U.M.)\",VLOOKUP(A1208,'Mapa de Preços'!$A$16:$B$2988,2,0))","v":"Falta (U.M.)"},"","",null,{"$f":"VLOOKUP(A1208,'Mapa de Preços'!$A$16:$J$2988,10,0)","v":"Falta Orçamento"},"",null,1181,null,0]
[1182,{"$f":"IF(VLOOKUP(A1209,'Mapa de Preços'!$A$16:$B$2988,2,0)=FALSE,\"Falta (U.M.)\",VLOOKUP(A1209,'Mapa de Preços'!$A$16:$B$2988,2,0))","v":"Falta (U.M.)"},"","",null,{"$f":"VLOOKUP(A1209,'Mapa de Preços'!$A$16:$J$2988,10,0)","v":"Falta Orçamento"},"",null,1182,null,0]
[1183,{"$f":"IF(VLOOKUP(A1210,'Mapa de Preços'!$A$16:$B$2988,2,0)=FALSE,\"Falta (U.M.)\",VLOOKUP(A1210,'Mapa de Preços'!$A$16:$B$2988,2,0))","v":"Falta (U.M.)"},"","",null,{"$f":"VLOOKUP(A1210,'Mapa de Preços'!$A$16:$J$2988,10,0)","v":"Falta Orçamento"},"",null,1183,null,0]
[1184,{"$f":"IF(VLOOKUP(A1211,'Mapa de Preços'!$A$16:$B$2988,2,0)=FALSE,\"Falta (U.M.)\",VLOOKUP(A1211,'Mapa de Preços'!$A$16:$B$2988,2,0))","v":"Falta (U.M.)"},"","",null,{"$f":"VLOOKUP(A1211,'Mapa de Preços'!$A$16:$J$2988,10,0)","v":"Falta Orçamento"},"",null,1184,null,0]
[1185,{"$f":"IF(VLOOKUP(A1212,'Mapa de Preços'!$A$16:$B$2988,2,0)=FALSE,\"Falta (U.M.)\",VLOOKUP(A1212,'Mapa de Preços'!$A$16:$B$2988,2,0))","v":"Falta (U.M.)"},"","",null,{"$f":"VLOOKUP(A1212,'Mapa de Preços'!$A$16:$J$2988,10,0)","v":"Falta Orçamento"},"",null,1185,null,0]
[1186,{"$f":"IF(VLOOKUP(A1213,'Mapa de Preços'!$A$16:$B$2988,2,0)=FALSE,\"Falta (U.M.)\",VLOOKUP(A1213,'Mapa de Preços'!$A$16:$B$2988,2,0))","v":"Falta (U.M.)"},"","",null,{"$f":"VLOOKUP(A1213,'Mapa de Preços'!$A$16:$J$2988,10,0)","v":"Falta Orçamento"},"",null,1186,null,0]
[1187,{"$f":"IF(VLOOKUP(A1214,'Mapa de Preços'!$A$16:$B$2988,2,0)=FALSE,\"Falta (U.M.)\",VLOOKUP(A1214,'Mapa de Preços'!$A$16:$B$2988,2,0))","v":"Falta (U.M.)"},"","",null,{"$f":"VLOOKUP(A1214,'Mapa de Preços'!$A$16:$J$2988,10,0)","v":"Falta Orçamento"},"",null,1187,null,0]
[1188,{"$f":"IF(VLOOKUP(A1215,'Mapa de Preços'!$A$16:$B$2988,2,0)=FALSE,\"Falta (U.M.)\",VLOOKUP(A1215,'Mapa de Preços'!$A$16:$B$2988,2,0))","v":"Falta (U.M.)"},"","",null,{"$f":"VLOOKUP(A1215,'Mapa de Preços'!$A$16:$J$2988,10,0)","v":"Falta Orçamento"},"",null,1188,null,0]
[1189,{"$f":"IF(VLOOKUP(A1216,'Mapa de Preços'!$A$16:$B$2988,2,0)=FALSE,\"Falta (U.M.)\",VLOOKUP(A1216,'Mapa de Preços'!$A$16:$B$2988,2,0))","v":"Falta (U.M.)"},"","",null,{"$f":"VLOOKUP(A1216,'Mapa de Preços'!$A$16:$J$2988,10,0)","v":"Falta Orçamento"},"",null,1189,null,0]
[1190,{"$f":"IF(VLOOKUP(A1217,'Mapa de Preços'!$A$16:$B$2988,2,0)=FALSE,\"Falta (U.M.)\",VLOOKUP(A1217,'Mapa de Preços'!$A$16:$B$2988,2,0))","v":"Falta (U.M.)"},"","",null,{"$f":"VLOOKUP(A1217,'Mapa de Preços'!$A$16:$J$2988,10,0)","v":"Falta Orçamento"},"",null,1190,null,0]
[1191,{"$f":"IF(VLOOKUP(A1218,'Mapa de Preços'!$A$16:$B$2988,2,0)=FALSE,\"Falta (U.M.)\",VLOOKUP(A1218,'Mapa de Preços'!$A$16:$B$2988,2,0))","v":"Falta (U.M.)"},"","",null,{"$f":"VLOOKUP(A1218,'Mapa de Preços'!$A$16:$J$2988,10,0)","v":"Falta Orçamento"},"",null,1191,null,0]
[1192,{"$f":"IF(VLOOKUP(A1219,'Mapa de Preços'!$A$16:$B$2988,2,0)=FALSE,\"Falta (U.M.)\",VLOOKUP(A1219,'Mapa de Preços'!$A$16:$B$2988,2,0))","v":"Falta (U.M.)"},"","",null,{"$f":"VLOOKUP(A1219,'Mapa de Preços'!$A$16:$J$2988,10,0)","v":"Falta Orçamento"},"",null,1192,null,0]
[1193,{"$f":"IF(VLOOKUP(A1220,'Mapa de Preços'!$A$16:$B$2988,2,0)=FALSE,\"Falta (U.M.)\",VLOOKUP(A1220,'Mapa de Preços'!$A$16:$B$2988,2,0))","v":"Falta (U.M.)"},"","",null,{"$f":"VLOOKUP(A1220,'Mapa de Preços'!$A$16:$J$2988,10,0)","v":"Falta Orçamento"},"",null,1193,null,0]
[1194,{"$f":"IF(VLOOKUP(A1221,'Mapa de Preços'!$A$16:$B$2988,2,0)=FALSE,\"Falta (U.M.)\",VLOOKUP(A1221,'Mapa de Preços'!$A$16:$B$2988,2,0))","v":"Falta (U.M.)"},"","",null,{"$f":"VLOOKUP(A1221,'Mapa de Preços'!$A$16:$J$2988,10,0)","v":"Falta Orçamento"},"",null,1194,null,0]
[1195,{"$f":"IF(VLOOKUP(A1222,'Mapa de Preços'!$A$16:$B$2988,2,0)=FALSE,\"Falta (U.M.)\",VLOOKUP(A1222,'Mapa de Preços'!$A$16:$B$2988,2,0))","v":"Falta (U.M.)"},"","",null,{"$f":"VLOOKUP(A1222,'Mapa de Preços'!$A$16:$J$2988,10,0)","v":"Falta Orçamento"},"",null,1195,null,0]
[1196,{"$f":"IF(VLOOKUP(A1223,'Mapa de Preços'!$A$16:$B$2988,2,0)=FALSE,\"Falta (U.M.)\",VLOOKUP(A1223,'Mapa de Preços'!$A$16:$B$2988,2,0))","v":"Falta (U.M.)"},"","",null,{"$f":"VLOOKUP(A1223,'Mapa de Preços'!$A$16:$J$2988,10,0)","v":"Falta Orçamento"},"",null,1196,null,0]
[1197,{"$f":"IF(VLOOKUP(A1224,'Mapa de Preços'!$A$16:$B$2988,2,0)=FALSE,\"Falta (U.M.)\",VLOOKUP(A1224,'Mapa de Preços'!$A$16:$B$2988,2,0))","v":"Falta (U.M.)"},"","",null,{"$f":"VLOOKUP(A1224,'Mapa de Preços'!$A$16:$J$2988,10,0)","v":"Falta Orçamento"},"",null,1197,null,0]
[1198,{"$f":"IF(VLOOKUP(A1225,'Mapa de Preços'!$A$16:$B$2988,2,0)=FALSE,\"Falta (U.M.)\",VLOOKUP(A1225,'Mapa de Preços'!$A$16:$B$2988,2,0))","v":"Falta (U.M.)"},"","",null,{"$f":"VLOOKUP(A1225,'Mapa de Preços'!$A$16:$J$2988,10,0)","v":"Falta Orçamento"},"",null,1198,null,0]
[1199,{"$f":"IF(VLOOKUP(A1226,'Mapa de Preços'!$A$16:$B$2988,2,0)=FALSE,\"Falta (U.M.)\",VLOOKUP(A1226,'Mapa de Preços'!$A$16:$B$2988,2,0))","v":"Falta (U.M.)"},"","",null,{"$f":"VLOOKUP(A1226,'Mapa de Preços'!$A$16:$J$2988,10,0)","v":"Falta Orçamento"},"",null,1199,null,0]
[1200,{"$f":"IF(VLOOKUP(A1227,'Mapa de Preços'!$A$16:$B$2988,2,0)=FALSE,\"Falta (U.M.)\",VLOOKUP(A1227,'Mapa de Preços'!$A$16:$B$2988,2,0))","v":"Falta (U.M.)"},"","",null,{"$f":"VLOOKUP(A1227,'Mapa de Preços'!$A$16:$J$2988,10,0)","v":"Falta Orçamento"},"",null,1200,null,0]
[1201,{"$f":"IF(VLOOKUP(A1228,'Mapa de Preços'!$A$16:$B$2988,2,0)=FALSE,\"Falta (U.M.)\",VLOOKUP(A1228,'Mapa de Preços'!$A$16:$B$2988,2,0))","v":"Falta (U.M.)"},"","",null,{"$f":"VLOOKUP(A1228,'Mapa de Preços'!$A$16:$J$2988,10,0)","v":"Falta Orçamento"},"",null,1201,null,0]
[1202,{"$f":"IF(VLOOKUP(A1229,'Mapa de Preços'!$A$16:$B$2988,2,0)=FALSE,\"Falta (U.M.)\",VLOOKUP(A1229,'Mapa de Preços'!$A$16:$B$2988,2,0))","v":"Falta (U.M.)"},"","",null,{"$f":"VLOOKUP(A1229,'Mapa de Preços'!$A$16:$J$2988,10,0)","v":"Falta Orçamento"},"",null,1202,null,0]
[1203,{"$f":"IF(VLOOKUP(A1230,'Mapa de Preços'!$A$16:$B$2988,2,0)=FALSE,\"Falta (U.M.)\",VLOOKUP(A1230,'Mapa de Preços'!$A$16:$B$2988,2,0))","v":"Falta (U.M.)"},"","",null,{"$f":"VLOOKUP(A1230,'Mapa de Preços'!$A$16:$J$2988,10,0)","v":"Falta Orçamento"},"",null,1203,null,0]
[1204,{"$f":"IF(VLOOKUP(A1231,'Mapa de Preços'!$A$16:$B$2988,2,0)=FALSE,\"Falta (U.M.)\",VLOOKUP(A1231,'Mapa de Preços'!$A$16:$B$2988,2,0))","v":"Falta (U.M.)"},"","",null,{"$f":"VLOOKUP(A1231,'Mapa de Preços'!$A$16:$J$2988,10,0)","v":"Falta Orçamento"},"",null,1204,null,0]
[1205,{"$f":"IF(VLOOKUP(A1232,'Mapa de Preços'!$A$16:$B$2988,2,0)=FALSE,\"Falta (U.M.)\",VLOOKUP(A1232,'Mapa de Preços'!$A$16:$B$2988,2,0))","v":"Falta (U.M.)"},"","",null,{"$f":"VLOOKUP(A1232,'Mapa de Preços'!$A$16:$J$2988,10,0)","v":"Falta Orçamento"},"",null,1205,null,0]
[1206,{"$f":"IF(VLOOKUP(A1233,'Mapa de Preços'!$A$16:$B$2988,2,0)=FALSE,\"Falta (U.M.)\",VLOOKUP(A1233,'Mapa de Preços'!$A$16:$B$2988,2,0))","v":"Falta (U.M.)"},"","",null,{"$f":"VLOOKUP(A1233,'Mapa de Preços'!$A$16:$J$2988,10,0)","v":"Falta Orçamento"},"",null,1206,null,0]
[1207,{"$f":"IF(VLOOKUP(A1234,'Mapa de Preços'!$A$16:$B$2988,2,0)=FALSE,\"Falta (U.M.)\",VLOOKUP(A1234,'Mapa de Preços'!$A$16:$B$2988,2,0))","v":"Falta (U.M.)"},"","",null,{"$f":"VLOOKUP(A1234,'Mapa de Preços'!$A$16:$J$2988,10,0)","v":"Falta Orçamento"},"",null,1207,null,0]
[1208,{"$f":"IF(VLOOKUP(A1235,'Mapa de Preços'!$A$16:$B$2988,2,0)=FALSE,\"Falta (U.M.)\",VLOOKUP(A1235,'Mapa de Preços'!$A$16:$B$2988,2,0))","v":"Falta (U.M.)"},"","",null,{"$f":"VLOOKUP(A1235,'Mapa de Preços'!$A$16:$J$2988,10,0)","v":"Falta Orçamento"},"",null,1208,null,0]
[1209,{"$f":"IF(VLOOKUP(A1236,'Mapa de Preços'!$A$16:$B$2988,2,0)=FALSE,\"Falta (U.M.)\",VLOOKUP(A1236,'Mapa de Preços'!$A$16:$B$2988,2,0))","v":"Falta (U.M.)"},"","",null,{"$f":"VLOOKUP(A1236,'Mapa de Preços'!$A$16:$J$2988,10,0)","v":"Falta Orçamento"},"",null,1209,null,0]
[1210,{"$f":"IF(VLOOKUP(A1237,'Mapa de Preços'!$A$16:$B$2988,2,0)=FALSE,\"Falta (U.M.)\",VLOOKUP(A1237,'Mapa de Preços'!$A$16:$B$2988,2,0))","v":"Falta (U.M.)"},"","",null,{"$f":"VLOOKUP(A1237,'Mapa de Preços'!$A$16:$J$2988,10,0)","v":"Falta Orçamento"},"",null,1210,null,0]
[1211,{"$f":"IF(VLOOKUP(A1238,'Mapa de Preços'!$A$16:$B$2988,2,0)=FALSE,\"Falta (U.M.)\",VLOOKUP(A1238,'Mapa de Preços'!$A$16:$B$2988,2,0))","v":"Falta (U.M.)"},"","",null,{"$f":"VLOOKUP(A1238,'Mapa de Preços'!$A$16:$J$2988,10,0)","v":"Falta Orçamento"},"",null,1211,null,0]
[1212,{"$f":"IF(VLOOKUP(A1239,'Mapa de Preços'!$A$16:$B$2988,2,0)=FALSE,\"Falta (U.M.)\",VLOOKUP(A1239,'Mapa de Preços'!$A$16:$B$2988,2,0))","v":"Falta (U.M.)"},"","",null,{"$f":"VLOOKUP(A1239,'Mapa de Preços'!$A$16:$J$2988,10,0)","v":"Falta Orçamento"},"",null,1212,null,0]
[1213,{"$f":"IF(VLOOKUP(A1240,'Mapa de Preços'!$A$16:$B$2988,2,0)=FALSE,\"Falta (U.M.)\",VLOOKUP(A1240,'Mapa de Preços'!$A$16:$B$2988,2,0))","v":"Falta (U.M.)"},"","",null,{"$f":"VLOOKUP(A1240,'Mapa de Preços'!$A$16:$J$2988,10,0)","v":"Falta Orçamento"},"",null,1213,null,0]
[1214,{"$f":"IF(VLOOKUP(A1241,'Mapa de Preços'!$A$16:$B$2988,2,0)=FALSE,\"Falta (U.M.)\",VLOOKUP(A1241,'Mapa de Preços'!$A$16:$B$2988,2,0))","v":"Falta (U.M.)"},"","",null,{"$f":"VLOOKUP(A1241,'Mapa de Preços'!$A$16:$J$2988,10,0)","v":"Falta Orçamento"},"",null,1214,null,0]
[1215,{"$f":"IF(VLOOKUP(A1242,'Mapa de Preços'!$A$16:$B$2988,2,0)=FALSE,\"Falta (U.M.)\",VLOOKUP(A1242,'Mapa de Preços'!$A$16:$B$2988,2,0))","v":"Falta (U.M.)"},"","",null,{"$f":"VLOOKUP(A1242,'Mapa de Preços'!$A$16:$J$2988,10,0)","v":"Falta Orçamento"},"",null,1215,null,0]
[1216,{"$f":"IF(VLOOKUP(A1243,'Mapa de Preços'!$A$16:$B$2988,2,0)=FALSE,\"Falta (U.M.)\",VLOOKUP(A1243,'Mapa de Preços'!$A$16:$B$2988,2,0))","v":"Falta (U.M.)"},"","",null,{"$f":"VLOOKUP(A1243,'Mapa de Preços'!$A$16:$J$2988,10,0)","v":"Falta Orçamento"},"",null,1216,null,0]
[1217,{"$f":"IF(VLOOKUP(A1244,'Mapa de Preços'!$A$16:$B$2988,2,0)=FALSE,\"Falta (U.M.)\",VLOOKUP(A1244,'Mapa de Preços'!$A$16:$B$2988,2,0))","v":"Falta (U.M.)"},"","",null,{"$f":"VLOOKUP(A1244,'Mapa de Preços'!$A$16:$J$2988,10,0)","v":"Falta Orçamento"},"",null,1217,null,{"$f":"SUM(L1244:AI1244)","v":0}]
[1218,{"$f":"IF(VLOOKUP(A1245,'Mapa de Preços'!$A$16:$B$2988,2,0)=FALSE,\"Falta (U.M.)\",VLOOKUP(A1245,'Mapa de Preços'!$A$16:$B$2988,2,0))","v":"Falta (U.M.)"},{"$f":"IF(J1245<>\"\",J1245,\"\")","v":""},{"$f":"IF(VLOOKUP(A1245,$I$28:$AI$3000,$G$26,FALSE)<>\"\",VLOOKUP(A1245,$I$28:$AI$3000,$G$26,FALSE),\"\")","v":""},null,{"$f":"VLOOKUP(A1245,'Mapa de Preços'!$A$16:$J$2988,10,0)","v":"Falta Orçamento"},{"$f":"IF(F1245=\"Falta Orçamento\",\"\",F1245*D1245)","v":""},null,1218,null,0]
[1219,{"$f":"IF(VLOOKUP(A1246,'Mapa de Preços'!$A$16:$B$2988,2,0)=FALSE,\"Falta (U.M.)\",VLOOKUP(A1246,'Mapa de Preços'!$A$16:$B$2988,2,0))","v":"Falta (U.M.)"},"","",null,{"$f":"VLOOKUP(A1246,'Mapa de Preços'!$A$16:$J$2988,10,0)","v":"Falta Orçamento"},"",null,1219,null,0]
[1220,{"$f":"IF(VLOOKUP(A1247,'Mapa de Preços'!$A$16:$B$2988,2,0)=FALSE,\"Falta (U.M.)\",VLOOKUP(A1247,'Mapa de Preços'!$A$16:$B$2988,2,0))","v":"Falta (U.M.)"},"","",null,{"$f":"VLOOKUP(A1247,'Mapa de Preços'!$A$16:$J$2988,10,0)","v":"Falta Orçamento"},"",null,1220,null,0]
[1221,{"$f":"IF(VLOOKUP(A1248,'Mapa de Preços'!$A$16:$B$2988,2,0)=FALSE,\"Falta (U.M.)\",VLOOKUP(A1248,'Mapa de Preços'!$A$16:$B$2988,2,0))","v":"Falta (U.M.)"},"","",null,{"$f":"VLOOKUP(A1248,'Mapa de Preços'!$A$16:$J$2988,10,0)","v":"Falta Orçamento"},"",null,1221,null,0]
[1222,{"$f":"IF(VLOOKUP(A1249,'Mapa de Preços'!$A$16:$B$2988,2,0)=FALSE,\"Falta (U.M.)\",VLOOKUP(A1249,'Mapa de Preços'!$A$16:$B$2988,2,0))","v":"Falta (U.M.)"},"","",null,{"$f":"VLOOKUP(A1249,'Mapa de Preços'!$A$16:$J$2988,10,0)","v":"Falta Orçamento"},"",null,1222,null,0]
[1223,{"$f":"IF(VLOOKUP(A1250,'Mapa de Preços'!$A$16:$B$2988,2,0)=FALSE,\"Falta (U.M.)\",VLOOKUP(A1250,'Mapa de Preços'!$A$16:$B$2988,2,0))","v":"Falta (U.M.)"},"","",null,{"$f":"VLOOKUP(A1250,'Mapa de Preços'!$A$16:$J$2988,10,0)","v":"Falta Orçamento"},"",null,1223,null,0]
[1224,{"$f":"IF(VLOOKUP(A1251,'Mapa de Preços'!$A$16:$B$2988,2,0)=FALSE,\"Falta (U.M.)\",VLOOKUP(A1251,'Mapa de Preços'!$A$16:$B$2988,2,0))","v":"Falta (U.M.)"},"","",null,{"$f":"VLOOKUP(A1251,'Mapa de Preços'!$A$16:$J$2988,10,0)","v":"Falta Orçamento"},"",null,1224,null,0]
[1225,{"$f":"IF(VLOOKUP(A1252,'Mapa de Preços'!$A$16:$B$2988,2,0)=FALSE,\"Falta (U.M.)\",VLOOKUP(A1252,'Mapa de Preços'!$A$16:$B$2988,2,0))","v":"Falta (U.M.)"},"","",null,{"$f":"VLOOKUP(A1252,'Mapa de Preços'!$A$16:$J$2988,10,0)","v":"Falta Orçamento"},"",null,1225,null,0]
[1226,{"$f":"IF(VLOOKUP(A1253,'Mapa de Preços'!$A$16:$B$2988,2,0)=FALSE,\"Falta (U.M.)\",VLOOKUP(A1253,'Mapa de Preços'!$A$16:$B$2988,2,0))","v":"Falta (U.M.)"},"","",null,{"$f":"VLOOKUP(A1253,'Mapa de Preços'!$A$16:$J$2988,10,0)","v":"Falta Orçamento"},"",null,1226,null,0]
[1227,{"$f":"IF(VLOOKUP(A1254,'Mapa de Preços'!$A$16:$B$2988,2,0)=FALSE,\"Falta (U.M.)\",VLOOKUP(A1254,'Mapa de Preços'!$A$16:$B$2988,2,0))","v":"Falta (U.M.)"},"","",null,{"$f":"VLOOKUP(A1254,'Mapa de Preços'!$A$16:$J$2988,10,0)","v":"Falta Orçamento"},"",null,1227,null,0]
[1228,{"$f":"IF(VLOOKUP(A1255,'Mapa de Preços'!$A$16:$B$2988,2,0)=FALSE,\"Falta (U.M.)\",VLOOKUP(A1255,'Mapa de Preços'!$A$16:$B$2988,2,0))","v":"Falta (U.M.)"},"","",null,{"$f":"VLOOKUP(A1255,'Mapa de Preços'!$A$16:$J$2988,10,0)","v":"Falta Orçamento"},"",null,1228,null,0]
[1229,{"$f":"IF(VLOOKUP(A1256,'Mapa de Preços'!$A$16:$B$2988,2,0)=FALSE,\"Falta (U.M.)\",VLOOKUP(A1256,'Mapa de Preços'!$A$16:$B$2988,2,0))","v":"Falta (U.M.)"},"","",null,{"$f":"VLOOKUP(A1256,'Mapa de Preços'!$A$16:$J$2988,10,0)","v":"Falta Orçamento"},"",null,1229,null,0]
[1230,{"$f":"IF(VLOOKUP(A1257,'Mapa de Preços'!$A$16:$B$2988,2,0)=FALSE,\"Falta (U.M.)\",VLOOKUP(A1257,'Mapa de Preços'!$A$16:$B$2988,2,0))","v":"Falta (U.M.)"},"","",null,{"$f":"VLOOKUP(A1257,'Mapa de Preços'!$A$16:$J$2988,10,0)","v":"Falta Orçamento"},"",null,1230,null,0]
[1231,{"$f":"IF(VLOOKUP(A1258,'Mapa de Preços'!$A$16:$B$2988,2,0)=FALSE,\"Falta (U.M.)\",VLOOKUP(A1258,'Mapa de Preços'!$A$16:$B$2988,2,0))","v":"Falta (U.M.)"},"","",null,{"$f":"VLOOKUP(A1258,'Mapa de Preços'!$A$16:$J$2988,10,0)","v":"Falta Orçamento"},"",null,1231,null,0]
[1232,{"$f":"IF(VLOOKUP(A1259,'Mapa de Preços'!$A$16:$B$2988,2,0)=FALSE,\"Falta (U.M.)\",VLOOKUP(A1259,'Mapa de Preços'!$A$16:$B$2988,2,0))","v":"Falta (U.M.)"},"","",null,{"$f":"VLOOKUP(A1259,'Mapa de Preços'!$A$16:$J$2988,10,0)","v":"Falta Orçamento"},"",null,1232,null,0]
[1233,{"$f":"IF(VLOOKUP(A1260,'Mapa de Preços'!$A$16:$B$2988,2,0)=FALSE,\"Falta (U.M.)\",VLOOKUP(A1260,'Mapa de Preços'!$A$16:$B$2988,2,0))","v":"Falta (U.M.)"},"","",null,{"$f":"VLOOKUP(A1260,'Mapa de Preços'!$A$16:$J$2988,10,0)","v":"Falta Orçamento"},"",null,1233,null,0]
[1234,{"$f":"IF(VLOOKUP(A1261,'Mapa de Preços'!$A$16:$B$2988,2,0)=FALSE,\"Falta (U.M.)\",VLOOKUP(A1261,'Mapa de Preços'!$A$16:$B$2988,2,0))","v":"Falta (U.M.)"},"","",null,{"$f":"VLOOKUP(A1261,'Mapa de Preços'!$A$16:$J$2988,10,0)","v":"Falta Orçamento"},"",null,1234,null,0]
[1235,{"$f":"IF(VLOOKUP(A1262,'Mapa de Preços'!$A$16:$B$2988,2,0)=FALSE,\"Falta (U.M.)\",VLOOKUP(A1262,'Mapa de Preços'!$A$16:$B$2988,2,0))","v":"Falta (U.M.)"},"","",null,{"$f":"VLOOKUP(A1262,'Mapa de Preços'!$A$16:$J$2988,10,0)","v":"Falta Orçamento"},"",null,1235,null,0]
[1236,{"$f":"IF(VLOOKUP(A1263,'Mapa de Preços'!$A$16:$B$2988,2,0)=FALSE,\"Falta (U.M.)\",VLOOKUP(A1263,'Mapa de Preços'!$A$16:$B$2988,2,0))","v":"Falta (U.M.)"},"","",null,{"$f":"VLOOKUP(A1263,'Mapa de Preços'!$A$16:$J$2988,10,0)","v":"Falta Orçamento"},"",null,1236,null,0]
[1237,{"$f":"IF(VLOOKUP(A1264,'Mapa de Preços'!$A$16:$B$2988,2,0)=FALSE,\"Falta (U.M.)\",VLOOKUP(A1264,'Mapa de Preços'!$A$16:$B$2988,2,0))","v":"Falta (U.M.)"},"","",null,{"$f":"VLOOKUP(A1264,'Mapa de Preços'!$A$16:$J$2988,10,0)","v":"Falta Orçamento"},"",null,1237,null,0]
[1238,{"$f":"IF(VLOOKUP(A1265,'Mapa de Preços'!$A$16:$B$2988,2,0)=FALSE,\"Falta (U.M.)\",VLOOKUP(A1265,'Mapa de Preços'!$A$16:$B$2988,2,0))","v":"Falta (U.M.)"},"","",null,{"$f":"VLOOKUP(A1265,'Mapa de Preços'!$A$16:$J$2988,10,0)","v":"Falta Orçamento"},"",null,1238,null,0]
[1239,{"$f":"IF(VLOOKUP(A1266,'Mapa de Preços'!$A$16:$B$2988,2,0)=FALSE,\"Falta (U.M.)\",VLOOKUP(A1266,'Mapa de Preços'!$A$16:$B$2988,2,0))","v":"Falta (U.M.)"},"","",null,{"$f":"VLOOKUP(A1266,'Mapa de Preços'!$A$16:$J$2988,10,0)","v":"Falta Orçamento"},"",null,1239,null,0]
[1240,{"$f":"IF(VLOOKUP(A1267,'Mapa de Preços'!$A$16:$B$2988,2,0)=FALSE,\"Falta (U.M.)\",VLOOKUP(A1267,'Mapa de Preços'!$A$16:$B$2988,2,0))","v":"Falta (U.M.)"},"","",null,{"$f":"VLOOKUP(A1267,'Mapa de Preços'!$A$16:$J$2988,10,0)","v":"Falta Orçamento"},"",null,1240,null,0]
[1241,{"$f":"IF(VLOOKUP(A1268,'Mapa de Preços'!$A$16:$B$2988,2,0)=FALSE,\"Falta (U.M.)\",VLOOKUP(A1268,'Mapa de Preços'!$A$16:$B$2988,2,0))","v":"Falta (U.M.)"},"","",null,{"$f":"VLOOKUP(A1268,'Mapa de Preços'!$A$16:$J$2988,10,0)","v":"Falta Orçamento"},"",null,1241,null,0]
[1242,{"$f":"IF(VLOOKUP(A1269,'Mapa de Preços'!$A$16:$B$2988,2,0)=FALSE,\"Falta (U.M.)\",VLOOKUP(A1269,'Mapa de Preços'!$A$16:$B$2988,2,0))","v":"Falta (U.M.)"},"","",null,{"$f":"VLOOKUP(A1269,'Mapa de Preços'!$A$16:$J$2988,10,0)","v":"Falta Orçamento"},"",null,1242,null,0]
[1243,{"$f":"IF(VLOOKUP(A1270,'Mapa de Preços'!$A$16:$B$2988,2,0)=FALSE,\"Falta (U.M.)\",VLOOKUP(A1270,'Mapa de Preços'!$A$16:$B$2988,2,0))","v":"Falta (U.M.)"},"","",null,{"$f":"VLOOKUP(A1270,'Mapa de Preços'!$A$16:$J$2988,10,0)","v":"Falta Orçamento"},"",null,1243,null,0]
[1244,{"$f":"IF(VLOOKUP(A1271,'Mapa de Preços'!$A$16:$B$2988,2,0)=FALSE,\"Falta (U.M.)\",VLOOKUP(A1271,'Mapa de Preços'!$A$16:$B$2988,2,0))","v":"Falta (U.M.)"},"","",null,{"$f":"VLOOKUP(A1271,'Mapa de Preços'!$A$16:$J$2988,10,0)","v":"Falta Orçamento"},"",null,1244,null,0]
[1245,{"$f":"IF(VLOOKUP(A1272,'Mapa de Preços'!$A$16:$B$2988,2,0)=FALSE,\"Falta (U.M.)\",VLOOKUP(A1272,'Mapa de Preços'!$A$16:$B$2988,2,0))","v":"Falta (U.M.)"},"","",null,{"$f":"VLOOKUP(A1272,'Mapa de Preços'!$A$16:$J$2988,10,0)","v":"Falta Orçamento"},"",null,1245,null,0]
[1246,{"$f":"IF(VLOOKUP(A1273,'Mapa de Preços'!$A$16:$B$2988,2,0)=FALSE,\"Falta (U.M.)\",VLOOKUP(A1273,'Mapa de Preços'!$A$16:$B$2988,2,0))","v":"Falta (U.M.)"},"","",null,{"$f":"VLOOKUP(A1273,'Mapa de Preços'!$A$16:$J$2988,10,0)","v":"Falta Orçamento"},"",null,1246,null,0]
[1247,{"$f":"IF(VLOOKUP(A1274,'Mapa de Preços'!$A$16:$B$2988,2,0)=FALSE,\"Falta (U.M.)\",VLOOKUP(A1274,'Mapa de Preços'!$A$16:$B$2988,2,0))","v":"Falta (U.M.)"},"","",null,{"$f":"VLOOKUP(A1274,'Mapa de Preços'!$A$16:$J$2988,10,0)","v":"Falta Orçamento"},"",null,1247,null,0]
[1248,{"$f":"IF(VLOOKUP(A1275,'Mapa de Preços'!$A$16:$B$2988,2,0)=FALSE,\"Falta (U.M.)\",VLOOKUP(A1275,'Mapa de Preços'!$A$16:$B$2988,2,0))","v":"Falta (U.M.)"},"","",null,{"$f":"VLOOKUP(A1275,'Mapa de Preços'!$A$16:$J$2988,10,0)","v":"Falta Orçamento"},"",null,1248,null,0]
[1249,{"$f":"IF(VLOOKUP(A1276,'Mapa de Preços'!$A$16:$B$2988,2,0)=FALSE,\"Falta (U.M.)\",VLOOKUP(A1276,'Mapa de Preços'!$A$16:$B$2988,2,0))","v":"Falta (U.M.)"},"","",null,{"$f":"VLOOKUP(A1276,'Mapa de Preços'!$A$16:$J$2988,10,0)","v":"Falta Orçamento"},"",null,1249,null,0]
[1250,{"$f":"IF(VLOOKUP(A1277,'Mapa de Preços'!$A$16:$B$2988,2,0)=FALSE,\"Falta (U.M.)\",VLOOKUP(A1277,'Mapa de Preços'!$A$16:$B$2988,2,0))","v":"Falta (U.M.)"},"","",null,{"$f":"VLOOKUP(A1277,'Mapa de Preços'!$A$16:$J$2988,10,0)","v":"Falta Orçamento"},"",null,1250,null,0]
[1251,{"$f":"IF(VLOOKUP(A1278,'Mapa de Preços'!$A$16:$B$2988,2,0)=FALSE,\"Falta (U.M.)\",VLOOKUP(A1278,'Mapa de Preços'!$A$16:$B$2988,2,0))","v":"Falta (U.M.)"},"","",null,{"$f":"VLOOKUP(A1278,'Mapa de Preços'!$A$16:$J$2988,10,0)","v":"Falta Orçamento"},"",null,1251,null,0]
[1252,{"$f":"IF(VLOOKUP(A1279,'Mapa de Preços'!$A$16:$B$2988,2,0)=FALSE,\"Falta (U.M.)\",VLOOKUP(A1279,'Mapa de Preços'!$A$16:$B$2988,2,0))","v":"Falta (U.M.)"},"","",null,{"$f":"VLOOKUP(A1279,'Mapa de Preços'!$A$16:$J$2988,10,0)","v":"Falta Orçamento"},"",null,1252,null,0]
[1253,{"$f":"IF(VLOOKUP(A1280,'Mapa de Preços'!$A$16:$B$2988,2,0)=FALSE,\"Falta (U.M.)\",VLOOKUP(A1280,'Mapa de Preços'!$A$16:$B$2988,2,0))","v":"Falta (U.M.)"},"","",null,{"$f":"VLOOKUP(A1280,'Mapa de Preços'!$A$16:$J$2988,10,0)","v":"Falta Orçamento"},"",null,1253,null,0]
[1254,{"$f":"IF(VLOOKUP(A1281,'Mapa de Preços'!$A$16:$B$2988,2,0)=FALSE,\"Falta (U.M.)\",VLOOKUP(A1281,'Mapa de Preços'!$A$16:$B$2988,2,0))","v":"Falta (U.M.)"},"","",null,{"$f":"VLOOKUP(A1281,'Mapa de Preços'!$A$16:$J$2988,10,0)","v":"Falta Orçamento"},"",null,1254,null,0]
[1255,{"$f":"IF(VLOOKUP(A1282,'Mapa de Preços'!$A$16:$B$2988,2,0)=FALSE,\"Falta (U.M.)\",VLOOKUP(A1282,'Mapa de Preços'!$A$16:$B$2988,2,0))","v":"Falta (U.M.)"},"","",null,{"$f":"VLOOKUP(A1282,'Mapa de Preços'!$A$16:$J$2988,10,0)","v":"Falta Orçamento"},"",null,1255,null,0]
[1256,{"$f":"IF(VLOOKUP(A1283,'Mapa de Preços'!$A$16:$B$2988,2,0)=FALSE,\"Falta (U.M.)\",VLOOKUP(A1283,'Mapa de Preços'!$A$16:$B$2988,2,0))","v":"Falta (U.M.)"},"","",null,{"$f":"VLOOKUP(A1283,'Mapa de Preços'!$A$16:$J$2988,10,0)","v":"Falta Orçamento"},"",null,1256,null,0]
[1257,{"$f":"IF(VLOOKUP(A1284,'Mapa de Preços'!$A$16:$B$2988,2,0)=FALSE,\"Falta (U.M.)\",VLOOKUP(A1284,'Mapa de Preços'!$A$16:$B$2988,2,0))","v":"Falta (U.M.)"},"","",null,{"$f":"VLOOKUP(A1284,'Mapa de Preços'!$A$16:$J$2988,10,0)","v":"Falta Orçamento"},"",null,1257,null,0]
[1258,{"$f":"IF(VLOOKUP(A1285,'Mapa de Preços'!$A$16:$B$2988,2,0)=FALSE,\"Falta (U.M.)\",VLOOKUP(A1285,'Mapa de Preços'!$A$16:$B$2988,2,0))","v":"Falta (U.M.)"},"","",null,{"$f":"VLOOKUP(A1285,'Mapa de Preços'!$A$16:$J$2988,10,0)","v":"Falta Orçamento"},"",null,1258,null,0]
[1259,{"$f":"IF(VLOOKUP(A1286,'Mapa de Preços'!$A$16:$B$2988,2,0)=FALSE,\"Falta (U.M.)\",VLOOKUP(A1286,'Mapa de Preços'!$A$16:$B$2988,2,0))","v":"Falta (U.M.)"},"","",null,{"$f":"VLOOKUP(A1286,'Mapa de Preços'!$A$16:$J$2988,10,0)","v":"Falta Orçamento"},"",null,1259,null,0]
[1260,{"$f":"IF(VLOOKUP(A1287,'Mapa de Preços'!$A$16:$B$2988,2,0)=FALSE,\"Falta (U.M.)\",VLOOKUP(A1287,'Mapa de Preços'!$A$16:$B$2988,2,0))","v":"Falta (U.M.)"},"","",null,{"$f":"VLOOKUP(A1287,'Mapa de Preços'!$A$16:$J$2988,10,0)","v":"Falta Orçamento"},"",null,1260,null,0]
[1261,{"$f":"IF(VLOOKUP(A1288,'Mapa de Preços'!$A$16:$B$2988,2,0)=FALSE,\"Falta (U.M.)\",VLOOKUP(A1288,'Mapa de Preços'!$A$16:$B$2988,2,0))","v":"Falta (U.M.)"},"","",null,{"$f":"VLOOKUP(A1288,'Mapa de Preços'!$A$16:$J$2988,10,0)","v":"Falta Orçamento"},"",null,1261,null,0]
[1262,{"$f":"IF(VLOOKUP(A1289,'Mapa de Preços'!$A$16:$B$2988,2,0)=FALSE,\"Falta (U.M.)\",VLOOKUP(A1289,'Mapa de Preços'!$A$16:$B$2988,2,0))","v":"Falta (U.M.)"},"","",null,{"$f":"VLOOKUP(A1289,'Mapa de Preços'!$A$16:$J$2988,10,0)","v":"Falta Orçamento"},"",null,1262,null,0]
[1263,{"$f":"IF(VLOOKUP(A1290,'Mapa de Preços'!$A$16:$B$2988,2,0)=FALSE,\"Falta (U.M.)\",VLOOKUP(A1290,'Mapa de Preços'!$A$16:$B$2988,2,0))","v":"Falta (U.M.)"},"","",null,{"$f":"VLOOKUP(A1290,'Mapa de Preços'!$A$16:$J$2988,10,0)","v":"Falta Orçamento"},"",null,1263,null,0]
[1264,{"$f":"IF(VLOOKUP(A1291,'Mapa de Preços'!$A$16:$B$2988,2,0)=FALSE,\"Falta (U.M.)\",VLOOKUP(A1291,'Mapa de Preços'!$A$16:$B$2988,2,0))","v":"Falta (U.M.)"},"","",null,{"$f":"VLOOKUP(A1291,'Mapa de Preços'!$A$16:$J$2988,10,0)","v":"Falta Orçamento"},"",null,1264,null,0]
[1265,{"$f":"IF(VLOOKUP(A1292,'Mapa de Preços'!$A$16:$B$2988,2,0)=FALSE,\"Falta (U.M.)\",VLOOKUP(A1292,'Mapa de Preços'!$A$16:$B$2988,2,0))","v":"Falta (U.M.)"},"","",null,{"$f":"VLOOKUP(A1292,'Mapa de Preços'!$A$16:$J$2988,10,0)","v":"Falta Orçamento"},"",null,1265,null,0]
[1266,{"$f":"IF(VLOOKUP(A1293,'Mapa de Preços'!$A$16:$B$2988,2,0)=FALSE,\"Falta (U.M.)\",VLOOKUP(A1293,'Mapa de Preços'!$A$16:$B$2988,2,0))","v":"Falta (U.M.)"},"","",null,{"$f":"VLOOKUP(A1293,'Mapa de Preços'!$A$16:$J$2988,10,0)","v":"Falta Orçamento"},"",null,1266,null,0]
[1267,{"$f":"IF(VLOOKUP(A1294,'Mapa de Preços'!$A$16:$B$2988,2,0)=FALSE,\"Falta (U.M.)\",VLOOKUP(A1294,'Mapa de Preços'!$A$16:$B$2988,2,0))","v":"Falta (U.M.)"},"","",null,{"$f":"VLOOKUP(A1294,'Mapa de Preços'!$A$16:$J$2988,10,0)","v":"Falta Orçamento"},"",null,1267,null,0]
[1268,{"$f":"IF(VLOOKUP(A1295,'Mapa de Preços'!$A$16:$B$2988,2,0)=FALSE,\"Falta (U.M.)\",VLOOKUP(A1295,'Mapa de Preços'!$A$16:$B$2988,2,0))","v":"Falta (U.M.)"},"","",null,{"$f":"VLOOKUP(A1295,'Mapa de Preços'!$A$16:$J$2988,10,0)","v":"Falta Orçamento"},"",null,1268,null,0]
[1269,{"$f":"IF(VLOOKUP(A1296,'Mapa de Preços'!$A$16:$B$2988,2,0)=FALSE,\"Falta (U.M.)\",VLOOKUP(A1296,'Mapa de Preços'!$A$16:$B$2988,2,0))","v":"Falta (U.M.)"},"","",null,{"$f":"VLOOKUP(A1296,'Mapa de Preços'!$A$16:$J$2988,10,0)","v":"Falta Orçamento"},"",null,1269,null,0]
[1270,{"$f":"IF(VLOOKUP(A1297,'Mapa de Preços'!$A$16:$B$2988,2,0)=FALSE,\"Falta (U.M.)\",VLOOKUP(A1297,'Mapa de Preços'!$A$16:$B$2988,2,0))","v":"Falta (U.M.)"},"","",null,{"$f":"VLOOKUP(A1297,'Mapa de Preços'!$A$16:$J$2988,10,0)","v":"Falta Orçamento"},"",null,1270,null,0]
[1271,{"$f":"IF(VLOOKUP(A1298,'Mapa de Preços'!$A$16:$B$2988,2,0)=FALSE,\"Falta (U.M.)\",VLOOKUP(A1298,'Mapa de Preços'!$A$16:$B$2988,2,0))","v":"Falta (U.M.)"},"","",null,{"$f":"VLOOKUP(A1298,'Mapa de Preços'!$A$16:$J$2988,10,0)","v":"Falta Orçamento"},"",null,1271,null,0]
[1272,{"$f":"IF(VLOOKUP(A1299,'Mapa de Preços'!$A$16:$B$2988,2,0)=FALSE,\"Falta (U.M.)\",VLOOKUP(A1299,'Mapa de Preços'!$A$16:$B$2988,2,0))","v":"Falta (U.M.)"},"","",null,{"$f":"VLOOKUP(A1299,'Mapa de Preços'!$A$16:$J$2988,10,0)","v":"Falta Orçamento"},"",null,1272,null,0]
[1273,{"$f":"IF(VLOOKUP(A1300,'Mapa de Preços'!$A$16:$B$2988,2,0)=FALSE,\"Falta (U.M.)\",VLOOKUP(A1300,'Mapa de Preços'!$A$16:$B$2988,2,0))","v":"Falta (U.M.)"},"","",null,{"$f":"VLOOKUP(A1300,'Mapa de Preços'!$A$16:$J$2988,10,0)","v":"Falta Orçamento"},"",null,1273,null,0]
[1274,{"$f":"IF(VLOOKUP(A1301,'Mapa de Preços'!$A$16:$B$2988,2,0)=FALSE,\"Falta (U.M.)\",VLOOKUP(A1301,'Mapa de Preços'!$A$16:$B$2988,2,0))","v":"Falta (U.M.)"},"","",null,{"$f":"VLOOKUP(A1301,'Mapa de Preços'!$A$16:$J$2988,10,0)","v":"Falta Orçamento"},"",null,1274,null,0]
[1275,{"$f":"IF(VLOOKUP(A1302,'Mapa de Preços'!$A$16:$B$2988,2,0)=FALSE,\"Falta (U.M.)\",VLOOKUP(A1302,'Mapa de Preços'!$A$16:$B$2988,2,0))","v":"Falta (U.M.)"},"","",null,{"$f":"VLOOKUP(A1302,'Mapa de Preços'!$A$16:$J$2988,10,0)","v":"Falta Orçamento"},"",null,1275,null,0]
[1276,{"$f":"IF(VLOOKUP(A1303,'Mapa de Preços'!$A$16:$B$2988,2,0)=FALSE,\"Falta (U.M.)\",VLOOKUP(A1303,'Mapa de Preços'!$A$16:$B$2988,2,0))","v":"Falta (U.M.)"},"","",null,{"$f":"VLOOKUP(A1303,'Mapa de Preços'!$A$16:$J$2988,10,0)","v":"Falta Orçamento"},"",null,1276,null,0]
[1277,{"$f":"IF(VLOOKUP(A1304,'Mapa de Preços'!$A$16:$B$2988,2,0)=FALSE,\"Falta (U.M.)\",VLOOKUP(A1304,'Mapa de Preços'!$A$16:$B$2988,2,0))","v":"Falta (U.M.)"},"","",null,{"$f":"VLOOKUP(A1304,'Mapa de Preços'!$A$16:$J$2988,10,0)","v":"Falta Orçamento"},"",null,1277,null,0]
[1278,{"$f":"IF(VLOOKUP(A1305,'Mapa de Preços'!$A$16:$B$2988,2,0)=FALSE,\"Falta (U.M.)\",VLOOKUP(A1305,'Mapa de Preços'!$A$16:$B$2988,2,0))","v":"Falta (U.M.)"},"","",null,{"$f":"VLOOKUP(A1305,'Mapa de Preços'!$A$16:$J$2988,10,0)","v":"Falta Orçamento"},"",null,1278,null,0]
[1279,{"$f":"IF(VLOOKUP(A1306,'Mapa de Preços'!$A$16:$B$2988,2,0)=FALSE,\"Falta (U.M.)\",VLOOKUP(A1306,'Mapa de Preços'!$A$16:$B$2988,2,0))","v":"Falta (U.M.)"},"","",null,{"$f":"VLOOKUP(A1306,'Mapa de Preços'!$A$16:$J$2988,10,0)","v":"Falta Orçamento"},"",null,1279,null,0]
[1280,{"$f":"IF(VLOOKUP(A1307,'Mapa de Preços'!$A$16:$B$2988,2,0)=FALSE,\"Falta (U.M.)\",VLOOKUP(A1307,'Mapa de Preços'!$A$16:$B$2988,2,0))","v":"Falta (U.M.)"},"","",null,{"$f":"VLOOKUP(A1307,'Mapa de Preços'!$A$16:$J$2988,10,0)","v":"Falta Orçamento"},"",null,1280,null,0]
[1281,{"$f":"IF(VLOOKUP(A1308,'Mapa de Preços'!$A$16:$B$2988,2,0)=FALSE,\"Falta (U.M.)\",VLOOKUP(A1308,'Mapa de Preços'!$A$16:$B$2988,2,0))","v":"Falta (U.M.)"},"","",null,{"$f":"VLOOKUP(A1308,'Mapa de Preços'!$A$16:$J$2988,10,0)","v":"Falta Orçamento"},"",null,1281,null,{"$f":"SUM(L1308:AI1308)","v":0}]
[1282,{"$f":"IF(VLOOKUP(A1309,'Mapa de Preços'!$A$16:$B$2988,2,0)=FALSE,\"Falta (U.M.)\",VLOOKUP(A1309,'Mapa de Preços'!$A$16:$B$2988,2,0))","v":"Falta (U.M.)"},{"$f":"IF(J1309<>\"\",J1309,\"\")","v":""},{"$f":"IF(VLOOKUP(A1309,$I$28:$AI$3000,$G$26,FALSE)<>\"\",VLOOKUP(A1309,$I$28:$AI$3000,$G$26,FALSE),\"\")","v":""},null,{"$f":"VLOOKUP(A1309,'Mapa de Preços'!$A$16:$J$2988,10,0)","v":"Falta Orçamento"},{"$f":"IF(F1309=\"Falta Orçamento\",\"\",F1309*D1309)","v":""},null,1282,null,0]
[1283,{"$f":"IF(VLOOKUP(A1310,'Mapa de Preços'!$A$16:$B$2988,2,0)=FALSE,\"Falta (U.M.)\",VLOOKUP(A1310,'Mapa de Preços'!$A$16:$B$2988,2,0))","v":"Falta (U.M.)"},"","",null,{"$f":"VLOOKUP(A1310,'Mapa de Preços'!$A$16:$J$2988,10,0)","v":"Falta Orçamento"},"",null,1283,null,0]
[1284,{"$f":"IF(VLOOKUP(A1311,'Mapa de Preços'!$A$16:$B$2988,2,0)=FALSE,\"Falta (U.M.)\",VLOOKUP(A1311,'Mapa de Preços'!$A$16:$B$2988,2,0))","v":"Falta (U.M.)"},"","",null,{"$f":"VLOOKUP(A1311,'Mapa de Preços'!$A$16:$J$2988,10,0)","v":"Falta Orçamento"},"",null,1284,null,0]
[1285,{"$f":"IF(VLOOKUP(A1312,'Mapa de Preços'!$A$16:$B$2988,2,0)=FALSE,\"Falta (U.M.)\",VLOOKUP(A1312,'Mapa de Preços'!$A$16:$B$2988,2,0))","v":"Falta (U.M.)"},"","",null,{"$f":"VLOOKUP(A1312,'Mapa de Preços'!$A$16:$J$2988,10,0)","v":"Falta Orçamento"},"",null,1285,null,0]
[1286,{"$f":"IF(VLOOKUP(A1313,'Mapa de Preços'!$A$16:$B$2988,2,0)=FALSE,\"Falta (U.M.)\",VLOOKUP(A1313,'Mapa de Preços'!$A$16:$B$2988,2,0))","v":"Falta (U.M.)"},"","",null,{"$f":"VLOOKUP(A1313,'Mapa de Preços'!$A$16:$J$2988,10,0)","v":"Falta Orçamento"},"",null,1286,null,0]
[1287,{"$f":"IF(VLOOKUP(A1314,'Mapa de Preços'!$A$16:$B$2988,2,0)=FALSE,\"Falta (U.M.)\",VLOOKUP(A1314,'Mapa de Preços'!$A$16:$B$2988,2,0))","v":"Falta (U.M.)"},"","",null,{"$f":"VLOOKUP(A1314,'Mapa de Preços'!$A$16:$J$2988,10,0)","v":"Falta Orçamento"},"",null,1287,null,0]
[1288,{"$f":"IF(VLOOKUP(A1315,'Mapa de Preços'!$A$16:$B$2988,2,0)=FALSE,\"Falta (U.M.)\",VLOOKUP(A1315,'Mapa de Preços'!$A$16:$B$2988,2,0))","v":"Falta (U.M.)"},"","",null,{"$f":"VLOOKUP(A1315,'Mapa de Preços'!$A$16:$J$2988,10,0)","v":"Falta Orçamento"},"",null,1288,null,0]
[1289,{"$f":"IF(VLOOKUP(A1316,'Mapa de Preços'!$A$16:$B$2988,2,0)=FALSE,\"Falta (U.M.)\",VLOOKUP(A1316,'Mapa de Preços'!$A$16:$B$2988,2,0))","v":"Falta (U.M.)"},"","",null,{"$f":"VLOOKUP(A1316,'Mapa de Preços'!$A$16:$J$2988,10,0)","v":"Falta Orçamento"},"",null,1289,null,0]
[1290,{"$f":"IF(VLOOKUP(A1317,'Mapa de Preços'!$A$16:$B$2988,2,0)=FALSE,\"Falta (U.M.)\",VLOOKUP(A1317,'Mapa de Preços'!$A$16:$B$2988,2,0))","v":"Falta (U.M.)"},"","",null,{"$f":"VLOOKUP(A1317,'Mapa de Preços'!$A$16:$J$2988,10,0)","v":"Falta Orçamento"},"",null,1290,null,0]
[1291,{"$f":"IF(VLOOKUP(A1318,'Mapa de Preços'!$A$16:$B$2988,2,0)=FALSE,\"Falta (U.M.)\",VLOOKUP(A1318,'Mapa de Preços'!$A$16:$B$2988,2,0))","v":"Falta (U.M.)"},"","",null,{"$f":"VLOOKUP(A1318,'Mapa de Preços'!$A$16:$J$2988,10,0)","v":"Falta Orçamento"},"",null,1291,null,0]
[1292,{"$f":"IF(VLOOKUP(A1319,'Mapa de Preços'!$A$16:$B$2988,2,0)=FALSE,\"Falta (U.M.)\",VLOOKUP(A1319,'Mapa de Preços'!$A$16:$B$2988,2,0))","v":"Falta (U.M.)"},"","",null,{"$f":"VLOOKUP(A1319,'Mapa de Preços'!$A$16:$J$2988,10,0)","v":"Falta Orçamento"},"",null,1292,null,0]
[1293,{"$f":"IF(VLOOKUP(A1320,'Mapa de Preços'!$A$16:$B$2988,2,0)=FALSE,\"Falta (U.M.)\",VLOOKUP(A1320,'Mapa de Preços'!$A$16:$B$2988,2,0))","v":"Falta (U.M.)"},"","",null,{"$f":"VLOOKUP(A1320,'Mapa de Preços'!$A$16:$J$2988,10,0)","v":"Falta Orçamento"},"",null,1293,null,0]
[1294,{"$f":"IF(VLOOKUP(A1321,'Mapa de Preços'!$A$16:$B$2988,2,0)=FALSE,\"Falta (U.M.)\",VLOOKUP(A1321,'Mapa de Preços'!$A$16:$B$2988,2,0))","v":"Falta (U.M.)"},"","",null,{"$f":"VLOOKUP(A1321,'Mapa de Preços'!$A$16:$J$2988,10,0)","v":"Falta Orçamento"},"",null,1294,null,0]
[1295,{"$f":"IF(VLOOKUP(A1322,'Mapa de Preços'!$A$16:$B$2988,2,0)=FALSE,\"Falta (U.M.)\",VLOOKUP(A1322,'Mapa de Preços'!$A$16:$B$2988,2,0))","v":"Falta (U.M.)"},"","",null,{"$f":"VLOOKUP(A1322,'Mapa de Preços'!$A$16:$J$2988,10,0)","v":"Falta Orçamento"},"",null,1295,null,0]
[1296,{"$f":"IF(VLOOKUP(A1323,'Mapa de Preços'!$A$16:$B$2988,2,0)=FALSE,\"Falta (U.M.)\",VLOOKUP(A1323,'Mapa de Preços'!$A$16:$B$2988,2,0))","v":"Falta (U.M.)"},"","",null,{"$f":"VLOOKUP(A1323,'Mapa de Preços'!$A$16:$J$2988,10,0)","v":"Falta Orçamento"},"",null,1296,null,0]
[1297,{"$f":"IF(VLOOKUP(A1324,'Mapa de Preços'!$A$16:$B$2988,2,0)=FALSE,\"Falta (U.M.)\",VLOOKUP(A1324,'Mapa de Preços'!$A$16:$B$2988,2,0))","v":"Falta (U.M.)"},"","",null,{"$f":"VLOOKUP(A1324,'Mapa de Preços'!$A$16:$J$2988,10,0)","v":"Falta Orçamento"},"",null,1297,null,0]
[1298,{"$f":"IF(VLOOKUP(A1325,'Mapa de Preços'!$A$16:$B$2988,2,0)=FALSE,\"Falta (U.M.)\",VLOOKUP(A1325,'Mapa de Preços'!$A$16:$B$2988,2,0))","v":"Falta (U.M.)"},"","",null,{"$f":"VLOOKUP(A1325,'Mapa de Preços'!$A$16:$J$2988,10,0)","v":"Falta Orçamento"},"",null,1298,null,0]
[1299,{"$f":"IF(VLOOKUP(A1326,'Mapa de Preços'!$A$16:$B$2988,2,0)=FALSE,\"Falta (U.M.)\",VLOOKUP(A1326,'Mapa de Preços'!$A$16:$B$2988,2,0))","v":"Falta (U.M.)"},"","",null,{"$f":"VLOOKUP(A1326,'Mapa de Preços'!$A$16:$J$2988,10,0)","v":"Falta Orçamento"},"",null,1299,null,0]
[1300,{"$f":"IF(VLOOKUP(A1327,'Mapa de Preços'!$A$16:$B$2988,2,0)=FALSE,\"Falta (U.M.)\",VLOOKUP(A1327,'Mapa de Preços'!$A$16:$B$2988,2,0))","v":"Falta (U.M.)"},"","",null,{"$f":"VLOOKUP(A1327,'Mapa de Preços'!$A$16:$J$2988,10,0)","v":"Falta Orçamento"},"",null,1300,null,0]
[1301,{"$f":"IF(VLOOKUP(A1328,'Mapa de Preços'!$A$16:$B$2988,2,0)=FALSE,\"Falta (U.M.)\",VLOOKUP(A1328,'Mapa de Preços'!$A$16:$B$2988,2,0))","v":"Falta (U.M.)"},"","",null,{"$f":"VLOOKUP(A1328,'Mapa de Preços'!$A$16:$J$2988,10,0)","v":"Falta Orçamento"},"",null,1301,null,0]
[1302,{"$f":"IF(VLOOKUP(A1329,'Mapa de Preços'!$A$16:$B$2988,2,0)=FALSE,\"Falta (U.M.)\",VLOOKUP(A1329,'Mapa de Preços'!$A$16:$B$2988,2,0))","v":"Falta (U.M.)"},"","",null,{"$f":"VLOOKUP(A1329,'Mapa de Preços'!$A$16:$J$2988,10,0)","v":"Falta Orçamento"},"",null,1302,null,0]
[1303,{"$f":"IF(VLOOKUP(A1330,'Mapa de Preços'!$A$16:$B$2988,2,0)=FALSE,\"Falta (U.M.)\",VLOOKUP(A1330,'Mapa de Preços'!$A$16:$B$2988,2,0))","v":"Falta (U.M.)"},"","",null,{"$f":"VLOOKUP(A1330,'Mapa de Preços'!$A$16:$J$2988,10,0)","v":"Falta Orçamento"},"",null,1303,null,0]
[1304,{"$f":"IF(VLOOKUP(A1331,'Mapa de Preços'!$A$16:$B$2988,2,0)=FALSE,\"Falta (U.M.)\",VLOOKUP(A1331,'Mapa de Preços'!$A$16:$B$2988,2,0))","v":"Falta (U.M.)"},"","",null,{"$f":"VLOOKUP(A1331,'Mapa de Preços'!$A$16:$J$2988,10,0)","v":"Falta Orçamento"},"",null,1304,null,0]
[1305,{"$f":"IF(VLOOKUP(A1332,'Mapa de Preços'!$A$16:$B$2988,2,0)=FALSE,\"Falta (U.M.)\",VLOOKUP(A1332,'Mapa de Preços'!$A$16:$B$2988,2,0))","v":"Falta (U.M.)"},"","",null,{"$f":"VLOOKUP(A1332,'Mapa de Preços'!$A$16:$J$2988,10,0)","v":"Falta Orçamento"},"",null,1305,null,0]
[1306,{"$f":"IF(VLOOKUP(A1333,'Mapa de Preços'!$A$16:$B$2988,2,0)=FALSE,\"Falta (U.M.)\",VLOOKUP(A1333,'Mapa de Preços'!$A$16:$B$2988,2,0))","v":"Falta (U.M.)"},"","",null,{"$f":"VLOOKUP(A1333,'Mapa de Preços'!$A$16:$J$2988,10,0)","v":"Falta Orçamento"},"",null,1306,null,0]
[1307,{"$f":"IF(VLOOKUP(A1334,'Mapa de Preços'!$A$16:$B$2988,2,0)=FALSE,\"Falta (U.M.)\",VLOOKUP(A1334,'Mapa de Preços'!$A$16:$B$2988,2,0))","v":"Falta (U.M.)"},"","",null,{"$f":"VLOOKUP(A1334,'Mapa de Preços'!$A$16:$J$2988,10,0)","v":"Falta Orçamento"},"",null,1307,null,0]
[1308,{"$f":"IF(VLOOKUP(A1335,'Mapa de Preços'!$A$16:$B$2988,2,0)=FALSE,\"Falta (U.M.)\",VLOOKUP(A1335,'Mapa de Preços'!$A$16:$B$2988,2,0))","v":"Falta (U.M.)"},"","",null,{"$f":"VLOOKUP(A1335,'Mapa de Preços'!$A$16:$J$2988,10,0)","v":"Falta Orçamento"},"",null,1308,null,0]
[1309,{"$f":"IF(VLOOKUP(A1336,'Mapa de Preços'!$A$16:$B$2988,2,0)=FALSE,\"Falta (U.M.)\",VLOOKUP(A1336,'Mapa de Preços'!$A$16:$B$2988,2,0))","v":"Falta (U.M.)"},"","",null,{"$f":"VLOOKUP(A1336,'Mapa de Preços'!$A$16:$J$2988,10,0)","v":"Falta Orçamento"},"",null,1309,null,0]
[1310,{"$f":"IF(VLOOKUP(A1337,'Mapa de Preços'!$A$16:$B$2988,2,0)=FALSE,\"Falta (U.M.)\",VLOOKUP(A1337,'Mapa de Preços'!$A$16:$B$2988,2,0))","v":"Falta (U.M.)"},"","",null,{"$f":"VLOOKUP(A1337,'Mapa de Preços'!$A$16:$J$2988,10,0)","v":"Falta Orçamento"},"",null,1310,null,0]
[1311,{"$f":"IF(VLOOKUP(A1338,'Mapa de Preços'!$A$16:$B$2988,2,0)=FALSE,\"Falta (U.M.)\",VLOOKUP(A1338,'Mapa de Preços'!$A$16:$B$2988,2,0))","v":"Falta (U.M.)"},"","",null,{"$f":"VLOOKUP(A1338,'Mapa de Preços'!$A$16:$J$2988,10,0)","v":"Falta Orçamento"},"",null,1311,null,0]
[1312,{"$f":"IF(VLOOKUP(A1339,'Mapa de Preços'!$A$16:$B$2988,2,0)=FALSE,\"Falta (U.M.)\",VLOOKUP(A1339,'Mapa de Preços'!$A$16:$B$2988,2,0))","v":"Falta (U.M.)"},"","",null,{"$f":"VLOOKUP(A1339,'Mapa de Preços'!$A$16:$J$2988,10,0)","v":"Falta Orçamento"},"",null,1312,null,0]
[1313,{"$f":"IF(VLOOKUP(A1340,'Mapa de Preços'!$A$16:$B$2988,2,0)=FALSE,\"Falta (U.M.)\",VLOOKUP(A1340,'Mapa de Preços'!$A$16:$B$2988,2,0))","v":"Falta (U.M.)"},"","",null,{"$f":"VLOOKUP(A1340,'Mapa de Preços'!$A$16:$J$2988,10,0)","v":"Falta Orçamento"},"",null,1313,null,0]
[1314,{"$f":"IF(VLOOKUP(A1341,'Mapa de Preços'!$A$16:$B$2988,2,0)=FALSE,\"Falta (U.M.)\",VLOOKUP(A1341,'Mapa de Preços'!$A$16:$B$2988,2,0))","v":"Falta (U.M.)"},"","",null,{"$f":"VLOOKUP(A1341,'Mapa de Preços'!$A$16:$J$2988,10,0)","v":"Falta Orçamento"},"",null,1314,null,0]
[1315,{"$f":"IF(VLOOKUP(A1342,'Mapa de Preços'!$A$16:$B$2988,2,0)=FALSE,\"Falta (U.M.)\",VLOOKUP(A1342,'Mapa de Preços'!$A$16:$B$2988,2,0))","v":"Falta (U.M.)"},"","",null,{"$f":"VLOOKUP(A1342,'Mapa de Preços'!$A$16:$J$2988,10,0)","v":"Falta Orçamento"},"",null,1315,null,0]
[1316,{"$f":"IF(VLOOKUP(A1343,'Mapa de Preços'!$A$16:$B$2988,2,0)=FALSE,\"Falta (U.M.)\",VLOOKUP(A1343,'Mapa de Preços'!$A$16:$B$2988,2,0))","v":"Falta (U.M.)"},"","",null,{"$f":"VLOOKUP(A1343,'Mapa de Preços'!$A$16:$J$2988,10,0)","v":"Falta Orçamento"},"",null,1316,null,0]
[1317,{"$f":"IF(VLOOKUP(A1344,'Mapa de Preços'!$A$16:$B$2988,2,0)=FALSE,\"Falta (U.M.)\",VLOOKUP(A1344,'Mapa de Preços'!$A$16:$B$2988,2,0))","v":"Falta (U.M.)"},"","",null,{"$f":"VLOOKUP(A1344,'Mapa de Preços'!$A$16:$J$2988,10,0)","v":"Falta Orçamento"},"",null,1317,null,0]
[1318,{"$f":"IF(VLOOKUP(A1345,'Mapa de Preços'!$A$16:$B$2988,2,0)=FALSE,\"Falta (U.M.)\",VLOOKUP(A1345,'Mapa de Preços'!$A$16:$B$2988,2,0))","v":"Falta (U.M.)"},"","",null,{"$f":"VLOOKUP(A1345,'Mapa de Preços'!$A$16:$J$2988,10,0)","v":"Falta Orçamento"},"",null,1318,null,0]
[1319,{"$f":"IF(VLOOKUP(A1346,'Mapa de Preços'!$A$16:$B$2988,2,0)=FALSE,\"Falta (U.M.)\",VLOOKUP(A1346,'Mapa de Preços'!$A$16:$B$2988,2,0))","v":"Falta (U.M.)"},"","",null,{"$f":"VLOOKUP(A1346,'Mapa de Preços'!$A$16:$J$2988,10,0)","v":"Falta Orçamento"},"",null,1319,null,0]
[1320,{"$f":"IF(VLOOKUP(A1347,'Mapa de Preços'!$A$16:$B$2988,2,0)=FALSE,\"Falta (U.M.)\",VLOOKUP(A1347,'Mapa de Preços'!$A$16:$B$2988,2,0))","v":"Falta (U.M.)"},"","",null,{"$f":"VLOOKUP(A1347,'Mapa de Preços'!$A$16:$J$2988,10,0)","v":"Falta Orçamento"},"",null,1320,null,0]
[1321,{"$f":"IF(VLOOKUP(A1348,'Mapa de Preços'!$A$16:$B$2988,2,0)=FALSE,\"Falta (U.M.)\",VLOOKUP(A1348,'Mapa de Preços'!$A$16:$B$2988,2,0))","v":"Falta (U.M.)"},"","",null,{"$f":"VLOOKUP(A1348,'Mapa de Preços'!$A$16:$J$2988,10,0)","v":"Falta Orçamento"},"",null,1321,null,0]
[1322,{"$f":"IF(VLOOKUP(A1349,'Mapa de Preços'!$A$16:$B$2988,2,0)=FALSE,\"Falta (U.M.)\",VLOOKUP(A1349,'Mapa de Preços'!$A$16:$B$2988,2,0))","v":"Falta (U.M.)"},"","",null,{"$f":"VLOOKUP(A1349,'Mapa de Preços'!$A$16:$J$2988,10,0)","v":"Falta Orçamento"},"",null,1322,null,0]
[1323,{"$f":"IF(VLOOKUP(A1350,'Mapa de Preços'!$A$16:$B$2988,2,0)=FALSE,\"Falta (U.M.)\",VLOOKUP(A1350,'Mapa de Preços'!$A$16:$B$2988,2,0))","v":"Falta (U.M.)"},"","",null,{"$f":"VLOOKUP(A1350,'Mapa de Preços'!$A$16:$J$2988,10,0)","v":"Falta Orçamento"},"",null,1323,null,0]
[1324,{"$f":"IF(VLOOKUP(A1351,'Mapa de Preços'!$A$16:$B$2988,2,0)=FALSE,\"Falta (U.M.)\",VLOOKUP(A1351,'Mapa de Preços'!$A$16:$B$2988,2,0))","v":"Falta (U.M.)"},"","",null,{"$f":"VLOOKUP(A1351,'Mapa de Preços'!$A$16:$J$2988,10,0)","v":"Falta Orçamento"},"",null,1324,null,0]
[1325,{"$f":"IF(VLOOKUP(A1352,'Mapa de Preços'!$A$16:$B$2988,2,0)=FALSE,\"Falta (U.M.)\",VLOOKUP(A1352,'Mapa de Preços'!$A$16:$B$2988,2,0))","v":"Falta (U.M.)"},"","",null,{"$f":"VLOOKUP(A1352,'Mapa de Preços'!$A$16:$J$2988,10,0)","v":"Falta Orçamento"},"",null,1325,null,0]
[1326,{"$f":"IF(VLOOKUP(A1353,'Mapa de Preços'!$A$16:$B$2988,2,0)=FALSE,\"Falta (U.M.)\",VLOOKUP(A1353,'Mapa de Preços'!$A$16:$B$2988,2,0))","v":"Falta (U.M.)"},"","",null,{"$f":"VLOOKUP(A1353,'Mapa de Preços'!$A$16:$J$2988,10,0)","v":"Falta Orçamento"},"",null,1326,null,0]
[1327,{"$f":"IF(VLOOKUP(A1354,'Mapa de Preços'!$A$16:$B$2988,2,0)=FALSE,\"Falta (U.M.)\",VLOOKUP(A1354,'Mapa de Preços'!$A$16:$B$2988,2,0))","v":"Falta (U.M.)"},"","",null,{"$f":"VLOOKUP(A1354,'Mapa de Preços'!$A$16:$J$2988,10,0)","v":"Falta Orçamento"},"",null,1327,null,0]
[1328,{"$f":"IF(VLOOKUP(A1355,'Mapa de Preços'!$A$16:$B$2988,2,0)=FALSE,\"Falta (U.M.)\",VLOOKUP(A1355,'Mapa de Preços'!$A$16:$B$2988,2,0))","v":"Falta (U.M.)"},"","",null,{"$f":"VLOOKUP(A1355,'Mapa de Preços'!$A$16:$J$2988,10,0)","v":"Falta Orçamento"},"",null,1328,null,0]
[1329,{"$f":"IF(VLOOKUP(A1356,'Mapa de Preços'!$A$16:$B$2988,2,0)=FALSE,\"Falta (U.M.)\",VLOOKUP(A1356,'Mapa de Preços'!$A$16:$B$2988,2,0))","v":"Falta (U.M.)"},"","",null,{"$f":"VLOOKUP(A1356,'Mapa de Preços'!$A$16:$J$2988,10,0)","v":"Falta Orçamento"},"",null,1329,null,0]
[1330,{"$f":"IF(VLOOKUP(A1357,'Mapa de Preços'!$A$16:$B$2988,2,0)=FALSE,\"Falta (U.M.)\",VLOOKUP(A1357,'Mapa de Preços'!$A$16:$B$2988,2,0))","v":"Falta (U.M.)"},"","",null,{"$f":"VLOOKUP(A1357,'Mapa de Preços'!$A$16:$J$2988,10,0)","v":"Falta Orçamento"},"",null,1330,null,0]
[1331,{"$f":"IF(VLOOKUP(A1358,'Mapa de Preços'!$A$16:$B$2988,2,0)=FALSE,\"Falta (U.M.)\",VLOOKUP(A1358,'Mapa de Preços'!$A$16:$B$2988,2,0))","v":"Falta (U.M.)"},"","",null,{"$f":"VLOOKUP(A1358,'Mapa de Preços'!$A$16:$J$2988,10,0)","v":"Falta Orçamento"},"",null,1331,null,0]
[1332,{"$f":"IF(VLOOKUP(A1359,'Mapa de Preços'!$A$16:$B$2988,2,0)=FALSE,\"Falta (U.M.)\",VLOOKUP(A1359,'Mapa de Preços'!$A$16:$B$2988,2,0))","v":"Falta (U.M.)"},"","",null,{"$f":"VLOOKUP(A1359,'Mapa de Preços'!$A$16:$J$2988,10,0)","v":"Falta Orçamento"},"",null,1332,null,0]
[1333,{"$f":"IF(VLOOKUP(A1360,'Mapa de Preços'!$A$16:$B$2988,2,0)=FALSE,\"Falta (U.M.)\",VLOOKUP(A1360,'Mapa de Preços'!$A$16:$B$2988,2,0))","v":"Falta (U.M.)"},"","",null,{"$f":"VLOOKUP(A1360,'Mapa de Preços'!$A$16:$J$2988,10,0)","v":"Falta Orçamento"},"",null,1333,null,0]
[1334,{"$f":"IF(VLOOKUP(A1361,'Mapa de Preços'!$A$16:$B$2988,2,0)=FALSE,\"Falta (U.M.)\",VLOOKUP(A1361,'Mapa de Preços'!$A$16:$B$2988,2,0))","v":"Falta (U.M.)"},"","",null,{"$f":"VLOOKUP(A1361,'Mapa de Preços'!$A$16:$J$2988,10,0)","v":"Falta Orçamento"},"",null,1334,null,0]
[1335,{"$f":"IF(VLOOKUP(A1362,'Mapa de Preços'!$A$16:$B$2988,2,0)=FALSE,\"Falta (U.M.)\",VLOOKUP(A1362,'Mapa de Preços'!$A$16:$B$2988,2,0))","v":"Falta (U.M.)"},"","",null,{"$f":"VLOOKUP(A1362,'Mapa de Preços'!$A$16:$J$2988,10,0)","v":"Falta Orçamento"},"",null,1335,null,0]
[1336,{"$f":"IF(VLOOKUP(A1363,'Mapa de Preços'!$A$16:$B$2988,2,0)=FALSE,\"Falta (U.M.)\",VLOOKUP(A1363,'Mapa de Preços'!$A$16:$B$2988,2,0))","v":"Falta (U.M.)"},"","",null,{"$f":"VLOOKUP(A1363,'Mapa de Preços'!$A$16:$J$2988,10,0)","v":"Falta Orçamento"},"",null,1336,null,0]
[1337,{"$f":"IF(VLOOKUP(A1364,'Mapa de Preços'!$A$16:$B$2988,2,0)=FALSE,\"Falta (U.M.)\",VLOOKUP(A1364,'Mapa de Preços'!$A$16:$B$2988,2,0))","v":"Falta (U.M.)"},"","",null,{"$f":"VLOOKUP(A1364,'Mapa de Preços'!$A$16:$J$2988,10,0)","v":"Falta Orçamento"},"",null,1337,null,0]
[1338,{"$f":"IF(VLOOKUP(A1365,'Mapa de Preços'!$A$16:$B$2988,2,0)=FALSE,\"Falta (U.M.)\",VLOOKUP(A1365,'Mapa de Preços'!$A$16:$B$2988,2,0))","v":"Falta (U.M.)"},"","",null,{"$f":"VLOOKUP(A1365,'Mapa de Preços'!$A$16:$J$2988,10,0)","v":"Falta Orçamento"},"",null,1338,null,0]
[1339,{"$f":"IF(VLOOKUP(A1366,'Mapa de Preços'!$A$16:$B$2988,2,0)=FALSE,\"Falta (U.M.)\",VLOOKUP(A1366,'Mapa de Preços'!$A$16:$B$2988,2,0))","v":"Falta (U.M.)"},"","",null,{"$f":"VLOOKUP(A1366,'Mapa de Preços'!$A$16:$J$2988,10,0)","v":"Falta Orçamento"},"",null,1339,null,0]
[1340,{"$f":"IF(VLOOKUP(A1367,'Mapa de Preços'!$A$16:$B$2988,2,0)=FALSE,\"Falta (U.M.)\",VLOOKUP(A1367,'Mapa de Preços'!$A$16:$B$2988,2,0))","v":"Falta (U.M.)"},"","",null,{"$f":"VLOOKUP(A1367,'Mapa de Preços'!$A$16:$J$2988,10,0)","v":"Falta Orçamento"},"",null,1340,null,0]
[1341,{"$f":"IF(VLOOKUP(A1368,'Mapa de Preços'!$A$16:$B$2988,2,0)=FALSE,\"Falta (U.M.)\",VLOOKUP(A1368,'Mapa de Preços'!$A$16:$B$2988,2,0))","v":"Falta (U.M.)"},"","",null,{"$f":"VLOOKUP(A1368,'Mapa de Preços'!$A$16:$J$2988,10,0)","v":"Falta Orçamento"},"",null,1341,null,0]
[1342,{"$f":"IF(VLOOKUP(A1369,'Mapa de Preços'!$A$16:$B$2988,2,0)=FALSE,\"Falta (U.M.)\",VLOOKUP(A1369,'Mapa de Preços'!$A$16:$B$2988,2,0))","v":"Falta (U.M.)"},"","",null,{"$f":"VLOOKUP(A1369,'Mapa de Preços'!$A$16:$J$2988,10,0)","v":"Falta Orçamento"},"",null,1342,null,0]
[1343,{"$f":"IF(VLOOKUP(A1370,'Mapa de Preços'!$A$16:$B$2988,2,0)=FALSE,\"Falta (U.M.)\",VLOOKUP(A1370,'Mapa de Preços'!$A$16:$B$2988,2,0))","v":"Falta (U.M.)"},"","",null,{"$f":"VLOOKUP(A1370,'Mapa de Preços'!$A$16:$J$2988,10,0)","v":"Falta Orçamento"},"",null,1343,null,0]
[1344,{"$f":"IF(VLOOKUP(A1371,'Mapa de Preços'!$A$16:$B$2988,2,0)=FALSE,\"Falta (U.M.)\",VLOOKUP(A1371,'Mapa de Preços'!$A$16:$B$2988,2,0))","v":"Falta (U.M.)"},"","",null,{"$f":"VLOOKUP(A1371,'Mapa de Preços'!$A$16:$J$2988,10,0)","v":"Falta Orçamento"},"",null,1344,null,0]
[1345,{"$f":"IF(VLOOKUP(A1372,'Mapa de Preços'!$A$16:$B$2988,2,0)=FALSE,\"Falta (U.M.)\",VLOOKUP(A1372,'Mapa de Preços'!$A$16:$B$2988,2,0))","v":"Falta (U.M.)"},"","",null,{"$f":"VLOOKUP(A1372,'Mapa de Preços'!$A$16:$J$2988,10,0)","v":"Falta Orçamento"},"",null,1345,null,{"$f":"SUM(L1372:AI1372)","v":0}]
[1346,{"$f":"IF(VLOOKUP(A1373,'Mapa de Preços'!$A$16:$B$2988,2,0)=FALSE,\"Falta (U.M.)\",VLOOKUP(A1373,'Mapa de Preços'!$A$16:$B$2988,2,0))","v":"Falta (U.M.)"},{"$f":"IF(J1373<>\"\",J1373,\"\")","v":""},{"$f":"IF(VLOOKUP(A1373,$I$28:$AI$3000,$G$26,FALSE)<>\"\",VLOOKUP(A1373,$I$28:$AI$3000,$G$26,FALSE),\"\")","v":""},null,{"$f":"VLOOKUP(A1373,'Mapa de Preços'!$A$16:$J$2988,10,0)","v":"Falta Orçamento"},{"$f":"IF(F1373=\"Falta Orçamento\",\"\",F1373*D1373)","v":""},null,1346,null,0]
[1347,{"$f":"IF(VLOOKUP(A1374,'Mapa de Preços'!$A$16:$B$2988,2,0)=FALSE,\"Falta (U.M.)\",VLOOKUP(A1374,'Mapa de Preços'!$A$16:$B$2988,2,0))","v":"Falta (U.M.)"},"","",null,{"$f":"VLOOKUP(A1374,'Mapa de Preços'!$A$16:$J$2988,10,0)","v":"Falta Orçamento"},"",null,1347,null,0]
[1348,{"$f":"IF(VLOOKUP(A1375,'Mapa de Preços'!$A$16:$B$2988,2,0)=FALSE,\"Falta (U.M.)\",VLOOKUP(A1375,'Mapa de Preços'!$A$16:$B$2988,2,0))","v":"Falta (U.M.)"},"","",null,{"$f":"VLOOKUP(A1375,'Mapa de Preços'!$A$16:$J$2988,10,0)","v":"Falta Orçamento"},"",null,1348,null,0]
[1349,{"$f":"IF(VLOOKUP(A1376,'Mapa de Preços'!$A$16:$B$2988,2,0)=FALSE,\"Falta (U.M.)\",VLOOKUP(A1376,'Mapa de Preços'!$A$16:$B$2988,2,0))","v":"Falta (U.M.)"},"","",null,{"$f":"VLOOKUP(A1376,'Mapa de Preços'!$A$16:$J$2988,10,0)","v":"Falta Orçamento"},"",null,1349,null,0]
[1350,{"$f":"IF(VLOOKUP(A1377,'Mapa de Preços'!$A$16:$B$2988,2,0)=FALSE,\"Falta (U.M.)\",VLOOKUP(A1377,'Mapa de Preços'!$A$16:$B$2988,2,0))","v":"Falta (U.M.)"},"","",null,{"$f":"VLOOKUP(A1377,'Mapa de Preços'!$A$16:$J$2988,10,0)","v":"Falta Orçamento"},"",null,1350,null,0]
[1351,{"$f":"IF(VLOOKUP(A1378,'Mapa de Preços'!$A$16:$B$2988,2,0)=FALSE,\"Falta (U.M.)\",VLOOKUP(A1378,'Mapa de Preços'!$A$16:$B$2988,2,0))","v":"Falta (U.M.)"},"","",null,{"$f":"VLOOKUP(A1378,'Mapa de Preços'!$A$16:$J$2988,10,0)","v":"Falta Orçamento"},"",null,1351,null,0]
[1352,{"$f":"IF(VLOOKUP(A1379,'Mapa de Preços'!$A$16:$B$2988,2,0)=FALSE,\"Falta (U.M.)\",VLOOKUP(A1379,'Mapa de Preços'!$A$16:$B$2988,2,0))","v":"Falta (U.M.)"},"","",null,{"$f":"VLOOKUP(A1379,'Mapa de Preços'!$A$16:$J$2988,10,0)","v":"Falta Orçamento"},"",null,1352,null,0]
[1353,{"$f":"IF(VLOOKUP(A1380,'Mapa de Preços'!$A$16:$B$2988,2,0)=FALSE,\"Falta (U.M.)\",VLOOKUP(A1380,'Mapa de Preços'!$A$16:$B$2988,2,0))","v":"Falta (U.M.)"},"","",null,{"$f":"VLOOKUP(A1380,'Mapa de Preços'!$A$16:$J$2988,10,0)","v":"Falta Orçamento"},"",null,1353,null,0]
[1354,{"$f":"IF(VLOOKUP(A1381,'Mapa de Preços'!$A$16:$B$2988,2,0)=FALSE,\"Falta (U.M.)\",VLOOKUP(A1381,'Mapa de Preços'!$A$16:$B$2988,2,0))","v":"Falta (U.M.)"},"","",null,{"$f":"VLOOKUP(A1381,'Mapa de Preços'!$A$16:$J$2988,10,0)","v":"Falta Orçamento"},"",null,1354,null,0]
[1355,{"$f":"IF(VLOOKUP(A1382,'Mapa de Preços'!$A$16:$B$2988,2,0)=FALSE,\"Falta (U.M.)\",VLOOKUP(A1382,'Mapa de Preços'!$A$16:$B$2988,2,0))","v":"Falta (U.M.)"},"","",null,{"$f":"VLOOKUP(A1382,'Mapa de Preços'!$A$16:$J$2988,10,0)","v":"Falta Orçamento"},"",null,1355,null,0]
[1356,{"$f":"IF(VLOOKUP(A1383,'Mapa de Preços'!$A$16:$B$2988,2,0)=FALSE,\"Falta (U.M.)\",VLOOKUP(A1383,'Mapa de Preços'!$A$16:$B$2988,2,0))","v":"Falta (U.M.)"},"","",null,{"$f":"VLOOKUP(A1383,'Mapa de Preços'!$A$16:$J$2988,10,0)","v":"Falta Orçamento"},"",null,1356,null,0]
[1357,{"$f":"IF(VLOOKUP(A1384,'Mapa de Preços'!$A$16:$B$2988,2,0)=FALSE,\"Falta (U.M.)\",VLOOKUP(A1384,'Mapa de Preços'!$A$16:$B$2988,2,0))","v":"Falta (U.M.)"},"","",null,{"$f":"VLOOKUP(A1384,'Mapa de Preços'!$A$16:$J$2988,10,0)","v":"Falta Orçamento"},"",null,1357,null,0]
[1358,{"$f":"IF(VLOOKUP(A1385,'Mapa de Preços'!$A$16:$B$2988,2,0)=FALSE,\"Falta (U.M.)\",VLOOKUP(A1385,'Mapa de Preços'!$A$16:$B$2988,2,0))","v":"Falta (U.M.)"},"","",null,{"$f":"VLOOKUP(A1385,'Mapa de Preços'!$A$16:$J$2988,10,0)","v":"Falta Orçamento"},"",null,1358,null,0]
[1359,{"$f":"IF(VLOOKUP(A1386,'Mapa de Preços'!$A$16:$B$2988,2,0)=FALSE,\"Falta (U.M.)\",VLOOKUP(A1386,'Mapa de Preços'!$A$16:$B$2988,2,0))","v":"Falta (U.M.)"},"","",null,{"$f":"VLOOKUP(A1386,'Mapa de Preços'!$A$16:$J$2988,10,0)","v":"Falta Orçamento"},"",null,1359,null,0]
[1360,{"$f":"IF(VLOOKUP(A1387,'Mapa de Preços'!$A$16:$B$2988,2,0)=FALSE,\"Falta (U.M.)\",VLOOKUP(A1387,'Mapa de Preços'!$A$16:$B$2988,2,0))","v":"Falta (U.M.)"},"","",null,{"$f":"VLOOKUP(A1387,'Mapa de Preços'!$A$16:$J$2988,10,0)","v":"Falta Orçamento"},"",null,1360,null,0]
[1361,{"$f":"IF(VLOOKUP(A1388,'Mapa de Preços'!$A$16:$B$2988,2,0)=FALSE,\"Falta (U.M.)\",VLOOKUP(A1388,'Mapa de Preços'!$A$16:$B$2988,2,0))","v":"Falta (U.M.)"},"","",null,{"$f":"VLOOKUP(A1388,'Mapa de Preços'!$A$16:$J$2988,10,0)","v":"Falta Orçamento"},"",null,1361,null,0]
[1362,{"$f":"IF(VLOOKUP(A1389,'Mapa de Preços'!$A$16:$B$2988,2,0)=FALSE,\"Falta (U.M.)\",VLOOKUP(A1389,'Mapa de Preços'!$A$16:$B$2988,2,0))","v":"Falta (U.M.)"},"","",null,{"$f":"VLOOKUP(A1389,'Mapa de Preços'!$A$16:$J$2988,10,0)","v":"Falta Orçamento"},"",null,1362,null,0]
[1363,{"$f":"IF(VLOOKUP(A1390,'Mapa de Preços'!$A$16:$B$2988,2,0)=FALSE,\"Falta (U.M.)\",VLOOKUP(A1390,'Mapa de Preços'!$A$16:$B$2988,2,0))","v":"Falta (U.M.)"},"","",null,{"$f":"VLOOKUP(A1390,'Mapa de Preços'!$A$16:$J$2988,10,0)","v":"Falta Orçamento"},"",null,1363,null,0]
[1364,{"$f":"IF(VLOOKUP(A1391,'Mapa de Preços'!$A$16:$B$2988,2,0)=FALSE,\"Falta (U.M.)\",VLOOKUP(A1391,'Mapa de Preços'!$A$16:$B$2988,2,0))","v":"Falta (U.M.)"},"","",null,{"$f":"VLOOKUP(A1391,'Mapa de Preços'!$A$16:$J$2988,10,0)","v":"Falta Orçamento"},"",null,1364,null,0]
[1365,{"$f":"IF(VLOOKUP(A1392,'Mapa de Preços'!$A$16:$B$2988,2,0)=FALSE,\"Falta (U.M.)\",VLOOKUP(A1392,'Mapa de Preços'!$A$16:$B$2988,2,0))","v":"Falta (U.M.)"},"","",null,{"$f":"VLOOKUP(A1392,'Mapa de Preços'!$A$16:$J$2988,10,0)","v":"Falta Orçamento"},"",null,1365,null,0]
[1366,{"$f":"IF(VLOOKUP(A1393,'Mapa de Preços'!$A$16:$B$2988,2,0)=FALSE,\"Falta (U.M.)\",VLOOKUP(A1393,'Mapa de Preços'!$A$16:$B$2988,2,0))","v":"Falta (U.M.)"},"","",null,{"$f":"VLOOKUP(A1393,'Mapa de Preços'!$A$16:$J$2988,10,0)","v":"Falta Orçamento"},"",null,1366,null,0]
[1367,{"$f":"IF(VLOOKUP(A1394,'Mapa de Preços'!$A$16:$B$2988,2,0)=FALSE,\"Falta (U.M.)\",VLOOKUP(A1394,'Mapa de Preços'!$A$16:$B$2988,2,0))","v":"Falta (U.M.)"},"","",null,{"$f":"VLOOKUP(A1394,'Mapa de Preços'!$A$16:$J$2988,10,0)","v":"Falta Orçamento"},"",null,1367,null,0]
[1368,{"$f":"IF(VLOOKUP(A1395,'Mapa de Preços'!$A$16:$B$2988,2,0)=FALSE,\"Falta (U.M.)\",VLOOKUP(A1395,'Mapa de Preços'!$A$16:$B$2988,2,0))","v":"Falta (U.M.)"},"","",null,{"$f":"VLOOKUP(A1395,'Mapa de Preços'!$A$16:$J$2988,10,0)","v":"Falta Orçamento"},"",null,1368,null,0]
[1369,{"$f":"IF(VLOOKUP(A1396,'Mapa de Preços'!$A$16:$B$2988,2,0)=FALSE,\"Falta (U.M.)\",VLOOKUP(A1396,'Mapa de Preços'!$A$16:$B$2988,2,0))","v":"Falta (U.M.)"},"","",null,{"$f":"VLOOKUP(A1396,'Mapa de Preços'!$A$16:$J$2988,10,0)","v":"Falta Orçamento"},"",null,1369,null,0]
[1370,{"$f":"IF(VLOOKUP(A1397,'Mapa de Preços'!$A$16:$B$2988,2,0)=FALSE,\"Falta (U.M.)\",VLOOKUP(A1397,'Mapa de Preços'!$A$16:$B$2988,2,0))","v":"Falta (U.M.)"},"","",null,{"$f":"VLOOKUP(A1397,'Mapa de Preços'!$A$16:$J$2988,10,0)","v":"Falta Orçamento"},"",null,1370,null,0]
[1371,{"$f":"IF(VLOOKUP(A1398,'Mapa de Preços'!$A$16:$B$2988,2,0)=FALSE,\"Falta (U.M.)\",VLOOKUP(A1398,'Mapa de Preços'!$A$16:$B$2988,2,0))","v":"Falta (U.M.)"},"","",null,{"$f":"VLOOKUP(A1398,'Mapa de Preços'!$A$16:$J$2988,10,0)","v":"Falta Orçamento"},"",null,1371,null,0]
[1372,{"$f":"IF(VLOOKUP(A1399,'Mapa de Preços'!$A$16:$B$2988,2,0)=FALSE,\"Falta (U.M.)\",VLOOKUP(A1399,'Mapa de Preços'!$A$16:$B$2988,2,0))","v":"Falta (U.M.)"},"","",null,{"$f":"VLOOKUP(A1399,'Mapa de Preços'!$A$16:$J$2988,10,0)","v":"Falta Orçamento"},"",null,1372,null,0]
[1373,{"$f":"IF(VLOOKUP(A1400,'Mapa de Preços'!$A$16:$B$2988,2,0)=FALSE,\"Falta (U.M.)\",VLOOKUP(A1400,'Mapa de Preços'!$A$16:$B$2988,2,0))","v":"Falta (U.M.)"},"","",null,{"$f":"VLOOKUP(A1400,'Mapa de Preços'!$A$16:$J$2988,10,0)","v":"Falta Orçamento"},"",null,1373,null,0]
[1374,{"$f":"IF(VLOOKUP(A1401,'Mapa de Preços'!$A$16:$B$2988,2,0)=FALSE,\"Falta (U.M.)\",VLOOKUP(A1401,'Mapa de Preços'!$A$16:$B$2988,2,0))","v":"Falta (U.M.)"},"","",null,{"$f":"VLOOKUP(A1401,'Mapa de Preços'!$A$16:$J$2988,10,0)","v":"Falta Orçamento"},"",null,1374,null,0]
[1375,{"$f":"IF(VLOOKUP(A1402,'Mapa de Preços'!$A$16:$B$2988,2,0)=FALSE,\"Falta (U.M.)\",VLOOKUP(A1402,'Mapa de Preços'!$A$16:$B$2988,2,0))","v":"Falta (U.M.)"},"","",null,{"$f":"VLOOKUP(A1402,'Mapa de Preços'!$A$16:$J$2988,10,0)","v":"Falta Orçamento"},"",null,1375,null,0]
[1376,{"$f":"IF(VLOOKUP(A1403,'Mapa de Preços'!$A$16:$B$2988,2,0)=FALSE,\"Falta (U.M.)\",VLOOKUP(A1403,'Mapa de Preços'!$A$16:$B$2988,2,0))","v":"Falta (U.M.)"},"","",null,{"$f":"VLOOKUP(A1403,'Mapa de Preços'!$A$16:$J$2988,10,0)","v":"Falta Orçamento"},"",null,1376,null,0]
[1377,{"$f":"IF(VLOOKUP(A1404,'Mapa de Preços'!$A$16:$B$2988,2,0)=FALSE,\"Falta (U.M.)\",VLOOKUP(A1404,'Mapa de Preços'!$A$16:$B$2988,2,0))","v":"Falta (U.M.)"},"","",null,{"$f":"VLOOKUP(A1404,'Mapa de Preços'!$A$16:$J$2988,10,0)","v":"Falta Orçamento"},"",null,1377,null,0]
[1378,{"$f":"IF(VLOOKUP(A1405,'Mapa de Preços'!$A$16:$B$2988,2,0)=FALSE,\"Falta (U.M.)\",VLOOKUP(A1405,'Mapa de Preços'!$A$16:$B$2988,2,0))","v":"Falta (U.M.)"},"","",null,{"$f":"VLOOKUP(A1405,'Mapa de Preços'!$A$16:$J$2988,10,0)","v":"Falta Orçamento"},"",null,1378,null,0]
[1379,{"$f":"IF(VLOOKUP(A1406,'Mapa de Preços'!$A$16:$B$2988,2,0)=FALSE,\"Falta (U.M.)\",VLOOKUP(A1406,'Mapa de Preços'!$A$16:$B$2988,2,0))","v":"Falta (U.M.)"},"","",null,{"$f":"VLOOKUP(A1406,'Mapa de Preços'!$A$16:$J$2988,10,0)","v":"Falta Orçamento"},"",null,1379,null,0]
[1380,{"$f":"IF(VLOOKUP(A1407,'Mapa de Preços'!$A$16:$B$2988,2,0)=FALSE,\"Falta (U.M.)\",VLOOKUP(A1407,'Mapa de Preços'!$A$16:$B$2988,2,0))","v":"Falta (U.M.)"},"","",null,{"$f":"VLOOKUP(A1407,'Mapa de Preços'!$A$16:$J$2988,10,0)","v":"Falta Orçamento"},"",null,1380,null,0]
[1381,{"$f":"IF(VLOOKUP(A1408,'Mapa de Preços'!$A$16:$B$2988,2,0)=FALSE,\"Falta (U.M.)\",VLOOKUP(A1408,'Mapa de Preços'!$A$16:$B$2988,2,0))","v":"Falta (U.M.)"},"","",null,{"$f":"VLOOKUP(A1408,'Mapa de Preços'!$A$16:$J$2988,10,0)","v":"Falta Orçamento"},"",null,1381,null,0]
[1382,{"$f":"IF(VLOOKUP(A1409,'Mapa de Preços'!$A$16:$B$2988,2,0)=FALSE,\"Falta (U.M.)\",VLOOKUP(A1409,'Mapa de Preços'!$A$16:$B$2988,2,0))","v":"Falta (U.M.)"},"","",null,{"$f":"VLOOKUP(A1409,'Mapa de Preços'!$A$16:$J$2988,10,0)","v":"Falta Orçamento"},"",null,1382,null,0]
[1383,{"$f":"IF(VLOOKUP(A1410,'Mapa de Preços'!$A$16:$B$2988,2,0)=FALSE,\"Falta (U.M.)\",VLOOKUP(A1410,'Mapa de Preços'!$A$16:$B$2988,2,0))","v":"Falta (U.M.)"},"","",null,{"$f":"VLOOKUP(A1410,'Mapa de Preços'!$A$16:$J$2988,10,0)","v":"Falta Orçamento"},"",null,1383,null,0]
[1384,{"$f":"IF(VLOOKUP(A1411,'Mapa de Preços'!$A$16:$B$2988,2,0)=FALSE,\"Falta (U.M.)\",VLOOKUP(A1411,'Mapa de Preços'!$A$16:$B$2988,2,0))","v":"Falta (U.M.)"},"","",null,{"$f":"VLOOKUP(A1411,'Mapa de Preços'!$A$16:$J$2988,10,0)","v":"Falta Orçamento"},"",null,1384,null,0]
[1385,{"$f":"IF(VLOOKUP(A1412,'Mapa de Preços'!$A$16:$B$2988,2,0)=FALSE,\"Falta (U.M.)\",VLOOKUP(A1412,'Mapa de Preços'!$A$16:$B$2988,2,0))","v":"Falta (U.M.)"},"","",null,{"$f":"VLOOKUP(A1412,'Mapa de Preços'!$A$16:$J$2988,10,0)","v":"Falta Orçamento"},"",null,1385,null,0]
[1386,{"$f":"IF(VLOOKUP(A1413,'Mapa de Preços'!$A$16:$B$2988,2,0)=FALSE,\"Falta (U.M.)\",VLOOKUP(A1413,'Mapa de Preços'!$A$16:$B$2988,2,0))","v":"Falta (U.M.)"},"","",null,{"$f":"VLOOKUP(A1413,'Mapa de Preços'!$A$16:$J$2988,10,0)","v":"Falta Orçamento"},"",null,1386,null,0]
[1387,{"$f":"IF(VLOOKUP(A1414,'Mapa de Preços'!$A$16:$B$2988,2,0)=FALSE,\"Falta (U.M.)\",VLOOKUP(A1414,'Mapa de Preços'!$A$16:$B$2988,2,0))","v":"Falta (U.M.)"},"","",null,{"$f":"VLOOKUP(A1414,'Mapa de Preços'!$A$16:$J$2988,10,0)","v":"Falta Orçamento"},"",null,1387,null,0]
[1388,{"$f":"IF(VLOOKUP(A1415,'Mapa de Preços'!$A$16:$B$2988,2,0)=FALSE,\"Falta (U.M.)\",VLOOKUP(A1415,'Mapa de Preços'!$A$16:$B$2988,2,0))","v":"Falta (U.M.)"},"","",null,{"$f":"VLOOKUP(A1415,'Mapa de Preços'!$A$16:$J$2988,10,0)","v":"Falta Orçamento"},"",null,1388,null,0]
[1389,{"$f":"IF(VLOOKUP(A1416,'Mapa de Preços'!$A$16:$B$2988,2,0)=FALSE,\"Falta (U.M.)\",VLOOKUP(A1416,'Mapa de Preços'!$A$16:$B$2988,2,0))","v":"Falta (U.M.)"},"","",null,{"$f":"VLOOKUP(A1416,'Mapa de Preços'!$A$16:$J$2988,10,0)","v":"Falta Orçamento"},"",null,1389,null,0]
[1390,{"$f":"IF(VLOOKUP(A1417,'Mapa de Preços'!$A$16:$B$2988,2,0)=FALSE,\"Falta (U.M.)\",VLOOKUP(A1417,'Mapa de Preços'!$A$16:$B$2988,2,0))","v":"Falta (U.M.)"},"","",null,{"$f":"VLOOKUP(A1417,'Mapa de Preços'!$A$16:$J$2988,10,0)","v":"Falta Orçamento"},"",null,1390,null,0]
[1391,{"$f":"IF(VLOOKUP(A1418,'Mapa de Preços'!$A$16:$B$2988,2,0)=FALSE,\"Falta (U.M.)\",VLOOKUP(A1418,'Mapa de Preços'!$A$16:$B$2988,2,0))","v":"Falta (U.M.)"},"","",null,{"$f":"VLOOKUP(A1418,'Mapa de Preços'!$A$16:$J$2988,10,0)","v":"Falta Orçamento"},"",null,1391,null,0]
[1392,{"$f":"IF(VLOOKUP(A1419,'Mapa de Preços'!$A$16:$B$2988,2,0)=FALSE,\"Falta (U.M.)\",VLOOKUP(A1419,'Mapa de Preços'!$A$16:$B$2988,2,0))","v":"Falta (U.M.)"},"","",null,{"$f":"VLOOKUP(A1419,'Mapa de Preços'!$A$16:$J$2988,10,0)","v":"Falta Orçamento"},"",null,1392,null,0]
[1393,{"$f":"IF(VLOOKUP(A1420,'Mapa de Preços'!$A$16:$B$2988,2,0)=FALSE,\"Falta (U.M.)\",VLOOKUP(A1420,'Mapa de Preços'!$A$16:$B$2988,2,0))","v":"Falta (U.M.)"},"","",null,{"$f":"VLOOKUP(A1420,'Mapa de Preços'!$A$16:$J$2988,10,0)","v":"Falta Orçamento"},"",null,1393,null,0]
[1394,{"$f":"IF(VLOOKUP(A1421,'Mapa de Preços'!$A$16:$B$2988,2,0)=FALSE,\"Falta (U.M.)\",VLOOKUP(A1421,'Mapa de Preços'!$A$16:$B$2988,2,0))","v":"Falta (U.M.)"},"","",null,{"$f":"VLOOKUP(A1421,'Mapa de Preços'!$A$16:$J$2988,10,0)","v":"Falta Orçamento"},"",null,1394,null,0]
[1395,{"$f":"IF(VLOOKUP(A1422,'Mapa de Preços'!$A$16:$B$2988,2,0)=FALSE,\"Falta (U.M.)\",VLOOKUP(A1422,'Mapa de Preços'!$A$16:$B$2988,2,0))","v":"Falta (U.M.)"},"","",null,{"$f":"VLOOKUP(A1422,'Mapa de Preços'!$A$16:$J$2988,10,0)","v":"Falta Orçamento"},"",null,1395,null,0]
[1396,{"$f":"IF(VLOOKUP(A1423,'Mapa de Preços'!$A$16:$B$2988,2,0)=FALSE,\"Falta (U.M.)\",VLOOKUP(A1423,'Mapa de Preços'!$A$16:$B$2988,2,0))","v":"Falta (U.M.)"},"","",null,{"$f":"VLOOKUP(A1423,'Mapa de Preços'!$A$16:$J$2988,10,0)","v":"Falta Orçamento"},"",null,1396,null,0]
[1397,{"$f":"IF(VLOOKUP(A1424,'Mapa de Preços'!$A$16:$B$2988,2,0)=FALSE,\"Falta (U.M.)\",VLOOKUP(A1424,'Mapa de Preços'!$A$16:$B$2988,2,0))","v":"Falta (U.M.)"},"","",null,{"$f":"VLOOKUP(A1424,'Mapa de Preços'!$A$16:$J$2988,10,0)","v":"Falta Orçamento"},"",null,1397,null,0]
[1398,{"$f":"IF(VLOOKUP(A1425,'Mapa de Preços'!$A$16:$B$2988,2,0)=FALSE,\"Falta (U.M.)\",VLOOKUP(A1425,'Mapa de Preços'!$A$16:$B$2988,2,0))","v":"Falta (U.M.)"},"","",null,{"$f":"VLOOKUP(A1425,'Mapa de Preços'!$A$16:$J$2988,10,0)","v":"Falta Orçamento"},"",null,1398,null,0]
[1399,{"$f":"IF(VLOOKUP(A1426,'Mapa de Preços'!$A$16:$B$2988,2,0)=FALSE,\"Falta (U.M.)\",VLOOKUP(A1426,'Mapa de Preços'!$A$16:$B$2988,2,0))","v":"Falta (U.M.)"},"","",null,{"$f":"VLOOKUP(A1426,'Mapa de Preços'!$A$16:$J$2988,10,0)","v":"Falta Orçamento"},"",null,1399,null,0]
[1400,{"$f":"IF(VLOOKUP(A1427,'Mapa de Preços'!$A$16:$B$2988,2,0)=FALSE,\"Falta (U.M.)\",VLOOKUP(A1427,'Mapa de Preços'!$A$16:$B$2988,2,0))","v":"Falta (U.M.)"},"","",null,{"$f":"VLOOKUP(A1427,'Mapa de Preços'!$A$16:$J$2988,10,0)","v":"Falta Orçamento"},"",null,1400,null,0]
[1401,{"$f":"IF(VLOOKUP(A1428,'Mapa de Preços'!$A$16:$B$2988,2,0)=FALSE,\"Falta (U.M.)\",VLOOKUP(A1428,'Mapa de Preços'!$A$16:$B$2988,2,0))","v":"Falta (U.M.)"},"","",null,{"$f":"VLOOKUP(A1428,'Mapa de Preços'!$A$16:$J$2988,10,0)","v":"Falta Orçamento"},"",null,1401,null,0]
[1402,{"$f":"IF(VLOOKUP(A1429,'Mapa de Preços'!$A$16:$B$2988,2,0)=FALSE,\"Falta (U.M.)\",VLOOKUP(A1429,'Mapa de Preços'!$A$16:$B$2988,2,0))","v":"Falta (U.M.)"},"","",null,{"$f":"VLOOKUP(A1429,'Mapa de Preços'!$A$16:$J$2988,10,0)","v":"Falta Orçamento"},"",null,1402,null,0]
[1403,{"$f":"IF(VLOOKUP(A1430,'Mapa de Preços'!$A$16:$B$2988,2,0)=FALSE,\"Falta (U.M.)\",VLOOKUP(A1430,'Mapa de Preços'!$A$16:$B$2988,2,0))","v":"Falta (U.M.)"},"","",null,{"$f":"VLOOKUP(A1430,'Mapa de Preços'!$A$16:$J$2988,10,0)","v":"Falta Orçamento"},"",null,1403,null,0]
[1404,{"$f":"IF(VLOOKUP(A1431,'Mapa de Preços'!$A$16:$B$2988,2,0)=FALSE,\"Falta (U.M.)\",VLOOKUP(A1431,'Mapa de Preços'!$A$16:$B$2988,2,0))","v":"Falta (U.M.)"},"","",null,{"$f":"VLOOKUP(A1431,'Mapa de Preços'!$A$16:$J$2988,10,0)","v":"Falta Orçamento"},"",null,1404,null,0]
[1405,{"$f":"IF(VLOOKUP(A1432,'Mapa de Preços'!$A$16:$B$2988,2,0)=FALSE,\"Falta (U.M.)\",VLOOKUP(A1432,'Mapa de Preços'!$A$16:$B$2988,2,0))","v":"Falta (U.M.)"},"","",null,{"$f":"VLOOKUP(A1432,'Mapa de Preços'!$A$16:$J$2988,10,0)","v":"Falta Orçamento"},"",null,1405,null,0]
[1406,{"$f":"IF(VLOOKUP(A1433,'Mapa de Preços'!$A$16:$B$2988,2,0)=FALSE,\"Falta (U.M.)\",VLOOKUP(A1433,'Mapa de Preços'!$A$16:$B$2988,2,0))","v":"Falta (U.M.)"},"","",null,{"$f":"VLOOKUP(A1433,'Mapa de Preços'!$A$16:$J$2988,10,0)","v":"Falta Orçamento"},"",null,1406,null,0]
[1407,{"$f":"IF(VLOOKUP(A1434,'Mapa de Preços'!$A$16:$B$2988,2,0)=FALSE,\"Falta (U.M.)\",VLOOKUP(A1434,'Mapa de Preços'!$A$16:$B$2988,2,0))","v":"Falta (U.M.)"},"","",null,{"$f":"VLOOKUP(A1434,'Mapa de Preços'!$A$16:$J$2988,10,0)","v":"Falta Orçamento"},"",null,1407,null,0]
[1408,{"$f":"IF(VLOOKUP(A1435,'Mapa de Preços'!$A$16:$B$2988,2,0)=FALSE,\"Falta (U.M.)\",VLOOKUP(A1435,'Mapa de Preços'!$A$16:$B$2988,2,0))","v":"Falta (U.M.)"},"","",null,{"$f":"VLOOKUP(A1435,'Mapa de Preços'!$A$16:$J$2988,10,0)","v":"Falta Orçamento"},"",null,1408,null,0]
[1409,{"$f":"IF(VLOOKUP(A1436,'Mapa de Preços'!$A$16:$B$2988,2,0)=FALSE,\"Falta (U.M.)\",VLOOKUP(A1436,'Mapa de Preços'!$A$16:$B$2988,2,0))","v":"Falta (U.M.)"},"","",null,{"$f":"VLOOKUP(A1436,'Mapa de Preços'!$A$16:$J$2988,10,0)","v":"Falta Orçamento"},"",null,1409,null,{"$f":"SUM(L1436:AI1436)","v":0}]
[1410,{"$f":"IF(VLOOKUP(A1437,'Mapa de Preços'!$A$16:$B$2988,2,0)=FALSE,\"Falta (U.M.)\",VLOOKUP(A1437,'Mapa de Preços'!$A$16:$B$2988,2,0))","v":"Falta (U.M.)"},{"$f":"IF(J1437<>\"\",J1437,\"\")","v":""},{"$f":"IF(VLOOKUP(A1437,$I$28:$AI$3000,$G$26,FALSE)<>\"\",VLOOKUP(A1437,$I$28:$AI$3000,$G$26,FALSE),\"\")","v":""},null,{"$f":"VLOOKUP(A1437,'Mapa de Preços'!$A$16:$J$2988,10,0)","v":"Falta Orçamento"},{"$f":"IF(F1437=\"Falta Orçamento\",\"\",F1437*D1437)","v":""},null,1410,null,0]
[1411,{"$f":"IF(VLOOKUP(A1438,'Mapa de Preços'!$A$16:$B$2988,2,0)=FALSE,\"Falta (U.M.)\",VLOOKUP(A1438,'Mapa de Preços'!$A$16:$B$2988,2,0))","v":"Falta (U.M.)"},"","",null,{"$f":"VLOOKUP(A1438,'Mapa de Preços'!$A$16:$J$2988,10,0)","v":"Falta Orçamento"},"",null,1411,null,0]
[1412,{"$f":"IF(VLOOKUP(A1439,'Mapa de Preços'!$A$16:$B$2988,2,0)=FALSE,\"Falta (U.M.)\",VLOOKUP(A1439,'Mapa de Preços'!$A$16:$B$2988,2,0))","v":"Falta (U.M.)"},"","",null,{"$f":"VLOOKUP(A1439,'Mapa de Preços'!$A$16:$J$2988,10,0)","v":"Falta Orçamento"},"",null,1412,null,0]
[1413,{"$f":"IF(VLOOKUP(A1440,'Mapa de Preços'!$A$16:$B$2988,2,0)=FALSE,\"Falta (U.M.)\",VLOOKUP(A1440,'Mapa de Preços'!$A$16:$B$2988,2,0))","v":"Falta (U.M.)"},"","",null,{"$f":"VLOOKUP(A1440,'Mapa de Preços'!$A$16:$J$2988,10,0)","v":"Falta Orçamento"},"",null,1413,null,0]
[1414,{"$f":"IF(VLOOKUP(A1441,'Mapa de Preços'!$A$16:$B$2988,2,0)=FALSE,\"Falta (U.M.)\",VLOOKUP(A1441,'Mapa de Preços'!$A$16:$B$2988,2,0))","v":"Falta (U.M.)"},"","",null,{"$f":"VLOOKUP(A1441,'Mapa de Preços'!$A$16:$J$2988,10,0)","v":"Falta Orçamento"},"",null,1414,null,0]
[1415,{"$f":"IF(VLOOKUP(A1442,'Mapa de Preços'!$A$16:$B$2988,2,0)=FALSE,\"Falta (U.M.)\",VLOOKUP(A1442,'Mapa de Preços'!$A$16:$B$2988,2,0))","v":"Falta (U.M.)"},"","",null,{"$f":"VLOOKUP(A1442,'Mapa de Preços'!$A$16:$J$2988,10,0)","v":"Falta Orçamento"},"",null,1415,null,0]
[1416,{"$f":"IF(VLOOKUP(A1443,'Mapa de Preços'!$A$16:$B$2988,2,0)=FALSE,\"Falta (U.M.)\",VLOOKUP(A1443,'Mapa de Preços'!$A$16:$B$2988,2,0))","v":"Falta (U.M.)"},"","",null,{"$f":"VLOOKUP(A1443,'Mapa de Preços'!$A$16:$J$2988,10,0)","v":"Falta Orçamento"},"",null,1416,null,0]
[1417,{"$f":"IF(VLOOKUP(A1444,'Mapa de Preços'!$A$16:$B$2988,2,0)=FALSE,\"Falta (U.M.)\",VLOOKUP(A1444,'Mapa de Preços'!$A$16:$B$2988,2,0))","v":"Falta (U.M.)"},"","",null,{"$f":"VLOOKUP(A1444,'Mapa de Preços'!$A$16:$J$2988,10,0)","v":"Falta Orçamento"},"",null,1417,null,0]
[1418,{"$f":"IF(VLOOKUP(A1445,'Mapa de Preços'!$A$16:$B$2988,2,0)=FALSE,\"Falta (U.M.)\",VLOOKUP(A1445,'Mapa de Preços'!$A$16:$B$2988,2,0))","v":"Falta (U.M.)"},"","",null,{"$f":"VLOOKUP(A1445,'Mapa de Preços'!$A$16:$J$2988,10,0)","v":"Falta Orçamento"},"",null,1418,null,0]
[1419,{"$f":"IF(VLOOKUP(A1446,'Mapa de Preços'!$A$16:$B$2988,2,0)=FALSE,\"Falta (U.M.)\",VLOOKUP(A1446,'Mapa de Preços'!$A$16:$B$2988,2,0))","v":"Falta (U.M.)"},"","",null,{"$f":"VLOOKUP(A1446,'Mapa de Preços'!$A$16:$J$2988,10,0)","v":"Falta Orçamento"},"",null,1419,null,0]
[1420,{"$f":"IF(VLOOKUP(A1447,'Mapa de Preços'!$A$16:$B$2988,2,0)=FALSE,\"Falta (U.M.)\",VLOOKUP(A1447,'Mapa de Preços'!$A$16:$B$2988,2,0))","v":"Falta (U.M.)"},"","",null,{"$f":"VLOOKUP(A1447,'Mapa de Preços'!$A$16:$J$2988,10,0)","v":"Falta Orçamento"},"",null,1420,null,0]
[1421,{"$f":"IF(VLOOKUP(A1448,'Mapa de Preços'!$A$16:$B$2988,2,0)=FALSE,\"Falta (U.M.)\",VLOOKUP(A1448,'Mapa de Preços'!$A$16:$B$2988,2,0))","v":"Falta (U.M.)"},"","",null,{"$f":"VLOOKUP(A1448,'Mapa de Preços'!$A$16:$J$2988,10,0)","v":"Falta Orçamento"},"",null,1421,null,0]
[1422,{"$f":"IF(VLOOKUP(A1449,'Mapa de Preços'!$A$16:$B$2988,2,0)=FALSE,\"Falta (U.M.)\",VLOOKUP(A1449,'Mapa de Preços'!$A$16:$B$2988,2,0))","v":"Falta (U.M.)"},"","",null,{"$f":"VLOOKUP(A1449,'Mapa de Preços'!$A$16:$J$2988,10,0)","v":"Falta Orçamento"},"",null,1422,null,0]
[1423,{"$f":"IF(VLOOKUP(A1450,'Mapa de Preços'!$A$16:$B$2988,2,0)=FALSE,\"Falta (U.M.)\",VLOOKUP(A1450,'Mapa de Preços'!$A$16:$B$2988,2,0))","v":"Falta (U.M.)"},"","",null,{"$f":"VLOOKUP(A1450,'Mapa de Preços'!$A$16:$J$2988,10,0)","v":"Falta Orçamento"},"",null,1423,null,0]
[1424,{"$f":"IF(VLOOKUP(A1451,'Mapa de Preços'!$A$16:$B$2988,2,0)=FALSE,\"Falta (U.M.)\",VLOOKUP(A1451,'Mapa de Preços'!$A$16:$B$2988,2,0))","v":"Falta (U.M.)"},"","",null,{"$f":"VLOOKUP(A1451,'Mapa de Preços'!$A$16:$J$2988,10,0)","v":"Falta Orçamento"},"",null,1424,null,0]
[1425,{"$f":"IF(VLOOKUP(A1452,'Mapa de Preços'!$A$16:$B$2988,2,0)=FALSE,\"Falta (U.M.)\",VLOOKUP(A1452,'Mapa de Preços'!$A$16:$B$2988,2,0))","v":"Falta (U.M.)"},"","",null,{"$f":"VLOOKUP(A1452,'Mapa de Preços'!$A$16:$J$2988,10,0)","v":"Falta Orçamento"},"",null,1425,null,0]
[1426,{"$f":"IF(VLOOKUP(A1453,'Mapa de Preços'!$A$16:$B$2988,2,0)=FALSE,\"Falta (U.M.)\",VLOOKUP(A1453,'Mapa de Preços'!$A$16:$B$2988,2,0))","v":"Falta (U.M.)"},"","",null,{"$f":"VLOOKUP(A1453,'Mapa de Preços'!$A$16:$J$2988,10,0)","v":"Falta Orçamento"},"",null,1426,null,0]
[1427,{"$f":"IF(VLOOKUP(A1454,'Mapa de Preços'!$A$16:$B$2988,2,0)=FALSE,\"Falta (U.M.)\",VLOOKUP(A1454,'Mapa de Preços'!$A$16:$B$2988,2,0))","v":"Falta (U.M.)"},"","",null,{"$f":"VLOOKUP(A1454,'Mapa de Preços'!$A$16:$J$2988,10,0)","v":"Falta Orçamento"},"",null,1427,null,0]
[1428,{"$f":"IF(VLOOKUP(A1455,'Mapa de Preços'!$A$16:$B$2988,2,0)=FALSE,\"Falta (U.M.)\",VLOOKUP(A1455,'Mapa de Preços'!$A$16:$B$2988,2,0))","v":"Falta (U.M.)"},"","",null,{"$f":"VLOOKUP(A1455,'Mapa de Preços'!$A$16:$J$2988,10,0)","v":"Falta Orçamento"},"",null,1428,null,0]
[1429,{"$f":"IF(VLOOKUP(A1456,'Mapa de Preços'!$A$16:$B$2988,2,0)=FALSE,\"Falta (U.M.)\",VLOOKUP(A1456,'Mapa de Preços'!$A$16:$B$2988,2,0))","v":"Falta (U.M.)"},"","",null,{"$f":"VLOOKUP(A1456,'Mapa de Preços'!$A$16:$J$2988,10,0)","v":"Falta Orçamento"},"",null,1429,null,0]
[1430,{"$f":"IF(VLOOKUP(A1457,'Mapa de Preços'!$A$16:$B$2988,2,0)=FALSE,\"Falta (U.M.)\",VLOOKUP(A1457,'Mapa de Preços'!$A$16:$B$2988,2,0))","v":"Falta (U.M.)"},"","",null,{"$f":"VLOOKUP(A1457,'Mapa de Preços'!$A$16:$J$2988,10,0)","v":"Falta Orçamento"},"",null,1430,null,0]
[1431,{"$f":"IF(VLOOKUP(A1458,'Mapa de Preços'!$A$16:$B$2988,2,0)=FALSE,\"Falta (U.M.)\",VLOOKUP(A1458,'Mapa de Preços'!$A$16:$B$2988,2,0))","v":"Falta (U.M.)"},"","",null,{"$f":"VLOOKUP(A1458,'Mapa de Preços'!$A$16:$J$2988,10,0)","v":"Falta Orçamento"},"",null,1431,null,0]
[1432,{"$f":"IF(VLOOKUP(A1459,'Mapa de Preços'!$A$16:$B$2988,2,0)=FALSE,\"Falta (U.M.)\",VLOOKUP(A1459,'Mapa de Preços'!$A$16:$B$2988,2,0))","v":"Falta (U.M.)"},"","",null,{"$f":"VLOOKUP(A1459,'Mapa de Preços'!$A$16:$J$2988,10,0)","v":"Falta Orçamento"},"",null,1432,null,0]
[1433,{"$f":"IF(VLOOKUP(A1460,'Mapa de Preços'!$A$16:$B$2988,2,0)=FALSE,\"Falta (U.M.)\",VLOOKUP(A1460,'Mapa de Preços'!$A$16:$B$2988,2,0))","v":"Falta (U.M.)"},"","",null,{"$f":"VLOOKUP(A1460,'Mapa de Preços'!$A$16:$J$2988,10,0)","v":"Falta Orçamento"},"",null,1433,null,0]
[1434,{"$f":"IF(VLOOKUP(A1461,'Mapa de Preços'!$A$16:$B$2988,2,0)=FALSE,\"Falta (U.M.)\",VLOOKUP(A1461,'Mapa de Preços'!$A$16:$B$2988,2,0))","v":"Falta (U.M.)"},"","",null,{"$f":"VLOOKUP(A1461,'Mapa de Preços'!$A$16:$J$2988,10,0)","v":"Falta Orçamento"},"",null,1434,null,0]
[1435,{"$f":"IF(VLOOKUP(A1462,'Mapa de Preços'!$A$16:$B$2988,2,0)=FALSE,\"Falta (U.M.)\",VLOOKUP(A1462,'Mapa de Preços'!$A$16:$B$2988,2,0))","v":"Falta (U.M.)"},"","",null,{"$f":"VLOOKUP(A1462,'Mapa de Preços'!$A$16:$J$2988,10,0)","v":"Falta Orçamento"},"",null,1435,null,0]
[1436,{"$f":"IF(VLOOKUP(A1463,'Mapa de Preços'!$A$16:$B$2988,2,0)=FALSE,\"Falta (U.M.)\",VLOOKUP(A1463,'Mapa de Preços'!$A$16:$B$2988,2,0))","v":"Falta (U.M.)"},"","",null,{"$f":"VLOOKUP(A1463,'Mapa de Preços'!$A$16:$J$2988,10,0)","v":"Falta Orçamento"},"",null,1436,null,0]
[1437,{"$f":"IF(VLOOKUP(A1464,'Mapa de Preços'!$A$16:$B$2988,2,0)=FALSE,\"Falta (U.M.)\",VLOOKUP(A1464,'Mapa de Preços'!$A$16:$B$2988,2,0))","v":"Falta (U.M.)"},"","",null,{"$f":"VLOOKUP(A1464,'Mapa de Preços'!$A$16:$J$2988,10,0)","v":"Falta Orçamento"},"",null,1437,null,0]
[1438,{"$f":"IF(VLOOKUP(A1465,'Mapa de Preços'!$A$16:$B$2988,2,0)=FALSE,\"Falta (U.M.)\",VLOOKUP(A1465,'Mapa de Preços'!$A$16:$B$2988,2,0))","v":"Falta (U.M.)"},"","",null,{"$f":"VLOOKUP(A1465,'Mapa de Preços'!$A$16:$J$2988,10,0)","v":"Falta Orçamento"},"",null,1438,null,0]
[1439,{"$f":"IF(VLOOKUP(A1466,'Mapa de Preços'!$A$16:$B$2988,2,0)=FALSE,\"Falta (U.M.)\",VLOOKUP(A1466,'Mapa de Preços'!$A$16:$B$2988,2,0))","v":"Falta (U.M.)"},"","",null,{"$f":"VLOOKUP(A1466,'Mapa de Preços'!$A$16:$J$2988,10,0)","v":"Falta Orçamento"},"",null,1439,null,0]
[1440,{"$f":"IF(VLOOKUP(A1467,'Mapa de Preços'!$A$16:$B$2988,2,0)=FALSE,\"Falta (U.M.)\",VLOOKUP(A1467,'Mapa de Preços'!$A$16:$B$2988,2,0))","v":"Falta (U.M.)"},"","",null,{"$f":"VLOOKUP(A1467,'Mapa de Preços'!$A$16:$J$2988,10,0)","v":"Falta Orçamento"},"",null,1440,null,0]
[1441,{"$f":"IF(VLOOKUP(A1468,'Mapa de Preços'!$A$16:$B$2988,2,0)=FALSE,\"Falta (U.M.)\",VLOOKUP(A1468,'Mapa de Preços'!$A$16:$B$2988,2,0))","v":"Falta (U.M.)"},"","",null,{"$f":"VLOOKUP(A1468,'Mapa de Preços'!$A$16:$J$2988,10,0)","v":"Falta Orçamento"},"",null,1441,null,0]
[1442,{"$f":"IF(VLOOKUP(A1469,'Mapa de Preços'!$A$16:$B$2988,2,0)=FALSE,\"Falta (U.M.)\",VLOOKUP(A1469,'Mapa de Preços'!$A$16:$B$2988,2,0))","v":"Falta (U.M.)"},"","",null,{"$f":"VLOOKUP(A1469,'Mapa de Preços'!$A$16:$J$2988,10,0)","v":"Falta Orçamento"},"",null,1442,null,0]
[1443,{"$f":"IF(VLOOKUP(A1470,'Mapa de Preços'!$A$16:$B$2988,2,0)=FALSE,\"Falta (U.M.)\",VLOOKUP(A1470,'Mapa de Preços'!$A$16:$B$2988,2,0))","v":"Falta (U.M.)"},"","",null,{"$f":"VLOOKUP(A1470,'Mapa de Preços'!$A$16:$J$2988,10,0)","v":"Falta Orçamento"},"",null,1443,null,0]
[1444,{"$f":"IF(VLOOKUP(A1471,'Mapa de Preços'!$A$16:$B$2988,2,0)=FALSE,\"Falta (U.M.)\",VLOOKUP(A1471,'Mapa de Preços'!$A$16:$B$2988,2,0))","v":"Falta (U.M.)"},"","",null,{"$f":"VLOOKUP(A1471,'Mapa de Preços'!$A$16:$J$2988,10,0)","v":"Falta Orçamento"},"",null,1444,null,0]
[1445,{"$f":"IF(VLOOKUP(A1472,'Mapa de Preços'!$A$16:$B$2988,2,0)=FALSE,\"Falta (U.M.)\",VLOOKUP(A1472,'Mapa de Preços'!$A$16:$B$2988,2,0))","v":"Falta (U.M.)"},"","",null,{"$f":"VLOOKUP(A1472,'Mapa de Preços'!$A$16:$J$2988,10,0)","v":"Falta Orçamento"},"",null,1445,null,0]
[1446,{"$f":"IF(VLOOKUP(A1473,'Mapa de Preços'!$A$16:$B$2988,2,0)=FALSE,\"Falta (U.M.)\",VLOOKUP(A1473,'Mapa de Preços'!$A$16:$B$2988,2,0))","v":"Falta (U.M.)"},"","",null,{"$f":"VLOOKUP(A1473,'Mapa de Preços'!$A$16:$J$2988,10,0)","v":"Falta Orçamento"},"",null,1446,null,0]
[1447,{"$f":"IF(VLOOKUP(A1474,'Mapa de Preços'!$A$16:$B$2988,2,0)=FALSE,\"Falta (U.M.)\",VLOOKUP(A1474,'Mapa de Preços'!$A$16:$B$2988,2,0))","v":"Falta (U.M.)"},"","",null,{"$f":"VLOOKUP(A1474,'Mapa de Preços'!$A$16:$J$2988,10,0)","v":"Falta Orçamento"},"",null,1447,null,0]
[1448,{"$f":"IF(VLOOKUP(A1475,'Mapa de Preços'!$A$16:$B$2988,2,0)=FALSE,\"Falta (U.M.)\",VLOOKUP(A1475,'Mapa de Preços'!$A$16:$B$2988,2,0))","v":"Falta (U.M.)"},"","",null,{"$f":"VLOOKUP(A1475,'Mapa de Preços'!$A$16:$J$2988,10,0)","v":"Falta Orçamento"},"",null,1448,null,0]
[1449,{"$f":"IF(VLOOKUP(A1476,'Mapa de Preços'!$A$16:$B$2988,2,0)=FALSE,\"Falta (U.M.)\",VLOOKUP(A1476,'Mapa de Preços'!$A$16:$B$2988,2,0))","v":"Falta (U.M.)"},"","",null,{"$f":"VLOOKUP(A1476,'Mapa de Preços'!$A$16:$J$2988,10,0)","v":"Falta Orçamento"},"",null,1449,null,0]
[1450,{"$f":"IF(VLOOKUP(A1477,'Mapa de Preços'!$A$16:$B$2988,2,0)=FALSE,\"Falta (U.M.)\",VLOOKUP(A1477,'Mapa de Preços'!$A$16:$B$2988,2,0))","v":"Falta (U.M.)"},"","",null,{"$f":"VLOOKUP(A1477,'Mapa de Preços'!$A$16:$J$2988,10,0)","v":"Falta Orçamento"},"",null,1450,null,0]
[1451,{"$f":"IF(VLOOKUP(A1478,'Mapa de Preços'!$A$16:$B$2988,2,0)=FALSE,\"Falta (U.M.)\",VLOOKUP(A1478,'Mapa de Preços'!$A$16:$B$2988,2,0))","v":"Falta (U.M.)"},"","",null,{"$f":"VLOOKUP(A1478,'Mapa de Preços'!$A$16:$J$2988,10,0)","v":"Falta Orçamento"},"",null,1451,null,0]
[1452,{"$f":"IF(VLOOKUP(A1479,'Mapa de Preços'!$A$16:$B$2988,2,0)=FALSE,\"Falta (U.M.)\",VLOOKUP(A1479,'Mapa de Preços'!$A$16:$B$2988,2,0))","v":"Falta (U.M.)"},"","",null,{"$f":"VLOOKUP(A1479,'Mapa de Preços'!$A$16:$J$2988,10,0)","v":"Falta Orçamento"},"",null,1452,null,0]
[1453,{"$f":"IF(VLOOKUP(A1480,'Mapa de Preços'!$A$16:$B$2988,2,0)=FALSE,\"Falta (U.M.)\",VLOOKUP(A1480,'Mapa de Preços'!$A$16:$B$2988,2,0))","v":"Falta (U.M.)"},"","",null,{"$f":"VLOOKUP(A1480,'Mapa de Preços'!$A$16:$J$2988,10,0)","v":"Falta Orçamento"},"",null,1453,null,0]
[1454,{"$f":"IF(VLOOKUP(A1481,'Mapa de Preços'!$A$16:$B$2988,2,0)=FALSE,\"Falta (U.M.)\",VLOOKUP(A1481,'Mapa de Preços'!$A$16:$B$2988,2,0))","v":"Falta (U.M.)"},"","",null,{"$f":"VLOOKUP(A1481,'Mapa de Preços'!$A$16:$J$2988,10,0)","v":"Falta Orçamento"},"",null,1454,null,0]
[1455,{"$f":"IF(VLOOKUP(A1482,'Mapa de Preços'!$A$16:$B$2988,2,0)=FALSE,\"Falta (U.M.)\",VLOOKUP(A1482,'Mapa de Preços'!$A$16:$B$2988,2,0))","v":"Falta (U.M.)"},"","",null,{"$f":"VLOOKUP(A1482,'Mapa de Preços'!$A$16:$J$2988,10,0)","v":"Falta Orçamento"},"",null,1455,null,0]
[1456,{"$f":"IF(VLOOKUP(A1483,'Mapa de Preços'!$A$16:$B$2988,2,0)=FALSE,\"Falta (U.M.)\",VLOOKUP(A1483,'Mapa de Preços'!$A$16:$B$2988,2,0))","v":"Falta (U.M.)"},"","",null,{"$f":"VLOOKUP(A1483,'Mapa de Preços'!$A$16:$J$2988,10,0)","v":"Falta Orçamento"},"",null,1456,null,0]
[1457,{"$f":"IF(VLOOKUP(A1484,'Mapa de Preços'!$A$16:$B$2988,2,0)=FALSE,\"Falta (U.M.)\",VLOOKUP(A1484,'Mapa de Preços'!$A$16:$B$2988,2,0))","v":"Falta (U.M.)"},"","",null,{"$f":"VLOOKUP(A1484,'Mapa de Preços'!$A$16:$J$2988,10,0)","v":"Falta Orçamento"},"",null,1457,null,0]
[1458,{"$f":"IF(VLOOKUP(A1485,'Mapa de Preços'!$A$16:$B$2988,2,0)=FALSE,\"Falta (U.M.)\",VLOOKUP(A1485,'Mapa de Preços'!$A$16:$B$2988,2,0))","v":"Falta (U.M.)"},"","",null,{"$f":"VLOOKUP(A1485,'Mapa de Preços'!$A$16:$J$2988,10,0)","v":"Falta Orçamento"},"",null,1458,null,0]
[1459,{"$f":"IF(VLOOKUP(A1486,'Mapa de Preços'!$A$16:$B$2988,2,0)=FALSE,\"Falta (U.M.)\",VLOOKUP(A1486,'Mapa de Preços'!$A$16:$B$2988,2,0))","v":"Falta (U.M.)"},"","",null,{"$f":"VLOOKUP(A1486,'Mapa de Preços'!$A$16:$J$2988,10,0)","v":"Falta Orçamento"},"",null,1459,null,0]
[1460,{"$f":"IF(VLOOKUP(A1487,'Mapa de Preços'!$A$16:$B$2988,2,0)=FALSE,\"Falta (U.M.)\",VLOOKUP(A1487,'Mapa de Preços'!$A$16:$B$2988,2,0))","v":"Falta (U.M.)"},"","",null,{"$f":"VLOOKUP(A1487,'Mapa de Preços'!$A$16:$J$2988,10,0)","v":"Falta Orçamento"},"",null,1460,null,0]
[1461,{"$f":"IF(VLOOKUP(A1488,'Mapa de Preços'!$A$16:$B$2988,2,0)=FALSE,\"Falta (U.M.)\",VLOOKUP(A1488,'Mapa de Preços'!$A$16:$B$2988,2,0))","v":"Falta (U.M.)"},"","",null,{"$f":"VLOOKUP(A1488,'Mapa de Preços'!$A$16:$J$2988,10,0)","v":"Falta Orçamento"},"",null,1461,null,0]
[1462,{"$f":"IF(VLOOKUP(A1489,'Mapa de Preços'!$A$16:$B$2988,2,0)=FALSE,\"Falta (U.M.)\",VLOOKUP(A1489,'Mapa de Preços'!$A$16:$B$2988,2,0))","v":"Falta (U.M.)"},"","",null,{"$f":"VLOOKUP(A1489,'Mapa de Preços'!$A$16:$J$2988,10,0)","v":"Falta Orçamento"},"",null,1462,null,0]
[1463,{"$f":"IF(VLOOKUP(A1490,'Mapa de Preços'!$A$16:$B$2988,2,0)=FALSE,\"Falta (U.M.)\",VLOOKUP(A1490,'Mapa de Preços'!$A$16:$B$2988,2,0))","v":"Falta (U.M.)"},"","",null,{"$f":"VLOOKUP(A1490,'Mapa de Preços'!$A$16:$J$2988,10,0)","v":"Falta Orçamento"},"",null,1463,null,0]
[1464,{"$f":"IF(VLOOKUP(A1491,'Mapa de Preços'!$A$16:$B$2988,2,0)=FALSE,\"Falta (U.M.)\",VLOOKUP(A1491,'Mapa de Preços'!$A$16:$B$2988,2,0))","v":"Falta (U.M.)"},"","",null,{"$f":"VLOOKUP(A1491,'Mapa de Preços'!$A$16:$J$2988,10,0)","v":"Falta Orçamento"},"",null,1464,null,0]
[1465,{"$f":"IF(VLOOKUP(A1492,'Mapa de Preços'!$A$16:$B$2988,2,0)=FALSE,\"Falta (U.M.)\",VLOOKUP(A1492,'Mapa de Preços'!$A$16:$B$2988,2,0))","v":"Falta (U.M.)"},"","",null,{"$f":"VLOOKUP(A1492,'Mapa de Preços'!$A$16:$J$2988,10,0)","v":"Falta Orçamento"},"",null,1465,null,0]
[1466,{"$f":"IF(VLOOKUP(A1493,'Mapa de Preços'!$A$16:$B$2988,2,0)=FALSE,\"Falta (U.M.)\",VLOOKUP(A1493,'Mapa de Preços'!$A$16:$B$2988,2,0))","v":"Falta (U.M.)"},"","",null,{"$f":"VLOOKUP(A1493,'Mapa de Preços'!$A$16:$J$2988,10,0)","v":"Falta Orçamento"},"",null,1466,null,0]
[1467,{"$f":"IF(VLOOKUP(A1494,'Mapa de Preços'!$A$16:$B$2988,2,0)=FALSE,\"Falta (U.M.)\",VLOOKUP(A1494,'Mapa de Preços'!$A$16:$B$2988,2,0))","v":"Falta (U.M.)"},"","",null,{"$f":"VLOOKUP(A1494,'Mapa de Preços'!$A$16:$J$2988,10,0)","v":"Falta Orçamento"},"",null,1467,null,0]
[1468,{"$f":"IF(VLOOKUP(A1495,'Mapa de Preços'!$A$16:$B$2988,2,0)=FALSE,\"Falta (U.M.)\",VLOOKUP(A1495,'Mapa de Preços'!$A$16:$B$2988,2,0))","v":"Falta (U.M.)"},"","",null,{"$f":"VLOOKUP(A1495,'Mapa de Preços'!$A$16:$J$2988,10,0)","v":"Falta Orçamento"},"",null,1468,null,0]
[1469,{"$f":"IF(VLOOKUP(A1496,'Mapa de Preços'!$A$16:$B$2988,2,0)=FALSE,\"Falta (U.M.)\",VLOOKUP(A1496,'Mapa de Preços'!$A$16:$B$2988,2,0))","v":"Falta (U.M.)"},"","",null,{"$f":"VLOOKUP(A1496,'Mapa de Preços'!$A$16:$J$2988,10,0)","v":"Falta Orçamento"},"",null,1469,null,0]
[1470,{"$f":"IF(VLOOKUP(A1497,'Mapa de Preços'!$A$16:$B$2988,2,0)=FALSE,\"Falta (U.M.)\",VLOOKUP(A1497,'Mapa de Preços'!$A$16:$B$2988,2,0))","v":"Falta (U.M.)"},"","",null,{"$f":"VLOOKUP(A1497,'Mapa de Preços'!$A$16:$J$2988,10,0)","v":"Falta Orçamento"},"",null,1470,null,0]
[1471,{"$f":"IF(VLOOKUP(A1498,'Mapa de Preços'!$A$16:$B$2988,2,0)=FALSE,\"Falta (U.M.)\",VLOOKUP(A1498,'Mapa de Preços'!$A$16:$B$2988,2,0))","v":"Falta (U.M.)"},"","",null,{"$f":"VLOOKUP(A1498,'Mapa de Preços'!$A$16:$J$2988,10,0)","v":"Falta Orçamento"},"",null,1471,null,0]
[1472,{"$f":"IF(VLOOKUP(A1499,'Mapa de Preços'!$A$16:$B$2988,2,0)=FALSE,\"Falta (U.M.)\",VLOOKUP(A1499,'Mapa de Preços'!$A$16:$B$2988,2,0))","v":"Falta (U.M.)"},"","",null,{"$f":"VLOOKUP(A1499,'Mapa de Preços'!$A$16:$J$2988,10,0)","v":"Falta Orçamento"},"",null,1472,null,0]
[1473,{"$f":"IF(VLOOKUP(A1500,'Mapa de Preços'!$A$16:$B$2988,2,0)=FALSE,\"Falta (U.M.)\",VLOOKUP(A1500,'Mapa de Preços'!$A$16:$B$2988,2,0))","v":"Falta (U.M.)"},"","",null,{"$f":"VLOOKUP(A1500,'Mapa de Preços'!$A$16:$J$2988,10,0)","v":"Falta Orçamento"},"",null,1473,null,{"$f":"SUM(L1500:AI1500)","v":0}]
[1474,{"$f":"IF(VLOOKUP(A1501,'Mapa de Preços'!$A$16:$B$2988,2,0)=FALSE,\"Falta (U.M.)\",VLOOKUP(A1501,'Mapa de Preços'!$A$16:$B$2988,2,0))","v":"Falta (U.M.)"},{"$f":"IF(J1501<>\"\",J1501,\"\")","v":""},{"$f":"IF(VLOOKUP(A1501,$I$28:$AI$3000,$G$26,FALSE)<>\"\",VLOOKUP(A1501,$I$28:$AI$3000,$G$26,FALSE),\"\")","v":""},null,{"$f":"VLOOKUP(A1501,'Mapa de Preços'!$A$16:$J$2988,10,0)","v":"Falta Orçamento"},{"$f":"IF(F1501=\"Falta Orçamento\",\"\",F1501*D1501)","v":""},null,1474,null,0]
[1475,{"$f":"IF(VLOOKUP(A1502,'Mapa de Preços'!$A$16:$B$2988,2,0)=FALSE,\"Falta (U.M.)\",VLOOKUP(A1502,'Mapa de Preços'!$A$16:$B$2988,2,0))","v":"Falta (U.M.)"},"","",null,{"$f":"VLOOKUP(A1502,'Mapa de Preços'!$A$16:$J$2988,10,0)","v":"Falta Orçamento"},"",null,1475,null,0]
[1476,{"$f":"IF(VLOOKUP(A1503,'Mapa de Preços'!$A$16:$B$2988,2,0)=FALSE,\"Falta (U.M.)\",VLOOKUP(A1503,'Mapa de Preços'!$A$16:$B$2988,2,0))","v":"Falta (U.M.)"},"","",null,{"$f":"VLOOKUP(A1503,'Mapa de Preços'!$A$16:$J$2988,10,0)","v":"Falta Orçamento"},"",null,1476,null,0]
[1477,{"$f":"IF(VLOOKUP(A1504,'Mapa de Preços'!$A$16:$B$2988,2,0)=FALSE,\"Falta (U.M.)\",VLOOKUP(A1504,'Mapa de Preços'!$A$16:$B$2988,2,0))","v":"Falta (U.M.)"},"","",null,{"$f":"VLOOKUP(A1504,'Mapa de Preços'!$A$16:$J$2988,10,0)","v":"Falta Orçamento"},"",null,1477,null,0]
[1478,{"$f":"IF(VLOOKUP(A1505,'Mapa de Preços'!$A$16:$B$2988,2,0)=FALSE,\"Falta (U.M.)\",VLOOKUP(A1505,'Mapa de Preços'!$A$16:$B$2988,2,0))","v":"Falta (U.M.)"},"","",null,{"$f":"VLOOKUP(A1505,'Mapa de Preços'!$A$16:$J$2988,10,0)","v":"Falta Orçamento"},"",null,1478,null,0]
[1479,{"$f":"IF(VLOOKUP(A1506,'Mapa de Preços'!$A$16:$B$2988,2,0)=FALSE,\"Falta (U.M.)\",VLOOKUP(A1506,'Mapa de Preços'!$A$16:$B$2988,2,0))","v":"Falta (U.M.)"},"","",null,{"$f":"VLOOKUP(A1506,'Mapa de Preços'!$A$16:$J$2988,10,0)","v":"Falta Orçamento"},"",null,1479,null,0]
[1480,{"$f":"IF(VLOOKUP(A1507,'Mapa de Preços'!$A$16:$B$2988,2,0)=FALSE,\"Falta (U.M.)\",VLOOKUP(A1507,'Mapa de Preços'!$A$16:$B$2988,2,0))","v":"Falta (U.M.)"},"","",null,{"$f":"VLOOKUP(A1507,'Mapa de Preços'!$A$16:$J$2988,10,0)","v":"Falta Orçamento"},"",null,1480,null,0]
[1481,{"$f":"IF(VLOOKUP(A1508,'Mapa de Preços'!$A$16:$B$2988,2,0)=FALSE,\"Falta (U.M.)\",VLOOKUP(A1508,'Mapa de Preços'!$A$16:$B$2988,2,0))","v":"Falta (U.M.)"},"","",null,{"$f":"VLOOKUP(A1508,'Mapa de Preços'!$A$16:$J$2988,10,0)","v":"Falta Orçamento"},"",null,1481,null,0]
[1482,{"$f":"IF(VLOOKUP(A1509,'Mapa de Preços'!$A$16:$B$2988,2,0)=FALSE,\"Falta (U.M.)\",VLOOKUP(A1509,'Mapa de Preços'!$A$16:$B$2988,2,0))","v":"Falta (U.M.)"},"","",null,{"$f":"VLOOKUP(A1509,'Mapa de Preços'!$A$16:$J$2988,10,0)","v":"Falta Orçamento"},"",null,1482,null,0]
[1483,{"$f":"IF(VLOOKUP(A1510,'Mapa de Preços'!$A$16:$B$2988,2,0)=FALSE,\"Falta (U.M.)\",VLOOKUP(A1510,'Mapa de Preços'!$A$16:$B$2988,2,0))","v":"Falta (U.M.)"},"","",null,{"$f":"VLOOKUP(A1510,'Mapa de Preços'!$A$16:$J$2988,10,0)","v":"Falta Orçamento"},"",null,1483,null,0]
[1484,{"$f":"IF(VLOOKUP(A1511,'Mapa de Preços'!$A$16:$B$2988,2,0)=FALSE,\"Falta (U.M.)\",VLOOKUP(A1511,'Mapa de Preços'!$A$16:$B$2988,2,0))","v":"Falta (U.M.)"},"","",null,{"$f":"VLOOKUP(A1511,'Mapa de Preços'!$A$16:$J$2988,10,0)","v":"Falta Orçamento"},"",null,1484,null,0]
[1485,{"$f":"IF(VLOOKUP(A1512,'Mapa de Preços'!$A$16:$B$2988,2,0)=FALSE,\"Falta (U.M.)\",VLOOKUP(A1512,'Mapa de Preços'!$A$16:$B$2988,2,0))","v":"Falta (U.M.)"},"","",null,{"$f":"VLOOKUP(A1512,'Mapa de Preços'!$A$16:$J$2988,10,0)","v":"Falta Orçamento"},"",null,1485,null,0]
[1486,{"$f":"IF(VLOOKUP(A1513,'Mapa de Preços'!$A$16:$B$2988,2,0)=FALSE,\"Falta (U.M.)\",VLOOKUP(A1513,'Mapa de Preços'!$A$16:$B$2988,2,0))","v":"Falta (U.M.)"},"","",null,{"$f":"VLOOKUP(A1513,'Mapa de Preços'!$A$16:$J$2988,10,0)","v":"Falta Orçamento"},"",null,1486,null,0]
[1487,{"$f":"IF(VLOOKUP(A1514,'Mapa de Preços'!$A$16:$B$2988,2,0)=FALSE,\"Falta (U.M.)\",VLOOKUP(A1514,'Mapa de Preços'!$A$16:$B$2988,2,0))","v":"Falta (U.M.)"},"","",null,{"$f":"VLOOKUP(A1514,'Mapa de Preços'!$A$16:$J$2988,10,0)","v":"Falta Orçamento"},"",null,1487,null,0]
[1488,{"$f":"IF(VLOOKUP(A1515,'Mapa de Preços'!$A$16:$B$2988,2,0)=FALSE,\"Falta (U.M.)\",VLOOKUP(A1515,'Mapa de Preços'!$A$16:$B$2988,2,0))","v":"Falta (U.M.)"},"","",null,{"$f":"VLOOKUP(A1515,'Mapa de Preços'!$A$16:$J$2988,10,0)","v":"Falta Orçamento"},"",null,1488,null,0]
[1489,{"$f":"IF(VLOOKUP(A1516,'Mapa de Preços'!$A$16:$B$2988,2,0)=FALSE,\"Falta (U.M.)\",VLOOKUP(A1516,'Mapa de Preços'!$A$16:$B$2988,2,0))","v":"Falta (U.M.)"},"","",null,{"$f":"VLOOKUP(A1516,'Mapa de Preços'!$A$16:$J$2988,10,0)","v":"Falta Orçamento"},"",null,1489,null,0]
[1490,{"$f":"IF(VLOOKUP(A1517,'Mapa de Preços'!$A$16:$B$2988,2,0)=FALSE,\"Falta (U.M.)\",VLOOKUP(A1517,'Mapa de Preços'!$A$16:$B$2988,2,0))","v":"Falta (U.M.)"},"","",null,{"$f":"VLOOKUP(A1517,'Mapa de Preços'!$A$16:$J$2988,10,0)","v":"Falta Orçamento"},"",null,1490,null,0]
[1491,{"$f":"IF(VLOOKUP(A1518,'Mapa de Preços'!$A$16:$B$2988,2,0)=FALSE,\"Falta (U.M.)\",VLOOKUP(A1518,'Mapa de Preços'!$A$16:$B$2988,2,0))","v":"Falta (U.M.)"},"","",null,{"$f":"VLOOKUP(A1518,'Mapa de Preços'!$A$16:$J$2988,10,0)","v":"Falta Orçamento"},"",null,1491,null,0]
[1492,{"$f":"IF(VLOOKUP(A1519,'Mapa de Preços'!$A$16:$B$2988,2,0)=FALSE,\"Falta (U.M.)\",VLOOKUP(A1519,'Mapa de Preços'!$A$16:$B$2988,2,0))","v":"Falta (U.M.)"},"","",null,{"$f":"VLOOKUP(A1519,'Mapa de Preços'!$A$16:$J$2988,10,0)","v":"Falta Orçamento"},"",null,1492,null,0]
[1493,{"$f":"IF(VLOOKUP(A1520,'Mapa de Preços'!$A$16:$B$2988,2,0)=FALSE,\"Falta (U.M.)\",VLOOKUP(A1520,'Mapa de Preços'!$A$16:$B$2988,2,0))","v":"Falta (U.M.)"},"","",null,{"$f":"VLOOKUP(A1520,'Mapa de Preços'!$A$16:$J$2988,10,0)","v":"Falta Orçamento"},"",null,1493,null,0]
[1494,{"$f":"IF(VLOOKUP(A1521,'Mapa de Preços'!$A$16:$B$2988,2,0)=FALSE,\"Falta (U.M.)\",VLOOKUP(A1521,'Mapa de Preços'!$A$16:$B$2988,2,0))","v":"Falta (U.M.)"},"","",null,{"$f":"VLOOKUP(A1521,'Mapa de Preços'!$A$16:$J$2988,10,0)","v":"Falta Orçamento"},"",null,1494,null,0]
[1495,{"$f":"IF(VLOOKUP(A1522,'Mapa de Preços'!$A$16:$B$2988,2,0)=FALSE,\"Falta (U.M.)\",VLOOKUP(A1522,'Mapa de Preços'!$A$16:$B$2988,2,0))","v":"Falta (U.M.)"},"","",null,{"$f":"VLOOKUP(A1522,'Mapa de Preços'!$A$16:$J$2988,10,0)","v":"Falta Orçamento"},"",null,1495,null,0]
[1496,{"$f":"IF(VLOOKUP(A1523,'Mapa de Preços'!$A$16:$B$2988,2,0)=FALSE,\"Falta (U.M.)\",VLOOKUP(A1523,'Mapa de Preços'!$A$16:$B$2988,2,0))","v":"Falta (U.M.)"},"","",null,{"$f":"VLOOKUP(A1523,'Mapa de Preços'!$A$16:$J$2988,10,0)","v":"Falta Orçamento"},"",null,1496,null,0]
[1497,{"$f":"IF(VLOOKUP(A1524,'Mapa de Preços'!$A$16:$B$2988,2,0)=FALSE,\"Falta (U.M.)\",VLOOKUP(A1524,'Mapa de Preços'!$A$16:$B$2988,2,0))","v":"Falta (U.M.)"},"","",null,{"$f":"VLOOKUP(A1524,'Mapa de Preços'!$A$16:$J$2988,10,0)","v":"Falta Orçamento"},"",null,1497,null,0]
[1498,{"$f":"IF(VLOOKUP(A1525,'Mapa de Preços'!$A$16:$B$2988,2,0)=FALSE,\"Falta (U.M.)\",VLOOKUP(A1525,'Mapa de Preços'!$A$16:$B$2988,2,0))","v":"Falta (U.M.)"},"","",null,{"$f":"VLOOKUP(A1525,'Mapa de Preços'!$A$16:$J$2988,10,0)","v":"Falta Orçamento"},"",null,1498,null,0]
[1499,{"$f":"IF(VLOOKUP(A1526,'Mapa de Preços'!$A$16:$B$2988,2,0)=FALSE,\"Falta (U.M.)\",VLOOKUP(A1526,'Mapa de Preços'!$A$16:$B$2988,2,0))","v":"Falta (U.M.)"},"","",null,{"$f":"VLOOKUP(A1526,'Mapa de Preços'!$A$16:$J$2988,10,0)","v":"Falta Orçamento"},"",null,1499,null,0]
[1500,{"$f":"IF(VLOOKUP(A1527,'Mapa de Preços'!$A$16:$B$2988,2,0)=FALSE,\"Falta (U.M.)\",VLOOKUP(A1527,'Mapa de Preços'!$A$16:$B$2988,2,0))","v":"Falta (U.M.)"},"","",null,{"$f":"VLOOKUP(A1527,'Mapa de Preços'!$A$16:$J$2988,10,0)","v":"Falta Orçamento"},"",null,1500,null,0]
[1501,{"$f":"IF(VLOOKUP(A1528,'Mapa de Preços'!$A$16:$B$2988,2,0)=FALSE,\"Falta (U.M.)\",VLOOKUP(A1528,'Mapa de Preços'!$A$16:$B$2988,2,0))","v":"Falta (U.M.)"},"","",null,{"$f":"VLOOKUP(A1528,'Mapa de Preços'!$A$16:$J$2988,10,0)","v":"Falta Orçamento"},"",null,1501,null,0]
[1502,{"$f":"IF(VLOOKUP(A1529,'Mapa de Preços'!$A$16:$B$2988,2,0)=FALSE,\"Falta (U.M.)\",VLOOKUP(A1529,'Mapa de Preços'!$A$16:$B$2988,2,0))","v":"Falta (U.M.)"},"","",null,{"$f":"VLOOKUP(A1529,'Mapa de Preços'!$A$16:$J$2988,10,0)","v":"Falta Orçamento"},"",null,1502,null,0]
[1503,{"$f":"IF(VLOOKUP(A1530,'Mapa de Preços'!$A$16:$B$2988,2,0)=FALSE,\"Falta (U.M.)\",VLOOKUP(A1530,'Mapa de Preços'!$A$16:$B$2988,2,0))","v":"Falta (U.M.)"},"","",null,{"$f":"VLOOKUP(A1530,'Mapa de Preços'!$A$16:$J$2988,10,0)","v":"Falta Orçamento"},"",null,1503,null,0]
[1504,{"$f":"IF(VLOOKUP(A1531,'Mapa de Preços'!$A$16:$B$2988,2,0)=FALSE,\"Falta (U.M.)\",VLOOKUP(A1531,'Mapa de Preços'!$A$16:$B$2988,2,0))","v":"Falta (U.M.)"},"","",null,{"$f":"VLOOKUP(A1531,'Mapa de Preços'!$A$16:$J$2988,10,0)","v":"Falta Orçamento"},"",null,1504,null,0]
[1505,{"$f":"IF(VLOOKUP(A1532,'Mapa de Preços'!$A$16:$B$2988,2,0)=FALSE,\"Falta (U.M.)\",VLOOKUP(A1532,'Mapa de Preços'!$A$16:$B$2988,2,0))","v":"Falta (U.M.)"},"","",null,{"$f":"VLOOKUP(A1532,'Mapa de Preços'!$A$16:$J$2988,10,0)","v":"Falta Orçamento"},"",null,1505,null,0]
[1506,{"$f":"IF(VLOOKUP(A1533,'Mapa de Preços'!$A$16:$B$2988,2,0)=FALSE,\"Falta (U.M.)\",VLOOKUP(A1533,'Mapa de Preços'!$A$16:$B$2988,2,0))","v":"Falta (U.M.)"},"","",null,{"$f":"VLOOKUP(A1533,'Mapa de Preços'!$A$16:$J$2988,10,0)","v":"Falta Orçamento"},"",null,1506,null,0]
[1507,{"$f":"IF(VLOOKUP(A1534,'Mapa de Preços'!$A$16:$B$2988,2,0)=FALSE,\"Falta (U.M.)\",VLOOKUP(A1534,'Mapa de Preços'!$A$16:$B$2988,2,0))","v":"Falta (U.M.)"},"","",null,{"$f":"VLOOKUP(A1534,'Mapa de Preços'!$A$16:$J$2988,10,0)","v":"Falta Orçamento"},"",null,1507,null,0]
[1508,{"$f":"IF(VLOOKUP(A1535,'Mapa de Preços'!$A$16:$B$2988,2,0)=FALSE,\"Falta (U.M.)\",VLOOKUP(A1535,'Mapa de Preços'!$A$16:$B$2988,2,0))","v":"Falta (U.M.)"},"","",null,{"$f":"VLOOKUP(A1535,'Mapa de Preços'!$A$16:$J$2988,10,0)","v":"Falta Orçamento"},"",null,1508,null,0]
[1509,{"$f":"IF(VLOOKUP(A1536,'Mapa de Preços'!$A$16:$B$2988,2,0)=FALSE,\"Falta (U.M.)\",VLOOKUP(A1536,'Mapa de Preços'!$A$16:$B$2988,2,0))","v":"Falta (U.M.)"},"","",null,{"$f":"VLOOKUP(A1536,'Mapa de Preços'!$A$16:$J$2988,10,0)","v":"Falta Orçamento"},"",null,1509,null,0]
[1510,{"$f":"IF(VLOOKUP(A1537,'Mapa de Preços'!$A$16:$B$2988,2,0)=FALSE,\"Falta (U.M.)\",VLOOKUP(A1537,'Mapa de Preços'!$A$16:$B$2988,2,0))","v":"Falta (U.M.)"},"","",null,{"$f":"VLOOKUP(A1537,'Mapa de Preços'!$A$16:$J$2988,10,0)","v":"Falta Orçamento"},"",null,1510,null,0]
[1511,{"$f":"IF(VLOOKUP(A1538,'Mapa de Preços'!$A$16:$B$2988,2,0)=FALSE,\"Falta (U.M.)\",VLOOKUP(A1538,'Mapa de Preços'!$A$16:$B$2988,2,0))","v":"Falta (U.M.)"},"","",null,{"$f":"VLOOKUP(A1538,'Mapa de Preços'!$A$16:$J$2988,10,0)","v":"Falta Orçamento"},"",null,1511,null,0]
[1512,{"$f":"IF(VLOOKUP(A1539,'Mapa de Preços'!$A$16:$B$2988,2,0)=FALSE,\"Falta (U.M.)\",VLOOKUP(A1539,'Mapa de Preços'!$A$16:$B$2988,2,0))","v":"Falta (U.M.)"},"","",null,{"$f":"VLOOKUP(A1539,'Mapa de Preços'!$A$16:$J$2988,10,0)","v":"Falta Orçamento"},"",null,1512,null,0]
[1513,{"$f":"IF(VLOOKUP(A1540,'Mapa de Preços'!$A$16:$B$2988,2,0)=FALSE,\"Falta (U.M.)\",VLOOKUP(A1540,'Mapa de Preços'!$A$16:$B$2988,2,0))","v":"Falta (U.M.)"},"","",null,{"$f":"VLOOKUP(A1540,'Mapa de Preços'!$A$16:$J$2988,10,0)","v":"Falta Orçamento"},"",null,1513,null,0]
[1514,{"$f":"IF(VLOOKUP(A1541,'Mapa de Preços'!$A$16:$B$2988,2,0)=FALSE,\"Falta (U.M.)\",VLOOKUP(A1541,'Mapa de Preços'!$A$16:$B$2988,2,0))","v":"Falta (U.M.)"},"","",null,{"$f":"VLOOKUP(A1541,'Mapa de Preços'!$A$16:$J$2988,10,0)","v":"Falta Orçamento"},"",null,1514,null,0]
[1515,{"$f":"IF(VLOOKUP(A1542,'Mapa de Preços'!$A$16:$B$2988,2,0)=FALSE,\"Falta (U.M.)\",VLOOKUP(A1542,'Mapa de Preços'!$A$16:$B$2988,2,0))","v":"Falta (U.M.)"},"","",null,{"$f":"VLOOKUP(A1542,'Mapa de Preços'!$A$16:$J$2988,10,0)","v":"Falta Orçamento"},"",null,1515,null,0]
[1516,{"$f":"IF(VLOOKUP(A1543,'Mapa de Preços'!$A$16:$B$2988,2,0)=FALSE,\"Falta (U.M.)\",VLOOKUP(A1543,'Mapa de Preços'!$A$16:$B$2988,2,0))","v":"Falta (U.M.)"},"","",null,{"$f":"VLOOKUP(A1543,'Mapa de Preços'!$A$16:$J$2988,10,0)","v":"Falta Orçamento"},"",null,1516,null,0]
[1517,{"$f":"IF(VLOOKUP(A1544,'Mapa de Preços'!$A$16:$B$2988,2,0)=FALSE,\"Falta (U.M.)\",VLOOKUP(A1544,'Mapa de Preços'!$A$16:$B$2988,2,0))","v":"Falta (U.M.)"},"","",null,{"$f":"VLOOKUP(A1544,'Mapa de Preços'!$A$16:$J$2988,10,0)","v":"Falta Orçamento"},"",null,1517,null,0]
[1518,{"$f":"IF(VLOOKUP(A1545,'Mapa de Preços'!$A$16:$B$2988,2,0)=FALSE,\"Falta (U.M.)\",VLOOKUP(A1545,'Mapa de Preços'!$A$16:$B$2988,2,0))","v":"Falta (U.M.)"},"","",null,{"$f":"VLOOKUP(A1545,'Mapa de Preços'!$A$16:$J$2988,10,0)","v":"Falta Orçamento"},"",null,1518,null,0]
[1519,{"$f":"IF(VLOOKUP(A1546,'Mapa de Preços'!$A$16:$B$2988,2,0)=FALSE,\"Falta (U.M.)\",VLOOKUP(A1546,'Mapa de Preços'!$A$16:$B$2988,2,0))","v":"Falta (U.M.)"},"","",null,{"$f":"VLOOKUP(A1546,'Mapa de Preços'!$A$16:$J$2988,10,0)","v":"Falta Orçamento"},"",null,1519,null,0]
[1520,{"$f":"IF(VLOOKUP(A1547,'Mapa de Preços'!$A$16:$B$2988,2,0)=FALSE,\"Falta (U.M.)\",VLOOKUP(A1547,'Mapa de Preços'!$A$16:$B$2988,2,0))","v":"Falta (U.M.)"},"","",null,{"$f":"VLOOKUP(A1547,'Mapa de Preços'!$A$16:$J$2988,10,0)","v":"Falta Orçamento"},"",null,1520,null,0]
[1521,{"$f":"IF(VLOOKUP(A1548,'Mapa de Preços'!$A$16:$B$2988,2,0)=FALSE,\"Falta (U.M.)\",VLOOKUP(A1548,'Mapa de Preços'!$A$16:$B$2988,2,0))","v":"Falta (U.M.)"},"","",null,{"$f":"VLOOKUP(A1548,'Mapa de Preços'!$A$16:$J$2988,10,0)","v":"Falta Orçamento"},"",null,1521,null,0]
[1522,{"$f":"IF(VLOOKUP(A1549,'Mapa de Preços'!$A$16:$B$2988,2,0)=FALSE,\"Falta (U.M.)\",VLOOKUP(A1549,'Mapa de Preços'!$A$16:$B$2988,2,0))","v":"Falta (U.M.)"},"","",null,{"$f":"VLOOKUP(A1549,'Mapa de Preços'!$A$16:$J$2988,10,0)","v":"Falta Orçamento"},"",null,1522,null,0]
[1523,{"$f":"IF(VLOOKUP(A1550,'Mapa de Preços'!$A$16:$B$2988,2,0)=FALSE,\"Falta (U.M.)\",VLOOKUP(A1550,'Mapa de Preços'!$A$16:$B$2988,2,0))","v":"Falta (U.M.)"},"","",null,{"$f":"VLOOKUP(A1550,'Mapa de Preços'!$A$16:$J$2988,10,0)","v":"Falta Orçamento"},"",null,1523,null,0]
[1524,{"$f":"IF(VLOOKUP(A1551,'Mapa de Preços'!$A$16:$B$2988,2,0)=FALSE,\"Falta (U.M.)\",VLOOKUP(A1551,'Mapa de Preços'!$A$16:$B$2988,2,0))","v":"Falta (U.M.)"},"","",null,{"$f":"VLOOKUP(A1551,'Mapa de Preços'!$A$16:$J$2988,10,0)","v":"Falta Orçamento"},"",null,1524,null,0]
[1525,{"$f":"IF(VLOOKUP(A1552,'Mapa de Preços'!$A$16:$B$2988,2,0)=FALSE,\"Falta (U.M.)\",VLOOKUP(A1552,'Mapa de Preços'!$A$16:$B$2988,2,0))","v":"Falta (U.M.)"},"","",null,{"$f":"VLOOKUP(A1552,'Mapa de Preços'!$A$16:$J$2988,10,0)","v":"Falta Orçamento"},"",null,1525,null,0]
[1526,{"$f":"IF(VLOOKUP(A1553,'Mapa de Preços'!$A$16:$B$2988,2,0)=FALSE,\"Falta (U.M.)\",VLOOKUP(A1553,'Mapa de Preços'!$A$16:$B$2988,2,0))","v":"Falta (U.M.)"},"","",null,{"$f":"VLOOKUP(A1553,'Mapa de Preços'!$A$16:$J$2988,10,0)","v":"Falta Orçamento"},"",null,1526,null,0]
[1527,{"$f":"IF(VLOOKUP(A1554,'Mapa de Preços'!$A$16:$B$2988,2,0)=FALSE,\"Falta (U.M.)\",VLOOKUP(A1554,'Mapa de Preços'!$A$16:$B$2988,2,0))","v":"Falta (U.M.)"},"","",null,{"$f":"VLOOKUP(A1554,'Mapa de Preços'!$A$16:$J$2988,10,0)","v":"Falta Orçamento"},"",null,1527,null,0]
[1528,{"$f":"IF(VLOOKUP(A1555,'Mapa de Preços'!$A$16:$B$2988,2,0)=FALSE,\"Falta (U.M.)\",VLOOKUP(A1555,'Mapa de Preços'!$A$16:$B$2988,2,0))","v":"Falta (U.M.)"},"","",null,{"$f":"VLOOKUP(A1555,'Mapa de Preços'!$A$16:$J$2988,10,0)","v":"Falta Orçamento"},"",null,1528,null,0]
[1529,{"$f":"IF(VLOOKUP(A1556,'Mapa de Preços'!$A$16:$B$2988,2,0)=FALSE,\"Falta (U.M.)\",VLOOKUP(A1556,'Mapa de Preços'!$A$16:$B$2988,2,0))","v":"Falta (U.M.)"},"","",null,{"$f":"VLOOKUP(A1556,'Mapa de Preços'!$A$16:$J$2988,10,0)","v":"Falta Orçamento"},"",null,1529,null,0]
[1530,{"$f":"IF(VLOOKUP(A1557,'Mapa de Preços'!$A$16:$B$2988,2,0)=FALSE,\"Falta (U.M.)\",VLOOKUP(A1557,'Mapa de Preços'!$A$16:$B$2988,2,0))","v":"Falta (U.M.)"},"","",null,{"$f":"VLOOKUP(A1557,'Mapa de Preços'!$A$16:$J$2988,10,0)","v":"Falta Orçamento"},"",null,1530,null,0]
[1531,{"$f":"IF(VLOOKUP(A1558,'Mapa de Preços'!$A$16:$B$2988,2,0)=FALSE,\"Falta (U.M.)\",VLOOKUP(A1558,'Mapa de Preços'!$A$16:$B$2988,2,0))","v":"Falta (U.M.)"},"","",null,{"$f":"VLOOKUP(A1558,'Mapa de Preços'!$A$16:$J$2988,10,0)","v":"Falta Orçamento"},"",null,1531,null,0]
[1532,{"$f":"IF(VLOOKUP(A1559,'Mapa de Preços'!$A$16:$B$2988,2,0)=FALSE,\"Falta (U.M.)\",VLOOKUP(A1559,'Mapa de Preços'!$A$16:$B$2988,2,0))","v":"Falta (U.M.)"},"","",null,{"$f":"VLOOKUP(A1559,'Mapa de Preços'!$A$16:$J$2988,10,0)","v":"Falta Orçamento"},"",null,1532,null,0]
[1533,{"$f":"IF(VLOOKUP(A1560,'Mapa de Preços'!$A$16:$B$2988,2,0)=FALSE,\"Falta (U.M.)\",VLOOKUP(A1560,'Mapa de Preços'!$A$16:$B$2988,2,0))","v":"Falta (U.M.)"},"","",null,{"$f":"VLOOKUP(A1560,'Mapa de Preços'!$A$16:$J$2988,10,0)","v":"Falta Orçamento"},"",null,1533,null,0]
[1534,{"$f":"IF(VLOOKUP(A1561,'Mapa de Preços'!$A$16:$B$2988,2,0)=FALSE,\"Falta (U.M.)\",VLOOKUP(A1561,'Mapa de Preços'!$A$16:$B$2988,2,0))","v":"Falta (U.M.)"},"","",null,{"$f":"VLOOKUP(A1561,'Mapa de Preços'!$A$16:$J$2988,10,0)","v":"Falta Orçamento"},"",null,1534,null,0]
[1535,{"$f":"IF(VLOOKUP(A1562,'Mapa de Preços'!$A$16:$B$2988,2,0)=FALSE,\"Falta (U.M.)\",VLOOKUP(A1562,'Mapa de Preços'!$A$16:$B$2988,2,0))","v":"Falta (U.M.)"},"","",null,{"$f":"VLOOKUP(A1562,'Mapa de Preços'!$A$16:$J$2988,10,0)","v":"Falta Orçamento"},"",null,1535,null,0]
[1536,{"$f":"IF(VLOOKUP(A1563,'Mapa de Preços'!$A$16:$B$2988,2,0)=FALSE,\"Falta (U.M.)\",VLOOKUP(A1563,'Mapa de Preços'!$A$16:$B$2988,2,0))","v":"Falta (U.M.)"},"","",null,{"$f":"VLOOKUP(A1563,'Mapa de Preços'!$A$16:$J$2988,10,0)","v":"Falta Orçamento"},"",null,1536,null,0]
[1537,{"$f":"IF(VLOOKUP(A1564,'Mapa de Preços'!$A$16:$B$2988,2,0)=FALSE,\"Falta (U.M.)\",VLOOKUP(A1564,'Mapa de Preços'!$A$16:$B$2988,2,0))","v":"Falta (U.M.)"},"","",null,{"$f":"VLOOKUP(A1564,'Mapa de Preços'!$A$16:$J$2988,10,0)","v":"Falta Orçamento"},"",null,1537,null,{"$f":"SUM(L1564:AI1564)","v":0}]
[1538,{"$f":"IF(VLOOKUP(A1565,'Mapa de Preços'!$A$16:$B$2988,2,0)=FALSE,\"Falta (U.M.)\",VLOOKUP(A1565,'Mapa de Preços'!$A$16:$B$2988,2,0))","v":"Falta (U.M.)"},{"$f":"IF(J1565<>\"\",J1565,\"\")","v":""},{"$f":"IF(VLOOKUP(A1565,$I$28:$AI$3000,$G$26,FALSE)<>\"\",VLOOKUP(A1565,$I$28:$AI$3000,$G$26,FALSE),\"\")","v":""},null,{"$f":"VLOOKUP(A1565,'Mapa de Preços'!$A$16:$J$2988,10,0)","v":"Falta Orçamento"},{"$f":"IF(F1565=\"Falta Orçamento\",\"\",F1565*D1565)","v":""},null,1538,null,0]
[1539,{"$f":"IF(VLOOKUP(A1566,'Mapa de Preços'!$A$16:$B$2988,2,0)=FALSE,\"Falta (U.M.)\",VLOOKUP(A1566,'Mapa de Preços'!$A$16:$B$2988,2,0))","v":"Falta (U.M.)"},"","",null,{"$f":"VLOOKUP(A1566,'Mapa de Preços'!$A$16:$J$2988,10,0)","v":"Falta Orçamento"},"",null,1539,null,0]
[1540,{"$f":"IF(VLOOKUP(A1567,'Mapa de Preços'!$A$16:$B$2988,2,0)=FALSE,\"Falta (U.M.)\",VLOOKUP(A1567,'Mapa de Preços'!$A$16:$B$2988,2,0))","v":"Falta (U.M.)"},"","",null,{"$f":"VLOOKUP(A1567,'Mapa de Preços'!$A$16:$J$2988,10,0)","v":"Falta Orçamento"},"",null,1540,null,0]
[1541,{"$f":"IF(VLOOKUP(A1568,'Mapa de Preços'!$A$16:$B$2988,2,0)=FALSE,\"Falta (U.M.)\",VLOOKUP(A1568,'Mapa de Preços'!$A$16:$B$2988,2,0))","v":"Falta (U.M.)"},"","",null,{"$f":"VLOOKUP(A1568,'Mapa de Preços'!$A$16:$J$2988,10,0)","v":"Falta Orçamento"},"",null,1541,null,0]
[1542,{"$f":"IF(VLOOKUP(A1569,'Mapa de Preços'!$A$16:$B$2988,2,0)=FALSE,\"Falta (U.M.)\",VLOOKUP(A1569,'Mapa de Preços'!$A$16:$B$2988,2,0))","v":"Falta (U.M.)"},"","",null,{"$f":"VLOOKUP(A1569,'Mapa de Preços'!$A$16:$J$2988,10,0)","v":"Falta Orçamento"},"",null,1542,null,0]
[1543,{"$f":"IF(VLOOKUP(A1570,'Mapa de Preços'!$A$16:$B$2988,2,0)=FALSE,\"Falta (U.M.)\",VLOOKUP(A1570,'Mapa de Preços'!$A$16:$B$2988,2,0))","v":"Falta (U.M.)"},"","",null,{"$f":"VLOOKUP(A1570,'Mapa de Preços'!$A$16:$J$2988,10,0)","v":"Falta Orçamento"},"",null,1543,null,0]
[1544,{"$f":"IF(VLOOKUP(A1571,'Mapa de Preços'!$A$16:$B$2988,2,0)=FALSE,\"Falta (U.M.)\",VLOOKUP(A1571,'Mapa de Preços'!$A$16:$B$2988,2,0))","v":"Falta (U.M.)"},"","",null,{"$f":"VLOOKUP(A1571,'Mapa de Preços'!$A$16:$J$2988,10,0)","v":"Falta Orçamento"},"",null,1544,null,0]
[1545,{"$f":"IF(VLOOKUP(A1572,'Mapa de Preços'!$A$16:$B$2988,2,0)=FALSE,\"Falta (U.M.)\",VLOOKUP(A1572,'Mapa de Preços'!$A$16:$B$2988,2,0))","v":"Falta (U.M.)"},"","",null,{"$f":"VLOOKUP(A1572,'Mapa de Preços'!$A$16:$J$2988,10,0)","v":"Falta Orçamento"},"",null,1545,null,0]
[1546,{"$f":"IF(VLOOKUP(A1573,'Mapa de Preços'!$A$16:$B$2988,2,0)=FALSE,\"Falta (U.M.)\",VLOOKUP(A1573,'Mapa de Preços'!$A$16:$B$2988,2,0))","v":"Falta (U.M.)"},"","",null,{"$f":"VLOOKUP(A1573,'Mapa de Preços'!$A$16:$J$2988,10,0)","v":"Falta Orçamento"},"",null,1546,null,0]
[1547,{"$f":"IF(VLOOKUP(A1574,'Mapa de Preços'!$A$16:$B$2988,2,0)=FALSE,\"Falta (U.M.)\",VLOOKUP(A1574,'Mapa de Preços'!$A$16:$B$2988,2,0))","v":"Falta (U.M.)"},"","",null,{"$f":"VLOOKUP(A1574,'Mapa de Preços'!$A$16:$J$2988,10,0)","v":"Falta Orçamento"},"",null,1547,null,0]
[1548,{"$f":"IF(VLOOKUP(A1575,'Mapa de Preços'!$A$16:$B$2988,2,0)=FALSE,\"Falta (U.M.)\",VLOOKUP(A1575,'Mapa de Preços'!$A$16:$B$2988,2,0))","v":"Falta (U.M.)"},"","",null,{"$f":"VLOOKUP(A1575,'Mapa de Preços'!$A$16:$J$2988,10,0)","v":"Falta Orçamento"},"",null,1548,null,0]
[1549,{"$f":"IF(VLOOKUP(A1576,'Mapa de Preços'!$A$16:$B$2988,2,0)=FALSE,\"Falta (U.M.)\",VLOOKUP(A1576,'Mapa de Preços'!$A$16:$B$2988,2,0))","v":"Falta (U.M.)"},"","",null,{"$f":"VLOOKUP(A1576,'Mapa de Preços'!$A$16:$J$2988,10,0)","v":"Falta Orçamento"},"",null,1549,null,0]
[1550,{"$f":"IF(VLOOKUP(A1577,'Mapa de Preços'!$A$16:$B$2988,2,0)=FALSE,\"Falta (U.M.)\",VLOOKUP(A1577,'Mapa de Preços'!$A$16:$B$2988,2,0))","v":"Falta (U.M.)"},"","",null,{"$f":"VLOOKUP(A1577,'Mapa de Preços'!$A$16:$J$2988,10,0)","v":"Falta Orçamento"},"",null,1550,null,0]
[1551,{"$f":"IF(VLOOKUP(A1578,'Mapa de Preços'!$A$16:$B$2988,2,0)=FALSE,\"Falta (U.M.)\",VLOOKUP(A1578,'Mapa de Preços'!$A$16:$B$2988,2,0))","v":"Falta (U.M.)"},"","",null,{"$f":"VLOOKUP(A1578,'Mapa de Preços'!$A$16:$J$2988,10,0)","v":"Falta Orçamento"},"",null,1551,null,0]
[1552,{"$f":"IF(VLOOKUP(A1579,'Mapa de Preços'!$A$16:$B$2988,2,0)=FALSE,\"Falta (U.M.)\",VLOOKUP(A1579,'Mapa de Preços'!$A$16:$B$2988,2,0))","v":"Falta (U.M.)"},"","",null,{"$f":"VLOOKUP(A1579,'Mapa de Preços'!$A$16:$J$2988,10,0)","v":"Falta Orçamento"},"",null,1552,null,0]
[1553,{"$f":"IF(VLOOKUP(A1580,'Mapa de Preços'!$A$16:$B$2988,2,0)=FALSE,\"Falta (U.M.)\",VLOOKUP(A1580,'Mapa de Preços'!$A$16:$B$2988,2,0))","v":"Falta (U.M.)"},"","",null,{"$f":"VLOOKUP(A1580,'Mapa de Preços'!$A$16:$J$2988,10,0)","v":"Falta Orçamento"},"",null,1553,null,0]
[1554,{"$f":"IF(VLOOKUP(A1581,'Mapa de Preços'!$A$16:$B$2988,2,0)=FALSE,\"Falta (U.M.)\",VLOOKUP(A1581,'Mapa de Preços'!$A$16:$B$2988,2,0))","v":"Falta (U.M.)"},"","",null,{"$f":"VLOOKUP(A1581,'Mapa de Preços'!$A$16:$J$2988,10,0)","v":"Falta Orçamento"},"",null,1554,null,0]
[1555,{"$f":"IF(VLOOKUP(A1582,'Mapa de Preços'!$A$16:$B$2988,2,0)=FALSE,\"Falta (U.M.)\",VLOOKUP(A1582,'Mapa de Preços'!$A$16:$B$2988,2,0))","v":"Falta (U.M.)"},"","",null,{"$f":"VLOOKUP(A1582,'Mapa de Preços'!$A$16:$J$2988,10,0)","v":"Falta Orçamento"},"",null,1555,null,0]
[1556,{"$f":"IF(VLOOKUP(A1583,'Mapa de Preços'!$A$16:$B$2988,2,0)=FALSE,\"Falta (U.M.)\",VLOOKUP(A1583,'Mapa de Preços'!$A$16:$B$2988,2,0))","v":"Falta (U.M.)"},"","",null,{"$f":"VLOOKUP(A1583,'Mapa de Preços'!$A$16:$J$2988,10,0)","v":"Falta Orçamento"},"",null,1556,null,0]
[1557,{"$f":"IF(VLOOKUP(A1584,'Mapa de Preços'!$A$16:$B$2988,2,0)=FALSE,\"Falta (U.M.)\",VLOOKUP(A1584,'Mapa de Preços'!$A$16:$B$2988,2,0))","v":"Falta (U.M.)"},"","",null,{"$f":"VLOOKUP(A1584,'Mapa de Preços'!$A$16:$J$2988,10,0)","v":"Falta Orçamento"},"",null,1557,null,0]
[1558,{"$f":"IF(VLOOKUP(A1585,'Mapa de Preços'!$A$16:$B$2988,2,0)=FALSE,\"Falta (U.M.)\",VLOOKUP(A1585,'Mapa de Preços'!$A$16:$B$2988,2,0))","v":"Falta (U.M.)"},"","",null,{"$f":"VLOOKUP(A1585,'Mapa de Preços'!$A$16:$J$2988,10,0)","v":"Falta Orçamento"},"",null,1558,null,0]
[1559,{"$f":"IF(VLOOKUP(A1586,'Mapa de Preços'!$A$16:$B$2988,2,0)=FALSE,\"Falta (U.M.)\",VLOOKUP(A1586,'Mapa de Preços'!$A$16:$B$2988,2,0))","v":"Falta (U.M.)"},"","",null,{"$f":"VLOOKUP(A1586,'Mapa de Preços'!$A$16:$J$2988,10,0)","v":"Falta Orçamento"},"",null,1559,null,0]
[1560,{"$f":"IF(VLOOKUP(A1587,'Mapa de Preços'!$A$16:$B$2988,2,0)=FALSE,\"Falta (U.M.)\",VLOOKUP(A1587,'Mapa de Preços'!$A$16:$B$2988,2,0))","v":"Falta (U.M.)"},"","",null,{"$f":"VLOOKUP(A1587,'Mapa de Preços'!$A$16:$J$2988,10,0)","v":"Falta Orçamento"},"",null,1560,null,0]
[1561,{"$f":"IF(VLOOKUP(A1588,'Mapa de Preços'!$A$16:$B$2988,2,0)=FALSE,\"Falta (U.M.)\",VLOOKUP(A1588,'Mapa de Preços'!$A$16:$B$2988,2,0))","v":"Falta (U.M.)"},"","",null,{"$f":"VLOOKUP(A1588,'Mapa de Preços'!$A$16:$J$2988,10,0)","v":"Falta Orçamento"},"",null,1561,null,0]
[1562,{"$f":"IF(VLOOKUP(A1589,'Mapa de Preços'!$A$16:$B$2988,2,0)=FALSE,\"Falta (U.M.)\",VLOOKUP(A1589,'Mapa de Preços'!$A$16:$B$2988,2,0))","v":"Falta (U.M.)"},"","",null,{"$f":"VLOOKUP(A1589,'Mapa de Preços'!$A$16:$J$2988,10,0)","v":"Falta Orçamento"},"",null,1562,null,0]
[1563,{"$f":"IF(VLOOKUP(A1590,'Mapa de Preços'!$A$16:$B$2988,2,0)=FALSE,\"Falta (U.M.)\",VLOOKUP(A1590,'Mapa de Preços'!$A$16:$B$2988,2,0))","v":"Falta (U.M.)"},"","",null,{"$f":"VLOOKUP(A1590,'Mapa de Preços'!$A$16:$J$2988,10,0)","v":"Falta Orçamento"},"",null,1563,null,0]
[1564,{"$f":"IF(VLOOKUP(A1591,'Mapa de Preços'!$A$16:$B$2988,2,0)=FALSE,\"Falta (U.M.)\",VLOOKUP(A1591,'Mapa de Preços'!$A$16:$B$2988,2,0))","v":"Falta (U.M.)"},"","",null,{"$f":"VLOOKUP(A1591,'Mapa de Preços'!$A$16:$J$2988,10,0)","v":"Falta Orçamento"},"",null,1564,null,0]
[1565,{"$f":"IF(VLOOKUP(A1592,'Mapa de Preços'!$A$16:$B$2988,2,0)=FALSE,\"Falta (U.M.)\",VLOOKUP(A1592,'Mapa de Preços'!$A$16:$B$2988,2,0))","v":"Falta (U.M.)"},"","",null,{"$f":"VLOOKUP(A1592,'Mapa de Preços'!$A$16:$J$2988,10,0)","v":"Falta Orçamento"},"",null,1565,null,0]
[1566,{"$f":"IF(VLOOKUP(A1593,'Mapa de Preços'!$A$16:$B$2988,2,0)=FALSE,\"Falta (U.M.)\",VLOOKUP(A1593,'Mapa de Preços'!$A$16:$B$2988,2,0))","v":"Falta (U.M.)"},"","",null,{"$f":"VLOOKUP(A1593,'Mapa de Preços'!$A$16:$J$2988,10,0)","v":"Falta Orçamento"},"",null,1566,null,0]
[1567,{"$f":"IF(VLOOKUP(A1594,'Mapa de Preços'!$A$16:$B$2988,2,0)=FALSE,\"Falta (U.M.)\",VLOOKUP(A1594,'Mapa de Preços'!$A$16:$B$2988,2,0))","v":"Falta (U.M.)"},"","",null,{"$f":"VLOOKUP(A1594,'Mapa de Preços'!$A$16:$J$2988,10,0)","v":"Falta Orçamento"},"",null,1567,null,0]
[1568,{"$f":"IF(VLOOKUP(A1595,'Mapa de Preços'!$A$16:$B$2988,2,0)=FALSE,\"Falta (U.M.)\",VLOOKUP(A1595,'Mapa de Preços'!$A$16:$B$2988,2,0))","v":"Falta (U.M.)"},"","",null,{"$f":"VLOOKUP(A1595,'Mapa de Preços'!$A$16:$J$2988,10,0)","v":"Falta Orçamento"},"",null,1568,null,0]
[1569,{"$f":"IF(VLOOKUP(A1596,'Mapa de Preços'!$A$16:$B$2988,2,0)=FALSE,\"Falta (U.M.)\",VLOOKUP(A1596,'Mapa de Preços'!$A$16:$B$2988,2,0))","v":"Falta (U.M.)"},"","",null,{"$f":"VLOOKUP(A1596,'Mapa de Preços'!$A$16:$J$2988,10,0)","v":"Falta Orçamento"},"",null,1569,null,0]
[1570,{"$f":"IF(VLOOKUP(A1597,'Mapa de Preços'!$A$16:$B$2988,2,0)=FALSE,\"Falta (U.M.)\",VLOOKUP(A1597,'Mapa de Preços'!$A$16:$B$2988,2,0))","v":"Falta (U.M.)"},"","",null,{"$f":"VLOOKUP(A1597,'Mapa de Preços'!$A$16:$J$2988,10,0)","v":"Falta Orçamento"},"",null,1570,null,0]
[1571,{"$f":"IF(VLOOKUP(A1598,'Mapa de Preços'!$A$16:$B$2988,2,0)=FALSE,\"Falta (U.M.)\",VLOOKUP(A1598,'Mapa de Preços'!$A$16:$B$2988,2,0))","v":"Falta (U.M.)"},"","",null,{"$f":"VLOOKUP(A1598,'Mapa de Preços'!$A$16:$J$2988,10,0)","v":"Falta Orçamento"},"",null,1571,null,0]
[1572,{"$f":"IF(VLOOKUP(A1599,'Mapa de Preços'!$A$16:$B$2988,2,0)=FALSE,\"Falta (U.M.)\",VLOOKUP(A1599,'Mapa de Preços'!$A$16:$B$2988,2,0))","v":"Falta (U.M.)"},"","",null,{"$f":"VLOOKUP(A1599,'Mapa de Preços'!$A$16:$J$2988,10,0)","v":"Falta Orçamento"},"",null,1572,null,0]
[1573,{"$f":"IF(VLOOKUP(A1600,'Mapa de Preços'!$A$16:$B$2988,2,0)=FALSE,\"Falta (U.M.)\",VLOOKUP(A1600,'Mapa de Preços'!$A$16:$B$2988,2,0))","v":"Falta (U.M.)"},"","",null,{"$f":"VLOOKUP(A1600,'Mapa de Preços'!$A$16:$J$2988,10,0)","v":"Falta Orçamento"},"",null,1573,null,0]
[1574,{"$f":"IF(VLOOKUP(A1601,'Mapa de Preços'!$A$16:$B$2988,2,0)=FALSE,\"Falta (U.M.)\",VLOOKUP(A1601,'Mapa de Preços'!$A$16:$B$2988,2,0))","v":"Falta (U.M.)"},"","",null,{"$f":"VLOOKUP(A1601,'Mapa de Preços'!$A$16:$J$2988,10,0)","v":"Falta Orçamento"},"",null,1574,null,0]
[1575,{"$f":"IF(VLOOKUP(A1602,'Mapa de Preços'!$A$16:$B$2988,2,0)=FALSE,\"Falta (U.M.)\",VLOOKUP(A1602,'Mapa de Preços'!$A$16:$B$2988,2,0))","v":"Falta (U.M.)"},"","",null,{"$f":"VLOOKUP(A1602,'Mapa de Preços'!$A$16:$J$2988,10,0)","v":"Falta Orçamento"},"",null,1575,null,0]
[1576,{"$f":"IF(VLOOKUP(A1603,'Mapa de Preços'!$A$16:$B$2988,2,0)=FALSE,\"Falta (U.M.)\",VLOOKUP(A1603,'Mapa de Preços'!$A$16:$B$2988,2,0))","v":"Falta (U.M.)"},"","",null,{"$f":"VLOOKUP(A1603,'Mapa de Preços'!$A$16:$J$2988,10,0)","v":"Falta Orçamento"},"",null,1576,null,0]
[1577,{"$f":"IF(VLOOKUP(A1604,'Mapa de Preços'!$A$16:$B$2988,2,0)=FALSE,\"Falta (U.M.)\",VLOOKUP(A1604,'Mapa de Preços'!$A$16:$B$2988,2,0))","v":"Falta (U.M.)"},"","",null,{"$f":"VLOOKUP(A1604,'Mapa de Preços'!$A$16:$J$2988,10,0)","v":"Falta Orçamento"},"",null,1577,null,0]
[1578,{"$f":"IF(VLOOKUP(A1605,'Mapa de Preços'!$A$16:$B$2988,2,0)=FALSE,\"Falta (U.M.)\",VLOOKUP(A1605,'Mapa de Preços'!$A$16:$B$2988,2,0))","v":"Falta (U.M.)"},"","",null,{"$f":"VLOOKUP(A1605,'Mapa de Preços'!$A$16:$J$2988,10,0)","v":"Falta Orçamento"},"",null,1578,null,0]
[1579,{"$f":"IF(VLOOKUP(A1606,'Mapa de Preços'!$A$16:$B$2988,2,0)=FALSE,\"Falta (U.M.)\",VLOOKUP(A1606,'Mapa de Preços'!$A$16:$B$2988,2,0))","v":"Falta (U.M.)"},"","",null,{"$f":"VLOOKUP(A1606,'Mapa de Preços'!$A$16:$J$2988,10,0)","v":"Falta Orçamento"},"",null,1579,null,0]
[1580,{"$f":"IF(VLOOKUP(A1607,'Mapa de Preços'!$A$16:$B$2988,2,0)=FALSE,\"Falta (U.M.)\",VLOOKUP(A1607,'Mapa de Preços'!$A$16:$B$2988,2,0))","v":"Falta (U.M.)"},"","",null,{"$f":"VLOOKUP(A1607,'Mapa de Preços'!$A$16:$J$2988,10,0)","v":"Falta Orçamento"},"",null,1580,null,0]
[1581,{"$f":"IF(VLOOKUP(A1608,'Mapa de Preços'!$A$16:$B$2988,2,0)=FALSE,\"Falta (U.M.)\",VLOOKUP(A1608,'Mapa de Preços'!$A$16:$B$2988,2,0))","v":"Falta (U.M.)"},"","",null,{"$f":"VLOOKUP(A1608,'Mapa de Preços'!$A$16:$J$2988,10,0)","v":"Falta Orçamento"},"",null,1581,null,0]
[1582,{"$f":"IF(VLOOKUP(A1609,'Mapa de Preços'!$A$16:$B$2988,2,0)=FALSE,\"Falta (U.M.)\",VLOOKUP(A1609,'Mapa de Preços'!$A$16:$B$2988,2,0))","v":"Falta (U.M.)"},"","",null,{"$f":"VLOOKUP(A1609,'Mapa de Preços'!$A$16:$J$2988,10,0)","v":"Falta Orçamento"},"",null,1582,null,0]
[1583,{"$f":"IF(VLOOKUP(A1610,'Mapa de Preços'!$A$16:$B$2988,2,0)=FALSE,\"Falta (U.M.)\",VLOOKUP(A1610,'Mapa de Preços'!$A$16:$B$2988,2,0))","v":"Falta (U.M.)"},"","",null,{"$f":"VLOOKUP(A1610,'Mapa de Preços'!$A$16:$J$2988,10,0)","v":"Falta Orçamento"},"",null,1583,null,0]
[1584,{"$f":"IF(VLOOKUP(A1611,'Mapa de Preços'!$A$16:$B$2988,2,0)=FALSE,\"Falta (U.M.)\",VLOOKUP(A1611,'Mapa de Preços'!$A$16:$B$2988,2,0))","v":"Falta (U.M.)"},"","",null,{"$f":"VLOOKUP(A1611,'Mapa de Preços'!$A$16:$J$2988,10,0)","v":"Falta Orçamento"},"",null,1584,null,0]
[1585,{"$f":"IF(VLOOKUP(A1612,'Mapa de Preços'!$A$16:$B$2988,2,0)=FALSE,\"Falta (U.M.)\",VLOOKUP(A1612,'Mapa de Preços'!$A$16:$B$2988,2,0))","v":"Falta (U.M.)"},"","",null,{"$f":"VLOOKUP(A1612,'Mapa de Preços'!$A$16:$J$2988,10,0)","v":"Falta Orçamento"},"",null,1585,null,0]
[1586,{"$f":"IF(VLOOKUP(A1613,'Mapa de Preços'!$A$16:$B$2988,2,0)=FALSE,\"Falta (U.M.)\",VLOOKUP(A1613,'Mapa de Preços'!$A$16:$B$2988,2,0))","v":"Falta (U.M.)"},"","",null,{"$f":"VLOOKUP(A1613,'Mapa de Preços'!$A$16:$J$2988,10,0)","v":"Falta Orçamento"},"",null,1586,null,0]
[1587,{"$f":"IF(VLOOKUP(A1614,'Mapa de Preços'!$A$16:$B$2988,2,0)=FALSE,\"Falta (U.M.)\",VLOOKUP(A1614,'Mapa de Preços'!$A$16:$B$2988,2,0))","v":"Falta (U.M.)"},"","",null,{"$f":"VLOOKUP(A1614,'Mapa de Preços'!$A$16:$J$2988,10,0)","v":"Falta Orçamento"},"",null,1587,null,0]
[1588,{"$f":"IF(VLOOKUP(A1615,'Mapa de Preços'!$A$16:$B$2988,2,0)=FALSE,\"Falta (U.M.)\",VLOOKUP(A1615,'Mapa de Preços'!$A$16:$B$2988,2,0))","v":"Falta (U.M.)"},"","",null,{"$f":"VLOOKUP(A1615,'Mapa de Preços'!$A$16:$J$2988,10,0)","v":"Falta Orçamento"},"",null,1588,null,0]
[1589,{"$f":"IF(VLOOKUP(A1616,'Mapa de Preços'!$A$16:$B$2988,2,0)=FALSE,\"Falta (U.M.)\",VLOOKUP(A1616,'Mapa de Preços'!$A$16:$B$2988,2,0))","v":"Falta (U.M.)"},"","",null,{"$f":"VLOOKUP(A1616,'Mapa de Preços'!$A$16:$J$2988,10,0)","v":"Falta Orçamento"},"",null,1589,null,0]
[1590,{"$f":"IF(VLOOKUP(A1617,'Mapa de Preços'!$A$16:$B$2988,2,0)=FALSE,\"Falta (U.M.)\",VLOOKUP(A1617,'Mapa de Preços'!$A$16:$B$2988,2,0))","v":"Falta (U.M.)"},"","",null,{"$f":"VLOOKUP(A1617,'Mapa de Preços'!$A$16:$J$2988,10,0)","v":"Falta Orçamento"},"",null,1590,null,0]
[1591,{"$f":"IF(VLOOKUP(A1618,'Mapa de Preços'!$A$16:$B$2988,2,0)=FALSE,\"Falta (U.M.)\",VLOOKUP(A1618,'Mapa de Preços'!$A$16:$B$2988,2,0))","v":"Falta (U.M.)"},"","",null,{"$f":"VLOOKUP(A1618,'Mapa de Preços'!$A$16:$J$2988,10,0)","v":"Falta Orçamento"},"",null,1591,null,0]
[1592,{"$f":"IF(VLOOKUP(A1619,'Mapa de Preços'!$A$16:$B$2988,2,0)=FALSE,\"Falta (U.M.)\",VLOOKUP(A1619,'Mapa de Preços'!$A$16:$B$2988,2,0))","v":"Falta (U.M.)"},"","",null,{"$f":"VLOOKUP(A1619,'Mapa de Preços'!$A$16:$J$2988,10,0)","v":"Falta Orçamento"},"",null,1592,null,0]
[1593,{"$f":"IF(VLOOKUP(A1620,'Mapa de Preços'!$A$16:$B$2988,2,0)=FALSE,\"Falta (U.M.)\",VLOOKUP(A1620,'Mapa de Preços'!$A$16:$B$2988,2,0))","v":"Falta (U.M.)"},"","",null,{"$f":"VLOOKUP(A1620,'Mapa de Preços'!$A$16:$J$2988,10,0)","v":"Falta Orçamento"},"",null,1593,null,0]
[1594,{"$f":"IF(VLOOKUP(A1621,'Mapa de Preços'!$A$16:$B$2988,2,0)=FALSE,\"Falta (U.M.)\",VLOOKUP(A1621,'Mapa de Preços'!$A$16:$B$2988,2,0))","v":"Falta (U.M.)"},"","",null,{"$f":"VLOOKUP(A1621,'Mapa de Preços'!$A$16:$J$2988,10,0)","v":"Falta Orçamento"},"",null,1594,null,0]
[1595,{"$f":"IF(VLOOKUP(A1622,'Mapa de Preços'!$A$16:$B$2988,2,0)=FALSE,\"Falta (U.M.)\",VLOOKUP(A1622,'Mapa de Preços'!$A$16:$B$2988,2,0))","v":"Falta (U.M.)"},"","",null,{"$f":"VLOOKUP(A1622,'Mapa de Preços'!$A$16:$J$2988,10,0)","v":"Falta Orçamento"},"",null,1595,null,0]
[1596,{"$f":"IF(VLOOKUP(A1623,'Mapa de Preços'!$A$16:$B$2988,2,0)=FALSE,\"Falta (U.M.)\",VLOOKUP(A1623,'Mapa de Preços'!$A$16:$B$2988,2,0))","v":"Falta (U.M.)"},"","",null,{"$f":"VLOOKUP(A1623,'Mapa de Preços'!$A$16:$J$2988,10,0)","v":"Falta Orçamento"},"",null,1596,null,0]
[1597,{"$f":"IF(VLOOKUP(A1624,'Mapa de Preços'!$A$16:$B$2988,2,0)=FALSE,\"Falta (U.M.)\",VLOOKUP(A1624,'Mapa de Preços'!$A$16:$B$2988,2,0))","v":"Falta (U.M.)"},"","",null,{"$f":"VLOOKUP(A1624,'Mapa de Preços'!$A$16:$J$2988,10,0)","v":"Falta Orçamento"},"",null,1597,null,0]
[1598,{"$f":"IF(VLOOKUP(A1625,'Mapa de Preços'!$A$16:$B$2988,2,0)=FALSE,\"Falta (U.M.)\",VLOOKUP(A1625,'Mapa de Preços'!$A$16:$B$2988,2,0))","v":"Falta (U.M.)"},"","",null,{"$f":"VLOOKUP(A1625,'Mapa de Preços'!$A$16:$J$2988,10,0)","v":"Falta Orçamento"},"",null,1598,null,0]
[1599,{"$f":"IF(VLOOKUP(A1626,'Mapa de Preços'!$A$16:$B$2988,2,0)=FALSE,\"Falta (U.M.)\",VLOOKUP(A1626,'Mapa de Preços'!$A$16:$B$2988,2,0))","v":"Falta (U.M.)"},"","",null,{"$f":"VLOOKUP(A1626,'Mapa de Preços'!$A$16:$J$2988,10,0)","v":"Falta Orçamento"},"",null,1599,null,0]
[1600,{"$f":"IF(VLOOKUP(A1627,'Mapa de Preços'!$A$16:$B$2988,2,0)=FALSE,\"Falta (U.M.)\",VLOOKUP(A1627,'Mapa de Preços'!$A$16:$B$2988,2,0))","v":"Falta (U.M.)"},"","",null,{"$f":"VLOOKUP(A1627,'Mapa de Preços'!$A$16:$J$2988,10,0)","v":"Falta Orçamento"},"",null,1600,null,0]
[1601,{"$f":"IF(VLOOKUP(A1628,'Mapa de Preços'!$A$16:$B$2988,2,0)=FALSE,\"Falta (U.M.)\",VLOOKUP(A1628,'Mapa de Preços'!$A$16:$B$2988,2,0))","v":"Falta (U.M.)"},"","",null,{"$f":"VLOOKUP(A1628,'Mapa de Preços'!$A$16:$J$2988,10,0)","v":"Falta Orçamento"},"",null,1601,null,{"$f":"SUM(L1628:AI1628)","v":0}]
[1602,{"$f":"IF(VLOOKUP(A1629,'Mapa de Preços'!$A$16:$B$2988,2,0)=FALSE,\"Falta (U.M.)\",VLOOKUP(A1629,'Mapa de Preços'!$A$16:$B$2988,2,0))","v":"Falta (U.M.)"},{"$f":"IF(J1629<>\"\",J1629,\"\")","v":""},{"$f":"IF(VLOOKUP(A1629,$I$28:$AI$3000,$G$26,FALSE)<>\"\",VLOOKUP(A1629,$I$28:$AI$3000,$G$26,FALSE),\"\")","v":""},null,{"$f":"VLOOKUP(A1629,'Mapa de Preços'!$A$16:$J$2988,10,0)","v":"Falta Orçamento"},{"$f":"IF(F1629=\"Falta Orçamento\",\"\",F1629*D1629)","v":""},null,1602,null,0]
[1603,{"$f":"IF(VLOOKUP(A1630,'Mapa de Preços'!$A$16:$B$2988,2,0)=FALSE,\"Falta (U.M.)\",VLOOKUP(A1630,'Mapa de Preços'!$A$16:$B$2988,2,0))","v":"Falta (U.M.)"},"","",null,{"$f":"VLOOKUP(A1630,'Mapa de Preços'!$A$16:$J$2988,10,0)","v":"Falta Orçamento"},"",null,1603,null,0]
[1604,{"$f":"IF(VLOOKUP(A1631,'Mapa de Preços'!$A$16:$B$2988,2,0)=FALSE,\"Falta (U.M.)\",VLOOKUP(A1631,'Mapa de Preços'!$A$16:$B$2988,2,0))","v":"Falta (U.M.)"},"","",null,{"$f":"VLOOKUP(A1631,'Mapa de Preços'!$A$16:$J$2988,10,0)","v":"Falta Orçamento"},"",null,1604,null,0]
[1605,{"$f":"IF(VLOOKUP(A1632,'Mapa de Preços'!$A$16:$B$2988,2,0)=FALSE,\"Falta (U.M.)\",VLOOKUP(A1632,'Mapa de Preços'!$A$16:$B$2988,2,0))","v":"Falta (U.M.)"},"","",null,{"$f":"VLOOKUP(A1632,'Mapa de Preços'!$A$16:$J$2988,10,0)","v":"Falta Orçamento"},"",null,1605,null,0]
[1606,{"$f":"IF(VLOOKUP(A1633,'Mapa de Preços'!$A$16:$B$2988,2,0)=FALSE,\"Falta (U.M.)\",VLOOKUP(A1633,'Mapa de Preços'!$A$16:$B$2988,2,0))","v":"Falta (U.M.)"},"","",null,{"$f":"VLOOKUP(A1633,'Mapa de Preços'!$A$16:$J$2988,10,0)","v":"Falta Orçamento"},"",null,1606,null,0]
[1607,{"$f":"IF(VLOOKUP(A1634,'Mapa de Preços'!$A$16:$B$2988,2,0)=FALSE,\"Falta (U.M.)\",VLOOKUP(A1634,'Mapa de Preços'!$A$16:$B$2988,2,0))","v":"Falta (U.M.)"},"","",null,{"$f":"VLOOKUP(A1634,'Mapa de Preços'!$A$16:$J$2988,10,0)","v":"Falta Orçamento"},"",null,1607,null,0]
[1608,{"$f":"IF(VLOOKUP(A1635,'Mapa de Preços'!$A$16:$B$2988,2,0)=FALSE,\"Falta (U.M.)\",VLOOKUP(A1635,'Mapa de Preços'!$A$16:$B$2988,2,0))","v":"Falta (U.M.)"},"","",null,{"$f":"VLOOKUP(A1635,'Mapa de Preços'!$A$16:$J$2988,10,0)","v":"Falta Orçamento"},"",null,1608,null,0]
[1609,{"$f":"IF(VLOOKUP(A1636,'Mapa de Preços'!$A$16:$B$2988,2,0)=FALSE,\"Falta (U.M.)\",VLOOKUP(A1636,'Mapa de Preços'!$A$16:$B$2988,2,0))","v":"Falta (U.M.)"},"","",null,{"$f":"VLOOKUP(A1636,'Mapa de Preços'!$A$16:$J$2988,10,0)","v":"Falta Orçamento"},"",null,1609,null,0]
[1610,{"$f":"IF(VLOOKUP(A1637,'Mapa de Preços'!$A$16:$B$2988,2,0)=FALSE,\"Falta (U.M.)\",VLOOKUP(A1637,'Mapa de Preços'!$A$16:$B$2988,2,0))","v":"Falta (U.M.)"},"","",null,{"$f":"VLOOKUP(A1637,'Mapa de Preços'!$A$16:$J$2988,10,0)","v":"Falta Orçamento"},"",null,1610,null,0]
[1611,{"$f":"IF(VLOOKUP(A1638,'Mapa de Preços'!$A$16:$B$2988,2,0)=FALSE,\"Falta (U.M.)\",VLOOKUP(A1638,'Mapa de Preços'!$A$16:$B$2988,2,0))","v":"Falta (U.M.)"},"","",null,{"$f":"VLOOKUP(A1638,'Mapa de Preços'!$A$16:$J$2988,10,0)","v":"Falta Orçamento"},"",null,1611,null,0]
[1612,{"$f":"IF(VLOOKUP(A1639,'Mapa de Preços'!$A$16:$B$2988,2,0)=FALSE,\"Falta (U.M.)\",VLOOKUP(A1639,'Mapa de Preços'!$A$16:$B$2988,2,0))","v":"Falta (U.M.)"},"","",null,{"$f":"VLOOKUP(A1639,'Mapa de Preços'!$A$16:$J$2988,10,0)","v":"Falta Orçamento"},"",null,1612,null,0]
[1613,{"$f":"IF(VLOOKUP(A1640,'Mapa de Preços'!$A$16:$B$2988,2,0)=FALSE,\"Falta (U.M.)\",VLOOKUP(A1640,'Mapa de Preços'!$A$16:$B$2988,2,0))","v":"Falta (U.M.)"},"","",null,{"$f":"VLOOKUP(A1640,'Mapa de Preços'!$A$16:$J$2988,10,0)","v":"Falta Orçamento"},"",null,1613,null,0]
[1614,{"$f":"IF(VLOOKUP(A1641,'Mapa de Preços'!$A$16:$B$2988,2,0)=FALSE,\"Falta (U.M.)\",VLOOKUP(A1641,'Mapa de Preços'!$A$16:$B$2988,2,0))","v":"Falta (U.M.)"},"","",null,{"$f":"VLOOKUP(A1641,'Mapa de Preços'!$A$16:$J$2988,10,0)","v":"Falta Orçamento"},"",null,1614,null,0]
[1615,{"$f":"IF(VLOOKUP(A1642,'Mapa de Preços'!$A$16:$B$2988,2,0)=FALSE,\"Falta (U.M.)\",VLOOKUP(A1642,'Mapa de Preços'!$A$16:$B$2988,2,0))","v":"Falta (U.M.)"},"","",null,{"$f":"VLOOKUP(A1642,'Mapa de Preços'!$A$16:$J$2988,10,0)","v":"Falta Orçamento"},"",null,1615,null,0]
[1616,{"$f":"IF(VLOOKUP(A1643,'Mapa de Preços'!$A$16:$B$2988,2,0)=FALSE,\"Falta (U.M.)\",VLOOKUP(A1643,'Mapa de Preços'!$A$16:$B$2988,2,0))","v":"Falta (U.M.)"},"","",null,{"$f":"VLOOKUP(A1643,'Mapa de Preços'!$A$16:$J$2988,10,0)","v":"Falta Orçamento"},"",null,1616,null,0]
[1617,{"$f":"IF(VLOOKUP(A1644,'Mapa de Preços'!$A$16:$B$2988,2,0)=FALSE,\"Falta (U.M.)\",VLOOKUP(A1644,'Mapa de Preços'!$A$16:$B$2988,2,0))","v":"Falta (U.M.)"},"","",null,{"$f":"VLOOKUP(A1644,'Mapa de Preços'!$A$16:$J$2988,10,0)","v":"Falta Orçamento"},"",null,1617,null,0]
[1618,{"$f":"IF(VLOOKUP(A1645,'Mapa de Preços'!$A$16:$B$2988,2,0)=FALSE,\"Falta (U.M.)\",VLOOKUP(A1645,'Mapa de Preços'!$A$16:$B$2988,2,0))","v":"Falta (U.M.)"},"","",null,{"$f":"VLOOKUP(A1645,'Mapa de Preços'!$A$16:$J$2988,10,0)","v":"Falta Orçamento"},"",null,1618,null,0]
[1619,{"$f":"IF(VLOOKUP(A1646,'Mapa de Preços'!$A$16:$B$2988,2,0)=FALSE,\"Falta (U.M.)\",VLOOKUP(A1646,'Mapa de Preços'!$A$16:$B$2988,2,0))","v":"Falta (U.M.)"},"","",null,{"$f":"VLOOKUP(A1646,'Mapa de Preços'!$A$16:$J$2988,10,0)","v":"Falta Orçamento"},"",null,1619,null,0]
[1620,{"$f":"IF(VLOOKUP(A1647,'Mapa de Preços'!$A$16:$B$2988,2,0)=FALSE,\"Falta (U.M.)\",VLOOKUP(A1647,'Mapa de Preços'!$A$16:$B$2988,2,0))","v":"Falta (U.M.)"},"","",null,{"$f":"VLOOKUP(A1647,'Mapa de Preços'!$A$16:$J$2988,10,0)","v":"Falta Orçamento"},"",null,1620,null,0]
[1621,{"$f":"IF(VLOOKUP(A1648,'Mapa de Preços'!$A$16:$B$2988,2,0)=FALSE,\"Falta (U.M.)\",VLOOKUP(A1648,'Mapa de Preços'!$A$16:$B$2988,2,0))","v":"Falta (U.M.)"},"","",null,{"$f":"VLOOKUP(A1648,'Mapa de Preços'!$A$16:$J$2988,10,0)","v":"Falta Orçamento"},"",null,1621,null,0]
[1622,{"$f":"IF(VLOOKUP(A1649,'Mapa de Preços'!$A$16:$B$2988,2,0)=FALSE,\"Falta (U.M.)\",VLOOKUP(A1649,'Mapa de Preços'!$A$16:$B$2988,2,0))","v":"Falta (U.M.)"},"","",null,{"$f":"VLOOKUP(A1649,'Mapa de Preços'!$A$16:$J$2988,10,0)","v":"Falta Orçamento"},"",null,1622,null,0]
[1623,{"$f":"IF(VLOOKUP(A1650,'Mapa de Preços'!$A$16:$B$2988,2,0)=FALSE,\"Falta (U.M.)\",VLOOKUP(A1650,'Mapa de Preços'!$A$16:$B$2988,2,0))","v":"Falta (U.M.)"},"","",null,{"$f":"VLOOKUP(A1650,'Mapa de Preços'!$A$16:$J$2988,10,0)","v":"Falta Orçamento"},"",null,1623,null,0]
[1624,{"$f":"IF(VLOOKUP(A1651,'Mapa de Preços'!$A$16:$B$2988,2,0)=FALSE,\"Falta (U.M.)\",VLOOKUP(A1651,'Mapa de Preços'!$A$16:$B$2988,2,0))","v":"Falta (U.M.)"},"","",null,{"$f":"VLOOKUP(A1651,'Mapa de Preços'!$A$16:$J$2988,10,0)","v":"Falta Orçamento"},"",null,1624,null,0]
[1625,{"$f":"IF(VLOOKUP(A1652,'Mapa de Preços'!$A$16:$B$2988,2,0)=FALSE,\"Falta (U.M.)\",VLOOKUP(A1652,'Mapa de Preços'!$A$16:$B$2988,2,0))","v":"Falta (U.M.)"},"","",null,{"$f":"VLOOKUP(A1652,'Mapa de Preços'!$A$16:$J$2988,10,0)","v":"Falta Orçamento"},"",null,1625,null,0]
[1626,{"$f":"IF(VLOOKUP(A1653,'Mapa de Preços'!$A$16:$B$2988,2,0)=FALSE,\"Falta (U.M.)\",VLOOKUP(A1653,'Mapa de Preços'!$A$16:$B$2988,2,0))","v":"Falta (U.M.)"},"","",null,{"$f":"VLOOKUP(A1653,'Mapa de Preços'!$A$16:$J$2988,10,0)","v":"Falta Orçamento"},"",null,1626,null,0]
[1627,{"$f":"IF(VLOOKUP(A1654,'Mapa de Preços'!$A$16:$B$2988,2,0)=FALSE,\"Falta (U.M.)\",VLOOKUP(A1654,'Mapa de Preços'!$A$16:$B$2988,2,0))","v":"Falta (U.M.)"},"","",null,{"$f":"VLOOKUP(A1654,'Mapa de Preços'!$A$16:$J$2988,10,0)","v":"Falta Orçamento"},"",null,1627,null,0]
[1628,{"$f":"IF(VLOOKUP(A1655,'Mapa de Preços'!$A$16:$B$2988,2,0)=FALSE,\"Falta (U.M.)\",VLOOKUP(A1655,'Mapa de Preços'!$A$16:$B$2988,2,0))","v":"Falta (U.M.)"},"","",null,{"$f":"VLOOKUP(A1655,'Mapa de Preços'!$A$16:$J$2988,10,0)","v":"Falta Orçamento"},"",null,1628,null,0]
[1629,{"$f":"IF(VLOOKUP(A1656,'Mapa de Preços'!$A$16:$B$2988,2,0)=FALSE,\"Falta (U.M.)\",VLOOKUP(A1656,'Mapa de Preços'!$A$16:$B$2988,2,0))","v":"Falta (U.M.)"},"","",null,{"$f":"VLOOKUP(A1656,'Mapa de Preços'!$A$16:$J$2988,10,0)","v":"Falta Orçamento"},"",null,1629,null,0]
[1630,{"$f":"IF(VLOOKUP(A1657,'Mapa de Preços'!$A$16:$B$2988,2,0)=FALSE,\"Falta (U.M.)\",VLOOKUP(A1657,'Mapa de Preços'!$A$16:$B$2988,2,0))","v":"Falta (U.M.)"},"","",null,{"$f":"VLOOKUP(A1657,'Mapa de Preços'!$A$16:$J$2988,10,0)","v":"Falta Orçamento"},"",null,1630,null,0]
[1631,{"$f":"IF(VLOOKUP(A1658,'Mapa de Preços'!$A$16:$B$2988,2,0)=FALSE,\"Falta (U.M.)\",VLOOKUP(A1658,'Mapa de Preços'!$A$16:$B$2988,2,0))","v":"Falta (U.M.)"},"","",null,{"$f":"VLOOKUP(A1658,'Mapa de Preços'!$A$16:$J$2988,10,0)","v":"Falta Orçamento"},"",null,1631,null,0]
[1632,{"$f":"IF(VLOOKUP(A1659,'Mapa de Preços'!$A$16:$B$2988,2,0)=FALSE,\"Falta (U.M.)\",VLOOKUP(A1659,'Mapa de Preços'!$A$16:$B$2988,2,0))","v":"Falta (U.M.)"},"","",null,{"$f":"VLOOKUP(A1659,'Mapa de Preços'!$A$16:$J$2988,10,0)","v":"Falta Orçamento"},"",null,1632,null,0]
[1633,{"$f":"IF(VLOOKUP(A1660,'Mapa de Preços'!$A$16:$B$2988,2,0)=FALSE,\"Falta (U.M.)\",VLOOKUP(A1660,'Mapa de Preços'!$A$16:$B$2988,2,0))","v":"Falta (U.M.)"},"","",null,{"$f":"VLOOKUP(A1660,'Mapa de Preços'!$A$16:$J$2988,10,0)","v":"Falta Orçamento"},"",null,1633,null,0]
[1634,{"$f":"IF(VLOOKUP(A1661,'Mapa de Preços'!$A$16:$B$2988,2,0)=FALSE,\"Falta (U.M.)\",VLOOKUP(A1661,'Mapa de Preços'!$A$16:$B$2988,2,0))","v":"Falta (U.M.)"},"","",null,{"$f":"VLOOKUP(A1661,'Mapa de Preços'!$A$16:$J$2988,10,0)","v":"Falta Orçamento"},"",null,1634,null,0]
[1635,{"$f":"IF(VLOOKUP(A1662,'Mapa de Preços'!$A$16:$B$2988,2,0)=FALSE,\"Falta (U.M.)\",VLOOKUP(A1662,'Mapa de Preços'!$A$16:$B$2988,2,0))","v":"Falta (U.M.)"},"","",null,{"$f":"VLOOKUP(A1662,'Mapa de Preços'!$A$16:$J$2988,10,0)","v":"Falta Orçamento"},"",null,1635,null,0]
[1636,{"$f":"IF(VLOOKUP(A1663,'Mapa de Preços'!$A$16:$B$2988,2,0)=FALSE,\"Falta (U.M.)\",VLOOKUP(A1663,'Mapa de Preços'!$A$16:$B$2988,2,0))","v":"Falta (U.M.)"},"","",null,{"$f":"VLOOKUP(A1663,'Mapa de Preços'!$A$16:$J$2988,10,0)","v":"Falta Orçamento"},"",null,1636,null,0]
[1637,{"$f":"IF(VLOOKUP(A1664,'Mapa de Preços'!$A$16:$B$2988,2,0)=FALSE,\"Falta (U.M.)\",VLOOKUP(A1664,'Mapa de Preços'!$A$16:$B$2988,2,0))","v":"Falta (U.M.)"},"","",null,{"$f":"VLOOKUP(A1664,'Mapa de Preços'!$A$16:$J$2988,10,0)","v":"Falta Orçamento"},"",null,1637,null,0]
[1638,{"$f":"IF(VLOOKUP(A1665,'Mapa de Preços'!$A$16:$B$2988,2,0)=FALSE,\"Falta (U.M.)\",VLOOKUP(A1665,'Mapa de Preços'!$A$16:$B$2988,2,0))","v":"Falta (U.M.)"},"","",null,{"$f":"VLOOKUP(A1665,'Mapa de Preços'!$A$16:$J$2988,10,0)","v":"Falta Orçamento"},"",null,1638,null,0]
[1639,{"$f":"IF(VLOOKUP(A1666,'Mapa de Preços'!$A$16:$B$2988,2,0)=FALSE,\"Falta (U.M.)\",VLOOKUP(A1666,'Mapa de Preços'!$A$16:$B$2988,2,0))","v":"Falta (U.M.)"},"","",null,{"$f":"VLOOKUP(A1666,'Mapa de Preços'!$A$16:$J$2988,10,0)","v":"Falta Orçamento"},"",null,1639,null,0]
[1640,{"$f":"IF(VLOOKUP(A1667,'Mapa de Preços'!$A$16:$B$2988,2,0)=FALSE,\"Falta (U.M.)\",VLOOKUP(A1667,'Mapa de Preços'!$A$16:$B$2988,2,0))","v":"Falta (U.M.)"},"","",null,{"$f":"VLOOKUP(A1667,'Mapa de Preços'!$A$16:$J$2988,10,0)","v":"Falta Orçamento"},"",null,1640,null,0]
[1641,{"$f":"IF(VLOOKUP(A1668,'Mapa de Preços'!$A$16:$B$2988,2,0)=FALSE,\"Falta (U.M.)\",VLOOKUP(A1668,'Mapa de Preços'!$A$16:$B$2988,2,0))","v":"Falta (U.M.)"},"","",null,{"$f":"VLOOKUP(A1668,'Mapa de Preços'!$A$16:$J$2988,10,0)","v":"Falta Orçamento"},"",null,1641,null,0]
[1642,{"$f":"IF(VLOOKUP(A1669,'Mapa de Preços'!$A$16:$B$2988,2,0)=FALSE,\"Falta (U.M.)\",VLOOKUP(A1669,'Mapa de Preços'!$A$16:$B$2988,2,0))","v":"Falta (U.M.)"},"","",null,{"$f":"VLOOKUP(A1669,'Mapa de Preços'!$A$16:$J$2988,10,0)","v":"Falta Orçamento"},"",null,1642,null,0]
[1643,{"$f":"IF(VLOOKUP(A1670,'Mapa de Preços'!$A$16:$B$2988,2,0)=FALSE,\"Falta (U.M.)\",VLOOKUP(A1670,'Mapa de Preços'!$A$16:$B$2988,2,0))","v":"Falta (U.M.)"},"","",null,{"$f":"VLOOKUP(A1670,'Mapa de Preços'!$A$16:$J$2988,10,0)","v":"Falta Orçamento"},"",null,1643,null,0]
[1644,{"$f":"IF(VLOOKUP(A1671,'Mapa de Preços'!$A$16:$B$2988,2,0)=FALSE,\"Falta (U.M.)\",VLOOKUP(A1671,'Mapa de Preços'!$A$16:$B$2988,2,0))","v":"Falta (U.M.)"},"","",null,{"$f":"VLOOKUP(A1671,'Mapa de Preços'!$A$16:$J$2988,10,0)","v":"Falta Orçamento"},"",null,1644,null,0]
[1645,{"$f":"IF(VLOOKUP(A1672,'Mapa de Preços'!$A$16:$B$2988,2,0)=FALSE,\"Falta (U.M.)\",VLOOKUP(A1672,'Mapa de Preços'!$A$16:$B$2988,2,0))","v":"Falta (U.M.)"},"","",null,{"$f":"VLOOKUP(A1672,'Mapa de Preços'!$A$16:$J$2988,10,0)","v":"Falta Orçamento"},"",null,1645,null,0]
[1646,{"$f":"IF(VLOOKUP(A1673,'Mapa de Preços'!$A$16:$B$2988,2,0)=FALSE,\"Falta (U.M.)\",VLOOKUP(A1673,'Mapa de Preços'!$A$16:$B$2988,2,0))","v":"Falta (U.M.)"},"","",null,{"$f":"VLOOKUP(A1673,'Mapa de Preços'!$A$16:$J$2988,10,0)","v":"Falta Orçamento"},"",null,1646,null,0]
[1647,{"$f":"IF(VLOOKUP(A1674,'Mapa de Preços'!$A$16:$B$2988,2,0)=FALSE,\"Falta (U.M.)\",VLOOKUP(A1674,'Mapa de Preços'!$A$16:$B$2988,2,0))","v":"Falta (U.M.)"},"","",null,{"$f":"VLOOKUP(A1674,'Mapa de Preços'!$A$16:$J$2988,10,0)","v":"Falta Orçamento"},"",null,1647,null,0]
[1648,{"$f":"IF(VLOOKUP(A1675,'Mapa de Preços'!$A$16:$B$2988,2,0)=FALSE,\"Falta (U.M.)\",VLOOKUP(A1675,'Mapa de Preços'!$A$16:$B$2988,2,0))","v":"Falta (U.M.)"},"","",null,{"$f":"VLOOKUP(A1675,'Mapa de Preços'!$A$16:$J$2988,10,0)","v":"Falta Orçamento"},"",null,1648,null,0]
[1649,{"$f":"IF(VLOOKUP(A1676,'Mapa de Preços'!$A$16:$B$2988,2,0)=FALSE,\"Falta (U.M.)\",VLOOKUP(A1676,'Mapa de Preços'!$A$16:$B$2988,2,0))","v":"Falta (U.M.)"},"","",null,{"$f":"VLOOKUP(A1676,'Mapa de Preços'!$A$16:$J$2988,10,0)","v":"Falta Orçamento"},"",null,1649,null,0]
[1650,{"$f":"IF(VLOOKUP(A1677,'Mapa de Preços'!$A$16:$B$2988,2,0)=FALSE,\"Falta (U.M.)\",VLOOKUP(A1677,'Mapa de Preços'!$A$16:$B$2988,2,0))","v":"Falta (U.M.)"},"","",null,{"$f":"VLOOKUP(A1677,'Mapa de Preços'!$A$16:$J$2988,10,0)","v":"Falta Orçamento"},"",null,1650,null,0]
[1651,{"$f":"IF(VLOOKUP(A1678,'Mapa de Preços'!$A$16:$B$2988,2,0)=FALSE,\"Falta (U.M.)\",VLOOKUP(A1678,'Mapa de Preços'!$A$16:$B$2988,2,0))","v":"Falta (U.M.)"},"","",null,{"$f":"VLOOKUP(A1678,'Mapa de Preços'!$A$16:$J$2988,10,0)","v":"Falta Orçamento"},"",null,1651,null,0]
[1652,{"$f":"IF(VLOOKUP(A1679,'Mapa de Preços'!$A$16:$B$2988,2,0)=FALSE,\"Falta (U.M.)\",VLOOKUP(A1679,'Mapa de Preços'!$A$16:$B$2988,2,0))","v":"Falta (U.M.)"},"","",null,{"$f":"VLOOKUP(A1679,'Mapa de Preços'!$A$16:$J$2988,10,0)","v":"Falta Orçamento"},"",null,1652,null,0]
[1653,{"$f":"IF(VLOOKUP(A1680,'Mapa de Preços'!$A$16:$B$2988,2,0)=FALSE,\"Falta (U.M.)\",VLOOKUP(A1680,'Mapa de Preços'!$A$16:$B$2988,2,0))","v":"Falta (U.M.)"},"","",null,{"$f":"VLOOKUP(A1680,'Mapa de Preços'!$A$16:$J$2988,10,0)","v":"Falta Orçamento"},"",null,1653,null,0]
[1654,{"$f":"IF(VLOOKUP(A1681,'Mapa de Preços'!$A$16:$B$2988,2,0)=FALSE,\"Falta (U.M.)\",VLOOKUP(A1681,'Mapa de Preços'!$A$16:$B$2988,2,0))","v":"Falta (U.M.)"},"","",null,{"$f":"VLOOKUP(A1681,'Mapa de Preços'!$A$16:$J$2988,10,0)","v":"Falta Orçamento"},"",null,1654,null,0]
[1655,{"$f":"IF(VLOOKUP(A1682,'Mapa de Preços'!$A$16:$B$2988,2,0)=FALSE,\"Falta (U.M.)\",VLOOKUP(A1682,'Mapa de Preços'!$A$16:$B$2988,2,0))","v":"Falta (U.M.)"},"","",null,{"$f":"VLOOKUP(A1682,'Mapa de Preços'!$A$16:$J$2988,10,0)","v":"Falta Orçamento"},"",null,1655,null,0]
[1656,{"$f":"IF(VLOOKUP(A1683,'Mapa de Preços'!$A$16:$B$2988,2,0)=FALSE,\"Falta (U.M.)\",VLOOKUP(A1683,'Mapa de Preços'!$A$16:$B$2988,2,0))","v":"Falta (U.M.)"},"","",null,{"$f":"VLOOKUP(A1683,'Mapa de Preços'!$A$16:$J$2988,10,0)","v":"Falta Orçamento"},"",null,1656,null,0]
[1657,{"$f":"IF(VLOOKUP(A1684,'Mapa de Preços'!$A$16:$B$2988,2,0)=FALSE,\"Falta (U.M.)\",VLOOKUP(A1684,'Mapa de Preços'!$A$16:$B$2988,2,0))","v":"Falta (U.M.)"},"","",null,{"$f":"VLOOKUP(A1684,'Mapa de Preços'!$A$16:$J$2988,10,0)","v":"Falta Orçamento"},"",null,1657,null,0]
[1658,{"$f":"IF(VLOOKUP(A1685,'Mapa de Preços'!$A$16:$B$2988,2,0)=FALSE,\"Falta (U.M.)\",VLOOKUP(A1685,'Mapa de Preços'!$A$16:$B$2988,2,0))","v":"Falta (U.M.)"},"","",null,{"$f":"VLOOKUP(A1685,'Mapa de Preços'!$A$16:$J$2988,10,0)","v":"Falta Orçamento"},"",null,1658,null,0]
[1659,{"$f":"IF(VLOOKUP(A1686,'Mapa de Preços'!$A$16:$B$2988,2,0)=FALSE,\"Falta (U.M.)\",VLOOKUP(A1686,'Mapa de Preços'!$A$16:$B$2988,2,0))","v":"Falta (U.M.)"},"","",null,{"$f":"VLOOKUP(A1686,'Mapa de Preços'!$A$16:$J$2988,10,0)","v":"Falta Orçamento"},"",null,1659,null,0]
[1660,{"$f":"IF(VLOOKUP(A1687,'Mapa de Preços'!$A$16:$B$2988,2,0)=FALSE,\"Falta (U.M.)\",VLOOKUP(A1687,'Mapa de Preços'!$A$16:$B$2988,2,0))","v":"Falta (U.M.)"},"","",null,{"$f":"VLOOKUP(A1687,'Mapa de Preços'!$A$16:$J$2988,10,0)","v":"Falta Orçamento"},"",null,1660,null,0]
[1661,{"$f":"IF(VLOOKUP(A1688,'Mapa de Preços'!$A$16:$B$2988,2,0)=FALSE,\"Falta (U.M.)\",VLOOKUP(A1688,'Mapa de Preços'!$A$16:$B$2988,2,0))","v":"Falta (U.M.)"},"","",null,{"$f":"VLOOKUP(A1688,'Mapa de Preços'!$A$16:$J$2988,10,0)","v":"Falta Orçamento"},"",null,1661,null,0]
[1662,{"$f":"IF(VLOOKUP(A1689,'Mapa de Preços'!$A$16:$B$2988,2,0)=FALSE,\"Falta (U.M.)\",VLOOKUP(A1689,'Mapa de Preços'!$A$16:$B$2988,2,0))","v":"Falta (U.M.)"},"","",null,{"$f":"VLOOKUP(A1689,'Mapa de Preços'!$A$16:$J$2988,10,0)","v":"Falta Orçamento"},"",null,1662,null,0]
[1663,{"$f":"IF(VLOOKUP(A1690,'Mapa de Preços'!$A$16:$B$2988,2,0)=FALSE,\"Falta (U.M.)\",VLOOKUP(A1690,'Mapa de Preços'!$A$16:$B$2988,2,0))","v":"Falta (U.M.)"},"","",null,{"$f":"VLOOKUP(A1690,'Mapa de Preços'!$A$16:$J$2988,10,0)","v":"Falta Orçamento"},"",null,1663,null,0]
[1664,{"$f":"IF(VLOOKUP(A1691,'Mapa de Preços'!$A$16:$B$2988,2,0)=FALSE,\"Falta (U.M.)\",VLOOKUP(A1691,'Mapa de Preços'!$A$16:$B$2988,2,0))","v":"Falta (U.M.)"},"","",null,{"$f":"VLOOKUP(A1691,'Mapa de Preços'!$A$16:$J$2988,10,0)","v":"Falta Orçamento"},"",null,1664,null,0]
[1665,{"$f":"IF(VLOOKUP(A1692,'Mapa de Preços'!$A$16:$B$2988,2,0)=FALSE,\"Falta (U.M.)\",VLOOKUP(A1692,'Mapa de Preços'!$A$16:$B$2988,2,0))","v":"Falta (U.M.)"},"","",null,{"$f":"VLOOKUP(A1692,'Mapa de Preços'!$A$16:$J$2988,10,0)","v":"Falta Orçamento"},"",null,1665,null,{"$f":"SUM(L1692:AI1692)","v":0}]
[1666,{"$f":"IF(VLOOKUP(A1693,'Mapa de Preços'!$A$16:$B$2988,2,0)=FALSE,\"Falta (U.M.)\",VLOOKUP(A1693,'Mapa de Preços'!$A$16:$B$2988,2,0))","v":"Falta (U.M.)"},{"$f":"IF(J1693<>\"\",J1693,\"\")","v":""},{"$f":"IF(VLOOKUP(A1693,$I$28:$AI$3000,$G$26,FALSE)<>\"\",VLOOKUP(A1693,$I$28:$AI$3000,$G$26,FALSE),\"\")","v":""},null,{"$f":"VLOOKUP(A1693,'Mapa de Preços'!$A$16:$J$2988,10,0)","v":"Falta Orçamento"},{"$f":"IF(F1693=\"Falta Orçamento\",\"\",F1693*D1693)","v":""},null,1666,null,0]
[1667,{"$f":"IF(VLOOKUP(A1694,'Mapa de Preços'!$A$16:$B$2988,2,0)=FALSE,\"Falta (U.M.)\",VLOOKUP(A1694,'Mapa de Preços'!$A$16:$B$2988,2,0))","v":"Falta (U.M.)"},"","",null,{"$f":"VLOOKUP(A1694,'Mapa de Preços'!$A$16:$J$2988,10,0)","v":"Falta Orçamento"},"",null,1667,null,0]
[1668,{"$f":"IF(VLOOKUP(A1695,'Mapa de Preços'!$A$16:$B$2988,2,0)=FALSE,\"Falta (U.M.)\",VLOOKUP(A1695,'Mapa de Preços'!$A$16:$B$2988,2,0))","v":"Falta (U.M.)"},"","",null,{"$f":"VLOOKUP(A1695,'Mapa de Preços'!$A$16:$J$2988,10,0)","v":"Falta Orçamento"},"",null,1668,null,0]
[1669,{"$f":"IF(VLOOKUP(A1696,'Mapa de Preços'!$A$16:$B$2988,2,0)=FALSE,\"Falta (U.M.)\",VLOOKUP(A1696,'Mapa de Preços'!$A$16:$B$2988,2,0))","v":"Falta (U.M.)"},"","",null,{"$f":"VLOOKUP(A1696,'Mapa de Preços'!$A$16:$J$2988,10,0)","v":"Falta Orçamento"},"",null,1669,null,0]
[1670,{"$f":"IF(VLOOKUP(A1697,'Mapa de Preços'!$A$16:$B$2988,2,0)=FALSE,\"Falta (U.M.)\",VLOOKUP(A1697,'Mapa de Preços'!$A$16:$B$2988,2,0))","v":"Falta (U.M.)"},"","",null,{"$f":"VLOOKUP(A1697,'Mapa de Preços'!$A$16:$J$2988,10,0)","v":"Falta Orçamento"},"",null,1670,null,0]
[1671,{"$f":"IF(VLOOKUP(A1698,'Mapa de Preços'!$A$16:$B$2988,2,0)=FALSE,\"Falta (U.M.)\",VLOOKUP(A1698,'Mapa de Preços'!$A$16:$B$2988,2,0))","v":"Falta (U.M.)"},"","",null,{"$f":"VLOOKUP(A1698,'Mapa de Preços'!$A$16:$J$2988,10,0)","v":"Falta Orçamento"},"",null,1671,null,0]
[1672,{"$f":"IF(VLOOKUP(A1699,'Mapa de Preços'!$A$16:$B$2988,2,0)=FALSE,\"Falta (U.M.)\",VLOOKUP(A1699,'Mapa de Preços'!$A$16:$B$2988,2,0))","v":"Falta (U.M.)"},"","",null,{"$f":"VLOOKUP(A1699,'Mapa de Preços'!$A$16:$J$2988,10,0)","v":"Falta Orçamento"},"",null,1672,null,0]
[1673,{"$f":"IF(VLOOKUP(A1700,'Mapa de Preços'!$A$16:$B$2988,2,0)=FALSE,\"Falta (U.M.)\",VLOOKUP(A1700,'Mapa de Preços'!$A$16:$B$2988,2,0))","v":"Falta (U.M.)"},"","",null,{"$f":"VLOOKUP(A1700,'Mapa de Preços'!$A$16:$J$2988,10,0)","v":"Falta Orçamento"},"",null,1673,null,0]
[1674,{"$f":"IF(VLOOKUP(A1701,'Mapa de Preços'!$A$16:$B$2988,2,0)=FALSE,\"Falta (U.M.)\",VLOOKUP(A1701,'Mapa de Preços'!$A$16:$B$2988,2,0))","v":"Falta (U.M.)"},"","",null,{"$f":"VLOOKUP(A1701,'Mapa de Preços'!$A$16:$J$2988,10,0)","v":"Falta Orçamento"},"",null,1674,null,0]
[1675,{"$f":"IF(VLOOKUP(A1702,'Mapa de Preços'!$A$16:$B$2988,2,0)=FALSE,\"Falta (U.M.)\",VLOOKUP(A1702,'Mapa de Preços'!$A$16:$B$2988,2,0))","v":"Falta (U.M.)"},"","",null,{"$f":"VLOOKUP(A1702,'Mapa de Preços'!$A$16:$J$2988,10,0)","v":"Falta Orçamento"},"",null,1675,null,0]
[1676,{"$f":"IF(VLOOKUP(A1703,'Mapa de Preços'!$A$16:$B$2988,2,0)=FALSE,\"Falta (U.M.)\",VLOOKUP(A1703,'Mapa de Preços'!$A$16:$B$2988,2,0))","v":"Falta (U.M.)"},"","",null,{"$f":"VLOOKUP(A1703,'Mapa de Preços'!$A$16:$J$2988,10,0)","v":"Falta Orçamento"},"",null,1676,null,0]
[1677,{"$f":"IF(VLOOKUP(A1704,'Mapa de Preços'!$A$16:$B$2988,2,0)=FALSE,\"Falta (U.M.)\",VLOOKUP(A1704,'Mapa de Preços'!$A$16:$B$2988,2,0))","v":"Falta (U.M.)"},"","",null,{"$f":"VLOOKUP(A1704,'Mapa de Preços'!$A$16:$J$2988,10,0)","v":"Falta Orçamento"},"",null,1677,null,0]
[1678,{"$f":"IF(VLOOKUP(A1705,'Mapa de Preços'!$A$16:$B$2988,2,0)=FALSE,\"Falta (U.M.)\",VLOOKUP(A1705,'Mapa de Preços'!$A$16:$B$2988,2,0))","v":"Falta (U.M.)"},"","",null,{"$f":"VLOOKUP(A1705,'Mapa de Preços'!$A$16:$J$2988,10,0)","v":"Falta Orçamento"},"",null,1678,null,0]
[1679,{"$f":"IF(VLOOKUP(A1706,'Mapa de Preços'!$A$16:$B$2988,2,0)=FALSE,\"Falta (U.M.)\",VLOOKUP(A1706,'Mapa de Preços'!$A$16:$B$2988,2,0))","v":"Falta (U.M.)"},"","",null,{"$f":"VLOOKUP(A1706,'Mapa de Preços'!$A$16:$J$2988,10,0)","v":"Falta Orçamento"},"",null,1679,null,0]
[1680,{"$f":"IF(VLOOKUP(A1707,'Mapa de Preços'!$A$16:$B$2988,2,0)=FALSE,\"Falta (U.M.)\",VLOOKUP(A1707,'Mapa de Preços'!$A$16:$B$2988,2,0))","v":"Falta (U.M.)"},"","",null,{"$f":"VLOOKUP(A1707,'Mapa de Preços'!$A$16:$J$2988,10,0)","v":"Falta Orçamento"},"",null,1680,null,0]
[1681,{"$f":"IF(VLOOKUP(A1708,'Mapa de Preços'!$A$16:$B$2988,2,0)=FALSE,\"Falta (U.M.)\",VLOOKUP(A1708,'Mapa de Preços'!$A$16:$B$2988,2,0))","v":"Falta (U.M.)"},"","",null,{"$f":"VLOOKUP(A1708,'Mapa de Preços'!$A$16:$J$2988,10,0)","v":"Falta Orçamento"},"",null,1681,null,0]
[1682,{"$f":"IF(VLOOKUP(A1709,'Mapa de Preços'!$A$16:$B$2988,2,0)=FALSE,\"Falta (U.M.)\",VLOOKUP(A1709,'Mapa de Preços'!$A$16:$B$2988,2,0))","v":"Falta (U.M.)"},"","",null,{"$f":"VLOOKUP(A1709,'Mapa de Preços'!$A$16:$J$2988,10,0)","v":"Falta Orçamento"},"",null,1682,null,0]
[1683,{"$f":"IF(VLOOKUP(A1710,'Mapa de Preços'!$A$16:$B$2988,2,0)=FALSE,\"Falta (U.M.)\",VLOOKUP(A1710,'Mapa de Preços'!$A$16:$B$2988,2,0))","v":"Falta (U.M.)"},"","",null,{"$f":"VLOOKUP(A1710,'Mapa de Preços'!$A$16:$J$2988,10,0)","v":"Falta Orçamento"},"",null,1683,null,0]
[1684,{"$f":"IF(VLOOKUP(A1711,'Mapa de Preços'!$A$16:$B$2988,2,0)=FALSE,\"Falta (U.M.)\",VLOOKUP(A1711,'Mapa de Preços'!$A$16:$B$2988,2,0))","v":"Falta (U.M.)"},"","",null,{"$f":"VLOOKUP(A1711,'Mapa de Preços'!$A$16:$J$2988,10,0)","v":"Falta Orçamento"},"",null,1684,null,0]
[1685,{"$f":"IF(VLOOKUP(A1712,'Mapa de Preços'!$A$16:$B$2988,2,0)=FALSE,\"Falta (U.M.)\",VLOOKUP(A1712,'Mapa de Preços'!$A$16:$B$2988,2,0))","v":"Falta (U.M.)"},"","",null,{"$f":"VLOOKUP(A1712,'Mapa de Preços'!$A$16:$J$2988,10,0)","v":"Falta Orçamento"},"",null,1685,null,0]
[1686,{"$f":"IF(VLOOKUP(A1713,'Mapa de Preços'!$A$16:$B$2988,2,0)=FALSE,\"Falta (U.M.)\",VLOOKUP(A1713,'Mapa de Preços'!$A$16:$B$2988,2,0))","v":"Falta (U.M.)"},"","",null,{"$f":"VLOOKUP(A1713,'Mapa de Preços'!$A$16:$J$2988,10,0)","v":"Falta Orçamento"},"",null,1686,null,0]
[1687,{"$f":"IF(VLOOKUP(A1714,'Mapa de Preços'!$A$16:$B$2988,2,0)=FALSE,\"Falta (U.M.)\",VLOOKUP(A1714,'Mapa de Preços'!$A$16:$B$2988,2,0))","v":"Falta (U.M.)"},"","",null,{"$f":"VLOOKUP(A1714,'Mapa de Preços'!$A$16:$J$2988,10,0)","v":"Falta Orçamento"},"",null,1687,null,0]
[1688,{"$f":"IF(VLOOKUP(A1715,'Mapa de Preços'!$A$16:$B$2988,2,0)=FALSE,\"Falta (U.M.)\",VLOOKUP(A1715,'Mapa de Preços'!$A$16:$B$2988,2,0))","v":"Falta (U.M.)"},"","",null,{"$f":"VLOOKUP(A1715,'Mapa de Preços'!$A$16:$J$2988,10,0)","v":"Falta Orçamento"},"",null,1688,null,0]
[1689,{"$f":"IF(VLOOKUP(A1716,'Mapa de Preços'!$A$16:$B$2988,2,0)=FALSE,\"Falta (U.M.)\",VLOOKUP(A1716,'Mapa de Preços'!$A$16:$B$2988,2,0))","v":"Falta (U.M.)"},"","",null,{"$f":"VLOOKUP(A1716,'Mapa de Preços'!$A$16:$J$2988,10,0)","v":"Falta Orçamento"},"",null,1689,null,0]
[1690,{"$f":"IF(VLOOKUP(A1717,'Mapa de Preços'!$A$16:$B$2988,2,0)=FALSE,\"Falta (U.M.)\",VLOOKUP(A1717,'Mapa de Preços'!$A$16:$B$2988,2,0))","v":"Falta (U.M.)"},"","",null,{"$f":"VLOOKUP(A1717,'Mapa de Preços'!$A$16:$J$2988,10,0)","v":"Falta Orçamento"},"",null,1690,null,0]
[1691,{"$f":"IF(VLOOKUP(A1718,'Mapa de Preços'!$A$16:$B$2988,2,0)=FALSE,\"Falta (U.M.)\",VLOOKUP(A1718,'Mapa de Preços'!$A$16:$B$2988,2,0))","v":"Falta (U.M.)"},"","",null,{"$f":"VLOOKUP(A1718,'Mapa de Preços'!$A$16:$J$2988,10,0)","v":"Falta Orçamento"},"",null,1691,null,0]
[1692,{"$f":"IF(VLOOKUP(A1719,'Mapa de Preços'!$A$16:$B$2988,2,0)=FALSE,\"Falta (U.M.)\",VLOOKUP(A1719,'Mapa de Preços'!$A$16:$B$2988,2,0))","v":"Falta (U.M.)"},"","",null,{"$f":"VLOOKUP(A1719,'Mapa de Preços'!$A$16:$J$2988,10,0)","v":"Falta Orçamento"},"",null,1692,null,0]
[1693,{"$f":"IF(VLOOKUP(A1720,'Mapa de Preços'!$A$16:$B$2988,2,0)=FALSE,\"Falta (U.M.)\",VLOOKUP(A1720,'Mapa de Preços'!$A$16:$B$2988,2,0))","v":"Falta (U.M.)"},"","",null,{"$f":"VLOOKUP(A1720,'Mapa de Preços'!$A$16:$J$2988,10,0)","v":"Falta Orçamento"},"",null,1693,null,0]
[1694,{"$f":"IF(VLOOKUP(A1721,'Mapa de Preços'!$A$16:$B$2988,2,0)=FALSE,\"Falta (U.M.)\",VLOOKUP(A1721,'Mapa de Preços'!$A$16:$B$2988,2,0))","v":"Falta (U.M.)"},"","",null,{"$f":"VLOOKUP(A1721,'Mapa de Preços'!$A$16:$J$2988,10,0)","v":"Falta Orçamento"},"",null,1694,null,0]
[1695,{"$f":"IF(VLOOKUP(A1722,'Mapa de Preços'!$A$16:$B$2988,2,0)=FALSE,\"Falta (U.M.)\",VLOOKUP(A1722,'Mapa de Preços'!$A$16:$B$2988,2,0))","v":"Falta (U.M.)"},"","",null,{"$f":"VLOOKUP(A1722,'Mapa de Preços'!$A$16:$J$2988,10,0)","v":"Falta Orçamento"},"",null,1695,null,0]
[1696,{"$f":"IF(VLOOKUP(A1723,'Mapa de Preços'!$A$16:$B$2988,2,0)=FALSE,\"Falta (U.M.)\",VLOOKUP(A1723,'Mapa de Preços'!$A$16:$B$2988,2,0))","v":"Falta (U.M.)"},"","",null,{"$f":"VLOOKUP(A1723,'Mapa de Preços'!$A$16:$J$2988,10,0)","v":"Falta Orçamento"},"",null,1696,null,0]
[1697,{"$f":"IF(VLOOKUP(A1724,'Mapa de Preços'!$A$16:$B$2988,2,0)=FALSE,\"Falta (U.M.)\",VLOOKUP(A1724,'Mapa de Preços'!$A$16:$B$2988,2,0))","v":"Falta (U.M.)"},"","",null,{"$f":"VLOOKUP(A1724,'Mapa de Preços'!$A$16:$J$2988,10,0)","v":"Falta Orçamento"},"",null,1697,null,0]
[1698,{"$f":"IF(VLOOKUP(A1725,'Mapa de Preços'!$A$16:$B$2988,2,0)=FALSE,\"Falta (U.M.)\",VLOOKUP(A1725,'Mapa de Preços'!$A$16:$B$2988,2,0))","v":"Falta (U.M.)"},"","",null,{"$f":"VLOOKUP(A1725,'Mapa de Preços'!$A$16:$J$2988,10,0)","v":"Falta Orçamento"},"",null,1698,null,0]
[1699,{"$f":"IF(VLOOKUP(A1726,'Mapa de Preços'!$A$16:$B$2988,2,0)=FALSE,\"Falta (U.M.)\",VLOOKUP(A1726,'Mapa de Preços'!$A$16:$B$2988,2,0))","v":"Falta (U.M.)"},"","",null,{"$f":"VLOOKUP(A1726,'Mapa de Preços'!$A$16:$J$2988,10,0)","v":"Falta Orçamento"},"",null,1699,null,0]
[1700,{"$f":"IF(VLOOKUP(A1727,'Mapa de Preços'!$A$16:$B$2988,2,0)=FALSE,\"Falta (U.M.)\",VLOOKUP(A1727,'Mapa de Preços'!$A$16:$B$2988,2,0))","v":"Falta (U.M.)"},"","",null,{"$f":"VLOOKUP(A1727,'Mapa de Preços'!$A$16:$J$2988,10,0)","v":"Falta Orçamento"},"",null,1700,null,0]
[1701,{"$f":"IF(VLOOKUP(A1728,'Mapa de Preços'!$A$16:$B$2988,2,0)=FALSE,\"Falta (U.M.)\",VLOOKUP(A1728,'Mapa de Preços'!$A$16:$B$2988,2,0))","v":"Falta (U.M.)"},"","",null,{"$f":"VLOOKUP(A1728,'Mapa de Preços'!$A$16:$J$2988,10,0)","v":"Falta Orçamento"},"",null,1701,null,0]
[1702,{"$f":"IF(VLOOKUP(A1729,'Mapa de Preços'!$A$16:$B$2988,2,0)=FALSE,\"Falta (U.M.)\",VLOOKUP(A1729,'Mapa de Preços'!$A$16:$B$2988,2,0))","v":"Falta (U.M.)"},"","",null,{"$f":"VLOOKUP(A1729,'Mapa de Preços'!$A$16:$J$2988,10,0)","v":"Falta Orçamento"},"",null,1702,null,0]
[1703,{"$f":"IF(VLOOKUP(A1730,'Mapa de Preços'!$A$16:$B$2988,2,0)=FALSE,\"Falta (U.M.)\",VLOOKUP(A1730,'Mapa de Preços'!$A$16:$B$2988,2,0))","v":"Falta (U.M.)"},"","",null,{"$f":"VLOOKUP(A1730,'Mapa de Preços'!$A$16:$J$2988,10,0)","v":"Falta Orçamento"},"",null,1703,null,0]
[1704,{"$f":"IF(VLOOKUP(A1731,'Mapa de Preços'!$A$16:$B$2988,2,0)=FALSE,\"Falta (U.M.)\",VLOOKUP(A1731,'Mapa de Preços'!$A$16:$B$2988,2,0))","v":"Falta (U.M.)"},"","",null,{"$f":"VLOOKUP(A1731,'Mapa de Preços'!$A$16:$J$2988,10,0)","v":"Falta Orçamento"},"",null,1704,null,0]
[1705,{"$f":"IF(VLOOKUP(A1732,'Mapa de Preços'!$A$16:$B$2988,2,0)=FALSE,\"Falta (U.M.)\",VLOOKUP(A1732,'Mapa de Preços'!$A$16:$B$2988,2,0))","v":"Falta (U.M.)"},"","",null,{"$f":"VLOOKUP(A1732,'Mapa de Preços'!$A$16:$J$2988,10,0)","v":"Falta Orçamento"},"",null,1705,null,0]
[1706,{"$f":"IF(VLOOKUP(A1733,'Mapa de Preços'!$A$16:$B$2988,2,0)=FALSE,\"Falta (U.M.)\",VLOOKUP(A1733,'Mapa de Preços'!$A$16:$B$2988,2,0))","v":"Falta (U.M.)"},"","",null,{"$f":"VLOOKUP(A1733,'Mapa de Preços'!$A$16:$J$2988,10,0)","v":"Falta Orçamento"},"",null,1706,null,0]
[1707,{"$f":"IF(VLOOKUP(A1734,'Mapa de Preços'!$A$16:$B$2988,2,0)=FALSE,\"Falta (U.M.)\",VLOOKUP(A1734,'Mapa de Preços'!$A$16:$B$2988,2,0))","v":"Falta (U.M.)"},"","",null,{"$f":"VLOOKUP(A1734,'Mapa de Preços'!$A$16:$J$2988,10,0)","v":"Falta Orçamento"},"",null,1707,null,0]
[1708,{"$f":"IF(VLOOKUP(A1735,'Mapa de Preços'!$A$16:$B$2988,2,0)=FALSE,\"Falta (U.M.)\",VLOOKUP(A1735,'Mapa de Preços'!$A$16:$B$2988,2,0))","v":"Falta (U.M.)"},"","",null,{"$f":"VLOOKUP(A1735,'Mapa de Preços'!$A$16:$J$2988,10,0)","v":"Falta Orçamento"},"",null,1708,null,0]
[1709,{"$f":"IF(VLOOKUP(A1736,'Mapa de Preços'!$A$16:$B$2988,2,0)=FALSE,\"Falta (U.M.)\",VLOOKUP(A1736,'Mapa de Preços'!$A$16:$B$2988,2,0))","v":"Falta (U.M.)"},"","",null,{"$f":"VLOOKUP(A1736,'Mapa de Preços'!$A$16:$J$2988,10,0)","v":"Falta Orçamento"},"",null,1709,null,0]
[1710,{"$f":"IF(VLOOKUP(A1737,'Mapa de Preços'!$A$16:$B$2988,2,0)=FALSE,\"Falta (U.M.)\",VLOOKUP(A1737,'Mapa de Preços'!$A$16:$B$2988,2,0))","v":"Falta (U.M.)"},"","",null,{"$f":"VLOOKUP(A1737,'Mapa de Preços'!$A$16:$J$2988,10,0)","v":"Falta Orçamento"},"",null,1710,null,0]
[1711,{"$f":"IF(VLOOKUP(A1738,'Mapa de Preços'!$A$16:$B$2988,2,0)=FALSE,\"Falta (U.M.)\",VLOOKUP(A1738,'Mapa de Preços'!$A$16:$B$2988,2,0))","v":"Falta (U.M.)"},"","",null,{"$f":"VLOOKUP(A1738,'Mapa de Preços'!$A$16:$J$2988,10,0)","v":"Falta Orçamento"},"",null,1711,null,0]
[1712,{"$f":"IF(VLOOKUP(A1739,'Mapa de Preços'!$A$16:$B$2988,2,0)=FALSE,\"Falta (U.M.)\",VLOOKUP(A1739,'Mapa de Preços'!$A$16:$B$2988,2,0))","v":"Falta (U.M.)"},"","",null,{"$f":"VLOOKUP(A1739,'Mapa de Preços'!$A$16:$J$2988,10,0)","v":"Falta Orçamento"},"",null,1712,null,0]
[1713,{"$f":"IF(VLOOKUP(A1740,'Mapa de Preços'!$A$16:$B$2988,2,0)=FALSE,\"Falta (U.M.)\",VLOOKUP(A1740,'Mapa de Preços'!$A$16:$B$2988,2,0))","v":"Falta (U.M.)"},"","",null,{"$f":"VLOOKUP(A1740,'Mapa de Preços'!$A$16:$J$2988,10,0)","v":"Falta Orçamento"},"",null,1713,null,0]
[1714,{"$f":"IF(VLOOKUP(A1741,'Mapa de Preços'!$A$16:$B$2988,2,0)=FALSE,\"Falta (U.M.)\",VLOOKUP(A1741,'Mapa de Preços'!$A$16:$B$2988,2,0))","v":"Falta (U.M.)"},"","",null,{"$f":"VLOOKUP(A1741,'Mapa de Preços'!$A$16:$J$2988,10,0)","v":"Falta Orçamento"},"",null,1714,null,0]
[1715,{"$f":"IF(VLOOKUP(A1742,'Mapa de Preços'!$A$16:$B$2988,2,0)=FALSE,\"Falta (U.M.)\",VLOOKUP(A1742,'Mapa de Preços'!$A$16:$B$2988,2,0))","v":"Falta (U.M.)"},"","",null,{"$f":"VLOOKUP(A1742,'Mapa de Preços'!$A$16:$J$2988,10,0)","v":"Falta Orçamento"},"",null,1715,null,0]
[1716,{"$f":"IF(VLOOKUP(A1743,'Mapa de Preços'!$A$16:$B$2988,2,0)=FALSE,\"Falta (U.M.)\",VLOOKUP(A1743,'Mapa de Preços'!$A$16:$B$2988,2,0))","v":"Falta (U.M.)"},"","",null,{"$f":"VLOOKUP(A1743,'Mapa de Preços'!$A$16:$J$2988,10,0)","v":"Falta Orçamento"},"",null,1716,null,0]
[1717,{"$f":"IF(VLOOKUP(A1744,'Mapa de Preços'!$A$16:$B$2988,2,0)=FALSE,\"Falta (U.M.)\",VLOOKUP(A1744,'Mapa de Preços'!$A$16:$B$2988,2,0))","v":"Falta (U.M.)"},"","",null,{"$f":"VLOOKUP(A1744,'Mapa de Preços'!$A$16:$J$2988,10,0)","v":"Falta Orçamento"},"",null,1717,null,0]
[1718,{"$f":"IF(VLOOKUP(A1745,'Mapa de Preços'!$A$16:$B$2988,2,0)=FALSE,\"Falta (U.M.)\",VLOOKUP(A1745,'Mapa de Preços'!$A$16:$B$2988,2,0))","v":"Falta (U.M.)"},"","",null,{"$f":"VLOOKUP(A1745,'Mapa de Preços'!$A$16:$J$2988,10,0)","v":"Falta Orçamento"},"",null,1718,null,0]
[1719,{"$f":"IF(VLOOKUP(A1746,'Mapa de Preços'!$A$16:$B$2988,2,0)=FALSE,\"Falta (U.M.)\",VLOOKUP(A1746,'Mapa de Preços'!$A$16:$B$2988,2,0))","v":"Falta (U.M.)"},"","",null,{"$f":"VLOOKUP(A1746,'Mapa de Preços'!$A$16:$J$2988,10,0)","v":"Falta Orçamento"},"",null,1719,null,0]
[1720,{"$f":"IF(VLOOKUP(A1747,'Mapa de Preços'!$A$16:$B$2988,2,0)=FALSE,\"Falta (U.M.)\",VLOOKUP(A1747,'Mapa de Preços'!$A$16:$B$2988,2,0))","v":"Falta (U.M.)"},"","",null,{"$f":"VLOOKUP(A1747,'Mapa de Preços'!$A$16:$J$2988,10,0)","v":"Falta Orçamento"},"",null,1720,null,0]
[1721,{"$f":"IF(VLOOKUP(A1748,'Mapa de Preços'!$A$16:$B$2988,2,0)=FALSE,\"Falta (U.M.)\",VLOOKUP(A1748,'Mapa de Preços'!$A$16:$B$2988,2,0))","v":"Falta (U.M.)"},"","",null,{"$f":"VLOOKUP(A1748,'Mapa de Preços'!$A$16:$J$2988,10,0)","v":"Falta Orçamento"},"",null,1721,null,0]
[1722,{"$f":"IF(VLOOKUP(A1749,'Mapa de Preços'!$A$16:$B$2988,2,0)=FALSE,\"Falta (U.M.)\",VLOOKUP(A1749,'Mapa de Preços'!$A$16:$B$2988,2,0))","v":"Falta (U.M.)"},"","",null,{"$f":"VLOOKUP(A1749,'Mapa de Preços'!$A$16:$J$2988,10,0)","v":"Falta Orçamento"},"",null,1722,null,0]
[1723,{"$f":"IF(VLOOKUP(A1750,'Mapa de Preços'!$A$16:$B$2988,2,0)=FALSE,\"Falta (U.M.)\",VLOOKUP(A1750,'Mapa de Preços'!$A$16:$B$2988,2,0))","v":"Falta (U.M.)"},"","",null,{"$f":"VLOOKUP(A1750,'Mapa de Preços'!$A$16:$J$2988,10,0)","v":"Falta Orçamento"},"",null,1723,null,0]
[1724,{"$f":"IF(VLOOKUP(A1751,'Mapa de Preços'!$A$16:$B$2988,2,0)=FALSE,\"Falta (U.M.)\",VLOOKUP(A1751,'Mapa de Preços'!$A$16:$B$2988,2,0))","v":"Falta (U.M.)"},"","",null,{"$f":"VLOOKUP(A1751,'Mapa de Preços'!$A$16:$J$2988,10,0)","v":"Falta Orçamento"},"",null,1724,null,0]
[1725,{"$f":"IF(VLOOKUP(A1752,'Mapa de Preços'!$A$16:$B$2988,2,0)=FALSE,\"Falta (U.M.)\",VLOOKUP(A1752,'Mapa de Preços'!$A$16:$B$2988,2,0))","v":"Falta (U.M.)"},"","",null,{"$f":"VLOOKUP(A1752,'Mapa de Preços'!$A$16:$J$2988,10,0)","v":"Falta Orçamento"},"",null,1725,null,0]
[1726,{"$f":"IF(VLOOKUP(A1753,'Mapa de Preços'!$A$16:$B$2988,2,0)=FALSE,\"Falta (U.M.)\",VLOOKUP(A1753,'Mapa de Preços'!$A$16:$B$2988,2,0))","v":"Falta (U.M.)"},"","",null,{"$f":"VLOOKUP(A1753,'Mapa de Preços'!$A$16:$J$2988,10,0)","v":"Falta Orçamento"},"",null,1726,null,0]
[1727,{"$f":"IF(VLOOKUP(A1754,'Mapa de Preços'!$A$16:$B$2988,2,0)=FALSE,\"Falta (U.M.)\",VLOOKUP(A1754,'Mapa de Preços'!$A$16:$B$2988,2,0))","v":"Falta (U.M.)"},"","",null,{"$f":"VLOOKUP(A1754,'Mapa de Preços'!$A$16:$J$2988,10,0)","v":"Falta Orçamento"},"",null,1727,null,0]
[1728,{"$f":"IF(VLOOKUP(A1755,'Mapa de Preços'!$A$16:$B$2988,2,0)=FALSE,\"Falta (U.M.)\",VLOOKUP(A1755,'Mapa de Preços'!$A$16:$B$2988,2,0))","v":"Falta (U.M.)"},"","",null,{"$f":"VLOOKUP(A1755,'Mapa de Preços'!$A$16:$J$2988,10,0)","v":"Falta Orçamento"},"",null,1728,null,0]
[1729,{"$f":"IF(VLOOKUP(A1756,'Mapa de Preços'!$A$16:$B$2988,2,0)=FALSE,\"Falta (U.M.)\",VLOOKUP(A1756,'Mapa de Preços'!$A$16:$B$2988,2,0))","v":"Falta (U.M.)"},"","",null,{"$f":"VLOOKUP(A1756,'Mapa de Preços'!$A$16:$J$2988,10,0)","v":"Falta Orçamento"},"",null,1729,null,{"$f":"SUM(L1756:AI1756)","v":0}]
[1730,{"$f":"IF(VLOOKUP(A1757,'Mapa de Preços'!$A$16:$B$2988,2,0)=FALSE,\"Falta (U.M.)\",VLOOKUP(A1757,'Mapa de Preços'!$A$16:$B$2988,2,0))","v":"Falta (U.M.)"},{"$f":"IF(J1757<>\"\",J1757,\"\")","v":""},{"$f":"IF(VLOOKUP(A1757,$I$28:$AI$3000,$G$26,FALSE)<>\"\",VLOOKUP(A1757,$I$28:$AI$3000,$G$26,FALSE),\"\")","v":""},null,{"$f":"VLOOKUP(A1757,'Mapa de Preços'!$A$16:$J$2988,10,0)","v":"Falta Orçamento"},{"$f":"IF(F1757=\"Falta Orçamento\",\"\",F1757*D1757)","v":""},null,1730,null,0]
[1731,{"$f":"IF(VLOOKUP(A1758,'Mapa de Preços'!$A$16:$B$2988,2,0)=FALSE,\"Falta (U.M.)\",VLOOKUP(A1758,'Mapa de Preços'!$A$16:$B$2988,2,0))","v":"Falta (U.M.)"},"","",null,{"$f":"VLOOKUP(A1758,'Mapa de Preços'!$A$16:$J$2988,10,0)","v":"Falta Orçamento"},"",null,1731,null,0]
[1732,{"$f":"IF(VLOOKUP(A1759,'Mapa de Preços'!$A$16:$B$2988,2,0)=FALSE,\"Falta (U.M.)\",VLOOKUP(A1759,'Mapa de Preços'!$A$16:$B$2988,2,0))","v":"Falta (U.M.)"},"","",null,{"$f":"VLOOKUP(A1759,'Mapa de Preços'!$A$16:$J$2988,10,0)","v":"Falta Orçamento"},"",null,1732,null,0]
[1733,{"$f":"IF(VLOOKUP(A1760,'Mapa de Preços'!$A$16:$B$2988,2,0)=FALSE,\"Falta (U.M.)\",VLOOKUP(A1760,'Mapa de Preços'!$A$16:$B$2988,2,0))","v":"Falta (U.M.)"},"","",null,{"$f":"VLOOKUP(A1760,'Mapa de Preços'!$A$16:$J$2988,10,0)","v":"Falta Orçamento"},"",null,1733,null,0]
[1734,{"$f":"IF(VLOOKUP(A1761,'Mapa de Preços'!$A$16:$B$2988,2,0)=FALSE,\"Falta (U.M.)\",VLOOKUP(A1761,'Mapa de Preços'!$A$16:$B$2988,2,0))","v":"Falta (U.M.)"},"","",null,{"$f":"VLOOKUP(A1761,'Mapa de Preços'!$A$16:$J$2988,10,0)","v":"Falta Orçamento"},"",null,1734,null,0]
[1735,{"$f":"IF(VLOOKUP(A1762,'Mapa de Preços'!$A$16:$B$2988,2,0)=FALSE,\"Falta (U.M.)\",VLOOKUP(A1762,'Mapa de Preços'!$A$16:$B$2988,2,0))","v":"Falta (U.M.)"},"","",null,{"$f":"VLOOKUP(A1762,'Mapa de Preços'!$A$16:$J$2988,10,0)","v":"Falta Orçamento"},"",null,1735,null,0]
[1736,{"$f":"IF(VLOOKUP(A1763,'Mapa de Preços'!$A$16:$B$2988,2,0)=FALSE,\"Falta (U.M.)\",VLOOKUP(A1763,'Mapa de Preços'!$A$16:$B$2988,2,0))","v":"Falta (U.M.)"},"","",null,{"$f":"VLOOKUP(A1763,'Mapa de Preços'!$A$16:$J$2988,10,0)","v":"Falta Orçamento"},"",null,1736,null,0]
[1737,{"$f":"IF(VLOOKUP(A1764,'Mapa de Preços'!$A$16:$B$2988,2,0)=FALSE,\"Falta (U.M.)\",VLOOKUP(A1764,'Mapa de Preços'!$A$16:$B$2988,2,0))","v":"Falta (U.M.)"},"","",null,{"$f":"VLOOKUP(A1764,'Mapa de Preços'!$A$16:$J$2988,10,0)","v":"Falta Orçamento"},"",null,1737,null,0]
[1738,{"$f":"IF(VLOOKUP(A1765,'Mapa de Preços'!$A$16:$B$2988,2,0)=FALSE,\"Falta (U.M.)\",VLOOKUP(A1765,'Mapa de Preços'!$A$16:$B$2988,2,0))","v":"Falta (U.M.)"},"","",null,{"$f":"VLOOKUP(A1765,'Mapa de Preços'!$A$16:$J$2988,10,0)","v":"Falta Orçamento"},"",null,1738,null,0]
[1739,{"$f":"IF(VLOOKUP(A1766,'Mapa de Preços'!$A$16:$B$2988,2,0)=FALSE,\"Falta (U.M.)\",VLOOKUP(A1766,'Mapa de Preços'!$A$16:$B$2988,2,0))","v":"Falta (U.M.)"},"","",null,{"$f":"VLOOKUP(A1766,'Mapa de Preços'!$A$16:$J$2988,10,0)","v":"Falta Orçamento"},"",null,1739,null,0]
[1740,{"$f":"IF(VLOOKUP(A1767,'Mapa de Preços'!$A$16:$B$2988,2,0)=FALSE,\"Falta (U.M.)\",VLOOKUP(A1767,'Mapa de Preços'!$A$16:$B$2988,2,0))","v":"Falta (U.M.)"},"","",null,{"$f":"VLOOKUP(A1767,'Mapa de Preços'!$A$16:$J$2988,10,0)","v":"Falta Orçamento"},"",null,1740,null,0]
[1741,{"$f":"IF(VLOOKUP(A1768,'Mapa de Preços'!$A$16:$B$2988,2,0)=FALSE,\"Falta (U.M.)\",VLOOKUP(A1768,'Mapa de Preços'!$A$16:$B$2988,2,0))","v":"Falta (U.M.)"},"","",null,{"$f":"VLOOKUP(A1768,'Mapa de Preços'!$A$16:$J$2988,10,0)","v":"Falta Orçamento"},"",null,1741,null,0]
[1742,{"$f":"IF(VLOOKUP(A1769,'Mapa de Preços'!$A$16:$B$2988,2,0)=FALSE,\"Falta (U.M.)\",VLOOKUP(A1769,'Mapa de Preços'!$A$16:$B$2988,2,0))","v":"Falta (U.M.)"},"","",null,{"$f":"VLOOKUP(A1769,'Mapa de Preços'!$A$16:$J$2988,10,0)","v":"Falta Orçamento"},"",null,1742,null,0]
[1743,{"$f":"IF(VLOOKUP(A1770,'Mapa de Preços'!$A$16:$B$2988,2,0)=FALSE,\"Falta (U.M.)\",VLOOKUP(A1770,'Mapa de Preços'!$A$16:$B$2988,2,0))","v":"Falta (U.M.)"},"","",null,{"$f":"VLOOKUP(A1770,'Mapa de Preços'!$A$16:$J$2988,10,0)","v":"Falta Orçamento"},"",null,1743,null,0]
[1744,{"$f":"IF(VLOOKUP(A1771,'Mapa de Preços'!$A$16:$B$2988,2,0)=FALSE,\"Falta (U.M.)\",VLOOKUP(A1771,'Mapa de Preços'!$A$16:$B$2988,2,0))","v":"Falta (U.M.)"},"","",null,{"$f":"VLOOKUP(A1771,'Mapa de Preços'!$A$16:$J$2988,10,0)","v":"Falta Orçamento"},"",null,1744,null,0]
[1745,{"$f":"IF(VLOOKUP(A1772,'Mapa de Preços'!$A$16:$B$2988,2,0)=FALSE,\"Falta (U.M.)\",VLOOKUP(A1772,'Mapa de Preços'!$A$16:$B$2988,2,0))","v":"Falta (U.M.)"},"","",null,{"$f":"VLOOKUP(A1772,'Mapa de Preços'!$A$16:$J$2988,10,0)","v":"Falta Orçamento"},"",null,1745,null,0]
[1746,{"$f":"IF(VLOOKUP(A1773,'Mapa de Preços'!$A$16:$B$2988,2,0)=FALSE,\"Falta (U.M.)\",VLOOKUP(A1773,'Mapa de Preços'!$A$16:$B$2988,2,0))","v":"Falta (U.M.)"},"","",null,{"$f":"VLOOKUP(A1773,'Mapa de Preços'!$A$16:$J$2988,10,0)","v":"Falta Orçamento"},"",null,1746,null,0]
[1747,{"$f":"IF(VLOOKUP(A1774,'Mapa de Preços'!$A$16:$B$2988,2,0)=FALSE,\"Falta (U.M.)\",VLOOKUP(A1774,'Mapa de Preços'!$A$16:$B$2988,2,0))","v":"Falta (U.M.)"},"","",null,{"$f":"VLOOKUP(A1774,'Mapa de Preços'!$A$16:$J$2988,10,0)","v":"Falta Orçamento"},"",null,1747,null,0]
[1748,{"$f":"IF(VLOOKUP(A1775,'Mapa de Preços'!$A$16:$B$2988,2,0)=FALSE,\"Falta (U.M.)\",VLOOKUP(A1775,'Mapa de Preços'!$A$16:$B$2988,2,0))","v":"Falta (U.M.)"},"","",null,{"$f":"VLOOKUP(A1775,'Mapa de Preços'!$A$16:$J$2988,10,0)","v":"Falta Orçamento"},"",null,1748,null,0]
[1749,{"$f":"IF(VLOOKUP(A1776,'Mapa de Preços'!$A$16:$B$2988,2,0)=FALSE,\"Falta (U.M.)\",VLOOKUP(A1776,'Mapa de Preços'!$A$16:$B$2988,2,0))","v":"Falta (U.M.)"},"","",null,{"$f":"VLOOKUP(A1776,'Mapa de Preços'!$A$16:$J$2988,10,0)","v":"Falta Orçamento"},"",null,1749,null,0]
[1750,{"$f":"IF(VLOOKUP(A1777,'Mapa de Preços'!$A$16:$B$2988,2,0)=FALSE,\"Falta (U.M.)\",VLOOKUP(A1777,'Mapa de Preços'!$A$16:$B$2988,2,0))","v":"Falta (U.M.)"},"","",null,{"$f":"VLOOKUP(A1777,'Mapa de Preços'!$A$16:$J$2988,10,0)","v":"Falta Orçamento"},"",null,1750,null,0]
[1751,{"$f":"IF(VLOOKUP(A1778,'Mapa de Preços'!$A$16:$B$2988,2,0)=FALSE,\"Falta (U.M.)\",VLOOKUP(A1778,'Mapa de Preços'!$A$16:$B$2988,2,0))","v":"Falta (U.M.)"},"","",null,{"$f":"VLOOKUP(A1778,'Mapa de Preços'!$A$16:$J$2988,10,0)","v":"Falta Orçamento"},"",null,1751,null,0]
[1752,{"$f":"IF(VLOOKUP(A1779,'Mapa de Preços'!$A$16:$B$2988,2,0)=FALSE,\"Falta (U.M.)\",VLOOKUP(A1779,'Mapa de Preços'!$A$16:$B$2988,2,0))","v":"Falta (U.M.)"},"","",null,{"$f":"VLOOKUP(A1779,'Mapa de Preços'!$A$16:$J$2988,10,0)","v":"Falta Orçamento"},"",null,1752,null,0]
[1753,{"$f":"IF(VLOOKUP(A1780,'Mapa de Preços'!$A$16:$B$2988,2,0)=FALSE,\"Falta (U.M.)\",VLOOKUP(A1780,'Mapa de Preços'!$A$16:$B$2988,2,0))","v":"Falta (U.M.)"},"","",null,{"$f":"VLOOKUP(A1780,'Mapa de Preços'!$A$16:$J$2988,10,0)","v":"Falta Orçamento"},"",null,1753,null,0]
[1754,{"$f":"IF(VLOOKUP(A1781,'Mapa de Preços'!$A$16:$B$2988,2,0)=FALSE,\"Falta (U.M.)\",VLOOKUP(A1781,'Mapa de Preços'!$A$16:$B$2988,2,0))","v":"Falta (U.M.)"},"","",null,{"$f":"VLOOKUP(A1781,'Mapa de Preços'!$A$16:$J$2988,10,0)","v":"Falta Orçamento"},"",null,1754,null,0]
[1755,{"$f":"IF(VLOOKUP(A1782,'Mapa de Preços'!$A$16:$B$2988,2,0)=FALSE,\"Falta (U.M.)\",VLOOKUP(A1782,'Mapa de Preços'!$A$16:$B$2988,2,0))","v":"Falta (U.M.)"},"","",null,{"$f":"VLOOKUP(A1782,'Mapa de Preços'!$A$16:$J$2988,10,0)","v":"Falta Orçamento"},"",null,1755,null,0]
[1756,{"$f":"IF(VLOOKUP(A1783,'Mapa de Preços'!$A$16:$B$2988,2,0)=FALSE,\"Falta (U.M.)\",VLOOKUP(A1783,'Mapa de Preços'!$A$16:$B$2988,2,0))","v":"Falta (U.M.)"},"","",null,{"$f":"VLOOKUP(A1783,'Mapa de Preços'!$A$16:$J$2988,10,0)","v":"Falta Orçamento"},"",null,1756,null,0]
[1757,{"$f":"IF(VLOOKUP(A1784,'Mapa de Preços'!$A$16:$B$2988,2,0)=FALSE,\"Falta (U.M.)\",VLOOKUP(A1784,'Mapa de Preços'!$A$16:$B$2988,2,0))","v":"Falta (U.M.)"},"","",null,{"$f":"VLOOKUP(A1784,'Mapa de Preços'!$A$16:$J$2988,10,0)","v":"Falta Orçamento"},"",null,1757,null,0]
[1758,{"$f":"IF(VLOOKUP(A1785,'Mapa de Preços'!$A$16:$B$2988,2,0)=FALSE,\"Falta (U.M.)\",VLOOKUP(A1785,'Mapa de Preços'!$A$16:$B$2988,2,0))","v":"Falta (U.M.)"},"","",null,{"$f":"VLOOKUP(A1785,'Mapa de Preços'!$A$16:$J$2988,10,0)","v":"Falta Orçamento"},"",null,1758,null,0]
[1759,{"$f":"IF(VLOOKUP(A1786,'Mapa de Preços'!$A$16:$B$2988,2,0)=FALSE,\"Falta (U.M.)\",VLOOKUP(A1786,'Mapa de Preços'!$A$16:$B$2988,2,0))","v":"Falta (U.M.)"},"","",null,{"$f":"VLOOKUP(A1786,'Mapa de Preços'!$A$16:$J$2988,10,0)","v":"Falta Orçamento"},"",null,1759,null,0]
[1760,{"$f":"IF(VLOOKUP(A1787,'Mapa de Preços'!$A$16:$B$2988,2,0)=FALSE,\"Falta (U.M.)\",VLOOKUP(A1787,'Mapa de Preços'!$A$16:$B$2988,2,0))","v":"Falta (U.M.)"},"","",null,{"$f":"VLOOKUP(A1787,'Mapa de Preços'!$A$16:$J$2988,10,0)","v":"Falta Orçamento"},"",null,1760,null,0]
[1761,{"$f":"IF(VLOOKUP(A1788,'Mapa de Preços'!$A$16:$B$2988,2,0)=FALSE,\"Falta (U.M.)\",VLOOKUP(A1788,'Mapa de Preços'!$A$16:$B$2988,2,0))","v":"Falta (U.M.)"},"","",null,{"$f":"VLOOKUP(A1788,'Mapa de Preços'!$A$16:$J$2988,10,0)","v":"Falta Orçamento"},"",null,1761,null,0]
[1762,{"$f":"IF(VLOOKUP(A1789,'Mapa de Preços'!$A$16:$B$2988,2,0)=FALSE,\"Falta (U.M.)\",VLOOKUP(A1789,'Mapa de Preços'!$A$16:$B$2988,2,0))","v":"Falta (U.M.)"},"","",null,{"$f":"VLOOKUP(A1789,'Mapa de Preços'!$A$16:$J$2988,10,0)","v":"Falta Orçamento"},"",null,1762,null,0]
[1763,{"$f":"IF(VLOOKUP(A1790,'Mapa de Preços'!$A$16:$B$2988,2,0)=FALSE,\"Falta (U.M.)\",VLOOKUP(A1790,'Mapa de Preços'!$A$16:$B$2988,2,0))","v":"Falta (U.M.)"},"","",null,{"$f":"VLOOKUP(A1790,'Mapa de Preços'!$A$16:$J$2988,10,0)","v":"Falta Orçamento"},"",null,1763,null,0]
[1764,{"$f":"IF(VLOOKUP(A1791,'Mapa de Preços'!$A$16:$B$2988,2,0)=FALSE,\"Falta (U.M.)\",VLOOKUP(A1791,'Mapa de Preços'!$A$16:$B$2988,2,0))","v":"Falta (U.M.)"},"","",null,{"$f":"VLOOKUP(A1791,'Mapa de Preços'!$A$16:$J$2988,10,0)","v":"Falta Orçamento"},"",null,1764,null,0]
[1765,{"$f":"IF(VLOOKUP(A1792,'Mapa de Preços'!$A$16:$B$2988,2,0)=FALSE,\"Falta (U.M.)\",VLOOKUP(A1792,'Mapa de Preços'!$A$16:$B$2988,2,0))","v":"Falta (U.M.)"},"","",null,{"$f":"VLOOKUP(A1792,'Mapa de Preços'!$A$16:$J$2988,10,0)","v":"Falta Orçamento"},"",null,1765,null,0]
[1766,{"$f":"IF(VLOOKUP(A1793,'Mapa de Preços'!$A$16:$B$2988,2,0)=FALSE,\"Falta (U.M.)\",VLOOKUP(A1793,'Mapa de Preços'!$A$16:$B$2988,2,0))","v":"Falta (U.M.)"},"","",null,{"$f":"VLOOKUP(A1793,'Mapa de Preços'!$A$16:$J$2988,10,0)","v":"Falta Orçamento"},"",null,1766,null,0]
[1767,{"$f":"IF(VLOOKUP(A1794,'Mapa de Preços'!$A$16:$B$2988,2,0)=FALSE,\"Falta (U.M.)\",VLOOKUP(A1794,'Mapa de Preços'!$A$16:$B$2988,2,0))","v":"Falta (U.M.)"},"","",null,{"$f":"VLOOKUP(A1794,'Mapa de Preços'!$A$16:$J$2988,10,0)","v":"Falta Orçamento"},"",null,1767,null,0]
[1768,{"$f":"IF(VLOOKUP(A1795,'Mapa de Preços'!$A$16:$B$2988,2,0)=FALSE,\"Falta (U.M.)\",VLOOKUP(A1795,'Mapa de Preços'!$A$16:$B$2988,2,0))","v":"Falta (U.M.)"},"","",null,{"$f":"VLOOKUP(A1795,'Mapa de Preços'!$A$16:$J$2988,10,0)","v":"Falta Orçamento"},"",null,1768,null,0]
[1769,{"$f":"IF(VLOOKUP(A1796,'Mapa de Preços'!$A$16:$B$2988,2,0)=FALSE,\"Falta (U.M.)\",VLOOKUP(A1796,'Mapa de Preços'!$A$16:$B$2988,2,0))","v":"Falta (U.M.)"},"","",null,{"$f":"VLOOKUP(A1796,'Mapa de Preços'!$A$16:$J$2988,10,0)","v":"Falta Orçamento"},"",null,1769,null,0]
[1770,{"$f":"IF(VLOOKUP(A1797,'Mapa de Preços'!$A$16:$B$2988,2,0)=FALSE,\"Falta (U.M.)\",VLOOKUP(A1797,'Mapa de Preços'!$A$16:$B$2988,2,0))","v":"Falta (U.M.)"},"","",null,{"$f":"VLOOKUP(A1797,'Mapa de Preços'!$A$16:$J$2988,10,0)","v":"Falta Orçamento"},"",null,1770,null,0]
[1771,{"$f":"IF(VLOOKUP(A1798,'Mapa de Preços'!$A$16:$B$2988,2,0)=FALSE,\"Falta (U.M.)\",VLOOKUP(A1798,'Mapa de Preços'!$A$16:$B$2988,2,0))","v":"Falta (U.M.)"},"","",null,{"$f":"VLOOKUP(A1798,'Mapa de Preços'!$A$16:$J$2988,10,0)","v":"Falta Orçamento"},"",null,1771,null,0]
[1772,{"$f":"IF(VLOOKUP(A1799,'Mapa de Preços'!$A$16:$B$2988,2,0)=FALSE,\"Falta (U.M.)\",VLOOKUP(A1799,'Mapa de Preços'!$A$16:$B$2988,2,0))","v":"Falta (U.M.)"},"","",null,{"$f":"VLOOKUP(A1799,'Mapa de Preços'!$A$16:$J$2988,10,0)","v":"Falta Orçamento"},"",null,1772,null,0]
[1773,{"$f":"IF(VLOOKUP(A1800,'Mapa de Preços'!$A$16:$B$2988,2,0)=FALSE,\"Falta (U.M.)\",VLOOKUP(A1800,'Mapa de Preços'!$A$16:$B$2988,2,0))","v":"Falta (U.M.)"},"","",null,{"$f":"VLOOKUP(A1800,'Mapa de Preços'!$A$16:$J$2988,10,0)","v":"Falta Orçamento"},"",null,1773,null,0]
[1774,{"$f":"IF(VLOOKUP(A1801,'Mapa de Preços'!$A$16:$B$2988,2,0)=FALSE,\"Falta (U.M.)\",VLOOKUP(A1801,'Mapa de Preços'!$A$16:$B$2988,2,0))","v":"Falta (U.M.)"},"","",null,{"$f":"VLOOKUP(A1801,'Mapa de Preços'!$A$16:$J$2988,10,0)","v":"Falta Orçamento"},"",null,1774,null,0]
[1775,{"$f":"IF(VLOOKUP(A1802,'Mapa de Preços'!$A$16:$B$2988,2,0)=FALSE,\"Falta (U.M.)\",VLOOKUP(A1802,'Mapa de Preços'!$A$16:$B$2988,2,0))","v":"Falta (U.M.)"},"","",null,{"$f":"VLOOKUP(A1802,'Mapa de Preços'!$A$16:$J$2988,10,0)","v":"Falta Orçamento"},"",null,1775,null,0]
[1776,{"$f":"IF(VLOOKUP(A1803,'Mapa de Preços'!$A$16:$B$2988,2,0)=FALSE,\"Falta (U.M.)\",VLOOKUP(A1803,'Mapa de Preços'!$A$16:$B$2988,2,0))","v":"Falta (U.M.)"},"","",null,{"$f":"VLOOKUP(A1803,'Mapa de Preços'!$A$16:$J$2988,10,0)","v":"Falta Orçamento"},"",null,1776,null,0]
[1777,{"$f":"IF(VLOOKUP(A1804,'Mapa de Preços'!$A$16:$B$2988,2,0)=FALSE,\"Falta (U.M.)\",VLOOKUP(A1804,'Mapa de Preços'!$A$16:$B$2988,2,0))","v":"Falta (U.M.)"},"","",null,{"$f":"VLOOKUP(A1804,'Mapa de Preços'!$A$16:$J$2988,10,0)","v":"Falta Orçamento"},"",null,1777,null,0]
[1778,{"$f":"IF(VLOOKUP(A1805,'Mapa de Preços'!$A$16:$B$2988,2,0)=FALSE,\"Falta (U.M.)\",VLOOKUP(A1805,'Mapa de Preços'!$A$16:$B$2988,2,0))","v":"Falta (U.M.)"},"","",null,{"$f":"VLOOKUP(A1805,'Mapa de Preços'!$A$16:$J$2988,10,0)","v":"Falta Orçamento"},"",null,1778,null,0]
[1779,{"$f":"IF(VLOOKUP(A1806,'Mapa de Preços'!$A$16:$B$2988,2,0)=FALSE,\"Falta (U.M.)\",VLOOKUP(A1806,'Mapa de Preços'!$A$16:$B$2988,2,0))","v":"Falta (U.M.)"},"","",null,{"$f":"VLOOKUP(A1806,'Mapa de Preços'!$A$16:$J$2988,10,0)","v":"Falta Orçamento"},"",null,1779,null,0]
[1780,{"$f":"IF(VLOOKUP(A1807,'Mapa de Preços'!$A$16:$B$2988,2,0)=FALSE,\"Falta (U.M.)\",VLOOKUP(A1807,'Mapa de Preços'!$A$16:$B$2988,2,0))","v":"Falta (U.M.)"},"","",null,{"$f":"VLOOKUP(A1807,'Mapa de Preços'!$A$16:$J$2988,10,0)","v":"Falta Orçamento"},"",null,1780,null,0]
[1781,{"$f":"IF(VLOOKUP(A1808,'Mapa de Preços'!$A$16:$B$2988,2,0)=FALSE,\"Falta (U.M.)\",VLOOKUP(A1808,'Mapa de Preços'!$A$16:$B$2988,2,0))","v":"Falta (U.M.)"},"","",null,{"$f":"VLOOKUP(A1808,'Mapa de Preços'!$A$16:$J$2988,10,0)","v":"Falta Orçamento"},"",null,1781,null,0]
[1782,{"$f":"IF(VLOOKUP(A1809,'Mapa de Preços'!$A$16:$B$2988,2,0)=FALSE,\"Falta (U.M.)\",VLOOKUP(A1809,'Mapa de Preços'!$A$16:$B$2988,2,0))","v":"Falta (U.M.)"},"","",null,{"$f":"VLOOKUP(A1809,'Mapa de Preços'!$A$16:$J$2988,10,0)","v":"Falta Orçamento"},"",null,1782,null,0]
[1783,{"$f":"IF(VLOOKUP(A1810,'Mapa de Preços'!$A$16:$B$2988,2,0)=FALSE,\"Falta (U.M.)\",VLOOKUP(A1810,'Mapa de Preços'!$A$16:$B$2988,2,0))","v":"Falta (U.M.)"},"","",null,{"$f":"VLOOKUP(A1810,'Mapa de Preços'!$A$16:$J$2988,10,0)","v":"Falta Orçamento"},"",null,1783,null,0]
[1784,{"$f":"IF(VLOOKUP(A1811,'Mapa de Preços'!$A$16:$B$2988,2,0)=FALSE,\"Falta (U.M.)\",VLOOKUP(A1811,'Mapa de Preços'!$A$16:$B$2988,2,0))","v":"Falta (U.M.)"},"","",null,{"$f":"VLOOKUP(A1811,'Mapa de Preços'!$A$16:$J$2988,10,0)","v":"Falta Orçamento"},"",null,1784,null,0]
[1785,{"$f":"IF(VLOOKUP(A1812,'Mapa de Preços'!$A$16:$B$2988,2,0)=FALSE,\"Falta (U.M.)\",VLOOKUP(A1812,'Mapa de Preços'!$A$16:$B$2988,2,0))","v":"Falta (U.M.)"},"","",null,{"$f":"VLOOKUP(A1812,'Mapa de Preços'!$A$16:$J$2988,10,0)","v":"Falta Orçamento"},"",null,1785,null,0]
[1786,{"$f":"IF(VLOOKUP(A1813,'Mapa de Preços'!$A$16:$B$2988,2,0)=FALSE,\"Falta (U.M.)\",VLOOKUP(A1813,'Mapa de Preços'!$A$16:$B$2988,2,0))","v":"Falta (U.M.)"},"","",null,{"$f":"VLOOKUP(A1813,'Mapa de Preços'!$A$16:$J$2988,10,0)","v":"Falta Orçamento"},"",null,1786,null,0]
[1787,{"$f":"IF(VLOOKUP(A1814,'Mapa de Preços'!$A$16:$B$2988,2,0)=FALSE,\"Falta (U.M.)\",VLOOKUP(A1814,'Mapa de Preços'!$A$16:$B$2988,2,0))","v":"Falta (U.M.)"},"","",null,{"$f":"VLOOKUP(A1814,'Mapa de Preços'!$A$16:$J$2988,10,0)","v":"Falta Orçamento"},"",null,1787,null,0]
[1788,{"$f":"IF(VLOOKUP(A1815,'Mapa de Preços'!$A$16:$B$2988,2,0)=FALSE,\"Falta (U.M.)\",VLOOKUP(A1815,'Mapa de Preços'!$A$16:$B$2988,2,0))","v":"Falta (U.M.)"},"","",null,{"$f":"VLOOKUP(A1815,'Mapa de Preços'!$A$16:$J$2988,10,0)","v":"Falta Orçamento"},"",null,1788,null,0]
[1789,{"$f":"IF(VLOOKUP(A1816,'Mapa de Preços'!$A$16:$B$2988,2,0)=FALSE,\"Falta (U.M.)\",VLOOKUP(A1816,'Mapa de Preços'!$A$16:$B$2988,2,0))","v":"Falta (U.M.)"},"","",null,{"$f":"VLOOKUP(A1816,'Mapa de Preços'!$A$16:$J$2988,10,0)","v":"Falta Orçamento"},"",null,1789,null,0]
[1790,{"$f":"IF(VLOOKUP(A1817,'Mapa de Preços'!$A$16:$B$2988,2,0)=FALSE,\"Falta (U.M.)\",VLOOKUP(A1817,'Mapa de Preços'!$A$16:$B$2988,2,0))","v":"Falta (U.M.)"},"","",null,{"$f":"VLOOKUP(A1817,'Mapa de Preços'!$A$16:$J$2988,10,0)","v":"Falta Orçamento"},"",null,1790,null,0]
[1791,{"$f":"IF(VLOOKUP(A1818,'Mapa de Preços'!$A$16:$B$2988,2,0)=FALSE,\"Falta (U.M.)\",VLOOKUP(A1818,'Mapa de Preços'!$A$16:$B$2988,2,0))","v":"Falta (U.M.)"},"","",null,{"$f":"VLOOKUP(A1818,'Mapa de Preços'!$A$16:$J$2988,10,0)","v":"Falta Orçamento"},"",null,1791,null,0]
[1792,{"$f":"IF(VLOOKUP(A1819,'Mapa de Preços'!$A$16:$B$2988,2,0)=FALSE,\"Falta (U.M.)\",VLOOKUP(A1819,'Mapa de Preços'!$A$16:$B$2988,2,0))","v":"Falta (U.M.)"},"","",null,{"$f":"VLOOKUP(A1819,'Mapa de Preços'!$A$16:$J$2988,10,0)","v":"Falta Orçamento"},"",null,1792,null,0]
[1793,{"$f":"IF(VLOOKUP(A1820,'Mapa de Preços'!$A$16:$B$2988,2,0)=FALSE,\"Falta (U.M.)\",VLOOKUP(A1820,'Mapa de Preços'!$A$16:$B$2988,2,0))","v":"Falta (U.M.)"},"","",null,{"$f":"VLOOKUP(A1820,'Mapa de Preços'!$A$16:$J$2988,10,0)","v":"Falta Orçamento"},"",null,1793,null,{"$f":"SUM(L1820:AI1820)","v":0}]
[1794,{"$f":"IF(VLOOKUP(A1821,'Mapa de Preços'!$A$16:$B$2988,2,0)=FALSE,\"Falta (U.M.)\",VLOOKUP(A1821,'Mapa de Preços'!$A$16:$B$2988,2,0))","v":"Falta (U.M.)"},{"$f":"IF(J1821<>\"\",J1821,\"\")","v":""},{"$f":"IF(VLOOKUP(A1821,$I$28:$AI$3000,$G$26,FALSE)<>\"\",VLOOKUP(A1821,$I$28:$AI$3000,$G$26,FALSE),\"\")","v":""},null,{"$f":"VLOOKUP(A1821,'Mapa de Preços'!$A$16:$J$2988,10,0)","v":"Falta Orçamento"},{"$f":"IF(F1821=\"Falta Orçamento\",\"\",F1821*D1821)","v":""},null,1794,null,0]
[1795,{"$f":"IF(VLOOKUP(A1822,'Mapa de Preços'!$A$16:$B$2988,2,0)=FALSE,\"Falta (U.M.)\",VLOOKUP(A1822,'Mapa de Preços'!$A$16:$B$2988,2,0))","v":"Falta (U.M.)"},"","",null,{"$f":"VLOOKUP(A1822,'Mapa de Preços'!$A$16:$J$2988,10,0)","v":"Falta Orçamento"},"",null,1795,null,0]
[1796,{"$f":"IF(VLOOKUP(A1823,'Mapa de Preços'!$A$16:$B$2988,2,0)=FALSE,\"Falta (U.M.)\",VLOOKUP(A1823,'Mapa de Preços'!$A$16:$B$2988,2,0))","v":"Falta (U.M.)"},"","",null,{"$f":"VLOOKUP(A1823,'Mapa de Preços'!$A$16:$J$2988,10,0)","v":"Falta Orçamento"},"",null,1796,null,0]
[1797,{"$f":"IF(VLOOKUP(A1824,'Mapa de Preços'!$A$16:$B$2988,2,0)=FALSE,\"Falta (U.M.)\",VLOOKUP(A1824,'Mapa de Preços'!$A$16:$B$2988,2,0))","v":"Falta (U.M.)"},"","",null,{"$f":"VLOOKUP(A1824,'Mapa de Preços'!$A$16:$J$2988,10,0)","v":"Falta Orçamento"},"",null,1797,null,0]
[1798,{"$f":"IF(VLOOKUP(A1825,'Mapa de Preços'!$A$16:$B$2988,2,0)=FALSE,\"Falta (U.M.)\",VLOOKUP(A1825,'Mapa de Preços'!$A$16:$B$2988,2,0))","v":"Falta (U.M.)"},"","",null,{"$f":"VLOOKUP(A1825,'Mapa de Preços'!$A$16:$J$2988,10,0)","v":"Falta Orçamento"},"",null,1798,null,0]
[1799,{"$f":"IF(VLOOKUP(A1826,'Mapa de Preços'!$A$16:$B$2988,2,0)=FALSE,\"Falta (U.M.)\",VLOOKUP(A1826,'Mapa de Preços'!$A$16:$B$2988,2,0))","v":"Falta (U.M.)"},"","",null,{"$f":"VLOOKUP(A1826,'Mapa de Preços'!$A$16:$J$2988,10,0)","v":"Falta Orçamento"},"",null,1799,null,0]
[1800,{"$f":"IF(VLOOKUP(A1827,'Mapa de Preços'!$A$16:$B$2988,2,0)=FALSE,\"Falta (U.M.)\",VLOOKUP(A1827,'Mapa de Preços'!$A$16:$B$2988,2,0))","v":"Falta (U.M.)"},"","",null,{"$f":"VLOOKUP(A1827,'Mapa de Preços'!$A$16:$J$2988,10,0)","v":"Falta Orçamento"},"",null,1800,null,0]
[1801,{"$f":"IF(VLOOKUP(A1828,'Mapa de Preços'!$A$16:$B$2988,2,0)=FALSE,\"Falta (U.M.)\",VLOOKUP(A1828,'Mapa de Preços'!$A$16:$B$2988,2,0))","v":"Falta (U.M.)"},"","",null,{"$f":"VLOOKUP(A1828,'Mapa de Preços'!$A$16:$J$2988,10,0)","v":"Falta Orçamento"},"",null,1801,null,0]
[1802,{"$f":"IF(VLOOKUP(A1829,'Mapa de Preços'!$A$16:$B$2988,2,0)=FALSE,\"Falta (U.M.)\",VLOOKUP(A1829,'Mapa de Preços'!$A$16:$B$2988,2,0))","v":"Falta (U.M.)"},"","",null,{"$f":"VLOOKUP(A1829,'Mapa de Preços'!$A$16:$J$2988,10,0)","v":"Falta Orçamento"},"",null,1802,null,0]
[1803,{"$f":"IF(VLOOKUP(A1830,'Mapa de Preços'!$A$16:$B$2988,2,0)=FALSE,\"Falta (U.M.)\",VLOOKUP(A1830,'Mapa de Preços'!$A$16:$B$2988,2,0))","v":"Falta (U.M.)"},"","",null,{"$f":"VLOOKUP(A1830,'Mapa de Preços'!$A$16:$J$2988,10,0)","v":"Falta Orçamento"},"",null,1803,null,0]
[1804,{"$f":"IF(VLOOKUP(A1831,'Mapa de Preços'!$A$16:$B$2988,2,0)=FALSE,\"Falta (U.M.)\",VLOOKUP(A1831,'Mapa de Preços'!$A$16:$B$2988,2,0))","v":"Falta (U.M.)"},"","",null,{"$f":"VLOOKUP(A1831,'Mapa de Preços'!$A$16:$J$2988,10,0)","v":"Falta Orçamento"},"",null,1804,null,0]
[1805,{"$f":"IF(VLOOKUP(A1832,'Mapa de Preços'!$A$16:$B$2988,2,0)=FALSE,\"Falta (U.M.)\",VLOOKUP(A1832,'Mapa de Preços'!$A$16:$B$2988,2,0))","v":"Falta (U.M.)"},"","",null,{"$f":"VLOOKUP(A1832,'Mapa de Preços'!$A$16:$J$2988,10,0)","v":"Falta Orçamento"},"",null,1805,null,0]
[1806,{"$f":"IF(VLOOKUP(A1833,'Mapa de Preços'!$A$16:$B$2988,2,0)=FALSE,\"Falta (U.M.)\",VLOOKUP(A1833,'Mapa de Preços'!$A$16:$B$2988,2,0))","v":"Falta (U.M.)"},"","",null,{"$f":"VLOOKUP(A1833,'Mapa de Preços'!$A$16:$J$2988,10,0)","v":"Falta Orçamento"},"",null,1806,null,0]
[1807,{"$f":"IF(VLOOKUP(A1834,'Mapa de Preços'!$A$16:$B$2988,2,0)=FALSE,\"Falta (U.M.)\",VLOOKUP(A1834,'Mapa de Preços'!$A$16:$B$2988,2,0))","v":"Falta (U.M.)"},"","",null,{"$f":"VLOOKUP(A1834,'Mapa de Preços'!$A$16:$J$2988,10,0)","v":"Falta Orçamento"},"",null,1807,null,0]
[1808,{"$f":"IF(VLOOKUP(A1835,'Mapa de Preços'!$A$16:$B$2988,2,0)=FALSE,\"Falta (U.M.)\",VLOOKUP(A1835,'Mapa de Preços'!$A$16:$B$2988,2,0))","v":"Falta (U.M.)"},"","",null,{"$f":"VLOOKUP(A1835,'Mapa de Preços'!$A$16:$J$2988,10,0)","v":"Falta Orçamento"},"",null,1808,null,0]
[1809,{"$f":"IF(VLOOKUP(A1836,'Mapa de Preços'!$A$16:$B$2988,2,0)=FALSE,\"Falta (U.M.)\",VLOOKUP(A1836,'Mapa de Preços'!$A$16:$B$2988,2,0))","v":"Falta (U.M.)"},"","",null,{"$f":"VLOOKUP(A1836,'Mapa de Preços'!$A$16:$J$2988,10,0)","v":"Falta Orçamento"},"",null,1809,null,0]
[1810,{"$f":"IF(VLOOKUP(A1837,'Mapa de Preços'!$A$16:$B$2988,2,0)=FALSE,\"Falta (U.M.)\",VLOOKUP(A1837,'Mapa de Preços'!$A$16:$B$2988,2,0))","v":"Falta (U.M.)"},"","",null,{"$f":"VLOOKUP(A1837,'Mapa de Preços'!$A$16:$J$2988,10,0)","v":"Falta Orçamento"},"",null,1810,null,0]
[1811,{"$f":"IF(VLOOKUP(A1838,'Mapa de Preços'!$A$16:$B$2988,2,0)=FALSE,\"Falta (U.M.)\",VLOOKUP(A1838,'Mapa de Preços'!$A$16:$B$2988,2,0))","v":"Falta (U.M.)"},"","",null,{"$f":"VLOOKUP(A1838,'Mapa de Preços'!$A$16:$J$2988,10,0)","v":"Falta Orçamento"},"",null,1811,null,0]
[1812,{"$f":"IF(VLOOKUP(A1839,'Mapa de Preços'!$A$16:$B$2988,2,0)=FALSE,\"Falta (U.M.)\",VLOOKUP(A1839,'Mapa de Preços'!$A$16:$B$2988,2,0))","v":"Falta (U.M.)"},"","",null,{"$f":"VLOOKUP(A1839,'Mapa de Preços'!$A$16:$J$2988,10,0)","v":"Falta Orçamento"},"",null,1812,null,0]
[1813,{"$f":"IF(VLOOKUP(A1840,'Mapa de Preços'!$A$16:$B$2988,2,0)=FALSE,\"Falta (U.M.)\",VLOOKUP(A1840,'Mapa de Preços'!$A$16:$B$2988,2,0))","v":"Falta (U.M.)"},"","",null,{"$f":"VLOOKUP(A1840,'Mapa de Preços'!$A$16:$J$2988,10,0)","v":"Falta Orçamento"},"",null,1813,null,0]
[1814,{"$f":"IF(VLOOKUP(A1841,'Mapa de Preços'!$A$16:$B$2988,2,0)=FALSE,\"Falta (U.M.)\",VLOOKUP(A1841,'Mapa de Preços'!$A$16:$B$2988,2,0))","v":"Falta (U.M.)"},"","",null,{"$f":"VLOOKUP(A1841,'Mapa de Preços'!$A$16:$J$2988,10,0)","v":"Falta Orçamento"},"",null,1814,null,0]
[1815,{"$f":"IF(VLOOKUP(A1842,'Mapa de Preços'!$A$16:$B$2988,2,0)=FALSE,\"Falta (U.M.)\",VLOOKUP(A1842,'Mapa de Preços'!$A$16:$B$2988,2,0))","v":"Falta (U.M.)"},"","",null,{"$f":"VLOOKUP(A1842,'Mapa de Preços'!$A$16:$J$2988,10,0)","v":"Falta Orçamento"},"",null,1815,null,0]
[1816,{"$f":"IF(VLOOKUP(A1843,'Mapa de Preços'!$A$16:$B$2988,2,0)=FALSE,\"Falta (U.M.)\",VLOOKUP(A1843,'Mapa de Preços'!$A$16:$B$2988,2,0))","v":"Falta (U.M.)"},"","",null,{"$f":"VLOOKUP(A1843,'Mapa de Preços'!$A$16:$J$2988,10,0)","v":"Falta Orçamento"},"",null,1816,null,0]
[1817,{"$f":"IF(VLOOKUP(A1844,'Mapa de Preços'!$A$16:$B$2988,2,0)=FALSE,\"Falta (U.M.)\",VLOOKUP(A1844,'Mapa de Preços'!$A$16:$B$2988,2,0))","v":"Falta (U.M.)"},"","",null,{"$f":"VLOOKUP(A1844,'Mapa de Preços'!$A$16:$J$2988,10,0)","v":"Falta Orçamento"},"",null,1817,null,0]
[1818,{"$f":"IF(VLOOKUP(A1845,'Mapa de Preços'!$A$16:$B$2988,2,0)=FALSE,\"Falta (U.M.)\",VLOOKUP(A1845,'Mapa de Preços'!$A$16:$B$2988,2,0))","v":"Falta (U.M.)"},"","",null,{"$f":"VLOOKUP(A1845,'Mapa de Preços'!$A$16:$J$2988,10,0)","v":"Falta Orçamento"},"",null,1818,null,0]
[1819,{"$f":"IF(VLOOKUP(A1846,'Mapa de Preços'!$A$16:$B$2988,2,0)=FALSE,\"Falta (U.M.)\",VLOOKUP(A1846,'Mapa de Preços'!$A$16:$B$2988,2,0))","v":"Falta (U.M.)"},"","",null,{"$f":"VLOOKUP(A1846,'Mapa de Preços'!$A$16:$J$2988,10,0)","v":"Falta Orçamento"},"",null,1819,null,0]
[1820,{"$f":"IF(VLOOKUP(A1847,'Mapa de Preços'!$A$16:$B$2988,2,0)=FALSE,\"Falta (U.M.)\",VLOOKUP(A1847,'Mapa de Preços'!$A$16:$B$2988,2,0))","v":"Falta (U.M.)"},"","",null,{"$f":"VLOOKUP(A1847,'Mapa de Preços'!$A$16:$J$2988,10,0)","v":"Falta Orçamento"},"",null,1820,null,0]
[1821,{"$f":"IF(VLOOKUP(A1848,'Mapa de Preços'!$A$16:$B$2988,2,0)=FALSE,\"Falta (U.M.)\",VLOOKUP(A1848,'Mapa de Preços'!$A$16:$B$2988,2,0))","v":"Falta (U.M.)"},"","",null,{"$f":"VLOOKUP(A1848,'Mapa de Preços'!$A$16:$J$2988,10,0)","v":"Falta Orçamento"},"",null,1821,null,0]
[1822,{"$f":"IF(VLOOKUP(A1849,'Mapa de Preços'!$A$16:$B$2988,2,0)=FALSE,\"Falta (U.M.)\",VLOOKUP(A1849,'Mapa de Preços'!$A$16:$B$2988,2,0))","v":"Falta (U.M.)"},"","",null,{"$f":"VLOOKUP(A1849,'Mapa de Preços'!$A$16:$J$2988,10,0)","v":"Falta Orçamento"},"",null,1822,null,0]
[1823,{"$f":"IF(VLOOKUP(A1850,'Mapa de Preços'!$A$16:$B$2988,2,0)=FALSE,\"Falta (U.M.)\",VLOOKUP(A1850,'Mapa de Preços'!$A$16:$B$2988,2,0))","v":"Falta (U.M.)"},"","",null,{"$f":"VLOOKUP(A1850,'Mapa de Preços'!$A$16:$J$2988,10,0)","v":"Falta Orçamento"},"",null,1823,null,0]
[1824,{"$f":"IF(VLOOKUP(A1851,'Mapa de Preços'!$A$16:$B$2988,2,0)=FALSE,\"Falta (U.M.)\",VLOOKUP(A1851,'Mapa de Preços'!$A$16:$B$2988,2,0))","v":"Falta (U.M.)"},"","",null,{"$f":"VLOOKUP(A1851,'Mapa de Preços'!$A$16:$J$2988,10,0)","v":"Falta Orçamento"},"",null,1824,null,0]
[1825,{"$f":"IF(VLOOKUP(A1852,'Mapa de Preços'!$A$16:$B$2988,2,0)=FALSE,\"Falta (U.M.)\",VLOOKUP(A1852,'Mapa de Preços'!$A$16:$B$2988,2,0))","v":"Falta (U.M.)"},"","",null,{"$f":"VLOOKUP(A1852,'Mapa de Preços'!$A$16:$J$2988,10,0)","v":"Falta Orçamento"},"",null,1825,null,0]
[1826,{"$f":"IF(VLOOKUP(A1853,'Mapa de Preços'!$A$16:$B$2988,2,0)=FALSE,\"Falta (U.M.)\",VLOOKUP(A1853,'Mapa de Preços'!$A$16:$B$2988,2,0))","v":"Falta (U.M.)"},"","",null,{"$f":"VLOOKUP(A1853,'Mapa de Preços'!$A$16:$J$2988,10,0)","v":"Falta Orçamento"},"",null,1826,null,0]
[1827,{"$f":"IF(VLOOKUP(A1854,'Mapa de Preços'!$A$16:$B$2988,2,0)=FALSE,\"Falta (U.M.)\",VLOOKUP(A1854,'Mapa de Preços'!$A$16:$B$2988,2,0))","v":"Falta (U.M.)"},"","",null,{"$f":"VLOOKUP(A1854,'Mapa de Preços'!$A$16:$J$2988,10,0)","v":"Falta Orçamento"},"",null,1827,null,0]
[1828,{"$f":"IF(VLOOKUP(A1855,'Mapa de Preços'!$A$16:$B$2988,2,0)=FALSE,\"Falta (U.M.)\",VLOOKUP(A1855,'Mapa de Preços'!$A$16:$B$2988,2,0))","v":"Falta (U.M.)"},"","",null,{"$f":"VLOOKUP(A1855,'Mapa de Preços'!$A$16:$J$2988,10,0)","v":"Falta Orçamento"},"",null,1828,null,0]
[1829,{"$f":"IF(VLOOKUP(A1856,'Mapa de Preços'!$A$16:$B$2988,2,0)=FALSE,\"Falta (U.M.)\",VLOOKUP(A1856,'Mapa de Preços'!$A$16:$B$2988,2,0))","v":"Falta (U.M.)"},"","",null,{"$f":"VLOOKUP(A1856,'Mapa de Preços'!$A$16:$J$2988,10,0)","v":"Falta Orçamento"},"",null,1829,null,0]
[1830,{"$f":"IF(VLOOKUP(A1857,'Mapa de Preços'!$A$16:$B$2988,2,0)=FALSE,\"Falta (U.M.)\",VLOOKUP(A1857,'Mapa de Preços'!$A$16:$B$2988,2,0))","v":"Falta (U.M.)"},"","",null,{"$f":"VLOOKUP(A1857,'Mapa de Preços'!$A$16:$J$2988,10,0)","v":"Falta Orçamento"},"",null,1830,null,0]
[1831,{"$f":"IF(VLOOKUP(A1858,'Mapa de Preços'!$A$16:$B$2988,2,0)=FALSE,\"Falta (U.M.)\",VLOOKUP(A1858,'Mapa de Preços'!$A$16:$B$2988,2,0))","v":"Falta (U.M.)"},"","",null,{"$f":"VLOOKUP(A1858,'Mapa de Preços'!$A$16:$J$2988,10,0)","v":"Falta Orçamento"},"",null,1831,null,0]
[1832,{"$f":"IF(VLOOKUP(A1859,'Mapa de Preços'!$A$16:$B$2988,2,0)=FALSE,\"Falta (U.M.)\",VLOOKUP(A1859,'Mapa de Preços'!$A$16:$B$2988,2,0))","v":"Falta (U.M.)"},"","",null,{"$f":"VLOOKUP(A1859,'Mapa de Preços'!$A$16:$J$2988,10,0)","v":"Falta Orçamento"},"",null,1832,null,0]
[1833,{"$f":"IF(VLOOKUP(A1860,'Mapa de Preços'!$A$16:$B$2988,2,0)=FALSE,\"Falta (U.M.)\",VLOOKUP(A1860,'Mapa de Preços'!$A$16:$B$2988,2,0))","v":"Falta (U.M.)"},"","",null,{"$f":"VLOOKUP(A1860,'Mapa de Preços'!$A$16:$J$2988,10,0)","v":"Falta Orçamento"},"",null,1833,null,0]
[1834,{"$f":"IF(VLOOKUP(A1861,'Mapa de Preços'!$A$16:$B$2988,2,0)=FALSE,\"Falta (U.M.)\",VLOOKUP(A1861,'Mapa de Preços'!$A$16:$B$2988,2,0))","v":"Falta (U.M.)"},"","",null,{"$f":"VLOOKUP(A1861,'Mapa de Preços'!$A$16:$J$2988,10,0)","v":"Falta Orçamento"},"",null,1834,null,0]
[1835,{"$f":"IF(VLOOKUP(A1862,'Mapa de Preços'!$A$16:$B$2988,2,0)=FALSE,\"Falta (U.M.)\",VLOOKUP(A1862,'Mapa de Preços'!$A$16:$B$2988,2,0))","v":"Falta (U.M.)"},"","",null,{"$f":"VLOOKUP(A1862,'Mapa de Preços'!$A$16:$J$2988,10,0)","v":"Falta Orçamento"},"",null,1835,null,0]
[1836,{"$f":"IF(VLOOKUP(A1863,'Mapa de Preços'!$A$16:$B$2988,2,0)=FALSE,\"Falta (U.M.)\",VLOOKUP(A1863,'Mapa de Preços'!$A$16:$B$2988,2,0))","v":"Falta (U.M.)"},"","",null,{"$f":"VLOOKUP(A1863,'Mapa de Preços'!$A$16:$J$2988,10,0)","v":"Falta Orçamento"},"",null,1836,null,0]
[1837,{"$f":"IF(VLOOKUP(A1864,'Mapa de Preços'!$A$16:$B$2988,2,0)=FALSE,\"Falta (U.M.)\",VLOOKUP(A1864,'Mapa de Preços'!$A$16:$B$2988,2,0))","v":"Falta (U.M.)"},"","",null,{"$f":"VLOOKUP(A1864,'Mapa de Preços'!$A$16:$J$2988,10,0)","v":"Falta Orçamento"},"",null,1837,null,0]
[1838,{"$f":"IF(VLOOKUP(A1865,'Mapa de Preços'!$A$16:$B$2988,2,0)=FALSE,\"Falta (U.M.)\",VLOOKUP(A1865,'Mapa de Preços'!$A$16:$B$2988,2,0))","v":"Falta (U.M.)"},"","",null,{"$f":"VLOOKUP(A1865,'Mapa de Preços'!$A$16:$J$2988,10,0)","v":"Falta Orçamento"},"",null,1838,null,0]
[1839,{"$f":"IF(VLOOKUP(A1866,'Mapa de Preços'!$A$16:$B$2988,2,0)=FALSE,\"Falta (U.M.)\",VLOOKUP(A1866,'Mapa de Preços'!$A$16:$B$2988,2,0))","v":"Falta (U.M.)"},"","",null,{"$f":"VLOOKUP(A1866,'Mapa de Preços'!$A$16:$J$2988,10,0)","v":"Falta Orçamento"},"",null,1839,null,0]
[1840,{"$f":"IF(VLOOKUP(A1867,'Mapa de Preços'!$A$16:$B$2988,2,0)=FALSE,\"Falta (U.M.)\",VLOOKUP(A1867,'Mapa de Preços'!$A$16:$B$2988,2,0))","v":"Falta (U.M.)"},"","",null,{"$f":"VLOOKUP(A1867,'Mapa de Preços'!$A$16:$J$2988,10,0)","v":"Falta Orçamento"},"",null,1840,null,0]
[1841,{"$f":"IF(VLOOKUP(A1868,'Mapa de Preços'!$A$16:$B$2988,2,0)=FALSE,\"Falta (U.M.)\",VLOOKUP(A1868,'Mapa de Preços'!$A$16:$B$2988,2,0))","v":"Falta (U.M.)"},"","",null,{"$f":"VLOOKUP(A1868,'Mapa de Preços'!$A$16:$J$2988,10,0)","v":"Falta Orçamento"},"",null,1841,null,0]
[1842,{"$f":"IF(VLOOKUP(A1869,'Mapa de Preços'!$A$16:$B$2988,2,0)=FALSE,\"Falta (U.M.)\",VLOOKUP(A1869,'Mapa de Preços'!$A$16:$B$2988,2,0))","v":"Falta (U.M.)"},"","",null,{"$f":"VLOOKUP(A1869,'Mapa de Preços'!$A$16:$J$2988,10,0)","v":"Falta Orçamento"},"",null,1842,null,0]
[1843,{"$f":"IF(VLOOKUP(A1870,'Mapa de Preços'!$A$16:$B$2988,2,0)=FALSE,\"Falta (U.M.)\",VLOOKUP(A1870,'Mapa de Preços'!$A$16:$B$2988,2,0))","v":"Falta (U.M.)"},"","",null,{"$f":"VLOOKUP(A1870,'Mapa de Preços'!$A$16:$J$2988,10,0)","v":"Falta Orçamento"},"",null,1843,null,0]
[1844,{"$f":"IF(VLOOKUP(A1871,'Mapa de Preços'!$A$16:$B$2988,2,0)=FALSE,\"Falta (U.M.)\",VLOOKUP(A1871,'Mapa de Preços'!$A$16:$B$2988,2,0))","v":"Falta (U.M.)"},"","",null,{"$f":"VLOOKUP(A1871,'Mapa de Preços'!$A$16:$J$2988,10,0)","v":"Falta Orçamento"},"",null,1844,null,0]
[1845,{"$f":"IF(VLOOKUP(A1872,'Mapa de Preços'!$A$16:$B$2988,2,0)=FALSE,\"Falta (U.M.)\",VLOOKUP(A1872,'Mapa de Preços'!$A$16:$B$2988,2,0))","v":"Falta (U.M.)"},"","",null,{"$f":"VLOOKUP(A1872,'Mapa de Preços'!$A$16:$J$2988,10,0)","v":"Falta Orçamento"},"",null,1845,null,0]
[1846,{"$f":"IF(VLOOKUP(A1873,'Mapa de Preços'!$A$16:$B$2988,2,0)=FALSE,\"Falta (U.M.)\",VLOOKUP(A1873,'Mapa de Preços'!$A$16:$B$2988,2,0))","v":"Falta (U.M.)"},"","",null,{"$f":"VLOOKUP(A1873,'Mapa de Preços'!$A$16:$J$2988,10,0)","v":"Falta Orçamento"},"",null,1846,null,0]
[1847,{"$f":"IF(VLOOKUP(A1874,'Mapa de Preços'!$A$16:$B$2988,2,0)=FALSE,\"Falta (U.M.)\",VLOOKUP(A1874,'Mapa de Preços'!$A$16:$B$2988,2,0))","v":"Falta (U.M.)"},"","",null,{"$f":"VLOOKUP(A1874,'Mapa de Preços'!$A$16:$J$2988,10,0)","v":"Falta Orçamento"},"",null,1847,null,0]
[1848,{"$f":"IF(VLOOKUP(A1875,'Mapa de Preços'!$A$16:$B$2988,2,0)=FALSE,\"Falta (U.M.)\",VLOOKUP(A1875,'Mapa de Preços'!$A$16:$B$2988,2,0))","v":"Falta (U.M.)"},"","",null,{"$f":"VLOOKUP(A1875,'Mapa de Preços'!$A$16:$J$2988,10,0)","v":"Falta Orçamento"},"",null,1848,null,0]
[1849,{"$f":"IF(VLOOKUP(A1876,'Mapa de Preços'!$A$16:$B$2988,2,0)=FALSE,\"Falta (U.M.)\",VLOOKUP(A1876,'Mapa de Preços'!$A$16:$B$2988,2,0))","v":"Falta (U.M.)"},"","",null,{"$f":"VLOOKUP(A1876,'Mapa de Preços'!$A$16:$J$2988,10,0)","v":"Falta Orçamento"},"",null,1849,null,0]
[1850,{"$f":"IF(VLOOKUP(A1877,'Mapa de Preços'!$A$16:$B$2988,2,0)=FALSE,\"Falta (U.M.)\",VLOOKUP(A1877,'Mapa de Preços'!$A$16:$B$2988,2,0))","v":"Falta (U.M.)"},"","",null,{"$f":"VLOOKUP(A1877,'Mapa de Preços'!$A$16:$J$2988,10,0)","v":"Falta Orçamento"},"",null,1850,null,0]
[1851,{"$f":"IF(VLOOKUP(A1878,'Mapa de Preços'!$A$16:$B$2988,2,0)=FALSE,\"Falta (U.M.)\",VLOOKUP(A1878,'Mapa de Preços'!$A$16:$B$2988,2,0))","v":"Falta (U.M.)"},"","",null,{"$f":"VLOOKUP(A1878,'Mapa de Preços'!$A$16:$J$2988,10,0)","v":"Falta Orçamento"},"",null,1851,null,0]
[1852,{"$f":"IF(VLOOKUP(A1879,'Mapa de Preços'!$A$16:$B$2988,2,0)=FALSE,\"Falta (U.M.)\",VLOOKUP(A1879,'Mapa de Preços'!$A$16:$B$2988,2,0))","v":"Falta (U.M.)"},"","",null,{"$f":"VLOOKUP(A1879,'Mapa de Preços'!$A$16:$J$2988,10,0)","v":"Falta Orçamento"},"",null,1852,null,0]
[1853,{"$f":"IF(VLOOKUP(A1880,'Mapa de Preços'!$A$16:$B$2988,2,0)=FALSE,\"Falta (U.M.)\",VLOOKUP(A1880,'Mapa de Preços'!$A$16:$B$2988,2,0))","v":"Falta (U.M.)"},"","",null,{"$f":"VLOOKUP(A1880,'Mapa de Preços'!$A$16:$J$2988,10,0)","v":"Falta Orçamento"},"",null,1853,null,0]
[1854,{"$f":"IF(VLOOKUP(A1881,'Mapa de Preços'!$A$16:$B$2988,2,0)=FALSE,\"Falta (U.M.)\",VLOOKUP(A1881,'Mapa de Preços'!$A$16:$B$2988,2,0))","v":"Falta (U.M.)"},"","",null,{"$f":"VLOOKUP(A1881,'Mapa de Preços'!$A$16:$J$2988,10,0)","v":"Falta Orçamento"},"",null,1854,null,0]
[1855,{"$f":"IF(VLOOKUP(A1882,'Mapa de Preços'!$A$16:$B$2988,2,0)=FALSE,\"Falta (U.M.)\",VLOOKUP(A1882,'Mapa de Preços'!$A$16:$B$2988,2,0))","v":"Falta (U.M.)"},"","",null,{"$f":"VLOOKUP(A1882,'Mapa de Preços'!$A$16:$J$2988,10,0)","v":"Falta Orçamento"},"",null,1855,null,0]
[1856,{"$f":"IF(VLOOKUP(A1883,'Mapa de Preços'!$A$16:$B$2988,2,0)=FALSE,\"Falta (U.M.)\",VLOOKUP(A1883,'Mapa de Preços'!$A$16:$B$2988,2,0))","v":"Falta (U.M.)"},"","",null,{"$f":"VLOOKUP(A1883,'Mapa de Preços'!$A$16:$J$2988,10,0)","v":"Falta Orçamento"},"",null,1856,null,0]
[1857,{"$f":"IF(VLOOKUP(A1884,'Mapa de Preços'!$A$16:$B$2988,2,0)=FALSE,\"Falta (U.M.)\",VLOOKUP(A1884,'Mapa de Preços'!$A$16:$B$2988,2,0))","v":"Falta (U.M.)"},"","",null,{"$f":"VLOOKUP(A1884,'Mapa de Preços'!$A$16:$J$2988,10,0)","v":"Falta Orçamento"},"",null,1857,null,{"$f":"SUM(L1884:AI1884)","v":0}]
[1858,{"$f":"IF(VLOOKUP(A1885,'Mapa de Preços'!$A$16:$B$2988,2,0)=FALSE,\"Falta (U.M.)\",VLOOKUP(A1885,'Mapa de Preços'!$A$16:$B$2988,2,0))","v":"Falta (U.M.)"},{"$f":"IF(J1885<>\"\",J1885,\"\")","v":""},{"$f":"IF(VLOOKUP(A1885,$I$28:$AI$3000,$G$26,FALSE)<>\"\",VLOOKUP(A1885,$I$28:$AI$3000,$G$26,FALSE),\"\")","v":""},null,{"$f":"VLOOKUP(A1885,'Mapa de Preços'!$A$16:$J$2988,10,0)","v":"Falta Orçamento"},{"$f":"IF(F1885=\"Falta Orçamento\",\"\",F1885*D1885)","v":""},null,1858,null,0]
[1859,{"$f":"IF(VLOOKUP(A1886,'Mapa de Preços'!$A$16:$B$2988,2,0)=FALSE,\"Falta (U.M.)\",VLOOKUP(A1886,'Mapa de Preços'!$A$16:$B$2988,2,0))","v":"Falta (U.M.)"},"","",null,{"$f":"VLOOKUP(A1886,'Mapa de Preços'!$A$16:$J$2988,10,0)","v":"Falta Orçamento"},"",null,1859,null,0]
[1860,{"$f":"IF(VLOOKUP(A1887,'Mapa de Preços'!$A$16:$B$2988,2,0)=FALSE,\"Falta (U.M.)\",VLOOKUP(A1887,'Mapa de Preços'!$A$16:$B$2988,2,0))","v":"Falta (U.M.)"},"","",null,{"$f":"VLOOKUP(A1887,'Mapa de Preços'!$A$16:$J$2988,10,0)","v":"Falta Orçamento"},"",null,1860,null,0]
[1861,{"$f":"IF(VLOOKUP(A1888,'Mapa de Preços'!$A$16:$B$2988,2,0)=FALSE,\"Falta (U.M.)\",VLOOKUP(A1888,'Mapa de Preços'!$A$16:$B$2988,2,0))","v":"Falta (U.M.)"},"","",null,{"$f":"VLOOKUP(A1888,'Mapa de Preços'!$A$16:$J$2988,10,0)","v":"Falta Orçamento"},"",null,1861,null,0]
[1862,{"$f":"IF(VLOOKUP(A1889,'Mapa de Preços'!$A$16:$B$2988,2,0)=FALSE,\"Falta (U.M.)\",VLOOKUP(A1889,'Mapa de Preços'!$A$16:$B$2988,2,0))","v":"Falta (U.M.)"},"","",null,{"$f":"VLOOKUP(A1889,'Mapa de Preços'!$A$16:$J$2988,10,0)","v":"Falta Orçamento"},"",null,1862,null,0]
[1863,{"$f":"IF(VLOOKUP(A1890,'Mapa de Preços'!$A$16:$B$2988,2,0)=FALSE,\"Falta (U.M.)\",VLOOKUP(A1890,'Mapa de Preços'!$A$16:$B$2988,2,0))","v":"Falta (U.M.)"},"","",null,{"$f":"VLOOKUP(A1890,'Mapa de Preços'!$A$16:$J$2988,10,0)","v":"Falta Orçamento"},"",null,1863,null,0]
[1864,{"$f":"IF(VLOOKUP(A1891,'Mapa de Preços'!$A$16:$B$2988,2,0)=FALSE,\"Falta (U.M.)\",VLOOKUP(A1891,'Mapa de Preços'!$A$16:$B$2988,2,0))","v":"Falta (U.M.)"},"","",null,{"$f":"VLOOKUP(A1891,'Mapa de Preços'!$A$16:$J$2988,10,0)","v":"Falta Orçamento"},"",null,1864,null,0]
[1865,{"$f":"IF(VLOOKUP(A1892,'Mapa de Preços'!$A$16:$B$2988,2,0)=FALSE,\"Falta (U.M.)\",VLOOKUP(A1892,'Mapa de Preços'!$A$16:$B$2988,2,0))","v":"Falta (U.M.)"},"","",null,{"$f":"VLOOKUP(A1892,'Mapa de Preços'!$A$16:$J$2988,10,0)","v":"Falta Orçamento"},"",null,1865,null,0]
[1866,{"$f":"IF(VLOOKUP(A1893,'Mapa de Preços'!$A$16:$B$2988,2,0)=FALSE,\"Falta (U.M.)\",VLOOKUP(A1893,'Mapa de Preços'!$A$16:$B$2988,2,0))","v":"Falta (U.M.)"},"","",null,{"$f":"VLOOKUP(A1893,'Mapa de Preços'!$A$16:$J$2988,10,0)","v":"Falta Orçamento"},"",null,1866,null,0]
[1867,{"$f":"IF(VLOOKUP(A1894,'Mapa de Preços'!$A$16:$B$2988,2,0)=FALSE,\"Falta (U.M.)\",VLOOKUP(A1894,'Mapa de Preços'!$A$16:$B$2988,2,0))","v":"Falta (U.M.)"},"","",null,{"$f":"VLOOKUP(A1894,'Mapa de Preços'!$A$16:$J$2988,10,0)","v":"Falta Orçamento"},"",null,1867,null,0]
[1868,{"$f":"IF(VLOOKUP(A1895,'Mapa de Preços'!$A$16:$B$2988,2,0)=FALSE,\"Falta (U.M.)\",VLOOKUP(A1895,'Mapa de Preços'!$A$16:$B$2988,2,0))","v":"Falta (U.M.)"},"","",null,{"$f":"VLOOKUP(A1895,'Mapa de Preços'!$A$16:$J$2988,10,0)","v":"Falta Orçamento"},"",null,1868,null,0]
[1869,{"$f":"IF(VLOOKUP(A1896,'Mapa de Preços'!$A$16:$B$2988,2,0)=FALSE,\"Falta (U.M.)\",VLOOKUP(A1896,'Mapa de Preços'!$A$16:$B$2988,2,0))","v":"Falta (U.M.)"},"","",null,{"$f":"VLOOKUP(A1896,'Mapa de Preços'!$A$16:$J$2988,10,0)","v":"Falta Orçamento"},"",null,1869,null,0]
[1870,{"$f":"IF(VLOOKUP(A1897,'Mapa de Preços'!$A$16:$B$2988,2,0)=FALSE,\"Falta (U.M.)\",VLOOKUP(A1897,'Mapa de Preços'!$A$16:$B$2988,2,0))","v":"Falta (U.M.)"},"","",null,{"$f":"VLOOKUP(A1897,'Mapa de Preços'!$A$16:$J$2988,10,0)","v":"Falta Orçamento"},"",null,1870,null,0]
[1871,{"$f":"IF(VLOOKUP(A1898,'Mapa de Preços'!$A$16:$B$2988,2,0)=FALSE,\"Falta (U.M.)\",VLOOKUP(A1898,'Mapa de Preços'!$A$16:$B$2988,2,0))","v":"Falta (U.M.)"},"","",null,{"$f":"VLOOKUP(A1898,'Mapa de Preços'!$A$16:$J$2988,10,0)","v":"Falta Orçamento"},"",null,1871,null,0]
[1872,{"$f":"IF(VLOOKUP(A1899,'Mapa de Preços'!$A$16:$B$2988,2,0)=FALSE,\"Falta (U.M.)\",VLOOKUP(A1899,'Mapa de Preços'!$A$16:$B$2988,2,0))","v":"Falta (U.M.)"},"","",null,{"$f":"VLOOKUP(A1899,'Mapa de Preços'!$A$16:$J$2988,10,0)","v":"Falta Orçamento"},"",null,1872,null,0]
[1873,{"$f":"IF(VLOOKUP(A1900,'Mapa de Preços'!$A$16:$B$2988,2,0)=FALSE,\"Falta (U.M.)\",VLOOKUP(A1900,'Mapa de Preços'!$A$16:$B$2988,2,0))","v":"Falta (U.M.)"},"","",null,{"$f":"VLOOKUP(A1900,'Mapa de Preços'!$A$16:$J$2988,10,0)","v":"Falta Orçamento"},"",null,1873,null,0]
[1874,{"$f":"IF(VLOOKUP(A1901,'Mapa de Preços'!$A$16:$B$2988,2,0)=FALSE,\"Falta (U.M.)\",VLOOKUP(A1901,'Mapa de Preços'!$A$16:$B$2988,2,0))","v":"Falta (U.M.)"},"","",null,{"$f":"VLOOKUP(A1901,'Mapa de Preços'!$A$16:$J$2988,10,0)","v":"Falta Orçamento"},"",null,1874,null,0]
[1875,{"$f":"IF(VLOOKUP(A1902,'Mapa de Preços'!$A$16:$B$2988,2,0)=FALSE,\"Falta (U.M.)\",VLOOKUP(A1902,'Mapa de Preços'!$A$16:$B$2988,2,0))","v":"Falta (U.M.)"},"","",null,{"$f":"VLOOKUP(A1902,'Mapa de Preços'!$A$16:$J$2988,10,0)","v":"Falta Orçamento"},"",null,1875,null,0]
[1876,{"$f":"IF(VLOOKUP(A1903,'Mapa de Preços'!$A$16:$B$2988,2,0)=FALSE,\"Falta (U.M.)\",VLOOKUP(A1903,'Mapa de Preços'!$A$16:$B$2988,2,0))","v":"Falta (U.M.)"},"","",null,{"$f":"VLOOKUP(A1903,'Mapa de Preços'!$A$16:$J$2988,10,0)","v":"Falta Orçamento"},"",null,1876,null,0]
[1877,{"$f":"IF(VLOOKUP(A1904,'Mapa de Preços'!$A$16:$B$2988,2,0)=FALSE,\"Falta (U.M.)\",VLOOKUP(A1904,'Mapa de Preços'!$A$16:$B$2988,2,0))","v":"Falta (U.M.)"},"","",null,{"$f":"VLOOKUP(A1904,'Mapa de Preços'!$A$16:$J$2988,10,0)","v":"Falta Orçamento"},"",null,1877,null,0]
[1878,{"$f":"IF(VLOOKUP(A1905,'Mapa de Preços'!$A$16:$B$2988,2,0)=FALSE,\"Falta (U.M.)\",VLOOKUP(A1905,'Mapa de Preços'!$A$16:$B$2988,2,0))","v":"Falta (U.M.)"},"","",null,{"$f":"VLOOKUP(A1905,'Mapa de Preços'!$A$16:$J$2988,10,0)","v":"Falta Orçamento"},"",null,1878,null,0]
[1879,{"$f":"IF(VLOOKUP(A1906,'Mapa de Preços'!$A$16:$B$2988,2,0)=FALSE,\"Falta (U.M.)\",VLOOKUP(A1906,'Mapa de Preços'!$A$16:$B$2988,2,0))","v":"Falta (U.M.)"},"","",null,{"$f":"VLOOKUP(A1906,'Mapa de Preços'!$A$16:$J$2988,10,0)","v":"Falta Orçamento"},"",null,1879,null,0]
[1880,{"$f":"IF(VLOOKUP(A1907,'Mapa de Preços'!$A$16:$B$2988,2,0)=FALSE,\"Falta (U.M.)\",VLOOKUP(A1907,'Mapa de Preços'!$A$16:$B$2988,2,0))","v":"Falta (U.M.)"},"","",null,{"$f":"VLOOKUP(A1907,'Mapa de Preços'!$A$16:$J$2988,10,0)","v":"Falta Orçamento"},"",null,1880,null,0]
[1881,{"$f":"IF(VLOOKUP(A1908,'Mapa de Preços'!$A$16:$B$2988,2,0)=FALSE,\"Falta (U.M.)\",VLOOKUP(A1908,'Mapa de Preços'!$A$16:$B$2988,2,0))","v":"Falta (U.M.)"},"","",null,{"$f":"VLOOKUP(A1908,'Mapa de Preços'!$A$16:$J$2988,10,0)","v":"Falta Orçamento"},"",null,1881,null,0]
[1882,{"$f":"IF(VLOOKUP(A1909,'Mapa de Preços'!$A$16:$B$2988,2,0)=FALSE,\"Falta (U.M.)\",VLOOKUP(A1909,'Mapa de Preços'!$A$16:$B$2988,2,0))","v":"Falta (U.M.)"},"","",null,{"$f":"VLOOKUP(A1909,'Mapa de Preços'!$A$16:$J$2988,10,0)","v":"Falta Orçamento"},"",null,1882,null,0]
[1883,{"$f":"IF(VLOOKUP(A1910,'Mapa de Preços'!$A$16:$B$2988,2,0)=FALSE,\"Falta (U.M.)\",VLOOKUP(A1910,'Mapa de Preços'!$A$16:$B$2988,2,0))","v":"Falta (U.M.)"},"","",null,{"$f":"VLOOKUP(A1910,'Mapa de Preços'!$A$16:$J$2988,10,0)","v":"Falta Orçamento"},"",null,1883,null,0]
[1884,{"$f":"IF(VLOOKUP(A1911,'Mapa de Preços'!$A$16:$B$2988,2,0)=FALSE,\"Falta (U.M.)\",VLOOKUP(A1911,'Mapa de Preços'!$A$16:$B$2988,2,0))","v":"Falta (U.M.)"},"","",null,{"$f":"VLOOKUP(A1911,'Mapa de Preços'!$A$16:$J$2988,10,0)","v":"Falta Orçamento"},"",null,1884,null,0]
[1885,{"$f":"IF(VLOOKUP(A1912,'Mapa de Preços'!$A$16:$B$2988,2,0)=FALSE,\"Falta (U.M.)\",VLOOKUP(A1912,'Mapa de Preços'!$A$16:$B$2988,2,0))","v":"Falta (U.M.)"},"","",null,{"$f":"VLOOKUP(A1912,'Mapa de Preços'!$A$16:$J$2988,10,0)","v":"Falta Orçamento"},"",null,1885,null,0]
[1886,{"$f":"IF(VLOOKUP(A1913,'Mapa de Preços'!$A$16:$B$2988,2,0)=FALSE,\"Falta (U.M.)\",VLOOKUP(A1913,'Mapa de Preços'!$A$16:$B$2988,2,0))","v":"Falta (U.M.)"},"","",null,{"$f":"VLOOKUP(A1913,'Mapa de Preços'!$A$16:$J$2988,10,0)","v":"Falta Orçamento"},"",null,1886,null,0]
[1887,{"$f":"IF(VLOOKUP(A1914,'Mapa de Preços'!$A$16:$B$2988,2,0)=FALSE,\"Falta (U.M.)\",VLOOKUP(A1914,'Mapa de Preços'!$A$16:$B$2988,2,0))","v":"Falta (U.M.)"},"","",null,{"$f":"VLOOKUP(A1914,'Mapa de Preços'!$A$16:$J$2988,10,0)","v":"Falta Orçamento"},"",null,1887,null,0]
[1888,{"$f":"IF(VLOOKUP(A1915,'Mapa de Preços'!$A$16:$B$2988,2,0)=FALSE,\"Falta (U.M.)\",VLOOKUP(A1915,'Mapa de Preços'!$A$16:$B$2988,2,0))","v":"Falta (U.M.)"},"","",null,{"$f":"VLOOKUP(A1915,'Mapa de Preços'!$A$16:$J$2988,10,0)","v":"Falta Orçamento"},"",null,1888,null,0]
[1889,{"$f":"IF(VLOOKUP(A1916,'Mapa de Preços'!$A$16:$B$2988,2,0)=FALSE,\"Falta (U.M.)\",VLOOKUP(A1916,'Mapa de Preços'!$A$16:$B$2988,2,0))","v":"Falta (U.M.)"},"","",null,{"$f":"VLOOKUP(A1916,'Mapa de Preços'!$A$16:$J$2988,10,0)","v":"Falta Orçamento"},"",null,1889,null,0]
[1890,{"$f":"IF(VLOOKUP(A1917,'Mapa de Preços'!$A$16:$B$2988,2,0)=FALSE,\"Falta (U.M.)\",VLOOKUP(A1917,'Mapa de Preços'!$A$16:$B$2988,2,0))","v":"Falta (U.M.)"},"","",null,{"$f":"VLOOKUP(A1917,'Mapa de Preços'!$A$16:$J$2988,10,0)","v":"Falta Orçamento"},"",null,1890,null,0]
[1891,{"$f":"IF(VLOOKUP(A1918,'Mapa de Preços'!$A$16:$B$2988,2,0)=FALSE,\"Falta (U.M.)\",VLOOKUP(A1918,'Mapa de Preços'!$A$16:$B$2988,2,0))","v":"Falta (U.M.)"},"","",null,{"$f":"VLOOKUP(A1918,'Mapa de Preços'!$A$16:$J$2988,10,0)","v":"Falta Orçamento"},"",null,1891,null,0]
[1892,{"$f":"IF(VLOOKUP(A1919,'Mapa de Preços'!$A$16:$B$2988,2,0)=FALSE,\"Falta (U.M.)\",VLOOKUP(A1919,'Mapa de Preços'!$A$16:$B$2988,2,0))","v":"Falta (U.M.)"},"","",null,{"$f":"VLOOKUP(A1919,'Mapa de Preços'!$A$16:$J$2988,10,0)","v":"Falta Orçamento"},"",null,1892,null,0]
[1893,{"$f":"IF(VLOOKUP(A1920,'Mapa de Preços'!$A$16:$B$2988,2,0)=FALSE,\"Falta (U.M.)\",VLOOKUP(A1920,'Mapa de Preços'!$A$16:$B$2988,2,0))","v":"Falta (U.M.)"},"","",null,{"$f":"VLOOKUP(A1920,'Mapa de Preços'!$A$16:$J$2988,10,0)","v":"Falta Orçamento"},"",null,1893,null,0]
[1894,{"$f":"IF(VLOOKUP(A1921,'Mapa de Preços'!$A$16:$B$2988,2,0)=FALSE,\"Falta (U.M.)\",VLOOKUP(A1921,'Mapa de Preços'!$A$16:$B$2988,2,0))","v":"Falta (U.M.)"},"","",null,{"$f":"VLOOKUP(A1921,'Mapa de Preços'!$A$16:$J$2988,10,0)","v":"Falta Orçamento"},"",null,1894,null,0]
[1895,{"$f":"IF(VLOOKUP(A1922,'Mapa de Preços'!$A$16:$B$2988,2,0)=FALSE,\"Falta (U.M.)\",VLOOKUP(A1922,'Mapa de Preços'!$A$16:$B$2988,2,0))","v":"Falta (U.M.)"},"","",null,{"$f":"VLOOKUP(A1922,'Mapa de Preços'!$A$16:$J$2988,10,0)","v":"Falta Orçamento"},"",null,1895,null,0]
[1896,{"$f":"IF(VLOOKUP(A1923,'Mapa de Preços'!$A$16:$B$2988,2,0)=FALSE,\"Falta (U.M.)\",VLOOKUP(A1923,'Mapa de Preços'!$A$16:$B$2988,2,0))","v":"Falta (U.M.)"},"","",null,{"$f":"VLOOKUP(A1923,'Mapa de Preços'!$A$16:$J$2988,10,0)","v":"Falta Orçamento"},"",null,1896,null,0]
[1897,{"$f":"IF(VLOOKUP(A1924,'Mapa de Preços'!$A$16:$B$2988,2,0)=FALSE,\"Falta (U.M.)\",VLOOKUP(A1924,'Mapa de Preços'!$A$16:$B$2988,2,0))","v":"Falta (U.M.)"},"","",null,{"$f":"VLOOKUP(A1924,'Mapa de Preços'!$A$16:$J$2988,10,0)","v":"Falta Orçamento"},"",null,1897,null,0]
[1898,{"$f":"IF(VLOOKUP(A1925,'Mapa de Preços'!$A$16:$B$2988,2,0)=FALSE,\"Falta (U.M.)\",VLOOKUP(A1925,'Mapa de Preços'!$A$16:$B$2988,2,0))","v":"Falta (U.M.)"},"","",null,{"$f":"VLOOKUP(A1925,'Mapa de Preços'!$A$16:$J$2988,10,0)","v":"Falta Orçamento"},"",null,1898,null,0]
[1899,{"$f":"IF(VLOOKUP(A1926,'Mapa de Preços'!$A$16:$B$2988,2,0)=FALSE,\"Falta (U.M.)\",VLOOKUP(A1926,'Mapa de Preços'!$A$16:$B$2988,2,0))","v":"Falta (U.M.)"},"","",null,{"$f":"VLOOKUP(A1926,'Mapa de Preços'!$A$16:$J$2988,10,0)","v":"Falta Orçamento"},"",null,1899,null,0]
[1900,{"$f":"IF(VLOOKUP(A1927,'Mapa de Preços'!$A$16:$B$2988,2,0)=FALSE,\"Falta (U.M.)\",VLOOKUP(A1927,'Mapa de Preços'!$A$16:$B$2988,2,0))","v":"Falta (U.M.)"},"","",null,{"$f":"VLOOKUP(A1927,'Mapa de Preços'!$A$16:$J$2988,10,0)","v":"Falta Orçamento"},"",null,1900,null,0]
[1901,{"$f":"IF(VLOOKUP(A1928,'Mapa de Preços'!$A$16:$B$2988,2,0)=FALSE,\"Falta (U.M.)\",VLOOKUP(A1928,'Mapa de Preços'!$A$16:$B$2988,2,0))","v":"Falta (U.M.)"},"","",null,{"$f":"VLOOKUP(A1928,'Mapa de Preços'!$A$16:$J$2988,10,0)","v":"Falta Orçamento"},"",null,1901,null,0]
[1902,{"$f":"IF(VLOOKUP(A1929,'Mapa de Preços'!$A$16:$B$2988,2,0)=FALSE,\"Falta (U.M.)\",VLOOKUP(A1929,'Mapa de Preços'!$A$16:$B$2988,2,0))","v":"Falta (U.M.)"},"","",null,{"$f":"VLOOKUP(A1929,'Mapa de Preços'!$A$16:$J$2988,10,0)","v":"Falta Orçamento"},"",null,1902,null,0]
[1903,{"$f":"IF(VLOOKUP(A1930,'Mapa de Preços'!$A$16:$B$2988,2,0)=FALSE,\"Falta (U.M.)\",VLOOKUP(A1930,'Mapa de Preços'!$A$16:$B$2988,2,0))","v":"Falta (U.M.)"},"","",null,{"$f":"VLOOKUP(A1930,'Mapa de Preços'!$A$16:$J$2988,10,0)","v":"Falta Orçamento"},"",null,1903,null,0]
[1904,{"$f":"IF(VLOOKUP(A1931,'Mapa de Preços'!$A$16:$B$2988,2,0)=FALSE,\"Falta (U.M.)\",VLOOKUP(A1931,'Mapa de Preços'!$A$16:$B$2988,2,0))","v":"Falta (U.M.)"},"","",null,{"$f":"VLOOKUP(A1931,'Mapa de Preços'!$A$16:$J$2988,10,0)","v":"Falta Orçamento"},"",null,1904,null,0]
[1905,{"$f":"IF(VLOOKUP(A1932,'Mapa de Preços'!$A$16:$B$2988,2,0)=FALSE,\"Falta (U.M.)\",VLOOKUP(A1932,'Mapa de Preços'!$A$16:$B$2988,2,0))","v":"Falta (U.M.)"},"","",null,{"$f":"VLOOKUP(A1932,'Mapa de Preços'!$A$16:$J$2988,10,0)","v":"Falta Orçamento"},"",null,1905,null,0]
[1906,{"$f":"IF(VLOOKUP(A1933,'Mapa de Preços'!$A$16:$B$2988,2,0)=FALSE,\"Falta (U.M.)\",VLOOKUP(A1933,'Mapa de Preços'!$A$16:$B$2988,2,0))","v":"Falta (U.M.)"},"","",null,{"$f":"VLOOKUP(A1933,'Mapa de Preços'!$A$16:$J$2988,10,0)","v":"Falta Orçamento"},"",null,1906,null,0]
[1907,{"$f":"IF(VLOOKUP(A1934,'Mapa de Preços'!$A$16:$B$2988,2,0)=FALSE,\"Falta (U.M.)\",VLOOKUP(A1934,'Mapa de Preços'!$A$16:$B$2988,2,0))","v":"Falta (U.M.)"},"","",null,{"$f":"VLOOKUP(A1934,'Mapa de Preços'!$A$16:$J$2988,10,0)","v":"Falta Orçamento"},"",null,1907,null,0]
[1908,{"$f":"IF(VLOOKUP(A1935,'Mapa de Preços'!$A$16:$B$2988,2,0)=FALSE,\"Falta (U.M.)\",VLOOKUP(A1935,'Mapa de Preços'!$A$16:$B$2988,2,0))","v":"Falta (U.M.)"},"","",null,{"$f":"VLOOKUP(A1935,'Mapa de Preços'!$A$16:$J$2988,10,0)","v":"Falta Orçamento"},"",null,1908,null,0]
[1909,{"$f":"IF(VLOOKUP(A1936,'Mapa de Preços'!$A$16:$B$2988,2,0)=FALSE,\"Falta (U.M.)\",VLOOKUP(A1936,'Mapa de Preços'!$A$16:$B$2988,2,0))","v":"Falta (U.M.)"},"","",null,{"$f":"VLOOKUP(A1936,'Mapa de Preços'!$A$16:$J$2988,10,0)","v":"Falta Orçamento"},"",null,1909,null,0]
[1910,{"$f":"IF(VLOOKUP(A1937,'Mapa de Preços'!$A$16:$B$2988,2,0)=FALSE,\"Falta (U.M.)\",VLOOKUP(A1937,'Mapa de Preços'!$A$16:$B$2988,2,0))","v":"Falta (U.M.)"},"","",null,{"$f":"VLOOKUP(A1937,'Mapa de Preços'!$A$16:$J$2988,10,0)","v":"Falta Orçamento"},"",null,1910,null,0]
[1911,{"$f":"IF(VLOOKUP(A1938,'Mapa de Preços'!$A$16:$B$2988,2,0)=FALSE,\"Falta (U.M.)\",VLOOKUP(A1938,'Mapa de Preços'!$A$16:$B$2988,2,0))","v":"Falta (U.M.)"},"","",null,{"$f":"VLOOKUP(A1938,'Mapa de Preços'!$A$16:$J$2988,10,0)","v":"Falta Orçamento"},"",null,1911,null,0]
[1912,{"$f":"IF(VLOOKUP(A1939,'Mapa de Preços'!$A$16:$B$2988,2,0)=FALSE,\"Falta (U.M.)\",VLOOKUP(A1939,'Mapa de Preços'!$A$16:$B$2988,2,0))","v":"Falta (U.M.)"},"","",null,{"$f":"VLOOKUP(A1939,'Mapa de Preços'!$A$16:$J$2988,10,0)","v":"Falta Orçamento"},"",null,1912,null,0]
[1913,{"$f":"IF(VLOOKUP(A1940,'Mapa de Preços'!$A$16:$B$2988,2,0)=FALSE,\"Falta (U.M.)\",VLOOKUP(A1940,'Mapa de Preços'!$A$16:$B$2988,2,0))","v":"Falta (U.M.)"},"","",null,{"$f":"VLOOKUP(A1940,'Mapa de Preços'!$A$16:$J$2988,10,0)","v":"Falta Orçamento"},"",null,1913,null,0]
[1914,{"$f":"IF(VLOOKUP(A1941,'Mapa de Preços'!$A$16:$B$2988,2,0)=FALSE,\"Falta (U.M.)\",VLOOKUP(A1941,'Mapa de Preços'!$A$16:$B$2988,2,0))","v":"Falta (U.M.)"},"","",null,{"$f":"VLOOKUP(A1941,'Mapa de Preços'!$A$16:$J$2988,10,0)","v":"Falta Orçamento"},"",null,1914,null,0]
[1915,{"$f":"IF(VLOOKUP(A1942,'Mapa de Preços'!$A$16:$B$2988,2,0)=FALSE,\"Falta (U.M.)\",VLOOKUP(A1942,'Mapa de Preços'!$A$16:$B$2988,2,0))","v":"Falta (U.M.)"},"","",null,{"$f":"VLOOKUP(A1942,'Mapa de Preços'!$A$16:$J$2988,10,0)","v":"Falta Orçamento"},"",null,1915,null,0]
[1916,{"$f":"IF(VLOOKUP(A1943,'Mapa de Preços'!$A$16:$B$2988,2,0)=FALSE,\"Falta (U.M.)\",VLOOKUP(A1943,'Mapa de Preços'!$A$16:$B$2988,2,0))","v":"Falta (U.M.)"},"","",null,{"$f":"VLOOKUP(A1943,'Mapa de Preços'!$A$16:$J$2988,10,0)","v":"Falta Orçamento"},"",null,1916,null,0]
[1917,{"$f":"IF(VLOOKUP(A1944,'Mapa de Preços'!$A$16:$B$2988,2,0)=FALSE,\"Falta (U.M.)\",VLOOKUP(A1944,'Mapa de Preços'!$A$16:$B$2988,2,0))","v":"Falta (U.M.)"},"","",null,{"$f":"VLOOKUP(A1944,'Mapa de Preços'!$A$16:$J$2988,10,0)","v":"Falta Orçamento"},"",null,1917,null,0]
[1918,{"$f":"IF(VLOOKUP(A1945,'Mapa de Preços'!$A$16:$B$2988,2,0)=FALSE,\"Falta (U.M.)\",VLOOKUP(A1945,'Mapa de Preços'!$A$16:$B$2988,2,0))","v":"Falta (U.M.)"},"","",null,{"$f":"VLOOKUP(A1945,'Mapa de Preços'!$A$16:$J$2988,10,0)","v":"Falta Orçamento"},"",null,1918,null,0]
[1919,{"$f":"IF(VLOOKUP(A1946,'Mapa de Preços'!$A$16:$B$2988,2,0)=FALSE,\"Falta (U.M.)\",VLOOKUP(A1946,'Mapa de Preços'!$A$16:$B$2988,2,0))","v":"Falta (U.M.)"},"","",null,{"$f":"VLOOKUP(A1946,'Mapa de Preços'!$A$16:$J$2988,10,0)","v":"Falta Orçamento"},"",null,1919,null,0]
[1920,{"$f":"IF(VLOOKUP(A1947,'Mapa de Preços'!$A$16:$B$2988,2,0)=FALSE,\"Falta (U.M.)\",VLOOKUP(A1947,'Mapa de Preços'!$A$16:$B$2988,2,0))","v":"Falta (U.M.)"},"","",null,{"$f":"VLOOKUP(A1947,'Mapa de Preços'!$A$16:$J$2988,10,0)","v":"Falta Orçamento"},"",null,1920,null,0]
[1921,{"$f":"IF(VLOOKUP(A1948,'Mapa de Preços'!$A$16:$B$2988,2,0)=FALSE,\"Falta (U.M.)\",VLOOKUP(A1948,'Mapa de Preços'!$A$16:$B$2988,2,0))","v":"Falta (U.M.)"},"","",null,{"$f":"VLOOKUP(A1948,'Mapa de Preços'!$A$16:$J$2988,10,0)","v":"Falta Orçamento"},"",null,1921,null,{"$f":"SUM(L1948:AI1948)","v":0}]
[1922,{"$f":"IF(VLOOKUP(A1949,'Mapa de Preços'!$A$16:$B$2988,2,0)=FALSE,\"Falta (U.M.)\",VLOOKUP(A1949,'Mapa de Preços'!$A$16:$B$2988,2,0))","v":"Falta (U.M.)"},{"$f":"IF(J1949<>\"\",J1949,\"\")","v":""},{"$f":"IF(VLOOKUP(A1949,$I$28:$AI$3000,$G$26,FALSE)<>\"\",VLOOKUP(A1949,$I$28:$AI$3000,$G$26,FALSE),\"\")","v":""},null,{"$f":"VLOOKUP(A1949,'Mapa de Preços'!$A$16:$J$2988,10,0)","v":"Falta Orçamento"},{"$f":"IF(F1949=\"Falta Orçamento\",\"\",F1949*D1949)","v":""},null,1922,null,0]
[1923,{"$f":"IF(VLOOKUP(A1950,'Mapa de Preços'!$A$16:$B$2988,2,0)=FALSE,\"Falta (U.M.)\",VLOOKUP(A1950,'Mapa de Preços'!$A$16:$B$2988,2,0))","v":"Falta (U.M.)"},"","",null,{"$f":"VLOOKUP(A1950,'Mapa de Preços'!$A$16:$J$2988,10,0)","v":"Falta Orçamento"},"",null,1923,null,0]
[1924,{"$f":"IF(VLOOKUP(A1951,'Mapa de Preços'!$A$16:$B$2988,2,0)=FALSE,\"Falta (U.M.)\",VLOOKUP(A1951,'Mapa de Preços'!$A$16:$B$2988,2,0))","v":"Falta (U.M.)"},"","",null,{"$f":"VLOOKUP(A1951,'Mapa de Preços'!$A$16:$J$2988,10,0)","v":"Falta Orçamento"},"",null,1924,null,0]
[1925,{"$f":"IF(VLOOKUP(A1952,'Mapa de Preços'!$A$16:$B$2988,2,0)=FALSE,\"Falta (U.M.)\",VLOOKUP(A1952,'Mapa de Preços'!$A$16:$B$2988,2,0))","v":"Falta (U.M.)"},"","",null,{"$f":"VLOOKUP(A1952,'Mapa de Preços'!$A$16:$J$2988,10,0)","v":"Falta Orçamento"},"",null,1925,null,0]
[1926,{"$f":"IF(VLOOKUP(A1953,'Mapa de Preços'!$A$16:$B$2988,2,0)=FALSE,\"Falta (U.M.)\",VLOOKUP(A1953,'Mapa de Preços'!$A$16:$B$2988,2,0))","v":"Falta (U.M.)"},"","",null,{"$f":"VLOOKUP(A1953,'Mapa de Preços'!$A$16:$J$2988,10,0)","v":"Falta Orçamento"},"",null,1926,null,0]
[1927,{"$f":"IF(VLOOKUP(A1954,'Mapa de Preços'!$A$16:$B$2988,2,0)=FALSE,\"Falta (U.M.)\",VLOOKUP(A1954,'Mapa de Preços'!$A$16:$B$2988,2,0))","v":"Falta (U.M.)"},"","",null,{"$f":"VLOOKUP(A1954,'Mapa de Preços'!$A$16:$J$2988,10,0)","v":"Falta Orçamento"},"",null,1927,null,0]
[1928,{"$f":"IF(VLOOKUP(A1955,'Mapa de Preços'!$A$16:$B$2988,2,0)=FALSE,\"Falta (U.M.)\",VLOOKUP(A1955,'Mapa de Preços'!$A$16:$B$2988,2,0))","v":"Falta (U.M.)"},"","",null,{"$f":"VLOOKUP(A1955,'Mapa de Preços'!$A$16:$J$2988,10,0)","v":"Falta Orçamento"},"",null,1928,null,0]
[1929,{"$f":"IF(VLOOKUP(A1956,'Mapa de Preços'!$A$16:$B$2988,2,0)=FALSE,\"Falta (U.M.)\",VLOOKUP(A1956,'Mapa de Preços'!$A$16:$B$2988,2,0))","v":"Falta (U.M.)"},"","",null,{"$f":"VLOOKUP(A1956,'Mapa de Preços'!$A$16:$J$2988,10,0)","v":"Falta Orçamento"},"",null,1929,null,0]
[1930,{"$f":"IF(VLOOKUP(A1957,'Mapa de Preços'!$A$16:$B$2988,2,0)=FALSE,\"Falta (U.M.)\",VLOOKUP(A1957,'Mapa de Preços'!$A$16:$B$2988,2,0))","v":"Falta (U.M.)"},"","",null,{"$f":"VLOOKUP(A1957,'Mapa de Preços'!$A$16:$J$2988,10,0)","v":"Falta Orçamento"},"",null,1930,null,0]
[1931,{"$f":"IF(VLOOKUP(A1958,'Mapa de Preços'!$A$16:$B$2988,2,0)=FALSE,\"Falta (U.M.)\",VLOOKUP(A1958,'Mapa de Preços'!$A$16:$B$2988,2,0))","v":"Falta (U.M.)"},"","",null,{"$f":"VLOOKUP(A1958,'Mapa de Preços'!$A$16:$J$2988,10,0)","v":"Falta Orçamento"},"",null,1931,null,0]
[1932,{"$f":"IF(VLOOKUP(A1959,'Mapa de Preços'!$A$16:$B$2988,2,0)=FALSE,\"Falta (U.M.)\",VLOOKUP(A1959,'Mapa de Preços'!$A$16:$B$2988,2,0))","v":"Falta (U.M.)"},"","",null,{"$f":"VLOOKUP(A1959,'Mapa de Preços'!$A$16:$J$2988,10,0)","v":"Falta Orçamento"},"",null,1932,null,0]
[1933,{"$f":"IF(VLOOKUP(A1960,'Mapa de Preços'!$A$16:$B$2988,2,0)=FALSE,\"Falta (U.M.)\",VLOOKUP(A1960,'Mapa de Preços'!$A$16:$B$2988,2,0))","v":"Falta (U.M.)"},"","",null,{"$f":"VLOOKUP(A1960,'Mapa de Preços'!$A$16:$J$2988,10,0)","v":"Falta Orçamento"},"",null,1933,null,0]
[1934,{"$f":"IF(VLOOKUP(A1961,'Mapa de Preços'!$A$16:$B$2988,2,0)=FALSE,\"Falta (U.M.)\",VLOOKUP(A1961,'Mapa de Preços'!$A$16:$B$2988,2,0))","v":"Falta (U.M.)"},"","",null,{"$f":"VLOOKUP(A1961,'Mapa de Preços'!$A$16:$J$2988,10,0)","v":"Falta Orçamento"},"",null,1934,null,0]
[1935,{"$f":"IF(VLOOKUP(A1962,'Mapa de Preços'!$A$16:$B$2988,2,0)=FALSE,\"Falta (U.M.)\",VLOOKUP(A1962,'Mapa de Preços'!$A$16:$B$2988,2,0))","v":"Falta (U.M.)"},"","",null,{"$f":"VLOOKUP(A1962,'Mapa de Preços'!$A$16:$J$2988,10,0)","v":"Falta Orçamento"},"",null,1935,null,0]
[1936,{"$f":"IF(VLOOKUP(A1963,'Mapa de Preços'!$A$16:$B$2988,2,0)=FALSE,\"Falta (U.M.)\",VLOOKUP(A1963,'Mapa de Preços'!$A$16:$B$2988,2,0))","v":"Falta (U.M.)"},"","",null,{"$f":"VLOOKUP(A1963,'Mapa de Preços'!$A$16:$J$2988,10,0)","v":"Falta Orçamento"},"",null,1936,null,0]
[1937,{"$f":"IF(VLOOKUP(A1964,'Mapa de Preços'!$A$16:$B$2988,2,0)=FALSE,\"Falta (U.M.)\",VLOOKUP(A1964,'Mapa de Preços'!$A$16:$B$2988,2,0))","v":"Falta (U.M.)"},"","",null,{"$f":"VLOOKUP(A1964,'Mapa de Preços'!$A$16:$J$2988,10,0)","v":"Falta Orçamento"},"",null,1937,null,0]
[1938,{"$f":"IF(VLOOKUP(A1965,'Mapa de Preços'!$A$16:$B$2988,2,0)=FALSE,\"Falta (U.M.)\",VLOOKUP(A1965,'Mapa de Preços'!$A$16:$B$2988,2,0))","v":"Falta (U.M.)"},"","",null,{"$f":"VLOOKUP(A1965,'Mapa de Preços'!$A$16:$J$2988,10,0)","v":"Falta Orçamento"},"",null,1938,null,0]
[1939,{"$f":"IF(VLOOKUP(A1966,'Mapa de Preços'!$A$16:$B$2988,2,0)=FALSE,\"Falta (U.M.)\",VLOOKUP(A1966,'Mapa de Preços'!$A$16:$B$2988,2,0))","v":"Falta (U.M.)"},"","",null,{"$f":"VLOOKUP(A1966,'Mapa de Preços'!$A$16:$J$2988,10,0)","v":"Falta Orçamento"},"",null,1939,null,0]
[1940,{"$f":"IF(VLOOKUP(A1967,'Mapa de Preços'!$A$16:$B$2988,2,0)=FALSE,\"Falta (U.M.)\",VLOOKUP(A1967,'Mapa de Preços'!$A$16:$B$2988,2,0))","v":"Falta (U.M.)"},"","",null,{"$f":"VLOOKUP(A1967,'Mapa de Preços'!$A$16:$J$2988,10,0)","v":"Falta Orçamento"},"",null,1940,null,0]
[1941,{"$f":"IF(VLOOKUP(A1968,'Mapa de Preços'!$A$16:$B$2988,2,0)=FALSE,\"Falta (U.M.)\",VLOOKUP(A1968,'Mapa de Preços'!$A$16:$B$2988,2,0))","v":"Falta (U.M.)"},"","",null,{"$f":"VLOOKUP(A1968,'Mapa de Preços'!$A$16:$J$2988,10,0)","v":"Falta Orçamento"},"",null,1941,null,0]
[1942,{"$f":"IF(VLOOKUP(A1969,'Mapa de Preços'!$A$16:$B$2988,2,0)=FALSE,\"Falta (U.M.)\",VLOOKUP(A1969,'Mapa de Preços'!$A$16:$B$2988,2,0))","v":"Falta (U.M.)"},"","",null,{"$f":"VLOOKUP(A1969,'Mapa de Preços'!$A$16:$J$2988,10,0)","v":"Falta Orçamento"},"",null,1942,null,0]
[1943,{"$f":"IF(VLOOKUP(A1970,'Mapa de Preços'!$A$16:$B$2988,2,0)=FALSE,\"Falta (U.M.)\",VLOOKUP(A1970,'Mapa de Preços'!$A$16:$B$2988,2,0))","v":"Falta (U.M.)"},"","",null,{"$f":"VLOOKUP(A1970,'Mapa de Preços'!$A$16:$J$2988,10,0)","v":"Falta Orçamento"},"",null,1943,null,0]
[1944,{"$f":"IF(VLOOKUP(A1971,'Mapa de Preços'!$A$16:$B$2988,2,0)=FALSE,\"Falta (U.M.)\",VLOOKUP(A1971,'Mapa de Preços'!$A$16:$B$2988,2,0))","v":"Falta (U.M.)"},"","",null,{"$f":"VLOOKUP(A1971,'Mapa de Preços'!$A$16:$J$2988,10,0)","v":"Falta Orçamento"},"",null,1944,null,0]
[1945,{"$f":"IF(VLOOKUP(A1972,'Mapa de Preços'!$A$16:$B$2988,2,0)=FALSE,\"Falta (U.M.)\",VLOOKUP(A1972,'Mapa de Preços'!$A$16:$B$2988,2,0))","v":"Falta (U.M.)"},"","",null,{"$f":"VLOOKUP(A1972,'Mapa de Preços'!$A$16:$J$2988,10,0)","v":"Falta Orçamento"},"",null,1945,null,0]
[1946,{"$f":"IF(VLOOKUP(A1973,'Mapa de Preços'!$A$16:$B$2988,2,0)=FALSE,\"Falta (U.M.)\",VLOOKUP(A1973,'Mapa de Preços'!$A$16:$B$2988,2,0))","v":"Falta (U.M.)"},"","",null,{"$f":"VLOOKUP(A1973,'Mapa de Preços'!$A$16:$J$2988,10,0)","v":"Falta Orçamento"},"",null,1946,null,0]
[1947,{"$f":"IF(VLOOKUP(A1974,'Mapa de Preços'!$A$16:$B$2988,2,0)=FALSE,\"Falta (U.M.)\",VLOOKUP(A1974,'Mapa de Preços'!$A$16:$B$2988,2,0))","v":"Falta (U.M.)"},"","",null,{"$f":"VLOOKUP(A1974,'Mapa de Preços'!$A$16:$J$2988,10,0)","v":"Falta Orçamento"},"",null,1947,null,0]
[1948,{"$f":"IF(VLOOKUP(A1975,'Mapa de Preços'!$A$16:$B$2988,2,0)=FALSE,\"Falta (U.M.)\",VLOOKUP(A1975,'Mapa de Preços'!$A$16:$B$2988,2,0))","v":"Falta (U.M.)"},"","",null,{"$f":"VLOOKUP(A1975,'Mapa de Preços'!$A$16:$J$2988,10,0)","v":"Falta Orçamento"},"",null,1948,null,0]
[1949,{"$f":"IF(VLOOKUP(A1976,'Mapa de Preços'!$A$16:$B$2988,2,0)=FALSE,\"Falta (U.M.)\",VLOOKUP(A1976,'Mapa de Preços'!$A$16:$B$2988,2,0))","v":"Falta (U.M.)"},"","",null,{"$f":"VLOOKUP(A1976,'Mapa de Preços'!$A$16:$J$2988,10,0)","v":"Falta Orçamento"},"",null,1949,null,0]
[1950,{"$f":"IF(VLOOKUP(A1977,'Mapa de Preços'!$A$16:$B$2988,2,0)=FALSE,\"Falta (U.M.)\",VLOOKUP(A1977,'Mapa de Preços'!$A$16:$B$2988,2,0))","v":"Falta (U.M.)"},"","",null,{"$f":"VLOOKUP(A1977,'Mapa de Preços'!$A$16:$J$2988,10,0)","v":"Falta Orçamento"},"",null,1950,null,0]
[1951,{"$f":"IF(VLOOKUP(A1978,'Mapa de Preços'!$A$16:$B$2988,2,0)=FALSE,\"Falta (U.M.)\",VLOOKUP(A1978,'Mapa de Preços'!$A$16:$B$2988,2,0))","v":"Falta (U.M.)"},"","",null,{"$f":"VLOOKUP(A1978,'Mapa de Preços'!$A$16:$J$2988,10,0)","v":"Falta Orçamento"},"",null,1951,null,0]
[1952,{"$f":"IF(VLOOKUP(A1979,'Mapa de Preços'!$A$16:$B$2988,2,0)=FALSE,\"Falta (U.M.)\",VLOOKUP(A1979,'Mapa de Preços'!$A$16:$B$2988,2,0))","v":"Falta (U.M.)"},"","",null,{"$f":"VLOOKUP(A1979,'Mapa de Preços'!$A$16:$J$2988,10,0)","v":"Falta Orçamento"},"",null,1952,null,0]
[1953,{"$f":"IF(VLOOKUP(A1980,'Mapa de Preços'!$A$16:$B$2988,2,0)=FALSE,\"Falta (U.M.)\",VLOOKUP(A1980,'Mapa de Preços'!$A$16:$B$2988,2,0))","v":"Falta (U.M.)"},"","",null,{"$f":"VLOOKUP(A1980,'Mapa de Preços'!$A$16:$J$2988,10,0)","v":"Falta Orçamento"},"",null,1953,null,0]
[1954,{"$f":"IF(VLOOKUP(A1981,'Mapa de Preços'!$A$16:$B$2988,2,0)=FALSE,\"Falta (U.M.)\",VLOOKUP(A1981,'Mapa de Preços'!$A$16:$B$2988,2,0))","v":"Falta (U.M.)"},"","",null,{"$f":"VLOOKUP(A1981,'Mapa de Preços'!$A$16:$J$2988,10,0)","v":"Falta Orçamento"},"",null,1954,null,0]
[1955,{"$f":"IF(VLOOKUP(A1982,'Mapa de Preços'!$A$16:$B$2988,2,0)=FALSE,\"Falta (U.M.)\",VLOOKUP(A1982,'Mapa de Preços'!$A$16:$B$2988,2,0))","v":"Falta (U.M.)"},"","",null,{"$f":"VLOOKUP(A1982,'Mapa de Preços'!$A$16:$J$2988,10,0)","v":"Falta Orçamento"},"",null,1955,null,0]
[1956,{"$f":"IF(VLOOKUP(A1983,'Mapa de Preços'!$A$16:$B$2988,2,0)=FALSE,\"Falta (U.M.)\",VLOOKUP(A1983,'Mapa de Preços'!$A$16:$B$2988,2,0))","v":"Falta (U.M.)"},"","",null,{"$f":"VLOOKUP(A1983,'Mapa de Preços'!$A$16:$J$2988,10,0)","v":"Falta Orçamento"},"",null,1956,null,0]
[1957,{"$f":"IF(VLOOKUP(A1984,'Mapa de Preços'!$A$16:$B$2988,2,0)=FALSE,\"Falta (U.M.)\",VLOOKUP(A1984,'Mapa de Preços'!$A$16:$B$2988,2,0))","v":"Falta (U.M.)"},"","",null,{"$f":"VLOOKUP(A1984,'Mapa de Preços'!$A$16:$J$2988,10,0)","v":"Falta Orçamento"},"",null,1957,null,0]
[1958,{"$f":"IF(VLOOKUP(A1985,'Mapa de Preços'!$A$16:$B$2988,2,0)=FALSE,\"Falta (U.M.)\",VLOOKUP(A1985,'Mapa de Preços'!$A$16:$B$2988,2,0))","v":"Falta (U.M.)"},"","",null,{"$f":"VLOOKUP(A1985,'Mapa de Preços'!$A$16:$J$2988,10,0)","v":"Falta Orçamento"},"",null,1958,null,0]
[1959,{"$f":"IF(VLOOKUP(A1986,'Mapa de Preços'!$A$16:$B$2988,2,0)=FALSE,\"Falta (U.M.)\",VLOOKUP(A1986,'Mapa de Preços'!$A$16:$B$2988,2,0))","v":"Falta (U.M.)"},"","",null,{"$f":"VLOOKUP(A1986,'Mapa de Preços'!$A$16:$J$2988,10,0)","v":"Falta Orçamento"},"",null,1959,null,0]
[1960,{"$f":"IF(VLOOKUP(A1987,'Mapa de Preços'!$A$16:$B$2988,2,0)=FALSE,\"Falta (U.M.)\",VLOOKUP(A1987,'Mapa de Preços'!$A$16:$B$2988,2,0))","v":"Falta (U.M.)"},"","",null,{"$f":"VLOOKUP(A1987,'Mapa de Preços'!$A$16:$J$2988,10,0)","v":"Falta Orçamento"},"",null,1960,null,0]
[1961,{"$f":"IF(VLOOKUP(A1988,'Mapa de Preços'!$A$16:$B$2988,2,0)=FALSE,\"Falta (U.M.)\",VLOOKUP(A1988,'Mapa de Preços'!$A$16:$B$2988,2,0))","v":"Falta (U.M.)"},"","",null,{"$f":"VLOOKUP(A1988,'Mapa de Preços'!$A$16:$J$2988,10,0)","v":"Falta Orçamento"},"",null,1961,null,0]
[1962,{"$f":"IF(VLOOKUP(A1989,'Mapa de Preços'!$A$16:$B$2988,2,0)=FALSE,\"Falta (U.M.)\",VLOOKUP(A1989,'Mapa de Preços'!$A$16:$B$2988,2,0))","v":"Falta (U.M.)"},"","",null,{"$f":"VLOOKUP(A1989,'Mapa de Preços'!$A$16:$J$2988,10,0)","v":"Falta Orçamento"},"",null,1962,null,0]
[1963,{"$f":"IF(VLOOKUP(A1990,'Mapa de Preços'!$A$16:$B$2988,2,0)=FALSE,\"Falta (U.M.)\",VLOOKUP(A1990,'Mapa de Preços'!$A$16:$B$2988,2,0))","v":"Falta (U.M.)"},"","",null,{"$f":"VLOOKUP(A1990,'Mapa de Preços'!$A$16:$J$2988,10,0)","v":"Falta Orçamento"},"",null,1963,null,0]
[1964,{"$f":"IF(VLOOKUP(A1991,'Mapa de Preços'!$A$16:$B$2988,2,0)=FALSE,\"Falta (U.M.)\",VLOOKUP(A1991,'Mapa de Preços'!$A$16:$B$2988,2,0))","v":"Falta (U.M.)"},"","",null,{"$f":"VLOOKUP(A1991,'Mapa de Preços'!$A$16:$J$2988,10,0)","v":"Falta Orçamento"},"",null,1964,null,0]
[1965,{"$f":"IF(VLOOKUP(A1992,'Mapa de Preços'!$A$16:$B$2988,2,0)=FALSE,\"Falta (U.M.)\",VLOOKUP(A1992,'Mapa de Preços'!$A$16:$B$2988,2,0))","v":"Falta (U.M.)"},"","",null,{"$f":"VLOOKUP(A1992,'Mapa de Preços'!$A$16:$J$2988,10,0)","v":"Falta Orçamento"},"",null,1965,null,0]
[1966,{"$f":"IF(VLOOKUP(A1993,'Mapa de Preços'!$A$16:$B$2988,2,0)=FALSE,\"Falta (U.M.)\",VLOOKUP(A1993,'Mapa de Preços'!$A$16:$B$2988,2,0))","v":"Falta (U.M.)"},"","",null,{"$f":"VLOOKUP(A1993,'Mapa de Preços'!$A$16:$J$2988,10,0)","v":"Falta Orçamento"},"",null,1966,null,0]
[1967,{"$f":"IF(VLOOKUP(A1994,'Mapa de Preços'!$A$16:$B$2988,2,0)=FALSE,\"Falta (U.M.)\",VLOOKUP(A1994,'Mapa de Preços'!$A$16:$B$2988,2,0))","v":"Falta (U.M.)"},"","",null,{"$f":"VLOOKUP(A1994,'Mapa de Preços'!$A$16:$J$2988,10,0)","v":"Falta Orçamento"},"",null,1967,null,0]
[1968,{"$f":"IF(VLOOKUP(A1995,'Mapa de Preços'!$A$16:$B$2988,2,0)=FALSE,\"Falta (U.M.)\",VLOOKUP(A1995,'Mapa de Preços'!$A$16:$B$2988,2,0))","v":"Falta (U.M.)"},"","",null,{"$f":"VLOOKUP(A1995,'Mapa de Preços'!$A$16:$J$2988,10,0)","v":"Falta Orçamento"},"",null,1968,null,0]
[1969,{"$f":"IF(VLOOKUP(A1996,'Mapa de Preços'!$A$16:$B$2988,2,0)=FALSE,\"Falta (U.M.)\",VLOOKUP(A1996,'Mapa de Preços'!$A$16:$B$2988,2,0))","v":"Falta (U.M.)"},"","",null,{"$f":"VLOOKUP(A1996,'Mapa de Preços'!$A$16:$J$2988,10,0)","v":"Falta Orçamento"},"",null,1969,null,0]
[1970,{"$f":"IF(VLOOKUP(A1997,'Mapa de Preços'!$A$16:$B$2988,2,0)=FALSE,\"Falta (U.M.)\",VLOOKUP(A1997,'Mapa de Preços'!$A$16:$B$2988,2,0))","v":"Falta (U.M.)"},"","",null,{"$f":"VLOOKUP(A1997,'Mapa de Preços'!$A$16:$J$2988,10,0)","v":"Falta Orçamento"},"",null,1970,null,0]
[1971,{"$f":"IF(VLOOKUP(A1998,'Mapa de Preços'!$A$16:$B$2988,2,0)=FALSE,\"Falta (U.M.)\",VLOOKUP(A1998,'Mapa de Preços'!$A$16:$B$2988,2,0))","v":"Falta (U.M.)"},"","",null,{"$f":"VLOOKUP(A1998,'Mapa de Preços'!$A$16:$J$2988,10,0)","v":"Falta Orçamento"},"",null,1971,null,0]
[1972,{"$f":"IF(VLOOKUP(A1999,'Mapa de Preços'!$A$16:$B$2988,2,0)=FALSE,\"Falta (U.M.)\",VLOOKUP(A1999,'Mapa de Preços'!$A$16:$B$2988,2,0))","v":"Falta (U.M.)"},"","",null,{"$f":"VLOOKUP(A1999,'Mapa de Preços'!$A$16:$J$2988,10,0)","v":"Falta Orçamento"},"",null,1972,null,0]
[1973,{"$f":"IF(VLOOKUP(A2000,'Mapa de Preços'!$A$16:$B$2988,2,0)=FALSE,\"Falta (U.M.)\",VLOOKUP(A2000,'Mapa de Preços'!$A$16:$B$2988,2,0))","v":"Falta (U.M.)"},"","",null,{"$f":"VLOOKUP(A2000,'Mapa de Preços'!$A$16:$J$2988,10,0)","v":"Falta Orçamento"},"",null,1973,null,0]
[1974,{"$f":"IF(VLOOKUP(A2001,'Mapa de Preços'!$A$16:$B$2988,2,0)=FALSE,\"Falta (U.M.)\",VLOOKUP(A2001,'Mapa de Preços'!$A$16:$B$2988,2,0))","v":"Falta (U.M.)"},"","",null,{"$f":"VLOOKUP(A2001,'Mapa de Preços'!$A$16:$J$2988,10,0)","v":"Falta Orçamento"},"",null,1974,null,0]
[1975,{"$f":"IF(VLOOKUP(A2002,'Mapa de Preços'!$A$16:$B$2988,2,0)=FALSE,\"Falta (U.M.)\",VLOOKUP(A2002,'Mapa de Preços'!$A$16:$B$2988,2,0))","v":"Falta (U.M.)"},"","",null,{"$f":"VLOOKUP(A2002,'Mapa de Preços'!$A$16:$J$2988,10,0)","v":"Falta Orçamento"},"",null,1975,null,0]
[1976,{"$f":"IF(VLOOKUP(A2003,'Mapa de Preços'!$A$16:$B$2988,2,0)=FALSE,\"Falta (U.M.)\",VLOOKUP(A2003,'Mapa de Preços'!$A$16:$B$2988,2,0))","v":"Falta (U.M.)"},"","",null,{"$f":"VLOOKUP(A2003,'Mapa de Preços'!$A$16:$J$2988,10,0)","v":"Falta Orçamento"},"",null,1976,null,0]
[1977,{"$f":"IF(VLOOKUP(A2004,'Mapa de Preços'!$A$16:$B$2988,2,0)=FALSE,\"Falta (U.M.)\",VLOOKUP(A2004,'Mapa de Preços'!$A$16:$B$2988,2,0))","v":"Falta (U.M.)"},"","",null,{"$f":"VLOOKUP(A2004,'Mapa de Preços'!$A$16:$J$2988,10,0)","v":"Falta Orçamento"},"",null,1977,null,0]
[1978,{"$f":"IF(VLOOKUP(A2005,'Mapa de Preços'!$A$16:$B$2988,2,0)=FALSE,\"Falta (U.M.)\",VLOOKUP(A2005,'Mapa de Preços'!$A$16:$B$2988,2,0))","v":"Falta (U.M.)"},"","",null,{"$f":"VLOOKUP(A2005,'Mapa de Preços'!$A$16:$J$2988,10,0)","v":"Falta Orçamento"},"",null,1978,null,0]
[1979,{"$f":"IF(VLOOKUP(A2006,'Mapa de Preços'!$A$16:$B$2988,2,0)=FALSE,\"Falta (U.M.)\",VLOOKUP(A2006,'Mapa de Preços'!$A$16:$B$2988,2,0))","v":"Falta (U.M.)"},"","",null,{"$f":"VLOOKUP(A2006,'Mapa de Preços'!$A$16:$J$2988,10,0)","v":"Falta Orçamento"},"",null,1979,null,0]
[1980,{"$f":"IF(VLOOKUP(A2007,'Mapa de Preços'!$A$16:$B$2988,2,0)=FALSE,\"Falta (U.M.)\",VLOOKUP(A2007,'Mapa de Preços'!$A$16:$B$2988,2,0))","v":"Falta (U.M.)"},"","",null,{"$f":"VLOOKUP(A2007,'Mapa de Preços'!$A$16:$J$2988,10,0)","v":"Falta Orçamento"},"",null,1980,null,0]
[1981,{"$f":"IF(VLOOKUP(A2008,'Mapa de Preços'!$A$16:$B$2988,2,0)=FALSE,\"Falta (U.M.)\",VLOOKUP(A2008,'Mapa de Preços'!$A$16:$B$2988,2,0))","v":"Falta (U.M.)"},"","",null,{"$f":"VLOOKUP(A2008,'Mapa de Preços'!$A$16:$J$2988,10,0)","v":"Falta Orçamento"},"",null,1981,null,0]
[1982,{"$f":"IF(VLOOKUP(A2009,'Mapa de Preços'!$A$16:$B$2988,2,0)=FALSE,\"Falta (U.M.)\",VLOOKUP(A2009,'Mapa de Preços'!$A$16:$B$2988,2,0))","v":"Falta (U.M.)"},"","",null,{"$f":"VLOOKUP(A2009,'Mapa de Preços'!$A$16:$J$2988,10,0)","v":"Falta Orçamento"},"",null,1982,null,0]
[1983,{"$f":"IF(VLOOKUP(A2010,'Mapa de Preços'!$A$16:$B$2988,2,0)=FALSE,\"Falta (U.M.)\",VLOOKUP(A2010,'Mapa de Preços'!$A$16:$B$2988,2,0))","v":"Falta (U.M.)"},"","",null,{"$f":"VLOOKUP(A2010,'Mapa de Preços'!$A$16:$J$2988,10,0)","v":"Falta Orçamento"},"",null,1983,null,0]
[1984,{"$f":"IF(VLOOKUP(A2011,'Mapa de Preços'!$A$16:$B$2988,2,0)=FALSE,\"Falta (U.M.)\",VLOOKUP(A2011,'Mapa de Preços'!$A$16:$B$2988,2,0))","v":"Falta (U.M.)"},"","",null,{"$f":"VLOOKUP(A2011,'Mapa de Preços'!$A$16:$J$2988,10,0)","v":"Falta Orçamento"},"",null,1984,null,0]
[1985,{"$f":"IF(VLOOKUP(A2012,'Mapa de Preços'!$A$16:$B$2988,2,0)=FALSE,\"Falta (U.M.)\",VLOOKUP(A2012,'Mapa de Preços'!$A$16:$B$2988,2,0))","v":"Falta (U.M.)"},"","",null,{"$f":"VLOOKUP(A2012,'Mapa de Preços'!$A$16:$J$2988,10,0)","v":"Falta Orçamento"},"",null,1985,null,{"$f":"SUM(L2012:AI2012)","v":0}]
[1986,{"$f":"IF(VLOOKUP(A2013,'Mapa de Preços'!$A$16:$B$2988,2,0)=FALSE,\"Falta (U.M.)\",VLOOKUP(A2013,'Mapa de Preços'!$A$16:$B$2988,2,0))","v":"Falta (U.M.)"},{"$f":"IF(J2013<>\"\",J2013,\"\")","v":""},{"$f":"IF(VLOOKUP(A2013,$I$28:$AI$3000,$G$26,FALSE)<>\"\",VLOOKUP(A2013,$I$28:$AI$3000,$G$26,FALSE),\"\")","v":""},null,{"$f":"VLOOKUP(A2013,'Mapa de Preços'!$A$16:$J$2988,10,0)","v":"Falta Orçamento"},{"$f":"IF(F2013=\"Falta Orçamento\",\"\",F2013*D2013)","v":""},null,1986,null,0]
[1987,{"$f":"IF(VLOOKUP(A2014,'Mapa de Preços'!$A$16:$B$2988,2,0)=FALSE,\"Falta (U.M.)\",VLOOKUP(A2014,'Mapa de Preços'!$A$16:$B$2988,2,0))","v":"Falta (U.M.)"},"","",null,{"$f":"VLOOKUP(A2014,'Mapa de Preços'!$A$16:$J$2988,10,0)","v":"Falta Orçamento"},"",null,1987,null,0]
[1988,{"$f":"IF(VLOOKUP(A2015,'Mapa de Preços'!$A$16:$B$2988,2,0)=FALSE,\"Falta (U.M.)\",VLOOKUP(A2015,'Mapa de Preços'!$A$16:$B$2988,2,0))","v":"Falta (U.M.)"},"","",null,{"$f":"VLOOKUP(A2015,'Mapa de Preços'!$A$16:$J$2988,10,0)","v":"Falta Orçamento"},"",null,1988,null,0]
[1989,{"$f":"IF(VLOOKUP(A2016,'Mapa de Preços'!$A$16:$B$2988,2,0)=FALSE,\"Falta (U.M.)\",VLOOKUP(A2016,'Mapa de Preços'!$A$16:$B$2988,2,0))","v":"Falta (U.M.)"},"","",null,{"$f":"VLOOKUP(A2016,'Mapa de Preços'!$A$16:$J$2988,10,0)","v":"Falta Orçamento"},"",null,1989,null,0]
[1990,{"$f":"IF(VLOOKUP(A2017,'Mapa de Preços'!$A$16:$B$2988,2,0)=FALSE,\"Falta (U.M.)\",VLOOKUP(A2017,'Mapa de Preços'!$A$16:$B$2988,2,0))","v":"Falta (U.M.)"},"","",null,{"$f":"VLOOKUP(A2017,'Mapa de Preços'!$A$16:$J$2988,10,0)","v":"Falta Orçamento"},"",null,1990,null,0]
[1991,{"$f":"IF(VLOOKUP(A2018,'Mapa de Preços'!$A$16:$B$2988,2,0)=FALSE,\"Falta (U.M.)\",VLOOKUP(A2018,'Mapa de Preços'!$A$16:$B$2988,2,0))","v":"Falta (U.M.)"},"","",null,{"$f":"VLOOKUP(A2018,'Mapa de Preços'!$A$16:$J$2988,10,0)","v":"Falta Orçamento"},"",null,1991,null,0]
[1992,{"$f":"IF(VLOOKUP(A2019,'Mapa de Preços'!$A$16:$B$2988,2,0)=FALSE,\"Falta (U.M.)\",VLOOKUP(A2019,'Mapa de Preços'!$A$16:$B$2988,2,0))","v":"Falta (U.M.)"},"","",null,{"$f":"VLOOKUP(A2019,'Mapa de Preços'!$A$16:$J$2988,10,0)","v":"Falta Orçamento"},"",null,1992,null,0]
[1993,{"$f":"IF(VLOOKUP(A2020,'Mapa de Preços'!$A$16:$B$2988,2,0)=FALSE,\"Falta (U.M.)\",VLOOKUP(A2020,'Mapa de Preços'!$A$16:$B$2988,2,0))","v":"Falta (U.M.)"},"","",null,{"$f":"VLOOKUP(A2020,'Mapa de Preços'!$A$16:$J$2988,10,0)","v":"Falta Orçamento"},"",null,1993,null,0]
[1994,{"$f":"IF(VLOOKUP(A2021,'Mapa de Preços'!$A$16:$B$2988,2,0)=FALSE,\"Falta (U.M.)\",VLOOKUP(A2021,'Mapa de Preços'!$A$16:$B$2988,2,0))","v":"Falta (U.M.)"},"","",null,{"$f":"VLOOKUP(A2021,'Mapa de Preços'!$A$16:$J$2988,10,0)","v":"Falta Orçamento"},"",null,1994,null,0]
[1995,{"$f":"IF(VLOOKUP(A2022,'Mapa de Preços'!$A$16:$B$2988,2,0)=FALSE,\"Falta (U.M.)\",VLOOKUP(A2022,'Mapa de Preços'!$A$16:$B$2988,2,0))","v":"Falta (U.M.)"},"","",null,{"$f":"VLOOKUP(A2022,'Mapa de Preços'!$A$16:$J$2988,10,0)","v":"Falta Orçamento"},"",null,1995,null,0]
[1996,{"$f":"IF(VLOOKUP(A2023,'Mapa de Preços'!$A$16:$B$2988,2,0)=FALSE,\"Falta (U.M.)\",VLOOKUP(A2023,'Mapa de Preços'!$A$16:$B$2988,2,0))","v":"Falta (U.M.)"},"","",null,{"$f":"VLOOKUP(A2023,'Mapa de Preços'!$A$16:$J$2988,10,0)","v":"Falta Orçamento"},"",null,1996,null,0]
[1997,{"$f":"IF(VLOOKUP(A2024,'Mapa de Preços'!$A$16:$B$2988,2,0)=FALSE,\"Falta (U.M.)\",VLOOKUP(A2024,'Mapa de Preços'!$A$16:$B$2988,2,0))","v":"Falta (U.M.)"},"","",null,{"$f":"VLOOKUP(A2024,'Mapa de Preços'!$A$16:$J$2988,10,0)","v":"Falta Orçamento"},"",null,1997,null,0]
[1998,{"$f":"IF(VLOOKUP(A2025,'Mapa de Preços'!$A$16:$B$2988,2,0)=FALSE,\"Falta (U.M.)\",VLOOKUP(A2025,'Mapa de Preços'!$A$16:$B$2988,2,0))","v":"Falta (U.M.)"},"","",null,{"$f":"VLOOKUP(A2025,'Mapa de Preços'!$A$16:$J$2988,10,0)","v":"Falta Orçamento"},"",null,1998,null,0]
[1999,{"$f":"IF(VLOOKUP(A2026,'Mapa de Preços'!$A$16:$B$2988,2,0)=FALSE,\"Falta (U.M.)\",VLOOKUP(A2026,'Mapa de Preços'!$A$16:$B$2988,2,0))","v":"Falta (U.M.)"},"","",null,{"$f":"VLOOKUP(A2026,'Mapa de Preços'!$A$16:$J$2988,10,0)","v":"Falta Orçamento"},"",null,1999,null,0]
[2000,{"$f":"IF(VLOOKUP(A2027,'Mapa de Preços'!$A$16:$B$2988,2,0)=FALSE,\"Falta (U.M.)\",VLOOKUP(A2027,'Mapa de Preços'!$A$16:$B$2988,2,0))","v":"Falta (U.M.)"},"","",null,{"$f":"VLOOKUP(A2027,'Mapa de Preços'!$A$16:$J$2988,10,0)","v":"Falta Orçamento"},"",null,2000,null,0]
[2001,{"$f":"IF(VLOOKUP(A2028,'Mapa de Preços'!$A$16:$B$2988,2,0)=FALSE,\"Falta (U.M.)\",VLOOKUP(A2028,'Mapa de Preços'!$A$16:$B$2988,2,0))","v":"Falta (U.M.)"},"","",null,{"$f":"VLOOKUP(A2028,'Mapa de Preços'!$A$16:$J$2988,10,0)","v":"Falta Orçamento"},"",null,2001,null,0]
[2002,{"$f":"IF(VLOOKUP(A2029,'Mapa de Preços'!$A$16:$B$2988,2,0)=FALSE,\"Falta (U.M.)\",VLOOKUP(A2029,'Mapa de Preços'!$A$16:$B$2988,2,0))","v":"Falta (U.M.)"},"","",null,{"$f":"VLOOKUP(A2029,'Mapa de Preços'!$A$16:$J$2988,10,0)","v":"Falta Orçamento"},"",null,2002,null,0]
[2003,{"$f":"IF(VLOOKUP(A2030,'Mapa de Preços'!$A$16:$B$2988,2,0)=FALSE,\"Falta (U.M.)\",VLOOKUP(A2030,'Mapa de Preços'!$A$16:$B$2988,2,0))","v":"Falta (U.M.)"},"","",null,{"$f":"VLOOKUP(A2030,'Mapa de Preços'!$A$16:$J$2988,10,0)","v":"Falta Orçamento"},"",null,2003,null,0]
[2004,{"$f":"IF(VLOOKUP(A2031,'Mapa de Preços'!$A$16:$B$2988,2,0)=FALSE,\"Falta (U.M.)\",VLOOKUP(A2031,'Mapa de Preços'!$A$16:$B$2988,2,0))","v":"Falta (U.M.)"},"","",null,{"$f":"VLOOKUP(A2031,'Mapa de Preços'!$A$16:$J$2988,10,0)","v":"Falta Orçamento"},"",null,2004,null,0]
[2005,{"$f":"IF(VLOOKUP(A2032,'Mapa de Preços'!$A$16:$B$2988,2,0)=FALSE,\"Falta (U.M.)\",VLOOKUP(A2032,'Mapa de Preços'!$A$16:$B$2988,2,0))","v":"Falta (U.M.)"},"","",null,{"$f":"VLOOKUP(A2032,'Mapa de Preços'!$A$16:$J$2988,10,0)","v":"Falta Orçamento"},"",null,2005,null,0]
[2006,{"$f":"IF(VLOOKUP(A2033,'Mapa de Preços'!$A$16:$B$2988,2,0)=FALSE,\"Falta (U.M.)\",VLOOKUP(A2033,'Mapa de Preços'!$A$16:$B$2988,2,0))","v":"Falta (U.M.)"},"","",null,{"$f":"VLOOKUP(A2033,'Mapa de Preços'!$A$16:$J$2988,10,0)","v":"Falta Orçamento"},"",null,2006,null,0]
[2007,{"$f":"IF(VLOOKUP(A2034,'Mapa de Preços'!$A$16:$B$2988,2,0)=FALSE,\"Falta (U.M.)\",VLOOKUP(A2034,'Mapa de Preços'!$A$16:$B$2988,2,0))","v":"Falta (U.M.)"},"","",null,{"$f":"VLOOKUP(A2034,'Mapa de Preços'!$A$16:$J$2988,10,0)","v":"Falta Orçamento"},"",null,2007,null,0]
[2008,{"$f":"IF(VLOOKUP(A2035,'Mapa de Preços'!$A$16:$B$2988,2,0)=FALSE,\"Falta (U.M.)\",VLOOKUP(A2035,'Mapa de Preços'!$A$16:$B$2988,2,0))","v":"Falta (U.M.)"},"","",null,{"$f":"VLOOKUP(A2035,'Mapa de Preços'!$A$16:$J$2988,10,0)","v":"Falta Orçamento"},"",null,2008,null,0]
[2009,{"$f":"IF(VLOOKUP(A2036,'Mapa de Preços'!$A$16:$B$2988,2,0)=FALSE,\"Falta (U.M.)\",VLOOKUP(A2036,'Mapa de Preços'!$A$16:$B$2988,2,0))","v":"Falta (U.M.)"},"","",null,{"$f":"VLOOKUP(A2036,'Mapa de Preços'!$A$16:$J$2988,10,0)","v":"Falta Orçamento"},"",null,2009,null,0]
[2010,{"$f":"IF(VLOOKUP(A2037,'Mapa de Preços'!$A$16:$B$2988,2,0)=FALSE,\"Falta (U.M.)\",VLOOKUP(A2037,'Mapa de Preços'!$A$16:$B$2988,2,0))","v":"Falta (U.M.)"},"","",null,{"$f":"VLOOKUP(A2037,'Mapa de Preços'!$A$16:$J$2988,10,0)","v":"Falta Orçamento"},"",null,2010,null,0]
[2011,{"$f":"IF(VLOOKUP(A2038,'Mapa de Preços'!$A$16:$B$2988,2,0)=FALSE,\"Falta (U.M.)\",VLOOKUP(A2038,'Mapa de Preços'!$A$16:$B$2988,2,0))","v":"Falta (U.M.)"},"","",null,{"$f":"VLOOKUP(A2038,'Mapa de Preços'!$A$16:$J$2988,10,0)","v":"Falta Orçamento"},"",null,2011,null,0]
[2012,{"$f":"IF(VLOOKUP(A2039,'Mapa de Preços'!$A$16:$B$2988,2,0)=FALSE,\"Falta (U.M.)\",VLOOKUP(A2039,'Mapa de Preços'!$A$16:$B$2988,2,0))","v":"Falta (U.M.)"},"","",null,{"$f":"VLOOKUP(A2039,'Mapa de Preços'!$A$16:$J$2988,10,0)","v":"Falta Orçamento"},"",null,2012,null,0]
[2013,{"$f":"IF(VLOOKUP(A2040,'Mapa de Preços'!$A$16:$B$2988,2,0)=FALSE,\"Falta (U.M.)\",VLOOKUP(A2040,'Mapa de Preços'!$A$16:$B$2988,2,0))","v":"Falta (U.M.)"},"","",null,{"$f":"VLOOKUP(A2040,'Mapa de Preços'!$A$16:$J$2988,10,0)","v":"Falta Orçamento"},"",null,2013,null,0]
[2014,{"$f":"IF(VLOOKUP(A2041,'Mapa de Preços'!$A$16:$B$2988,2,0)=FALSE,\"Falta (U.M.)\",VLOOKUP(A2041,'Mapa de Preços'!$A$16:$B$2988,2,0))","v":"Falta (U.M.)"},"","",null,{"$f":"VLOOKUP(A2041,'Mapa de Preços'!$A$16:$J$2988,10,0)","v":"Falta Orçamento"},"",null,2014,null,0]
[2015,{"$f":"IF(VLOOKUP(A2042,'Mapa de Preços'!$A$16:$B$2988,2,0)=FALSE,\"Falta (U.M.)\",VLOOKUP(A2042,'Mapa de Preços'!$A$16:$B$2988,2,0))","v":"Falta (U.M.)"},"","",null,{"$f":"VLOOKUP(A2042,'Mapa de Preços'!$A$16:$J$2988,10,0)","v":"Falta Orçamento"},"",null,2015,null,0]
[2016,{"$f":"IF(VLOOKUP(A2043,'Mapa de Preços'!$A$16:$B$2988,2,0)=FALSE,\"Falta (U.M.)\",VLOOKUP(A2043,'Mapa de Preços'!$A$16:$B$2988,2,0))","v":"Falta (U.M.)"},"","",null,{"$f":"VLOOKUP(A2043,'Mapa de Preços'!$A$16:$J$2988,10,0)","v":"Falta Orçamento"},"",null,2016,null,0]
[2017,{"$f":"IF(VLOOKUP(A2044,'Mapa de Preços'!$A$16:$B$2988,2,0)=FALSE,\"Falta (U.M.)\",VLOOKUP(A2044,'Mapa de Preços'!$A$16:$B$2988,2,0))","v":"Falta (U.M.)"},"","",null,{"$f":"VLOOKUP(A2044,'Mapa de Preços'!$A$16:$J$2988,10,0)","v":"Falta Orçamento"},"",null,2017,null,0]
[2018,{"$f":"IF(VLOOKUP(A2045,'Mapa de Preços'!$A$16:$B$2988,2,0)=FALSE,\"Falta (U.M.)\",VLOOKUP(A2045,'Mapa de Preços'!$A$16:$B$2988,2,0))","v":"Falta (U.M.)"},"","",null,{"$f":"VLOOKUP(A2045,'Mapa de Preços'!$A$16:$J$2988,10,0)","v":"Falta Orçamento"},"",null,2018,null,0]
[2019,{"$f":"IF(VLOOKUP(A2046,'Mapa de Preços'!$A$16:$B$2988,2,0)=FALSE,\"Falta (U.M.)\",VLOOKUP(A2046,'Mapa de Preços'!$A$16:$B$2988,2,0))","v":"Falta (U.M.)"},"","",null,{"$f":"VLOOKUP(A2046,'Mapa de Preços'!$A$16:$J$2988,10,0)","v":"Falta Orçamento"},"",null,2019,null,0]
[2020,{"$f":"IF(VLOOKUP(A2047,'Mapa de Preços'!$A$16:$B$2988,2,0)=FALSE,\"Falta (U.M.)\",VLOOKUP(A2047,'Mapa de Preços'!$A$16:$B$2988,2,0))","v":"Falta (U.M.)"},"","",null,{"$f":"VLOOKUP(A2047,'Mapa de Preços'!$A$16:$J$2988,10,0)","v":"Falta Orçamento"},"",null,2020,null,0]
[2021,{"$f":"IF(VLOOKUP(A2048,'Mapa de Preços'!$A$16:$B$2988,2,0)=FALSE,\"Falta (U.M.)\",VLOOKUP(A2048,'Mapa de Preços'!$A$16:$B$2988,2,0))","v":"Falta (U.M.)"},"","",null,{"$f":"VLOOKUP(A2048,'Mapa de Preços'!$A$16:$J$2988,10,0)","v":"Falta Orçamento"},"",null,2021,null,0]
[2022,{"$f":"IF(VLOOKUP(A2049,'Mapa de Preços'!$A$16:$B$2988,2,0)=FALSE,\"Falta (U.M.)\",VLOOKUP(A2049,'Mapa de Preços'!$A$16:$B$2988,2,0))","v":"Falta (U.M.)"},"","",null,{"$f":"VLOOKUP(A2049,'Mapa de Preços'!$A$16:$J$2988,10,0)","v":"Falta Orçamento"},"",null,2022,null,0]
[2023,{"$f":"IF(VLOOKUP(A2050,'Mapa de Preços'!$A$16:$B$2988,2,0)=FALSE,\"Falta (U.M.)\",VLOOKUP(A2050,'Mapa de Preços'!$A$16:$B$2988,2,0))","v":"Falta (U.M.)"},"","",null,{"$f":"VLOOKUP(A2050,'Mapa de Preços'!$A$16:$J$2988,10,0)","v":"Falta Orçamento"},"",null,2023,null,0]
[2024,{"$f":"IF(VLOOKUP(A2051,'Mapa de Preços'!$A$16:$B$2988,2,0)=FALSE,\"Falta (U.M.)\",VLOOKUP(A2051,'Mapa de Preços'!$A$16:$B$2988,2,0))","v":"Falta (U.M.)"},"","",null,{"$f":"VLOOKUP(A2051,'Mapa de Preços'!$A$16:$J$2988,10,0)","v":"Falta Orçamento"},"",null,2024,null,0]
[2025,{"$f":"IF(VLOOKUP(A2052,'Mapa de Preços'!$A$16:$B$2988,2,0)=FALSE,\"Falta (U.M.)\",VLOOKUP(A2052,'Mapa de Preços'!$A$16:$B$2988,2,0))","v":"Falta (U.M.)"},"","",null,{"$f":"VLOOKUP(A2052,'Mapa de Preços'!$A$16:$J$2988,10,0)","v":"Falta Orçamento"},"",null,2025,null,0]
[2026,{"$f":"IF(VLOOKUP(A2053,'Mapa de Preços'!$A$16:$B$2988,2,0)=FALSE,\"Falta (U.M.)\",VLOOKUP(A2053,'Mapa de Preços'!$A$16:$B$2988,2,0))","v":"Falta (U.M.)"},"","",null,{"$f":"VLOOKUP(A2053,'Mapa de Preços'!$A$16:$J$2988,10,0)","v":"Falta Orçamento"},"",null,2026,null,0]
[2027,{"$f":"IF(VLOOKUP(A2054,'Mapa de Preços'!$A$16:$B$2988,2,0)=FALSE,\"Falta (U.M.)\",VLOOKUP(A2054,'Mapa de Preços'!$A$16:$B$2988,2,0))","v":"Falta (U.M.)"},"","",null,{"$f":"VLOOKUP(A2054,'Mapa de Preços'!$A$16:$J$2988,10,0)","v":"Falta Orçamento"},"",null,2027,null,0]
[2028,{"$f":"IF(VLOOKUP(A2055,'Mapa de Preços'!$A$16:$B$2988,2,0)=FALSE,\"Falta (U.M.)\",VLOOKUP(A2055,'Mapa de Preços'!$A$16:$B$2988,2,0))","v":"Falta (U.M.)"},"","",null,{"$f":"VLOOKUP(A2055,'Mapa de Preços'!$A$16:$J$2988,10,0)","v":"Falta Orçamento"},"",null,2028,null,0]
[2029,{"$f":"IF(VLOOKUP(A2056,'Mapa de Preços'!$A$16:$B$2988,2,0)=FALSE,\"Falta (U.M.)\",VLOOKUP(A2056,'Mapa de Preços'!$A$16:$B$2988,2,0))","v":"Falta (U.M.)"},"","",null,{"$f":"VLOOKUP(A2056,'Mapa de Preços'!$A$16:$J$2988,10,0)","v":"Falta Orçamento"},"",null,2029,null,0]
[2030,{"$f":"IF(VLOOKUP(A2057,'Mapa de Preços'!$A$16:$B$2988,2,0)=FALSE,\"Falta (U.M.)\",VLOOKUP(A2057,'Mapa de Preços'!$A$16:$B$2988,2,0))","v":"Falta (U.M.)"},"","",null,{"$f":"VLOOKUP(A2057,'Mapa de Preços'!$A$16:$J$2988,10,0)","v":"Falta Orçamento"},"",null,2030,null,0]
[2031,{"$f":"IF(VLOOKUP(A2058,'Mapa de Preços'!$A$16:$B$2988,2,0)=FALSE,\"Falta (U.M.)\",VLOOKUP(A2058,'Mapa de Preços'!$A$16:$B$2988,2,0))","v":"Falta (U.M.)"},"","",null,{"$f":"VLOOKUP(A2058,'Mapa de Preços'!$A$16:$J$2988,10,0)","v":"Falta Orçamento"},"",null,2031,null,0]
[2032,{"$f":"IF(VLOOKUP(A2059,'Mapa de Preços'!$A$16:$B$2988,2,0)=FALSE,\"Falta (U.M.)\",VLOOKUP(A2059,'Mapa de Preços'!$A$16:$B$2988,2,0))","v":"Falta (U.M.)"},"","",null,{"$f":"VLOOKUP(A2059,'Mapa de Preços'!$A$16:$J$2988,10,0)","v":"Falta Orçamento"},"",null,2032,null,0]
[2033,{"$f":"IF(VLOOKUP(A2060,'Mapa de Preços'!$A$16:$B$2988,2,0)=FALSE,\"Falta (U.M.)\",VLOOKUP(A2060,'Mapa de Preços'!$A$16:$B$2988,2,0))","v":"Falta (U.M.)"},"","",null,{"$f":"VLOOKUP(A2060,'Mapa de Preços'!$A$16:$J$2988,10,0)","v":"Falta Orçamento"},"",null,2033,null,0]
[2034,{"$f":"IF(VLOOKUP(A2061,'Mapa de Preços'!$A$16:$B$2988,2,0)=FALSE,\"Falta (U.M.)\",VLOOKUP(A2061,'Mapa de Preços'!$A$16:$B$2988,2,0))","v":"Falta (U.M.)"},"","",null,{"$f":"VLOOKUP(A2061,'Mapa de Preços'!$A$16:$J$2988,10,0)","v":"Falta Orçamento"},"",null,2034,null,0]
[2035,{"$f":"IF(VLOOKUP(A2062,'Mapa de Preços'!$A$16:$B$2988,2,0)=FALSE,\"Falta (U.M.)\",VLOOKUP(A2062,'Mapa de Preços'!$A$16:$B$2988,2,0))","v":"Falta (U.M.)"},"","",null,{"$f":"VLOOKUP(A2062,'Mapa de Preços'!$A$16:$J$2988,10,0)","v":"Falta Orçamento"},"",null,2035,null,0]
[2036,{"$f":"IF(VLOOKUP(A2063,'Mapa de Preços'!$A$16:$B$2988,2,0)=FALSE,\"Falta (U.M.)\",VLOOKUP(A2063,'Mapa de Preços'!$A$16:$B$2988,2,0))","v":"Falta (U.M.)"},"","",null,{"$f":"VLOOKUP(A2063,'Mapa de Preços'!$A$16:$J$2988,10,0)","v":"Falta Orçamento"},"",null,2036,null,0]
[2037,{"$f":"IF(VLOOKUP(A2064,'Mapa de Preços'!$A$16:$B$2988,2,0)=FALSE,\"Falta (U.M.)\",VLOOKUP(A2064,'Mapa de Preços'!$A$16:$B$2988,2,0))","v":"Falta (U.M.)"},"","",null,{"$f":"VLOOKUP(A2064,'Mapa de Preços'!$A$16:$J$2988,10,0)","v":"Falta Orçamento"},"",null,2037,null,0]
[2038,{"$f":"IF(VLOOKUP(A2065,'Mapa de Preços'!$A$16:$B$2988,2,0)=FALSE,\"Falta (U.M.)\",VLOOKUP(A2065,'Mapa de Preços'!$A$16:$B$2988,2,0))","v":"Falta (U.M.)"},"","",null,{"$f":"VLOOKUP(A2065,'Mapa de Preços'!$A$16:$J$2988,10,0)","v":"Falta Orçamento"},"",null,2038,null,0]
[2039,{"$f":"IF(VLOOKUP(A2066,'Mapa de Preços'!$A$16:$B$2988,2,0)=FALSE,\"Falta (U.M.)\",VLOOKUP(A2066,'Mapa de Preços'!$A$16:$B$2988,2,0))","v":"Falta (U.M.)"},"","",null,{"$f":"VLOOKUP(A2066,'Mapa de Preços'!$A$16:$J$2988,10,0)","v":"Falta Orçamento"},"",null,2039,null,0]
[2040,{"$f":"IF(VLOOKUP(A2067,'Mapa de Preços'!$A$16:$B$2988,2,0)=FALSE,\"Falta (U.M.)\",VLOOKUP(A2067,'Mapa de Preços'!$A$16:$B$2988,2,0))","v":"Falta (U.M.)"},"","",null,{"$f":"VLOOKUP(A2067,'Mapa de Preços'!$A$16:$J$2988,10,0)","v":"Falta Orçamento"},"",null,2040,null,0]
[2041,{"$f":"IF(VLOOKUP(A2068,'Mapa de Preços'!$A$16:$B$2988,2,0)=FALSE,\"Falta (U.M.)\",VLOOKUP(A2068,'Mapa de Preços'!$A$16:$B$2988,2,0))","v":"Falta (U.M.)"},"","",null,{"$f":"VLOOKUP(A2068,'Mapa de Preços'!$A$16:$J$2988,10,0)","v":"Falta Orçamento"},"",null,2041,null,0]
[2042,{"$f":"IF(VLOOKUP(A2069,'Mapa de Preços'!$A$16:$B$2988,2,0)=FALSE,\"Falta (U.M.)\",VLOOKUP(A2069,'Mapa de Preços'!$A$16:$B$2988,2,0))","v":"Falta (U.M.)"},"","",null,{"$f":"VLOOKUP(A2069,'Mapa de Preços'!$A$16:$J$2988,10,0)","v":"Falta Orçamento"},"",null,2042,null,0]
[2043,{"$f":"IF(VLOOKUP(A2070,'Mapa de Preços'!$A$16:$B$2988,2,0)=FALSE,\"Falta (U.M.)\",VLOOKUP(A2070,'Mapa de Preços'!$A$16:$B$2988,2,0))","v":"Falta (U.M.)"},"","",null,{"$f":"VLOOKUP(A2070,'Mapa de Preços'!$A$16:$J$2988,10,0)","v":"Falta Orçamento"},"",null,2043,null,0]
[2044,{"$f":"IF(VLOOKUP(A2071,'Mapa de Preços'!$A$16:$B$2988,2,0)=FALSE,\"Falta (U.M.)\",VLOOKUP(A2071,'Mapa de Preços'!$A$16:$B$2988,2,0))","v":"Falta (U.M.)"},"","",null,{"$f":"VLOOKUP(A2071,'Mapa de Preços'!$A$16:$J$2988,10,0)","v":"Falta Orçamento"},"",null,2044,null,0]
[2045,{"$f":"IF(VLOOKUP(A2072,'Mapa de Preços'!$A$16:$B$2988,2,0)=FALSE,\"Falta (U.M.)\",VLOOKUP(A2072,'Mapa de Preços'!$A$16:$B$2988,2,0))","v":"Falta (U.M.)"},"","",null,{"$f":"VLOOKUP(A2072,'Mapa de Preços'!$A$16:$J$2988,10,0)","v":"Falta Orçamento"},"",null,2045,null,0]
[2046,{"$f":"IF(VLOOKUP(A2073,'Mapa de Preços'!$A$16:$B$2988,2,0)=FALSE,\"Falta (U.M.)\",VLOOKUP(A2073,'Mapa de Preços'!$A$16:$B$2988,2,0))","v":"Falta (U.M.)"},"","",null,{"$f":"VLOOKUP(A2073,'Mapa de Preços'!$A$16:$J$2988,10,0)","v":"Falta Orçamento"},"",null,2046,null,0]
[2047,{"$f":"IF(VLOOKUP(A2074,'Mapa de Preços'!$A$16:$B$2988,2,0)=FALSE,\"Falta (U.M.)\",VLOOKUP(A2074,'Mapa de Preços'!$A$16:$B$2988,2,0))","v":"Falta (U.M.)"},"","",null,{"$f":"VLOOKUP(A2074,'Mapa de Preços'!$A$16:$J$2988,10,0)","v":"Falta Orçamento"},"",null,2047,null,0]
[2048,{"$f":"IF(VLOOKUP(A2075,'Mapa de Preços'!$A$16:$B$2988,2,0)=FALSE,\"Falta (U.M.)\",VLOOKUP(A2075,'Mapa de Preços'!$A$16:$B$2988,2,0))","v":"Falta (U.M.)"},"","",null,{"$f":"VLOOKUP(A2075,'Mapa de Preços'!$A$16:$J$2988,10,0)","v":"Falta Orçamento"},"",null,2048,null,0]
[2049,{"$f":"IF(VLOOKUP(A2076,'Mapa de Preços'!$A$16:$B$2988,2,0)=FALSE,\"Falta (U.M.)\",VLOOKUP(A2076,'Mapa de Preços'!$A$16:$B$2988,2,0))","v":"Falta (U.M.)"},"","",null,{"$f":"VLOOKUP(A2076,'Mapa de Preços'!$A$16:$J$2988,10,0)","v":"Falta Orçamento"},"",null,2049,null,{"$f":"SUM(L2076:AI2076)","v":0}]
[2050,{"$f":"IF(VLOOKUP(A2077,'Mapa de Preços'!$A$16:$B$2988,2,0)=FALSE,\"Falta (U.M.)\",VLOOKUP(A2077,'Mapa de Preços'!$A$16:$B$2988,2,0))","v":"Falta (U.M.)"},{"$f":"IF(J2077<>\"\",J2077,\"\")","v":""},{"$f":"IF(VLOOKUP(A2077,$I$28:$AI$3000,$G$26,FALSE)<>\"\",VLOOKUP(A2077,$I$28:$AI$3000,$G$26,FALSE),\"\")","v":""},null,{"$f":"VLOOKUP(A2077,'Mapa de Preços'!$A$16:$J$2988,10,0)","v":"Falta Orçamento"},{"$f":"IF(F2077=\"Falta Orçamento\",\"\",F2077*D2077)","v":""},null,2050,null,0]
[2051,{"$f":"IF(VLOOKUP(A2078,'Mapa de Preços'!$A$16:$B$2988,2,0)=FALSE,\"Falta (U.M.)\",VLOOKUP(A2078,'Mapa de Preços'!$A$16:$B$2988,2,0))","v":"Falta (U.M.)"},"","",null,{"$f":"VLOOKUP(A2078,'Mapa de Preços'!$A$16:$J$2988,10,0)","v":"Falta Orçamento"},"",null,2051,null,0]
[2052,{"$f":"IF(VLOOKUP(A2079,'Mapa de Preços'!$A$16:$B$2988,2,0)=FALSE,\"Falta (U.M.)\",VLOOKUP(A2079,'Mapa de Preços'!$A$16:$B$2988,2,0))","v":"Falta (U.M.)"},"","",null,{"$f":"VLOOKUP(A2079,'Mapa de Preços'!$A$16:$J$2988,10,0)","v":"Falta Orçamento"},"",null,2052,null,0]
[2053,{"$f":"IF(VLOOKUP(A2080,'Mapa de Preços'!$A$16:$B$2988,2,0)=FALSE,\"Falta (U.M.)\",VLOOKUP(A2080,'Mapa de Preços'!$A$16:$B$2988,2,0))","v":"Falta (U.M.)"},"","",null,{"$f":"VLOOKUP(A2080,'Mapa de Preços'!$A$16:$J$2988,10,0)","v":"Falta Orçamento"},"",null,2053,null,0]
[2054,{"$f":"IF(VLOOKUP(A2081,'Mapa de Preços'!$A$16:$B$2988,2,0)=FALSE,\"Falta (U.M.)\",VLOOKUP(A2081,'Mapa de Preços'!$A$16:$B$2988,2,0))","v":"Falta (U.M.)"},"","",null,{"$f":"VLOOKUP(A2081,'Mapa de Preços'!$A$16:$J$2988,10,0)","v":"Falta Orçamento"},"",null,2054,null,0]
[2055,{"$f":"IF(VLOOKUP(A2082,'Mapa de Preços'!$A$16:$B$2988,2,0)=FALSE,\"Falta (U.M.)\",VLOOKUP(A2082,'Mapa de Preços'!$A$16:$B$2988,2,0))","v":"Falta (U.M.)"},"","",null,{"$f":"VLOOKUP(A2082,'Mapa de Preços'!$A$16:$J$2988,10,0)","v":"Falta Orçamento"},"",null,2055,null,0]
[2056,{"$f":"IF(VLOOKUP(A2083,'Mapa de Preços'!$A$16:$B$2988,2,0)=FALSE,\"Falta (U.M.)\",VLOOKUP(A2083,'Mapa de Preços'!$A$16:$B$2988,2,0))","v":"Falta (U.M.)"},"","",null,{"$f":"VLOOKUP(A2083,'Mapa de Preços'!$A$16:$J$2988,10,0)","v":"Falta Orçamento"},"",null,2056,null,0]
[2057,{"$f":"IF(VLOOKUP(A2084,'Mapa de Preços'!$A$16:$B$2988,2,0)=FALSE,\"Falta (U.M.)\",VLOOKUP(A2084,'Mapa de Preços'!$A$16:$B$2988,2,0))","v":"Falta (U.M.)"},"","",null,{"$f":"VLOOKUP(A2084,'Mapa de Preços'!$A$16:$J$2988,10,0)","v":"Falta Orçamento"},"",null,2057,null,0]
[2058,{"$f":"IF(VLOOKUP(A2085,'Mapa de Preços'!$A$16:$B$2988,2,0)=FALSE,\"Falta (U.M.)\",VLOOKUP(A2085,'Mapa de Preços'!$A$16:$B$2988,2,0))","v":"Falta (U.M.)"},"","",null,{"$f":"VLOOKUP(A2085,'Mapa de Preços'!$A$16:$J$2988,10,0)","v":"Falta Orçamento"},"",null,2058,null,0]
[2059,{"$f":"IF(VLOOKUP(A2086,'Mapa de Preços'!$A$16:$B$2988,2,0)=FALSE,\"Falta (U.M.)\",VLOOKUP(A2086,'Mapa de Preços'!$A$16:$B$2988,2,0))","v":"Falta (U.M.)"},"","",null,{"$f":"VLOOKUP(A2086,'Mapa de Preços'!$A$16:$J$2988,10,0)","v":"Falta Orçamento"},"",null,2059,null,0]
[2060,{"$f":"IF(VLOOKUP(A2087,'Mapa de Preços'!$A$16:$B$2988,2,0)=FALSE,\"Falta (U.M.)\",VLOOKUP(A2087,'Mapa de Preços'!$A$16:$B$2988,2,0))","v":"Falta (U.M.)"},"","",null,{"$f":"VLOOKUP(A2087,'Mapa de Preços'!$A$16:$J$2988,10,0)","v":"Falta Orçamento"},"",null,2060,null,0]
[2061,{"$f":"IF(VLOOKUP(A2088,'Mapa de Preços'!$A$16:$B$2988,2,0)=FALSE,\"Falta (U.M.)\",VLOOKUP(A2088,'Mapa de Preços'!$A$16:$B$2988,2,0))","v":"Falta (U.M.)"},"","",null,{"$f":"VLOOKUP(A2088,'Mapa de Preços'!$A$16:$J$2988,10,0)","v":"Falta Orçamento"},"",null,2061,null,0]
[2062,{"$f":"IF(VLOOKUP(A2089,'Mapa de Preços'!$A$16:$B$2988,2,0)=FALSE,\"Falta (U.M.)\",VLOOKUP(A2089,'Mapa de Preços'!$A$16:$B$2988,2,0))","v":"Falta (U.M.)"},"","",null,{"$f":"VLOOKUP(A2089,'Mapa de Preços'!$A$16:$J$2988,10,0)","v":"Falta Orçamento"},"",null,2062,null,0]
[2063,{"$f":"IF(VLOOKUP(A2090,'Mapa de Preços'!$A$16:$B$2988,2,0)=FALSE,\"Falta (U.M.)\",VLOOKUP(A2090,'Mapa de Preços'!$A$16:$B$2988,2,0))","v":"Falta (U.M.)"},"","",null,{"$f":"VLOOKUP(A2090,'Mapa de Preços'!$A$16:$J$2988,10,0)","v":"Falta Orçamento"},"",null,2063,null,0]
[2064,{"$f":"IF(VLOOKUP(A2091,'Mapa de Preços'!$A$16:$B$2988,2,0)=FALSE,\"Falta (U.M.)\",VLOOKUP(A2091,'Mapa de Preços'!$A$16:$B$2988,2,0))","v":"Falta (U.M.)"},"","",null,{"$f":"VLOOKUP(A2091,'Mapa de Preços'!$A$16:$J$2988,10,0)","v":"Falta Orçamento"},"",null,2064,null,0]
[2065,{"$f":"IF(VLOOKUP(A2092,'Mapa de Preços'!$A$16:$B$2988,2,0)=FALSE,\"Falta (U.M.)\",VLOOKUP(A2092,'Mapa de Preços'!$A$16:$B$2988,2,0))","v":"Falta (U.M.)"},"","",null,{"$f":"VLOOKUP(A2092,'Mapa de Preços'!$A$16:$J$2988,10,0)","v":"Falta Orçamento"},"",null,2065,null,0]
[2066,{"$f":"IF(VLOOKUP(A2093,'Mapa de Preços'!$A$16:$B$2988,2,0)=FALSE,\"Falta (U.M.)\",VLOOKUP(A2093,'Mapa de Preços'!$A$16:$B$2988,2,0))","v":"Falta (U.M.)"},"","",null,{"$f":"VLOOKUP(A2093,'Mapa de Preços'!$A$16:$J$2988,10,0)","v":"Falta Orçamento"},"",null,2066,null,0]
[2067,{"$f":"IF(VLOOKUP(A2094,'Mapa de Preços'!$A$16:$B$2988,2,0)=FALSE,\"Falta (U.M.)\",VLOOKUP(A2094,'Mapa de Preços'!$A$16:$B$2988,2,0))","v":"Falta (U.M.)"},"","",null,{"$f":"VLOOKUP(A2094,'Mapa de Preços'!$A$16:$J$2988,10,0)","v":"Falta Orçamento"},"",null,2067,null,0]
[2068,{"$f":"IF(VLOOKUP(A2095,'Mapa de Preços'!$A$16:$B$2988,2,0)=FALSE,\"Falta (U.M.)\",VLOOKUP(A2095,'Mapa de Preços'!$A$16:$B$2988,2,0))","v":"Falta (U.M.)"},"","",null,{"$f":"VLOOKUP(A2095,'Mapa de Preços'!$A$16:$J$2988,10,0)","v":"Falta Orçamento"},"",null,2068,null,0]
[2069,{"$f":"IF(VLOOKUP(A2096,'Mapa de Preços'!$A$16:$B$2988,2,0)=FALSE,\"Falta (U.M.)\",VLOOKUP(A2096,'Mapa de Preços'!$A$16:$B$2988,2,0))","v":"Falta (U.M.)"},"","",null,{"$f":"VLOOKUP(A2096,'Mapa de Preços'!$A$16:$J$2988,10,0)","v":"Falta Orçamento"},"",null,2069,null,0]
[2070,{"$f":"IF(VLOOKUP(A2097,'Mapa de Preços'!$A$16:$B$2988,2,0)=FALSE,\"Falta (U.M.)\",VLOOKUP(A2097,'Mapa de Preços'!$A$16:$B$2988,2,0))","v":"Falta (U.M.)"},"","",null,{"$f":"VLOOKUP(A2097,'Mapa de Preços'!$A$16:$J$2988,10,0)","v":"Falta Orçamento"},"",null,2070,null,0]
[2071,{"$f":"IF(VLOOKUP(A2098,'Mapa de Preços'!$A$16:$B$2988,2,0)=FALSE,\"Falta (U.M.)\",VLOOKUP(A2098,'Mapa de Preços'!$A$16:$B$2988,2,0))","v":"Falta (U.M.)"},"","",null,{"$f":"VLOOKUP(A2098,'Mapa de Preços'!$A$16:$J$2988,10,0)","v":"Falta Orçamento"},"",null,2071,null,0]
[2072,{"$f":"IF(VLOOKUP(A2099,'Mapa de Preços'!$A$16:$B$2988,2,0)=FALSE,\"Falta (U.M.)\",VLOOKUP(A2099,'Mapa de Preços'!$A$16:$B$2988,2,0))","v":"Falta (U.M.)"},"","",null,{"$f":"VLOOKUP(A2099,'Mapa de Preços'!$A$16:$J$2988,10,0)","v":"Falta Orçamento"},"",null,2072,null,0]
[2073,{"$f":"IF(VLOOKUP(A2100,'Mapa de Preços'!$A$16:$B$2988,2,0)=FALSE,\"Falta (U.M.)\",VLOOKUP(A2100,'Mapa de Preços'!$A$16:$B$2988,2,0))","v":"Falta (U.M.)"},"","",null,{"$f":"VLOOKUP(A2100,'Mapa de Preços'!$A$16:$J$2988,10,0)","v":"Falta Orçamento"},"",null,2073,null,0]
[2074,{"$f":"IF(VLOOKUP(A2101,'Mapa de Preços'!$A$16:$B$2988,2,0)=FALSE,\"Falta (U.M.)\",VLOOKUP(A2101,'Mapa de Preços'!$A$16:$B$2988,2,0))","v":"Falta (U.M.)"},"","",null,{"$f":"VLOOKUP(A2101,'Mapa de Preços'!$A$16:$J$2988,10,0)","v":"Falta Orçamento"},"",null,2074,null,0]
[2075,{"$f":"IF(VLOOKUP(A2102,'Mapa de Preços'!$A$16:$B$2988,2,0)=FALSE,\"Falta (U.M.)\",VLOOKUP(A2102,'Mapa de Preços'!$A$16:$B$2988,2,0))","v":"Falta (U.M.)"},"","",null,{"$f":"VLOOKUP(A2102,'Mapa de Preços'!$A$16:$J$2988,10,0)","v":"Falta Orçamento"},"",null,2075,null,0]
[2076,{"$f":"IF(VLOOKUP(A2103,'Mapa de Preços'!$A$16:$B$2988,2,0)=FALSE,\"Falta (U.M.)\",VLOOKUP(A2103,'Mapa de Preços'!$A$16:$B$2988,2,0))","v":"Falta (U.M.)"},"","",null,{"$f":"VLOOKUP(A2103,'Mapa de Preços'!$A$16:$J$2988,10,0)","v":"Falta Orçamento"},"",null,2076,null,0]
[2077,{"$f":"IF(VLOOKUP(A2104,'Mapa de Preços'!$A$16:$B$2988,2,0)=FALSE,\"Falta (U.M.)\",VLOOKUP(A2104,'Mapa de Preços'!$A$16:$B$2988,2,0))","v":"Falta (U.M.)"},"","",null,{"$f":"VLOOKUP(A2104,'Mapa de Preços'!$A$16:$J$2988,10,0)","v":"Falta Orçamento"},"",null,2077,null,0]
[2078,{"$f":"IF(VLOOKUP(A2105,'Mapa de Preços'!$A$16:$B$2988,2,0)=FALSE,\"Falta (U.M.)\",VLOOKUP(A2105,'Mapa de Preços'!$A$16:$B$2988,2,0))","v":"Falta (U.M.)"},"","",null,{"$f":"VLOOKUP(A2105,'Mapa de Preços'!$A$16:$J$2988,10,0)","v":"Falta Orçamento"},"",null,2078,null,0]
[2079,{"$f":"IF(VLOOKUP(A2106,'Mapa de Preços'!$A$16:$B$2988,2,0)=FALSE,\"Falta (U.M.)\",VLOOKUP(A2106,'Mapa de Preços'!$A$16:$B$2988,2,0))","v":"Falta (U.M.)"},"","",null,{"$f":"VLOOKUP(A2106,'Mapa de Preços'!$A$16:$J$2988,10,0)","v":"Falta Orçamento"},"",null,2079,null,0]
[2080,{"$f":"IF(VLOOKUP(A2107,'Mapa de Preços'!$A$16:$B$2988,2,0)=FALSE,\"Falta (U.M.)\",VLOOKUP(A2107,'Mapa de Preços'!$A$16:$B$2988,2,0))","v":"Falta (U.M.)"},"","",null,{"$f":"VLOOKUP(A2107,'Mapa de Preços'!$A$16:$J$2988,10,0)","v":"Falta Orçamento"},"",null,2080,null,0]
[2081,{"$f":"IF(VLOOKUP(A2108,'Mapa de Preços'!$A$16:$B$2988,2,0)=FALSE,\"Falta (U.M.)\",VLOOKUP(A2108,'Mapa de Preços'!$A$16:$B$2988,2,0))","v":"Falta (U.M.)"},"","",null,{"$f":"VLOOKUP(A2108,'Mapa de Preços'!$A$16:$J$2988,10,0)","v":"Falta Orçamento"},"",null,2081,null,0]
[2082,{"$f":"IF(VLOOKUP(A2109,'Mapa de Preços'!$A$16:$B$2988,2,0)=FALSE,\"Falta (U.M.)\",VLOOKUP(A2109,'Mapa de Preços'!$A$16:$B$2988,2,0))","v":"Falta (U.M.)"},"","",null,{"$f":"VLOOKUP(A2109,'Mapa de Preços'!$A$16:$J$2988,10,0)","v":"Falta Orçamento"},"",null,2082,null,0]
[2083,{"$f":"IF(VLOOKUP(A2110,'Mapa de Preços'!$A$16:$B$2988,2,0)=FALSE,\"Falta (U.M.)\",VLOOKUP(A2110,'Mapa de Preços'!$A$16:$B$2988,2,0))","v":"Falta (U.M.)"},"","",null,{"$f":"VLOOKUP(A2110,'Mapa de Preços'!$A$16:$J$2988,10,0)","v":"Falta Orçamento"},"",null,2083,null,0]
[2084,{"$f":"IF(VLOOKUP(A2111,'Mapa de Preços'!$A$16:$B$2988,2,0)=FALSE,\"Falta (U.M.)\",VLOOKUP(A2111,'Mapa de Preços'!$A$16:$B$2988,2,0))","v":"Falta (U.M.)"},"","",null,{"$f":"VLOOKUP(A2111,'Mapa de Preços'!$A$16:$J$2988,10,0)","v":"Falta Orçamento"},"",null,2084,null,0]
[2085,{"$f":"IF(VLOOKUP(A2112,'Mapa de Preços'!$A$16:$B$2988,2,0)=FALSE,\"Falta (U.M.)\",VLOOKUP(A2112,'Mapa de Preços'!$A$16:$B$2988,2,0))","v":"Falta (U.M.)"},"","",null,{"$f":"VLOOKUP(A2112,'Mapa de Preços'!$A$16:$J$2988,10,0)","v":"Falta Orçamento"},"",null,2085,null,0]
[2086,{"$f":"IF(VLOOKUP(A2113,'Mapa de Preços'!$A$16:$B$2988,2,0)=FALSE,\"Falta (U.M.)\",VLOOKUP(A2113,'Mapa de Preços'!$A$16:$B$2988,2,0))","v":"Falta (U.M.)"},"","",null,{"$f":"VLOOKUP(A2113,'Mapa de Preços'!$A$16:$J$2988,10,0)","v":"Falta Orçamento"},"",null,2086,null,0]
[2087,{"$f":"IF(VLOOKUP(A2114,'Mapa de Preços'!$A$16:$B$2988,2,0)=FALSE,\"Falta (U.M.)\",VLOOKUP(A2114,'Mapa de Preços'!$A$16:$B$2988,2,0))","v":"Falta (U.M.)"},"","",null,{"$f":"VLOOKUP(A2114,'Mapa de Preços'!$A$16:$J$2988,10,0)","v":"Falta Orçamento"},"",null,2087,null,0]
[2088,{"$f":"IF(VLOOKUP(A2115,'Mapa de Preços'!$A$16:$B$2988,2,0)=FALSE,\"Falta (U.M.)\",VLOOKUP(A2115,'Mapa de Preços'!$A$16:$B$2988,2,0))","v":"Falta (U.M.)"},"","",null,{"$f":"VLOOKUP(A2115,'Mapa de Preços'!$A$16:$J$2988,10,0)","v":"Falta Orçamento"},"",null,2088,null,0]
[2089,{"$f":"IF(VLOOKUP(A2116,'Mapa de Preços'!$A$16:$B$2988,2,0)=FALSE,\"Falta (U.M.)\",VLOOKUP(A2116,'Mapa de Preços'!$A$16:$B$2988,2,0))","v":"Falta (U.M.)"},"","",null,{"$f":"VLOOKUP(A2116,'Mapa de Preços'!$A$16:$J$2988,10,0)","v":"Falta Orçamento"},"",null,2089,null,0]
[2090,{"$f":"IF(VLOOKUP(A2117,'Mapa de Preços'!$A$16:$B$2988,2,0)=FALSE,\"Falta (U.M.)\",VLOOKUP(A2117,'Mapa de Preços'!$A$16:$B$2988,2,0))","v":"Falta (U.M.)"},"","",null,{"$f":"VLOOKUP(A2117,'Mapa de Preços'!$A$16:$J$2988,10,0)","v":"Falta Orçamento"},"",null,2090,null,0]
[2091,{"$f":"IF(VLOOKUP(A2118,'Mapa de Preços'!$A$16:$B$2988,2,0)=FALSE,\"Falta (U.M.)\",VLOOKUP(A2118,'Mapa de Preços'!$A$16:$B$2988,2,0))","v":"Falta (U.M.)"},"","",null,{"$f":"VLOOKUP(A2118,'Mapa de Preços'!$A$16:$J$2988,10,0)","v":"Falta Orçamento"},"",null,2091,null,0]
[2092,{"$f":"IF(VLOOKUP(A2119,'Mapa de Preços'!$A$16:$B$2988,2,0)=FALSE,\"Falta (U.M.)\",VLOOKUP(A2119,'Mapa de Preços'!$A$16:$B$2988,2,0))","v":"Falta (U.M.)"},"","",null,{"$f":"VLOOKUP(A2119,'Mapa de Preços'!$A$16:$J$2988,10,0)","v":"Falta Orçamento"},"",null,2092,null,0]
[2093,{"$f":"IF(VLOOKUP(A2120,'Mapa de Preços'!$A$16:$B$2988,2,0)=FALSE,\"Falta (U.M.)\",VLOOKUP(A2120,'Mapa de Preços'!$A$16:$B$2988,2,0))","v":"Falta (U.M.)"},"","",null,{"$f":"VLOOKUP(A2120,'Mapa de Preços'!$A$16:$J$2988,10,0)","v":"Falta Orçamento"},"",null,2093,null,0]
[2094,{"$f":"IF(VLOOKUP(A2121,'Mapa de Preços'!$A$16:$B$2988,2,0)=FALSE,\"Falta (U.M.)\",VLOOKUP(A2121,'Mapa de Preços'!$A$16:$B$2988,2,0))","v":"Falta (U.M.)"},"","",null,{"$f":"VLOOKUP(A2121,'Mapa de Preços'!$A$16:$J$2988,10,0)","v":"Falta Orçamento"},"",null,2094,null,0]
[2095,{"$f":"IF(VLOOKUP(A2122,'Mapa de Preços'!$A$16:$B$2988,2,0)=FALSE,\"Falta (U.M.)\",VLOOKUP(A2122,'Mapa de Preços'!$A$16:$B$2988,2,0))","v":"Falta (U.M.)"},"","",null,{"$f":"VLOOKUP(A2122,'Mapa de Preços'!$A$16:$J$2988,10,0)","v":"Falta Orçamento"},"",null,2095,null,0]
[2096,{"$f":"IF(VLOOKUP(A2123,'Mapa de Preços'!$A$16:$B$2988,2,0)=FALSE,\"Falta (U.M.)\",VLOOKUP(A2123,'Mapa de Preços'!$A$16:$B$2988,2,0))","v":"Falta (U.M.)"},"","",null,{"$f":"VLOOKUP(A2123,'Mapa de Preços'!$A$16:$J$2988,10,0)","v":"Falta Orçamento"},"",null,2096,null,0]
[2097,{"$f":"IF(VLOOKUP(A2124,'Mapa de Preços'!$A$16:$B$2988,2,0)=FALSE,\"Falta (U.M.)\",VLOOKUP(A2124,'Mapa de Preços'!$A$16:$B$2988,2,0))","v":"Falta (U.M.)"},"","",null,{"$f":"VLOOKUP(A2124,'Mapa de Preços'!$A$16:$J$2988,10,0)","v":"Falta Orçamento"},"",null,2097,null,0]
[2098,{"$f":"IF(VLOOKUP(A2125,'Mapa de Preços'!$A$16:$B$2988,2,0)=FALSE,\"Falta (U.M.)\",VLOOKUP(A2125,'Mapa de Preços'!$A$16:$B$2988,2,0))","v":"Falta (U.M.)"},"","",null,{"$f":"VLOOKUP(A2125,'Mapa de Preços'!$A$16:$J$2988,10,0)","v":"Falta Orçamento"},"",null,2098,null,0]
[2099,{"$f":"IF(VLOOKUP(A2126,'Mapa de Preços'!$A$16:$B$2988,2,0)=FALSE,\"Falta (U.M.)\",VLOOKUP(A2126,'Mapa de Preços'!$A$16:$B$2988,2,0))","v":"Falta (U.M.)"},"","",null,{"$f":"VLOOKUP(A2126,'Mapa de Preços'!$A$16:$J$2988,10,0)","v":"Falta Orçamento"},"",null,2099,null,0]
[2100,{"$f":"IF(VLOOKUP(A2127,'Mapa de Preços'!$A$16:$B$2988,2,0)=FALSE,\"Falta (U.M.)\",VLOOKUP(A2127,'Mapa de Preços'!$A$16:$B$2988,2,0))","v":"Falta (U.M.)"},"","",null,{"$f":"VLOOKUP(A2127,'Mapa de Preços'!$A$16:$J$2988,10,0)","v":"Falta Orçamento"},"",null,2100,null,0]
[2101,{"$f":"IF(VLOOKUP(A2128,'Mapa de Preços'!$A$16:$B$2988,2,0)=FALSE,\"Falta (U.M.)\",VLOOKUP(A2128,'Mapa de Preços'!$A$16:$B$2988,2,0))","v":"Falta (U.M.)"},"","",null,{"$f":"VLOOKUP(A2128,'Mapa de Preços'!$A$16:$J$2988,10,0)","v":"Falta Orçamento"},"",null,2101,null,0]
[2102,{"$f":"IF(VLOOKUP(A2129,'Mapa de Preços'!$A$16:$B$2988,2,0)=FALSE,\"Falta (U.M.)\",VLOOKUP(A2129,'Mapa de Preços'!$A$16:$B$2988,2,0))","v":"Falta (U.M.)"},"","",null,{"$f":"VLOOKUP(A2129,'Mapa de Preços'!$A$16:$J$2988,10,0)","v":"Falta Orçamento"},"",null,2102,null,0]
[2103,{"$f":"IF(VLOOKUP(A2130,'Mapa de Preços'!$A$16:$B$2988,2,0)=FALSE,\"Falta (U.M.)\",VLOOKUP(A2130,'Mapa de Preços'!$A$16:$B$2988,2,0))","v":"Falta (U.M.)"},"","",null,{"$f":"VLOOKUP(A2130,'Mapa de Preços'!$A$16:$J$2988,10,0)","v":"Falta Orçamento"},"",null,2103,null,0]
[2104,{"$f":"IF(VLOOKUP(A2131,'Mapa de Preços'!$A$16:$B$2988,2,0)=FALSE,\"Falta (U.M.)\",VLOOKUP(A2131,'Mapa de Preços'!$A$16:$B$2988,2,0))","v":"Falta (U.M.)"},"","",null,{"$f":"VLOOKUP(A2131,'Mapa de Preços'!$A$16:$J$2988,10,0)","v":"Falta Orçamento"},"",null,2104,null,0]
[2105,{"$f":"IF(VLOOKUP(A2132,'Mapa de Preços'!$A$16:$B$2988,2,0)=FALSE,\"Falta (U.M.)\",VLOOKUP(A2132,'Mapa de Preços'!$A$16:$B$2988,2,0))","v":"Falta (U.M.)"},"","",null,{"$f":"VLOOKUP(A2132,'Mapa de Preços'!$A$16:$J$2988,10,0)","v":"Falta Orçamento"},"",null,2105,null,0]
[2106,{"$f":"IF(VLOOKUP(A2133,'Mapa de Preços'!$A$16:$B$2988,2,0)=FALSE,\"Falta (U.M.)\",VLOOKUP(A2133,'Mapa de Preços'!$A$16:$B$2988,2,0))","v":"Falta (U.M.)"},"","",null,{"$f":"VLOOKUP(A2133,'Mapa de Preços'!$A$16:$J$2988,10,0)","v":"Falta Orçamento"},"",null,2106,null,0]
[2107,{"$f":"IF(VLOOKUP(A2134,'Mapa de Preços'!$A$16:$B$2988,2,0)=FALSE,\"Falta (U.M.)\",VLOOKUP(A2134,'Mapa de Preços'!$A$16:$B$2988,2,0))","v":"Falta (U.M.)"},"","",null,{"$f":"VLOOKUP(A2134,'Mapa de Preços'!$A$16:$J$2988,10,0)","v":"Falta Orçamento"},"",null,2107,null,0]
[2108,{"$f":"IF(VLOOKUP(A2135,'Mapa de Preços'!$A$16:$B$2988,2,0)=FALSE,\"Falta (U.M.)\",VLOOKUP(A2135,'Mapa de Preços'!$A$16:$B$2988,2,0))","v":"Falta (U.M.)"},"","",null,{"$f":"VLOOKUP(A2135,'Mapa de Preços'!$A$16:$J$2988,10,0)","v":"Falta Orçamento"},"",null,2108,null,0]
[2109,{"$f":"IF(VLOOKUP(A2136,'Mapa de Preços'!$A$16:$B$2988,2,0)=FALSE,\"Falta (U.M.)\",VLOOKUP(A2136,'Mapa de Preços'!$A$16:$B$2988,2,0))","v":"Falta (U.M.)"},"","",null,{"$f":"VLOOKUP(A2136,'Mapa de Preços'!$A$16:$J$2988,10,0)","v":"Falta Orçamento"},"",null,2109,null,0]
[2110,{"$f":"IF(VLOOKUP(A2137,'Mapa de Preços'!$A$16:$B$2988,2,0)=FALSE,\"Falta (U.M.)\",VLOOKUP(A2137,'Mapa de Preços'!$A$16:$B$2988,2,0))","v":"Falta (U.M.)"},"","",null,{"$f":"VLOOKUP(A2137,'Mapa de Preços'!$A$16:$J$2988,10,0)","v":"Falta Orçamento"},"",null,2110,null,0]
[2111,{"$f":"IF(VLOOKUP(A2138,'Mapa de Preços'!$A$16:$B$2988,2,0)=FALSE,\"Falta (U.M.)\",VLOOKUP(A2138,'Mapa de Preços'!$A$16:$B$2988,2,0))","v":"Falta (U.M.)"},"","",null,{"$f":"VLOOKUP(A2138,'Mapa de Preços'!$A$16:$J$2988,10,0)","v":"Falta Orçamento"},"",null,2111,null,0]
[2112,{"$f":"IF(VLOOKUP(A2139,'Mapa de Preços'!$A$16:$B$2988,2,0)=FALSE,\"Falta (U.M.)\",VLOOKUP(A2139,'Mapa de Preços'!$A$16:$B$2988,2,0))","v":"Falta (U.M.)"},"","",null,{"$f":"VLOOKUP(A2139,'Mapa de Preços'!$A$16:$J$2988,10,0)","v":"Falta Orçamento"},"",null,2112,null,0]
[2113,{"$f":"IF(VLOOKUP(A2140,'Mapa de Preços'!$A$16:$B$2988,2,0)=FALSE,\"Falta (U.M.)\",VLOOKUP(A2140,'Mapa de Preços'!$A$16:$B$2988,2,0))","v":"Falta (U.M.)"},"","",null,{"$f":"VLOOKUP(A2140,'Mapa de Preços'!$A$16:$J$2988,10,0)","v":"Falta Orçamento"},"",null,2113,null,{"$f":"SUM(L2140:AI2140)","v":0}]
[2114,{"$f":"IF(VLOOKUP(A2141,'Mapa de Preços'!$A$16:$B$2988,2,0)=FALSE,\"Falta (U.M.)\",VLOOKUP(A2141,'Mapa de Preços'!$A$16:$B$2988,2,0))","v":"Falta (U.M.)"},{"$f":"IF(J2141<>\"\",J2141,\"\")","v":""},{"$f":"IF(VLOOKUP(A2141,$I$28:$AI$3000,$G$26,FALSE)<>\"\",VLOOKUP(A2141,$I$28:$AI$3000,$G$26,FALSE),\"\")","v":""},null,{"$f":"VLOOKUP(A2141,'Mapa de Preços'!$A$16:$J$2988,10,0)","v":"Falta Orçamento"},{"$f":"IF(F2141=\"Falta Orçamento\",\"\",F2141*D2141)","v":""},null,2114,null,0]
[2115,{"$f":"IF(VLOOKUP(A2142,'Mapa de Preços'!$A$16:$B$2988,2,0)=FALSE,\"Falta (U.M.)\",VLOOKUP(A2142,'Mapa de Preços'!$A$16:$B$2988,2,0))","v":"Falta (U.M.)"},"","",null,{"$f":"VLOOKUP(A2142,'Mapa de Preços'!$A$16:$J$2988,10,0)","v":"Falta Orçamento"},"",null,2115,null,0]
[2116,{"$f":"IF(VLOOKUP(A2143,'Mapa de Preços'!$A$16:$B$2988,2,0)=FALSE,\"Falta (U.M.)\",VLOOKUP(A2143,'Mapa de Preços'!$A$16:$B$2988,2,0))","v":"Falta (U.M.)"},"","",null,{"$f":"VLOOKUP(A2143,'Mapa de Preços'!$A$16:$J$2988,10,0)","v":"Falta Orçamento"},"",null,2116,null,0]
[2117,{"$f":"IF(VLOOKUP(A2144,'Mapa de Preços'!$A$16:$B$2988,2,0)=FALSE,\"Falta (U.M.)\",VLOOKUP(A2144,'Mapa de Preços'!$A$16:$B$2988,2,0))","v":"Falta (U.M.)"},"","",null,{"$f":"VLOOKUP(A2144,'Mapa de Preços'!$A$16:$J$2988,10,0)","v":"Falta Orçamento"},"",null,2117,null,0]
[2118,{"$f":"IF(VLOOKUP(A2145,'Mapa de Preços'!$A$16:$B$2988,2,0)=FALSE,\"Falta (U.M.)\",VLOOKUP(A2145,'Mapa de Preços'!$A$16:$B$2988,2,0))","v":"Falta (U.M.)"},"","",null,{"$f":"VLOOKUP(A2145,'Mapa de Preços'!$A$16:$J$2988,10,0)","v":"Falta Orçamento"},"",null,2118,null,0]
[2119,{"$f":"IF(VLOOKUP(A2146,'Mapa de Preços'!$A$16:$B$2988,2,0)=FALSE,\"Falta (U.M.)\",VLOOKUP(A2146,'Mapa de Preços'!$A$16:$B$2988,2,0))","v":"Falta (U.M.)"},"","",null,{"$f":"VLOOKUP(A2146,'Mapa de Preços'!$A$16:$J$2988,10,0)","v":"Falta Orçamento"},"",null,2119,null,0]
[2120,{"$f":"IF(VLOOKUP(A2147,'Mapa de Preços'!$A$16:$B$2988,2,0)=FALSE,\"Falta (U.M.)\",VLOOKUP(A2147,'Mapa de Preços'!$A$16:$B$2988,2,0))","v":"Falta (U.M.)"},"","",null,{"$f":"VLOOKUP(A2147,'Mapa de Preços'!$A$16:$J$2988,10,0)","v":"Falta Orçamento"},"",null,2120,null,0]
[2121,{"$f":"IF(VLOOKUP(A2148,'Mapa de Preços'!$A$16:$B$2988,2,0)=FALSE,\"Falta (U.M.)\",VLOOKUP(A2148,'Mapa de Preços'!$A$16:$B$2988,2,0))","v":"Falta (U.M.)"},"","",null,{"$f":"VLOOKUP(A2148,'Mapa de Preços'!$A$16:$J$2988,10,0)","v":"Falta Orçamento"},"",null,2121,null,0]
[2122,{"$f":"IF(VLOOKUP(A2149,'Mapa de Preços'!$A$16:$B$2988,2,0)=FALSE,\"Falta (U.M.)\",VLOOKUP(A2149,'Mapa de Preços'!$A$16:$B$2988,2,0))","v":"Falta (U.M.)"},"","",null,{"$f":"VLOOKUP(A2149,'Mapa de Preços'!$A$16:$J$2988,10,0)","v":"Falta Orçamento"},"",null,2122,null,0]
[2123,{"$f":"IF(VLOOKUP(A2150,'Mapa de Preços'!$A$16:$B$2988,2,0)=FALSE,\"Falta (U.M.)\",VLOOKUP(A2150,'Mapa de Preços'!$A$16:$B$2988,2,0))","v":"Falta (U.M.)"},"","",null,{"$f":"VLOOKUP(A2150,'Mapa de Preços'!$A$16:$J$2988,10,0)","v":"Falta Orçamento"},"",null,2123,null,0]
[2124,{"$f":"IF(VLOOKUP(A2151,'Mapa de Preços'!$A$16:$B$2988,2,0)=FALSE,\"Falta (U.M.)\",VLOOKUP(A2151,'Mapa de Preços'!$A$16:$B$2988,2,0))","v":"Falta (U.M.)"},"","",null,{"$f":"VLOOKUP(A2151,'Mapa de Preços'!$A$16:$J$2988,10,0)","v":"Falta Orçamento"},"",null,2124,null,0]
[2125,{"$f":"IF(VLOOKUP(A2152,'Mapa de Preços'!$A$16:$B$2988,2,0)=FALSE,\"Falta (U.M.)\",VLOOKUP(A2152,'Mapa de Preços'!$A$16:$B$2988,2,0))","v":"Falta (U.M.)"},"","",null,{"$f":"VLOOKUP(A2152,'Mapa de Preços'!$A$16:$J$2988,10,0)","v":"Falta Orçamento"},"",null,2125,null,0]
[2126,{"$f":"IF(VLOOKUP(A2153,'Mapa de Preços'!$A$16:$B$2988,2,0)=FALSE,\"Falta (U.M.)\",VLOOKUP(A2153,'Mapa de Preços'!$A$16:$B$2988,2,0))","v":"Falta (U.M.)"},"","",null,{"$f":"VLOOKUP(A2153,'Mapa de Preços'!$A$16:$J$2988,10,0)","v":"Falta Orçamento"},"",null,2126,null,0]
[2127,{"$f":"IF(VLOOKUP(A2154,'Mapa de Preços'!$A$16:$B$2988,2,0)=FALSE,\"Falta (U.M.)\",VLOOKUP(A2154,'Mapa de Preços'!$A$16:$B$2988,2,0))","v":"Falta (U.M.)"},"","",null,{"$f":"VLOOKUP(A2154,'Mapa de Preços'!$A$16:$J$2988,10,0)","v":"Falta Orçamento"},"",null,2127,null,0]
[2128,{"$f":"IF(VLOOKUP(A2155,'Mapa de Preços'!$A$16:$B$2988,2,0)=FALSE,\"Falta (U.M.)\",VLOOKUP(A2155,'Mapa de Preços'!$A$16:$B$2988,2,0))","v":"Falta (U.M.)"},"","",null,{"$f":"VLOOKUP(A2155,'Mapa de Preços'!$A$16:$J$2988,10,0)","v":"Falta Orçamento"},"",null,2128,null,0]
[2129,{"$f":"IF(VLOOKUP(A2156,'Mapa de Preços'!$A$16:$B$2988,2,0)=FALSE,\"Falta (U.M.)\",VLOOKUP(A2156,'Mapa de Preços'!$A$16:$B$2988,2,0))","v":"Falta (U.M.)"},"","",null,{"$f":"VLOOKUP(A2156,'Mapa de Preços'!$A$16:$J$2988,10,0)","v":"Falta Orçamento"},"",null,2129,null,0]
[2130,{"$f":"IF(VLOOKUP(A2157,'Mapa de Preços'!$A$16:$B$2988,2,0)=FALSE,\"Falta (U.M.)\",VLOOKUP(A2157,'Mapa de Preços'!$A$16:$B$2988,2,0))","v":"Falta (U.M.)"},"","",null,{"$f":"VLOOKUP(A2157,'Mapa de Preços'!$A$16:$J$2988,10,0)","v":"Falta Orçamento"},"",null,2130,null,0]
[2131,{"$f":"IF(VLOOKUP(A2158,'Mapa de Preços'!$A$16:$B$2988,2,0)=FALSE,\"Falta (U.M.)\",VLOOKUP(A2158,'Mapa de Preços'!$A$16:$B$2988,2,0))","v":"Falta (U.M.)"},"","",null,{"$f":"VLOOKUP(A2158,'Mapa de Preços'!$A$16:$J$2988,10,0)","v":"Falta Orçamento"},"",null,2131,null,0]
[2132,{"$f":"IF(VLOOKUP(A2159,'Mapa de Preços'!$A$16:$B$2988,2,0)=FALSE,\"Falta (U.M.)\",VLOOKUP(A2159,'Mapa de Preços'!$A$16:$B$2988,2,0))","v":"Falta (U.M.)"},"","",null,{"$f":"VLOOKUP(A2159,'Mapa de Preços'!$A$16:$J$2988,10,0)","v":"Falta Orçamento"},"",null,2132,null,0]
[2133,{"$f":"IF(VLOOKUP(A2160,'Mapa de Preços'!$A$16:$B$2988,2,0)=FALSE,\"Falta (U.M.)\",VLOOKUP(A2160,'Mapa de Preços'!$A$16:$B$2988,2,0))","v":"Falta (U.M.)"},"","",null,{"$f":"VLOOKUP(A2160,'Mapa de Preços'!$A$16:$J$2988,10,0)","v":"Falta Orçamento"},"",null,2133,null,0]
[2134,{"$f":"IF(VLOOKUP(A2161,'Mapa de Preços'!$A$16:$B$2988,2,0)=FALSE,\"Falta (U.M.)\",VLOOKUP(A2161,'Mapa de Preços'!$A$16:$B$2988,2,0))","v":"Falta (U.M.)"},"","",null,{"$f":"VLOOKUP(A2161,'Mapa de Preços'!$A$16:$J$2988,10,0)","v":"Falta Orçamento"},"",null,2134,null,0]
[2135,{"$f":"IF(VLOOKUP(A2162,'Mapa de Preços'!$A$16:$B$2988,2,0)=FALSE,\"Falta (U.M.)\",VLOOKUP(A2162,'Mapa de Preços'!$A$16:$B$2988,2,0))","v":"Falta (U.M.)"},"","",null,{"$f":"VLOOKUP(A2162,'Mapa de Preços'!$A$16:$J$2988,10,0)","v":"Falta Orçamento"},"",null,2135,null,0]
[2136,{"$f":"IF(VLOOKUP(A2163,'Mapa de Preços'!$A$16:$B$2988,2,0)=FALSE,\"Falta (U.M.)\",VLOOKUP(A2163,'Mapa de Preços'!$A$16:$B$2988,2,0))","v":"Falta (U.M.)"},"","",null,{"$f":"VLOOKUP(A2163,'Mapa de Preços'!$A$16:$J$2988,10,0)","v":"Falta Orçamento"},"",null,2136,null,0]
[2137,{"$f":"IF(VLOOKUP(A2164,'Mapa de Preços'!$A$16:$B$2988,2,0)=FALSE,\"Falta (U.M.)\",VLOOKUP(A2164,'Mapa de Preços'!$A$16:$B$2988,2,0))","v":"Falta (U.M.)"},"","",null,{"$f":"VLOOKUP(A2164,'Mapa de Preços'!$A$16:$J$2988,10,0)","v":"Falta Orçamento"},"",null,2137,null,0]
[2138,{"$f":"IF(VLOOKUP(A2165,'Mapa de Preços'!$A$16:$B$2988,2,0)=FALSE,\"Falta (U.M.)\",VLOOKUP(A2165,'Mapa de Preços'!$A$16:$B$2988,2,0))","v":"Falta (U.M.)"},"","",null,{"$f":"VLOOKUP(A2165,'Mapa de Preços'!$A$16:$J$2988,10,0)","v":"Falta Orçamento"},"",null,2138,null,0]
[2139,{"$f":"IF(VLOOKUP(A2166,'Mapa de Preços'!$A$16:$B$2988,2,0)=FALSE,\"Falta (U.M.)\",VLOOKUP(A2166,'Mapa de Preços'!$A$16:$B$2988,2,0))","v":"Falta (U.M.)"},"","",null,{"$f":"VLOOKUP(A2166,'Mapa de Preços'!$A$16:$J$2988,10,0)","v":"Falta Orçamento"},"",null,2139,null,0]
[2140,{"$f":"IF(VLOOKUP(A2167,'Mapa de Preços'!$A$16:$B$2988,2,0)=FALSE,\"Falta (U.M.)\",VLOOKUP(A2167,'Mapa de Preços'!$A$16:$B$2988,2,0))","v":"Falta (U.M.)"},"","",null,{"$f":"VLOOKUP(A2167,'Mapa de Preços'!$A$16:$J$2988,10,0)","v":"Falta Orçamento"},"",null,2140,null,0]
[2141,{"$f":"IF(VLOOKUP(A2168,'Mapa de Preços'!$A$16:$B$2988,2,0)=FALSE,\"Falta (U.M.)\",VLOOKUP(A2168,'Mapa de Preços'!$A$16:$B$2988,2,0))","v":"Falta (U.M.)"},"","",null,{"$f":"VLOOKUP(A2168,'Mapa de Preços'!$A$16:$J$2988,10,0)","v":"Falta Orçamento"},"",null,2141,null,0]
[2142,{"$f":"IF(VLOOKUP(A2169,'Mapa de Preços'!$A$16:$B$2988,2,0)=FALSE,\"Falta (U.M.)\",VLOOKUP(A2169,'Mapa de Preços'!$A$16:$B$2988,2,0))","v":"Falta (U.M.)"},"","",null,{"$f":"VLOOKUP(A2169,'Mapa de Preços'!$A$16:$J$2988,10,0)","v":"Falta Orçamento"},"",null,2142,null,0]
[2143,{"$f":"IF(VLOOKUP(A2170,'Mapa de Preços'!$A$16:$B$2988,2,0)=FALSE,\"Falta (U.M.)\",VLOOKUP(A2170,'Mapa de Preços'!$A$16:$B$2988,2,0))","v":"Falta (U.M.)"},"","",null,{"$f":"VLOOKUP(A2170,'Mapa de Preços'!$A$16:$J$2988,10,0)","v":"Falta Orçamento"},"",null,2143,null,0]
[2144,{"$f":"IF(VLOOKUP(A2171,'Mapa de Preços'!$A$16:$B$2988,2,0)=FALSE,\"Falta (U.M.)\",VLOOKUP(A2171,'Mapa de Preços'!$A$16:$B$2988,2,0))","v":"Falta (U.M.)"},"","",null,{"$f":"VLOOKUP(A2171,'Mapa de Preços'!$A$16:$J$2988,10,0)","v":"Falta Orçamento"},"",null,2144,null,0]
[2145,{"$f":"IF(VLOOKUP(A2172,'Mapa de Preços'!$A$16:$B$2988,2,0)=FALSE,\"Falta (U.M.)\",VLOOKUP(A2172,'Mapa de Preços'!$A$16:$B$2988,2,0))","v":"Falta (U.M.)"},"","",null,{"$f":"VLOOKUP(A2172,'Mapa de Preços'!$A$16:$J$2988,10,0)","v":"Falta Orçamento"},"",null,2145,null,0]
[2146,{"$f":"IF(VLOOKUP(A2173,'Mapa de Preços'!$A$16:$B$2988,2,0)=FALSE,\"Falta (U.M.)\",VLOOKUP(A2173,'Mapa de Preços'!$A$16:$B$2988,2,0))","v":"Falta (U.M.)"},"","",null,{"$f":"VLOOKUP(A2173,'Mapa de Preços'!$A$16:$J$2988,10,0)","v":"Falta Orçamento"},"",null,2146,null,0]
[2147,{"$f":"IF(VLOOKUP(A2174,'Mapa de Preços'!$A$16:$B$2988,2,0)=FALSE,\"Falta (U.M.)\",VLOOKUP(A2174,'Mapa de Preços'!$A$16:$B$2988,2,0))","v":"Falta (U.M.)"},"","",null,{"$f":"VLOOKUP(A2174,'Mapa de Preços'!$A$16:$J$2988,10,0)","v":"Falta Orçamento"},"",null,2147,null,0]
[2148,{"$f":"IF(VLOOKUP(A2175,'Mapa de Preços'!$A$16:$B$2988,2,0)=FALSE,\"Falta (U.M.)\",VLOOKUP(A2175,'Mapa de Preços'!$A$16:$B$2988,2,0))","v":"Falta (U.M.)"},"","",null,{"$f":"VLOOKUP(A2175,'Mapa de Preços'!$A$16:$J$2988,10,0)","v":"Falta Orçamento"},"",null,2148,null,0]
[2149,{"$f":"IF(VLOOKUP(A2176,'Mapa de Preços'!$A$16:$B$2988,2,0)=FALSE,\"Falta (U.M.)\",VLOOKUP(A2176,'Mapa de Preços'!$A$16:$B$2988,2,0))","v":"Falta (U.M.)"},"","",null,{"$f":"VLOOKUP(A2176,'Mapa de Preços'!$A$16:$J$2988,10,0)","v":"Falta Orçamento"},"",null,2149,null,0]
[2150,{"$f":"IF(VLOOKUP(A2177,'Mapa de Preços'!$A$16:$B$2988,2,0)=FALSE,\"Falta (U.M.)\",VLOOKUP(A2177,'Mapa de Preços'!$A$16:$B$2988,2,0))","v":"Falta (U.M.)"},"","",null,{"$f":"VLOOKUP(A2177,'Mapa de Preços'!$A$16:$J$2988,10,0)","v":"Falta Orçamento"},"",null,2150,null,0]
[2151,{"$f":"IF(VLOOKUP(A2178,'Mapa de Preços'!$A$16:$B$2988,2,0)=FALSE,\"Falta (U.M.)\",VLOOKUP(A2178,'Mapa de Preços'!$A$16:$B$2988,2,0))","v":"Falta (U.M.)"},"","",null,{"$f":"VLOOKUP(A2178,'Mapa de Preços'!$A$16:$J$2988,10,0)","v":"Falta Orçamento"},"",null,2151,null,0]
[2152,{"$f":"IF(VLOOKUP(A2179,'Mapa de Preços'!$A$16:$B$2988,2,0)=FALSE,\"Falta (U.M.)\",VLOOKUP(A2179,'Mapa de Preços'!$A$16:$B$2988,2,0))","v":"Falta (U.M.)"},"","",null,{"$f":"VLOOKUP(A2179,'Mapa de Preços'!$A$16:$J$2988,10,0)","v":"Falta Orçamento"},"",null,2152,null,0]
[2153,{"$f":"IF(VLOOKUP(A2180,'Mapa de Preços'!$A$16:$B$2988,2,0)=FALSE,\"Falta (U.M.)\",VLOOKUP(A2180,'Mapa de Preços'!$A$16:$B$2988,2,0))","v":"Falta (U.M.)"},"","",null,{"$f":"VLOOKUP(A2180,'Mapa de Preços'!$A$16:$J$2988,10,0)","v":"Falta Orçamento"},"",null,2153,null,0]
[2154,{"$f":"IF(VLOOKUP(A2181,'Mapa de Preços'!$A$16:$B$2988,2,0)=FALSE,\"Falta (U.M.)\",VLOOKUP(A2181,'Mapa de Preços'!$A$16:$B$2988,2,0))","v":"Falta (U.M.)"},"","",null,{"$f":"VLOOKUP(A2181,'Mapa de Preços'!$A$16:$J$2988,10,0)","v":"Falta Orçamento"},"",null,2154,null,0]
[2155,{"$f":"IF(VLOOKUP(A2182,'Mapa de Preços'!$A$16:$B$2988,2,0)=FALSE,\"Falta (U.M.)\",VLOOKUP(A2182,'Mapa de Preços'!$A$16:$B$2988,2,0))","v":"Falta (U.M.)"},"","",null,{"$f":"VLOOKUP(A2182,'Mapa de Preços'!$A$16:$J$2988,10,0)","v":"Falta Orçamento"},"",null,2155,null,0]
[2156,{"$f":"IF(VLOOKUP(A2183,'Mapa de Preços'!$A$16:$B$2988,2,0)=FALSE,\"Falta (U.M.)\",VLOOKUP(A2183,'Mapa de Preços'!$A$16:$B$2988,2,0))","v":"Falta (U.M.)"},"","",null,{"$f":"VLOOKUP(A2183,'Mapa de Preços'!$A$16:$J$2988,10,0)","v":"Falta Orçamento"},"",null,2156,null,0]
[2157,{"$f":"IF(VLOOKUP(A2184,'Mapa de Preços'!$A$16:$B$2988,2,0)=FALSE,\"Falta (U.M.)\",VLOOKUP(A2184,'Mapa de Preços'!$A$16:$B$2988,2,0))","v":"Falta (U.M.)"},"","",null,{"$f":"VLOOKUP(A2184,'Mapa de Preços'!$A$16:$J$2988,10,0)","v":"Falta Orçamento"},"",null,2157,null,0]
[2158,{"$f":"IF(VLOOKUP(A2185,'Mapa de Preços'!$A$16:$B$2988,2,0)=FALSE,\"Falta (U.M.)\",VLOOKUP(A2185,'Mapa de Preços'!$A$16:$B$2988,2,0))","v":"Falta (U.M.)"},"","",null,{"$f":"VLOOKUP(A2185,'Mapa de Preços'!$A$16:$J$2988,10,0)","v":"Falta Orçamento"},"",null,2158,null,0]
[2159,{"$f":"IF(VLOOKUP(A2186,'Mapa de Preços'!$A$16:$B$2988,2,0)=FALSE,\"Falta (U.M.)\",VLOOKUP(A2186,'Mapa de Preços'!$A$16:$B$2988,2,0))","v":"Falta (U.M.)"},"","",null,{"$f":"VLOOKUP(A2186,'Mapa de Preços'!$A$16:$J$2988,10,0)","v":"Falta Orçamento"},"",null,2159,null,0]
[2160,{"$f":"IF(VLOOKUP(A2187,'Mapa de Preços'!$A$16:$B$2988,2,0)=FALSE,\"Falta (U.M.)\",VLOOKUP(A2187,'Mapa de Preços'!$A$16:$B$2988,2,0))","v":"Falta (U.M.)"},"","",null,{"$f":"VLOOKUP(A2187,'Mapa de Preços'!$A$16:$J$2988,10,0)","v":"Falta Orçamento"},"",null,2160,null,0]
[2161,{"$f":"IF(VLOOKUP(A2188,'Mapa de Preços'!$A$16:$B$2988,2,0)=FALSE,\"Falta (U.M.)\",VLOOKUP(A2188,'Mapa de Preços'!$A$16:$B$2988,2,0))","v":"Falta (U.M.)"},"","",null,{"$f":"VLOOKUP(A2188,'Mapa de Preços'!$A$16:$J$2988,10,0)","v":"Falta Orçamento"},"",null,2161,null,0]
[2162,{"$f":"IF(VLOOKUP(A2189,'Mapa de Preços'!$A$16:$B$2988,2,0)=FALSE,\"Falta (U.M.)\",VLOOKUP(A2189,'Mapa de Preços'!$A$16:$B$2988,2,0))","v":"Falta (U.M.)"},"","",null,{"$f":"VLOOKUP(A2189,'Mapa de Preços'!$A$16:$J$2988,10,0)","v":"Falta Orçamento"},"",null,2162,null,0]
[2163,{"$f":"IF(VLOOKUP(A2190,'Mapa de Preços'!$A$16:$B$2988,2,0)=FALSE,\"Falta (U.M.)\",VLOOKUP(A2190,'Mapa de Preços'!$A$16:$B$2988,2,0))","v":"Falta (U.M.)"},"","",null,{"$f":"VLOOKUP(A2190,'Mapa de Preços'!$A$16:$J$2988,10,0)","v":"Falta Orçamento"},"",null,2163,null,0]
[2164,{"$f":"IF(VLOOKUP(A2191,'Mapa de Preços'!$A$16:$B$2988,2,0)=FALSE,\"Falta (U.M.)\",VLOOKUP(A2191,'Mapa de Preços'!$A$16:$B$2988,2,0))","v":"Falta (U.M.)"},"","",null,{"$f":"VLOOKUP(A2191,'Mapa de Preços'!$A$16:$J$2988,10,0)","v":"Falta Orçamento"},"",null,2164,null,0]
[2165,{"$f":"IF(VLOOKUP(A2192,'Mapa de Preços'!$A$16:$B$2988,2,0)=FALSE,\"Falta (U.M.)\",VLOOKUP(A2192,'Mapa de Preços'!$A$16:$B$2988,2,0))","v":"Falta (U.M.)"},"","",null,{"$f":"VLOOKUP(A2192,'Mapa de Preços'!$A$16:$J$2988,10,0)","v":"Falta Orçamento"},"",null,2165,null,0]
[2166,{"$f":"IF(VLOOKUP(A2193,'Mapa de Preços'!$A$16:$B$2988,2,0)=FALSE,\"Falta (U.M.)\",VLOOKUP(A2193,'Mapa de Preços'!$A$16:$B$2988,2,0))","v":"Falta (U.M.)"},"","",null,{"$f":"VLOOKUP(A2193,'Mapa de Preços'!$A$16:$J$2988,10,0)","v":"Falta Orçamento"},"",null,2166,null,0]
[2167,{"$f":"IF(VLOOKUP(A2194,'Mapa de Preços'!$A$16:$B$2988,2,0)=FALSE,\"Falta (U.M.)\",VLOOKUP(A2194,'Mapa de Preços'!$A$16:$B$2988,2,0))","v":"Falta (U.M.)"},"","",null,{"$f":"VLOOKUP(A2194,'Mapa de Preços'!$A$16:$J$2988,10,0)","v":"Falta Orçamento"},"",null,2167,null,0]
[2168,{"$f":"IF(VLOOKUP(A2195,'Mapa de Preços'!$A$16:$B$2988,2,0)=FALSE,\"Falta (U.M.)\",VLOOKUP(A2195,'Mapa de Preços'!$A$16:$B$2988,2,0))","v":"Falta (U.M.)"},"","",null,{"$f":"VLOOKUP(A2195,'Mapa de Preços'!$A$16:$J$2988,10,0)","v":"Falta Orçamento"},"",null,2168,null,0]
[2169,{"$f":"IF(VLOOKUP(A2196,'Mapa de Preços'!$A$16:$B$2988,2,0)=FALSE,\"Falta (U.M.)\",VLOOKUP(A2196,'Mapa de Preços'!$A$16:$B$2988,2,0))","v":"Falta (U.M.)"},"","",null,{"$f":"VLOOKUP(A2196,'Mapa de Preços'!$A$16:$J$2988,10,0)","v":"Falta Orçamento"},"",null,2169,null,0]
[2170,{"$f":"IF(VLOOKUP(A2197,'Mapa de Preços'!$A$16:$B$2988,2,0)=FALSE,\"Falta (U.M.)\",VLOOKUP(A2197,'Mapa de Preços'!$A$16:$B$2988,2,0))","v":"Falta (U.M.)"},"","",null,{"$f":"VLOOKUP(A2197,'Mapa de Preços'!$A$16:$J$2988,10,0)","v":"Falta Orçamento"},"",null,2170,null,0]
[2171,{"$f":"IF(VLOOKUP(A2198,'Mapa de Preços'!$A$16:$B$2988,2,0)=FALSE,\"Falta (U.M.)\",VLOOKUP(A2198,'Mapa de Preços'!$A$16:$B$2988,2,0))","v":"Falta (U.M.)"},"","",null,{"$f":"VLOOKUP(A2198,'Mapa de Preços'!$A$16:$J$2988,10,0)","v":"Falta Orçamento"},"",null,2171,null,0]
[2172,{"$f":"IF(VLOOKUP(A2199,'Mapa de Preços'!$A$16:$B$2988,2,0)=FALSE,\"Falta (U.M.)\",VLOOKUP(A2199,'Mapa de Preços'!$A$16:$B$2988,2,0))","v":"Falta (U.M.)"},"","",null,{"$f":"VLOOKUP(A2199,'Mapa de Preços'!$A$16:$J$2988,10,0)","v":"Falta Orçamento"},"",null,2172,null,0]
[2173,{"$f":"IF(VLOOKUP(A2200,'Mapa de Preços'!$A$16:$B$2988,2,0)=FALSE,\"Falta (U.M.)\",VLOOKUP(A2200,'Mapa de Preços'!$A$16:$B$2988,2,0))","v":"Falta (U.M.)"},"","",null,{"$f":"VLOOKUP(A2200,'Mapa de Preços'!$A$16:$J$2988,10,0)","v":"Falta Orçamento"},"",null,2173,null,0]
[2174,{"$f":"IF(VLOOKUP(A2201,'Mapa de Preços'!$A$16:$B$2988,2,0)=FALSE,\"Falta (U.M.)\",VLOOKUP(A2201,'Mapa de Preços'!$A$16:$B$2988,2,0))","v":"Falta (U.M.)"},"","",null,{"$f":"VLOOKUP(A2201,'Mapa de Preços'!$A$16:$J$2988,10,0)","v":"Falta Orçamento"},"",null,2174,null,0]
[2175,{"$f":"IF(VLOOKUP(A2202,'Mapa de Preços'!$A$16:$B$2988,2,0)=FALSE,\"Falta (U.M.)\",VLOOKUP(A2202,'Mapa de Preços'!$A$16:$B$2988,2,0))","v":"Falta (U.M.)"},"","",null,{"$f":"VLOOKUP(A2202,'Mapa de Preços'!$A$16:$J$2988,10,0)","v":"Falta Orçamento"},"",null,2175,null,0]
[2176,{"$f":"IF(VLOOKUP(A2203,'Mapa de Preços'!$A$16:$B$2988,2,0)=FALSE,\"Falta (U.M.)\",VLOOKUP(A2203,'Mapa de Preços'!$A$16:$B$2988,2,0))","v":"Falta (U.M.)"},"","",null,{"$f":"VLOOKUP(A2203,'Mapa de Preços'!$A$16:$J$2988,10,0)","v":"Falta Orçamento"},"",null,2176,null,0]
[2177,{"$f":"IF(VLOOKUP(A2204,'Mapa de Preços'!$A$16:$B$2988,2,0)=FALSE,\"Falta (U.M.)\",VLOOKUP(A2204,'Mapa de Preços'!$A$16:$B$2988,2,0))","v":"Falta (U.M.)"},"","",null,{"$f":"VLOOKUP(A2204,'Mapa de Preços'!$A$16:$J$2988,10,0)","v":"Falta Orçamento"},"",null,2177,null,{"$f":"SUM(L2204:AI2204)","v":0}]
[2178,{"$f":"IF(VLOOKUP(A2205,'Mapa de Preços'!$A$16:$B$2988,2,0)=FALSE,\"Falta (U.M.)\",VLOOKUP(A2205,'Mapa de Preços'!$A$16:$B$2988,2,0))","v":"Falta (U.M.)"},{"$f":"IF(J2205<>\"\",J2205,\"\")","v":""},{"$f":"IF(VLOOKUP(A2205,$I$28:$AI$3000,$G$26,FALSE)<>\"\",VLOOKUP(A2205,$I$28:$AI$3000,$G$26,FALSE),\"\")","v":""},null,{"$f":"VLOOKUP(A2205,'Mapa de Preços'!$A$16:$J$2988,10,0)","v":"Falta Orçamento"},{"$f":"IF(F2205=\"Falta Orçamento\",\"\",F2205*D2205)","v":""},null,2178,null,0]
[2179,{"$f":"IF(VLOOKUP(A2206,'Mapa de Preços'!$A$16:$B$2988,2,0)=FALSE,\"Falta (U.M.)\",VLOOKUP(A2206,'Mapa de Preços'!$A$16:$B$2988,2,0))","v":"Falta (U.M.)"},"","",null,{"$f":"VLOOKUP(A2206,'Mapa de Preços'!$A$16:$J$2988,10,0)","v":"Falta Orçamento"},"",null,2179,null,0]
[2180,{"$f":"IF(VLOOKUP(A2207,'Mapa de Preços'!$A$16:$B$2988,2,0)=FALSE,\"Falta (U.M.)\",VLOOKUP(A2207,'Mapa de Preços'!$A$16:$B$2988,2,0))","v":"Falta (U.M.)"},"","",null,{"$f":"VLOOKUP(A2207,'Mapa de Preços'!$A$16:$J$2988,10,0)","v":"Falta Orçamento"},"",null,2180,null,0]
[2181,{"$f":"IF(VLOOKUP(A2208,'Mapa de Preços'!$A$16:$B$2988,2,0)=FALSE,\"Falta (U.M.)\",VLOOKUP(A2208,'Mapa de Preços'!$A$16:$B$2988,2,0))","v":"Falta (U.M.)"},"","",null,{"$f":"VLOOKUP(A2208,'Mapa de Preços'!$A$16:$J$2988,10,0)","v":"Falta Orçamento"},"",null,2181,null,0]
[2182,{"$f":"IF(VLOOKUP(A2209,'Mapa de Preços'!$A$16:$B$2988,2,0)=FALSE,\"Falta (U.M.)\",VLOOKUP(A2209,'Mapa de Preços'!$A$16:$B$2988,2,0))","v":"Falta (U.M.)"},"","",null,{"$f":"VLOOKUP(A2209,'Mapa de Preços'!$A$16:$J$2988,10,0)","v":"Falta Orçamento"},"",null,2182,null,0]
[2183,{"$f":"IF(VLOOKUP(A2210,'Mapa de Preços'!$A$16:$B$2988,2,0)=FALSE,\"Falta (U.M.)\",VLOOKUP(A2210,'Mapa de Preços'!$A$16:$B$2988,2,0))","v":"Falta (U.M.)"},"","",null,{"$f":"VLOOKUP(A2210,'Mapa de Preços'!$A$16:$J$2988,10,0)","v":"Falta Orçamento"},"",null,2183,null,0]
[2184,{"$f":"IF(VLOOKUP(A2211,'Mapa de Preços'!$A$16:$B$2988,2,0)=FALSE,\"Falta (U.M.)\",VLOOKUP(A2211,'Mapa de Preços'!$A$16:$B$2988,2,0))","v":"Falta (U.M.)"},"","",null,{"$f":"VLOOKUP(A2211,'Mapa de Preços'!$A$16:$J$2988,10,0)","v":"Falta Orçamento"},"",null,2184,null,0]
[2185,{"$f":"IF(VLOOKUP(A2212,'Mapa de Preços'!$A$16:$B$2988,2,0)=FALSE,\"Falta (U.M.)\",VLOOKUP(A2212,'Mapa de Preços'!$A$16:$B$2988,2,0))","v":"Falta (U.M.)"},"","",null,{"$f":"VLOOKUP(A2212,'Mapa de Preços'!$A$16:$J$2988,10,0)","v":"Falta Orçamento"},"",null,2185,null,0]
[2186,{"$f":"IF(VLOOKUP(A2213,'Mapa de Preços'!$A$16:$B$2988,2,0)=FALSE,\"Falta (U.M.)\",VLOOKUP(A2213,'Mapa de Preços'!$A$16:$B$2988,2,0))","v":"Falta (U.M.)"},"","",null,{"$f":"VLOOKUP(A2213,'Mapa de Preços'!$A$16:$J$2988,10,0)","v":"Falta Orçamento"},"",null,2186,null,0]
[2187,{"$f":"IF(VLOOKUP(A2214,'Mapa de Preços'!$A$16:$B$2988,2,0)=FALSE,\"Falta (U.M.)\",VLOOKUP(A2214,'Mapa de Preços'!$A$16:$B$2988,2,0))","v":"Falta (U.M.)"},"","",null,{"$f":"VLOOKUP(A2214,'Mapa de Preços'!$A$16:$J$2988,10,0)","v":"Falta Orçamento"},"",null,2187,null,0]
[2188,{"$f":"IF(VLOOKUP(A2215,'Mapa de Preços'!$A$16:$B$2988,2,0)=FALSE,\"Falta (U.M.)\",VLOOKUP(A2215,'Mapa de Preços'!$A$16:$B$2988,2,0))","v":"Falta (U.M.)"},"","",null,{"$f":"VLOOKUP(A2215,'Mapa de Preços'!$A$16:$J$2988,10,0)","v":"Falta Orçamento"},"",null,2188,null,0]
[2189,{"$f":"IF(VLOOKUP(A2216,'Mapa de Preços'!$A$16:$B$2988,2,0)=FALSE,\"Falta (U.M.)\",VLOOKUP(A2216,'Mapa de Preços'!$A$16:$B$2988,2,0))","v":"Falta (U.M.)"},"","",null,{"$f":"VLOOKUP(A2216,'Mapa de Preços'!$A$16:$J$2988,10,0)","v":"Falta Orçamento"},"",null,2189,null,0]
[2190,{"$f":"IF(VLOOKUP(A2217,'Mapa de Preços'!$A$16:$B$2988,2,0)=FALSE,\"Falta (U.M.)\",VLOOKUP(A2217,'Mapa de Preços'!$A$16:$B$2988,2,0))","v":"Falta (U.M.)"},"","",null,{"$f":"VLOOKUP(A2217,'Mapa de Preços'!$A$16:$J$2988,10,0)","v":"Falta Orçamento"},"",null,2190,null,0]
[2191,{"$f":"IF(VLOOKUP(A2218,'Mapa de Preços'!$A$16:$B$2988,2,0)=FALSE,\"Falta (U.M.)\",VLOOKUP(A2218,'Mapa de Preços'!$A$16:$B$2988,2,0))","v":"Falta (U.M.)"},"","",null,{"$f":"VLOOKUP(A2218,'Mapa de Preços'!$A$16:$J$2988,10,0)","v":"Falta Orçamento"},"",null,2191,null,0]
[2192,{"$f":"IF(VLOOKUP(A2219,'Mapa de Preços'!$A$16:$B$2988,2,0)=FALSE,\"Falta (U.M.)\",VLOOKUP(A2219,'Mapa de Preços'!$A$16:$B$2988,2,0))","v":"Falta (U.M.)"},"","",null,{"$f":"VLOOKUP(A2219,'Mapa de Preços'!$A$16:$J$2988,10,0)","v":"Falta Orçamento"},"",null,2192,null,0]
[2193,{"$f":"IF(VLOOKUP(A2220,'Mapa de Preços'!$A$16:$B$2988,2,0)=FALSE,\"Falta (U.M.)\",VLOOKUP(A2220,'Mapa de Preços'!$A$16:$B$2988,2,0))","v":"Falta (U.M.)"},"","",null,{"$f":"VLOOKUP(A2220,'Mapa de Preços'!$A$16:$J$2988,10,0)","v":"Falta Orçamento"},"",null,2193,null,0]
[2194,{"$f":"IF(VLOOKUP(A2221,'Mapa de Preços'!$A$16:$B$2988,2,0)=FALSE,\"Falta (U.M.)\",VLOOKUP(A2221,'Mapa de Preços'!$A$16:$B$2988,2,0))","v":"Falta (U.M.)"},"","",null,{"$f":"VLOOKUP(A2221,'Mapa de Preços'!$A$16:$J$2988,10,0)","v":"Falta Orçamento"},"",null,2194,null,0]
[2195,{"$f":"IF(VLOOKUP(A2222,'Mapa de Preços'!$A$16:$B$2988,2,0)=FALSE,\"Falta (U.M.)\",VLOOKUP(A2222,'Mapa de Preços'!$A$16:$B$2988,2,0))","v":"Falta (U.M.)"},"","",null,{"$f":"VLOOKUP(A2222,'Mapa de Preços'!$A$16:$J$2988,10,0)","v":"Falta Orçamento"},"",null,2195,null,0]
[2196,{"$f":"IF(VLOOKUP(A2223,'Mapa de Preços'!$A$16:$B$2988,2,0)=FALSE,\"Falta (U.M.)\",VLOOKUP(A2223,'Mapa de Preços'!$A$16:$B$2988,2,0))","v":"Falta (U.M.)"},"","",null,{"$f":"VLOOKUP(A2223,'Mapa de Preços'!$A$16:$J$2988,10,0)","v":"Falta Orçamento"},"",null,2196,null,0]
[2197,{"$f":"IF(VLOOKUP(A2224,'Mapa de Preços'!$A$16:$B$2988,2,0)=FALSE,\"Falta (U.M.)\",VLOOKUP(A2224,'Mapa de Preços'!$A$16:$B$2988,2,0))","v":"Falta (U.M.)"},"","",null,{"$f":"VLOOKUP(A2224,'Mapa de Preços'!$A$16:$J$2988,10,0)","v":"Falta Orçamento"},"",null,2197,null,0]
[2198,{"$f":"IF(VLOOKUP(A2225,'Mapa de Preços'!$A$16:$B$2988,2,0)=FALSE,\"Falta (U.M.)\",VLOOKUP(A2225,'Mapa de Preços'!$A$16:$B$2988,2,0))","v":"Falta (U.M.)"},"","",null,{"$f":"VLOOKUP(A2225,'Mapa de Preços'!$A$16:$J$2988,10,0)","v":"Falta Orçamento"},"",null,2198,null,0]
[2199,{"$f":"IF(VLOOKUP(A2226,'Mapa de Preços'!$A$16:$B$2988,2,0)=FALSE,\"Falta (U.M.)\",VLOOKUP(A2226,'Mapa de Preços'!$A$16:$B$2988,2,0))","v":"Falta (U.M.)"},"","",null,{"$f":"VLOOKUP(A2226,'Mapa de Preços'!$A$16:$J$2988,10,0)","v":"Falta Orçamento"},"",null,2199,null,0]
[2200,{"$f":"IF(VLOOKUP(A2227,'Mapa de Preços'!$A$16:$B$2988,2,0)=FALSE,\"Falta (U.M.)\",VLOOKUP(A2227,'Mapa de Preços'!$A$16:$B$2988,2,0))","v":"Falta (U.M.)"},"","",null,{"$f":"VLOOKUP(A2227,'Mapa de Preços'!$A$16:$J$2988,10,0)","v":"Falta Orçamento"},"",null,2200,null,0]
[2201,{"$f":"IF(VLOOKUP(A2228,'Mapa de Preços'!$A$16:$B$2988,2,0)=FALSE,\"Falta (U.M.)\",VLOOKUP(A2228,'Mapa de Preços'!$A$16:$B$2988,2,0))","v":"Falta (U.M.)"},"","",null,{"$f":"VLOOKUP(A2228,'Mapa de Preços'!$A$16:$J$2988,10,0)","v":"Falta Orçamento"},"",null,2201,null,0]
[2202,{"$f":"IF(VLOOKUP(A2229,'Mapa de Preços'!$A$16:$B$2988,2,0)=FALSE,\"Falta (U.M.)\",VLOOKUP(A2229,'Mapa de Preços'!$A$16:$B$2988,2,0))","v":"Falta (U.M.)"},"","",null,{"$f":"VLOOKUP(A2229,'Mapa de Preços'!$A$16:$J$2988,10,0)","v":"Falta Orçamento"},"",null,2202,null,0]
[2203,{"$f":"IF(VLOOKUP(A2230,'Mapa de Preços'!$A$16:$B$2988,2,0)=FALSE,\"Falta (U.M.)\",VLOOKUP(A2230,'Mapa de Preços'!$A$16:$B$2988,2,0))","v":"Falta (U.M.)"},"","",null,{"$f":"VLOOKUP(A2230,'Mapa de Preços'!$A$16:$J$2988,10,0)","v":"Falta Orçamento"},"",null,2203,null,0]
[2204,{"$f":"IF(VLOOKUP(A2231,'Mapa de Preços'!$A$16:$B$2988,2,0)=FALSE,\"Falta (U.M.)\",VLOOKUP(A2231,'Mapa de Preços'!$A$16:$B$2988,2,0))","v":"Falta (U.M.)"},"","",null,{"$f":"VLOOKUP(A2231,'Mapa de Preços'!$A$16:$J$2988,10,0)","v":"Falta Orçamento"},"",null,2204,null,0]
[2205,{"$f":"IF(VLOOKUP(A2232,'Mapa de Preços'!$A$16:$B$2988,2,0)=FALSE,\"Falta (U.M.)\",VLOOKUP(A2232,'Mapa de Preços'!$A$16:$B$2988,2,0))","v":"Falta (U.M.)"},"","",null,{"$f":"VLOOKUP(A2232,'Mapa de Preços'!$A$16:$J$2988,10,0)","v":"Falta Orçamento"},"",null,2205,null,0]
[2206,{"$f":"IF(VLOOKUP(A2233,'Mapa de Preços'!$A$16:$B$2988,2,0)=FALSE,\"Falta (U.M.)\",VLOOKUP(A2233,'Mapa de Preços'!$A$16:$B$2988,2,0))","v":"Falta (U.M.)"},"","",null,{"$f":"VLOOKUP(A2233,'Mapa de Preços'!$A$16:$J$2988,10,0)","v":"Falta Orçamento"},"",null,2206,null,0]
[2207,{"$f":"IF(VLOOKUP(A2234,'Mapa de Preços'!$A$16:$B$2988,2,0)=FALSE,\"Falta (U.M.)\",VLOOKUP(A2234,'Mapa de Preços'!$A$16:$B$2988,2,0))","v":"Falta (U.M.)"},"","",null,{"$f":"VLOOKUP(A2234,'Mapa de Preços'!$A$16:$J$2988,10,0)","v":"Falta Orçamento"},"",null,2207,null,0]
[2208,{"$f":"IF(VLOOKUP(A2235,'Mapa de Preços'!$A$16:$B$2988,2,0)=FALSE,\"Falta (U.M.)\",VLOOKUP(A2235,'Mapa de Preços'!$A$16:$B$2988,2,0))","v":"Falta (U.M.)"},"","",null,{"$f":"VLOOKUP(A2235,'Mapa de Preços'!$A$16:$J$2988,10,0)","v":"Falta Orçamento"},"",null,2208,null,0]
[2209,{"$f":"IF(VLOOKUP(A2236,'Mapa de Preços'!$A$16:$B$2988,2,0)=FALSE,\"Falta (U.M.)\",VLOOKUP(A2236,'Mapa de Preços'!$A$16:$B$2988,2,0))","v":"Falta (U.M.)"},"","",null,{"$f":"VLOOKUP(A2236,'Mapa de Preços'!$A$16:$J$2988,10,0)","v":"Falta Orçamento"},"",null,2209,null,0]
[2210,{"$f":"IF(VLOOKUP(A2237,'Mapa de Preços'!$A$16:$B$2988,2,0)=FALSE,\"Falta (U.M.)\",VLOOKUP(A2237,'Mapa de Preços'!$A$16:$B$2988,2,0))","v":"Falta (U.M.)"},"","",null,{"$f":"VLOOKUP(A2237,'Mapa de Preços'!$A$16:$J$2988,10,0)","v":"Falta Orçamento"},"",null,2210,null,0]
[2211,{"$f":"IF(VLOOKUP(A2238,'Mapa de Preços'!$A$16:$B$2988,2,0)=FALSE,\"Falta (U.M.)\",VLOOKUP(A2238,'Mapa de Preços'!$A$16:$B$2988,2,0))","v":"Falta (U.M.)"},"","",null,{"$f":"VLOOKUP(A2238,'Mapa de Preços'!$A$16:$J$2988,10,0)","v":"Falta Orçamento"},"",null,2211,null,0]
[2212,{"$f":"IF(VLOOKUP(A2239,'Mapa de Preços'!$A$16:$B$2988,2,0)=FALSE,\"Falta (U.M.)\",VLOOKUP(A2239,'Mapa de Preços'!$A$16:$B$2988,2,0))","v":"Falta (U.M.)"},"","",null,{"$f":"VLOOKUP(A2239,'Mapa de Preços'!$A$16:$J$2988,10,0)","v":"Falta Orçamento"},"",null,2212,null,0]
[2213,{"$f":"IF(VLOOKUP(A2240,'Mapa de Preços'!$A$16:$B$2988,2,0)=FALSE,\"Falta (U.M.)\",VLOOKUP(A2240,'Mapa de Preços'!$A$16:$B$2988,2,0))","v":"Falta (U.M.)"},"","",null,{"$f":"VLOOKUP(A2240,'Mapa de Preços'!$A$16:$J$2988,10,0)","v":"Falta Orçamento"},"",null,2213,null,0]
[2214,{"$f":"IF(VLOOKUP(A2241,'Mapa de Preços'!$A$16:$B$2988,2,0)=FALSE,\"Falta (U.M.)\",VLOOKUP(A2241,'Mapa de Preços'!$A$16:$B$2988,2,0))","v":"Falta (U.M.)"},"","",null,{"$f":"VLOOKUP(A2241,'Mapa de Preços'!$A$16:$J$2988,10,0)","v":"Falta Orçamento"},"",null,2214,null,0]
[2215,{"$f":"IF(VLOOKUP(A2242,'Mapa de Preços'!$A$16:$B$2988,2,0)=FALSE,\"Falta (U.M.)\",VLOOKUP(A2242,'Mapa de Preços'!$A$16:$B$2988,2,0))","v":"Falta (U.M.)"},"","",null,{"$f":"VLOOKUP(A2242,'Mapa de Preços'!$A$16:$J$2988,10,0)","v":"Falta Orçamento"},"",null,2215,null,0]
[2216,{"$f":"IF(VLOOKUP(A2243,'Mapa de Preços'!$A$16:$B$2988,2,0)=FALSE,\"Falta (U.M.)\",VLOOKUP(A2243,'Mapa de Preços'!$A$16:$B$2988,2,0))","v":"Falta (U.M.)"},"","",null,{"$f":"VLOOKUP(A2243,'Mapa de Preços'!$A$16:$J$2988,10,0)","v":"Falta Orçamento"},"",null,2216,null,0]
[2217,{"$f":"IF(VLOOKUP(A2244,'Mapa de Preços'!$A$16:$B$2988,2,0)=FALSE,\"Falta (U.M.)\",VLOOKUP(A2244,'Mapa de Preços'!$A$16:$B$2988,2,0))","v":"Falta (U.M.)"},"","",null,{"$f":"VLOOKUP(A2244,'Mapa de Preços'!$A$16:$J$2988,10,0)","v":"Falta Orçamento"},"",null,2217,null,0]
[2218,{"$f":"IF(VLOOKUP(A2245,'Mapa de Preços'!$A$16:$B$2988,2,0)=FALSE,\"Falta (U.M.)\",VLOOKUP(A2245,'Mapa de Preços'!$A$16:$B$2988,2,0))","v":"Falta (U.M.)"},"","",null,{"$f":"VLOOKUP(A2245,'Mapa de Preços'!$A$16:$J$2988,10,0)","v":"Falta Orçamento"},"",null,2218,null,0]
[2219,{"$f":"IF(VLOOKUP(A2246,'Mapa de Preços'!$A$16:$B$2988,2,0)=FALSE,\"Falta (U.M.)\",VLOOKUP(A2246,'Mapa de Preços'!$A$16:$B$2988,2,0))","v":"Falta (U.M.)"},"","",null,{"$f":"VLOOKUP(A2246,'Mapa de Preços'!$A$16:$J$2988,10,0)","v":"Falta Orçamento"},"",null,2219,null,0]
[2220,{"$f":"IF(VLOOKUP(A2247,'Mapa de Preços'!$A$16:$B$2988,2,0)=FALSE,\"Falta (U.M.)\",VLOOKUP(A2247,'Mapa de Preços'!$A$16:$B$2988,2,0))","v":"Falta (U.M.)"},"","",null,{"$f":"VLOOKUP(A2247,'Mapa de Preços'!$A$16:$J$2988,10,0)","v":"Falta Orçamento"},"",null,2220,null,0]
[2221,{"$f":"IF(VLOOKUP(A2248,'Mapa de Preços'!$A$16:$B$2988,2,0)=FALSE,\"Falta (U.M.)\",VLOOKUP(A2248,'Mapa de Preços'!$A$16:$B$2988,2,0))","v":"Falta (U.M.)"},"","",null,{"$f":"VLOOKUP(A2248,'Mapa de Preços'!$A$16:$J$2988,10,0)","v":"Falta Orçamento"},"",null,2221,null,0]
[2222,{"$f":"IF(VLOOKUP(A2249,'Mapa de Preços'!$A$16:$B$2988,2,0)=FALSE,\"Falta (U.M.)\",VLOOKUP(A2249,'Mapa de Preços'!$A$16:$B$2988,2,0))","v":"Falta (U.M.)"},"","",null,{"$f":"VLOOKUP(A2249,'Mapa de Preços'!$A$16:$J$2988,10,0)","v":"Falta Orçamento"},"",null,2222,null,0]
[2223,{"$f":"IF(VLOOKUP(A2250,'Mapa de Preços'!$A$16:$B$2988,2,0)=FALSE,\"Falta (U.M.)\",VLOOKUP(A2250,'Mapa de Preços'!$A$16:$B$2988,2,0))","v":"Falta (U.M.)"},"","",null,{"$f":"VLOOKUP(A2250,'Mapa de Preços'!$A$16:$J$2988,10,0)","v":"Falta Orçamento"},"",null,2223,null,0]
[2224,{"$f":"IF(VLOOKUP(A2251,'Mapa de Preços'!$A$16:$B$2988,2,0)=FALSE,\"Falta (U.M.)\",VLOOKUP(A2251,'Mapa de Preços'!$A$16:$B$2988,2,0))","v":"Falta (U.M.)"},"","",null,{"$f":"VLOOKUP(A2251,'Mapa de Preços'!$A$16:$J$2988,10,0)","v":"Falta Orçamento"},"",null,2224,null,0]
[2225,{"$f":"IF(VLOOKUP(A2252,'Mapa de Preços'!$A$16:$B$2988,2,0)=FALSE,\"Falta (U.M.)\",VLOOKUP(A2252,'Mapa de Preços'!$A$16:$B$2988,2,0))","v":"Falta (U.M.)"},"","",null,{"$f":"VLOOKUP(A2252,'Mapa de Preços'!$A$16:$J$2988,10,0)","v":"Falta Orçamento"},"",null,2225,null,0]
[2226,{"$f":"IF(VLOOKUP(A2253,'Mapa de Preços'!$A$16:$B$2988,2,0)=FALSE,\"Falta (U.M.)\",VLOOKUP(A2253,'Mapa de Preços'!$A$16:$B$2988,2,0))","v":"Falta (U.M.)"},"","",null,{"$f":"VLOOKUP(A2253,'Mapa de Preços'!$A$16:$J$2988,10,0)","v":"Falta Orçamento"},"",null,2226,null,0]
[2227,{"$f":"IF(VLOOKUP(A2254,'Mapa de Preços'!$A$16:$B$2988,2,0)=FALSE,\"Falta (U.M.)\",VLOOKUP(A2254,'Mapa de Preços'!$A$16:$B$2988,2,0))","v":"Falta (U.M.)"},"","",null,{"$f":"VLOOKUP(A2254,'Mapa de Preços'!$A$16:$J$2988,10,0)","v":"Falta Orçamento"},"",null,2227,null,0]
[2228,{"$f":"IF(VLOOKUP(A2255,'Mapa de Preços'!$A$16:$B$2988,2,0)=FALSE,\"Falta (U.M.)\",VLOOKUP(A2255,'Mapa de Preços'!$A$16:$B$2988,2,0))","v":"Falta (U.M.)"},"","",null,{"$f":"VLOOKUP(A2255,'Mapa de Preços'!$A$16:$J$2988,10,0)","v":"Falta Orçamento"},"",null,2228,null,0]
[2229,{"$f":"IF(VLOOKUP(A2256,'Mapa de Preços'!$A$16:$B$2988,2,0)=FALSE,\"Falta (U.M.)\",VLOOKUP(A2256,'Mapa de Preços'!$A$16:$B$2988,2,0))","v":"Falta (U.M.)"},"","",null,{"$f":"VLOOKUP(A2256,'Mapa de Preços'!$A$16:$J$2988,10,0)","v":"Falta Orçamento"},"",null,2229,null,0]
[2230,{"$f":"IF(VLOOKUP(A2257,'Mapa de Preços'!$A$16:$B$2988,2,0)=FALSE,\"Falta (U.M.)\",VLOOKUP(A2257,'Mapa de Preços'!$A$16:$B$2988,2,0))","v":"Falta (U.M.)"},"","",null,{"$f":"VLOOKUP(A2257,'Mapa de Preços'!$A$16:$J$2988,10,0)","v":"Falta Orçamento"},"",null,2230,null,0]
[2231,{"$f":"IF(VLOOKUP(A2258,'Mapa de Preços'!$A$16:$B$2988,2,0)=FALSE,\"Falta (U.M.)\",VLOOKUP(A2258,'Mapa de Preços'!$A$16:$B$2988,2,0))","v":"Falta (U.M.)"},"","",null,{"$f":"VLOOKUP(A2258,'Mapa de Preços'!$A$16:$J$2988,10,0)","v":"Falta Orçamento"},"",null,2231,null,0]
[2232,{"$f":"IF(VLOOKUP(A2259,'Mapa de Preços'!$A$16:$B$2988,2,0)=FALSE,\"Falta (U.M.)\",VLOOKUP(A2259,'Mapa de Preços'!$A$16:$B$2988,2,0))","v":"Falta (U.M.)"},"","",null,{"$f":"VLOOKUP(A2259,'Mapa de Preços'!$A$16:$J$2988,10,0)","v":"Falta Orçamento"},"",null,2232,null,0]
[2233,{"$f":"IF(VLOOKUP(A2260,'Mapa de Preços'!$A$16:$B$2988,2,0)=FALSE,\"Falta (U.M.)\",VLOOKUP(A2260,'Mapa de Preços'!$A$16:$B$2988,2,0))","v":"Falta (U.M.)"},"","",null,{"$f":"VLOOKUP(A2260,'Mapa de Preços'!$A$16:$J$2988,10,0)","v":"Falta Orçamento"},"",null,2233,null,0]
[2234,{"$f":"IF(VLOOKUP(A2261,'Mapa de Preços'!$A$16:$B$2988,2,0)=FALSE,\"Falta (U.M.)\",VLOOKUP(A2261,'Mapa de Preços'!$A$16:$B$2988,2,0))","v":"Falta (U.M.)"},"","",null,{"$f":"VLOOKUP(A2261,'Mapa de Preços'!$A$16:$J$2988,10,0)","v":"Falta Orçamento"},"",null,2234,null,0]
[2235,{"$f":"IF(VLOOKUP(A2262,'Mapa de Preços'!$A$16:$B$2988,2,0)=FALSE,\"Falta (U.M.)\",VLOOKUP(A2262,'Mapa de Preços'!$A$16:$B$2988,2,0))","v":"Falta (U.M.)"},"","",null,{"$f":"VLOOKUP(A2262,'Mapa de Preços'!$A$16:$J$2988,10,0)","v":"Falta Orçamento"},"",null,2235,null,0]
[2236,{"$f":"IF(VLOOKUP(A2263,'Mapa de Preços'!$A$16:$B$2988,2,0)=FALSE,\"Falta (U.M.)\",VLOOKUP(A2263,'Mapa de Preços'!$A$16:$B$2988,2,0))","v":"Falta (U.M.)"},"","",null,{"$f":"VLOOKUP(A2263,'Mapa de Preços'!$A$16:$J$2988,10,0)","v":"Falta Orçamento"},"",null,2236,null,0]
[2237,{"$f":"IF(VLOOKUP(A2264,'Mapa de Preços'!$A$16:$B$2988,2,0)=FALSE,\"Falta (U.M.)\",VLOOKUP(A2264,'Mapa de Preços'!$A$16:$B$2988,2,0))","v":"Falta (U.M.)"},"","",null,{"$f":"VLOOKUP(A2264,'Mapa de Preços'!$A$16:$J$2988,10,0)","v":"Falta Orçamento"},"",null,2237,null,0]
[2238,{"$f":"IF(VLOOKUP(A2265,'Mapa de Preços'!$A$16:$B$2988,2,0)=FALSE,\"Falta (U.M.)\",VLOOKUP(A2265,'Mapa de Preços'!$A$16:$B$2988,2,0))","v":"Falta (U.M.)"},"","",null,{"$f":"VLOOKUP(A2265,'Mapa de Preços'!$A$16:$J$2988,10,0)","v":"Falta Orçamento"},"",null,2238,null,0]
[2239,{"$f":"IF(VLOOKUP(A2266,'Mapa de Preços'!$A$16:$B$2988,2,0)=FALSE,\"Falta (U.M.)\",VLOOKUP(A2266,'Mapa de Preços'!$A$16:$B$2988,2,0))","v":"Falta (U.M.)"},"","",null,{"$f":"VLOOKUP(A2266,'Mapa de Preços'!$A$16:$J$2988,10,0)","v":"Falta Orçamento"},"",null,2239,null,0]
[2240,{"$f":"IF(VLOOKUP(A2267,'Mapa de Preços'!$A$16:$B$2988,2,0)=FALSE,\"Falta (U.M.)\",VLOOKUP(A2267,'Mapa de Preços'!$A$16:$B$2988,2,0))","v":"Falta (U.M.)"},"","",null,{"$f":"VLOOKUP(A2267,'Mapa de Preços'!$A$16:$J$2988,10,0)","v":"Falta Orçamento"},"",null,2240,null,0]
[2241,{"$f":"IF(VLOOKUP(A2268,'Mapa de Preços'!$A$16:$B$2988,2,0)=FALSE,\"Falta (U.M.)\",VLOOKUP(A2268,'Mapa de Preços'!$A$16:$B$2988,2,0))","v":"Falta (U.M.)"},"","",null,{"$f":"VLOOKUP(A2268,'Mapa de Preços'!$A$16:$J$2988,10,0)","v":"Falta Orçamento"},"",null,2241,null,{"$f":"SUM(L2268:AI2268)","v":0}]
[2242,{"$f":"IF(VLOOKUP(A2269,'Mapa de Preços'!$A$16:$B$2988,2,0)=FALSE,\"Falta (U.M.)\",VLOOKUP(A2269,'Mapa de Preços'!$A$16:$B$2988,2,0))","v":"Falta (U.M.)"},{"$f":"IF(J2269<>\"\",J2269,\"\")","v":""},{"$f":"IF(VLOOKUP(A2269,$I$28:$AI$3000,$G$26,FALSE)<>\"\",VLOOKUP(A2269,$I$28:$AI$3000,$G$26,FALSE),\"\")","v":""},null,{"$f":"VLOOKUP(A2269,'Mapa de Preços'!$A$16:$J$2988,10,0)","v":"Falta Orçamento"},{"$f":"IF(F2269=\"Falta Orçamento\",\"\",F2269*D2269)","v":""},null,2242,null,0]
[2243,{"$f":"IF(VLOOKUP(A2270,'Mapa de Preços'!$A$16:$B$2988,2,0)=FALSE,\"Falta (U.M.)\",VLOOKUP(A2270,'Mapa de Preços'!$A$16:$B$2988,2,0))","v":"Falta (U.M.)"},"","",null,{"$f":"VLOOKUP(A2270,'Mapa de Preços'!$A$16:$J$2988,10,0)","v":"Falta Orçamento"},"",null,2243,null,0]
[2244,{"$f":"IF(VLOOKUP(A2271,'Mapa de Preços'!$A$16:$B$2988,2,0)=FALSE,\"Falta (U.M.)\",VLOOKUP(A2271,'Mapa de Preços'!$A$16:$B$2988,2,0))","v":"Falta (U.M.)"},"","",null,{"$f":"VLOOKUP(A2271,'Mapa de Preços'!$A$16:$J$2988,10,0)","v":"Falta Orçamento"},"",null,2244,null,0]
[2245,{"$f":"IF(VLOOKUP(A2272,'Mapa de Preços'!$A$16:$B$2988,2,0)=FALSE,\"Falta (U.M.)\",VLOOKUP(A2272,'Mapa de Preços'!$A$16:$B$2988,2,0))","v":"Falta (U.M.)"},"","",null,{"$f":"VLOOKUP(A2272,'Mapa de Preços'!$A$16:$J$2988,10,0)","v":"Falta Orçamento"},"",null,2245,null,0]
[2246,{"$f":"IF(VLOOKUP(A2273,'Mapa de Preços'!$A$16:$B$2988,2,0)=FALSE,\"Falta (U.M.)\",VLOOKUP(A2273,'Mapa de Preços'!$A$16:$B$2988,2,0))","v":"Falta (U.M.)"},"","",null,{"$f":"VLOOKUP(A2273,'Mapa de Preços'!$A$16:$J$2988,10,0)","v":"Falta Orçamento"},"",null,2246,null,0]
[2247,{"$f":"IF(VLOOKUP(A2274,'Mapa de Preços'!$A$16:$B$2988,2,0)=FALSE,\"Falta (U.M.)\",VLOOKUP(A2274,'Mapa de Preços'!$A$16:$B$2988,2,0))","v":"Falta (U.M.)"},"","",null,{"$f":"VLOOKUP(A2274,'Mapa de Preços'!$A$16:$J$2988,10,0)","v":"Falta Orçamento"},"",null,2247,null,0]
[2248,{"$f":"IF(VLOOKUP(A2275,'Mapa de Preços'!$A$16:$B$2988,2,0)=FALSE,\"Falta (U.M.)\",VLOOKUP(A2275,'Mapa de Preços'!$A$16:$B$2988,2,0))","v":"Falta (U.M.)"},"","",null,{"$f":"VLOOKUP(A2275,'Mapa de Preços'!$A$16:$J$2988,10,0)","v":"Falta Orçamento"},"",null,2248,null,0]
[2249,{"$f":"IF(VLOOKUP(A2276,'Mapa de Preços'!$A$16:$B$2988,2,0)=FALSE,\"Falta (U.M.)\",VLOOKUP(A2276,'Mapa de Preços'!$A$16:$B$2988,2,0))","v":"Falta (U.M.)"},"","",null,{"$f":"VLOOKUP(A2276,'Mapa de Preços'!$A$16:$J$2988,10,0)","v":"Falta Orçamento"},"",null,2249,null,0]
[2250,{"$f":"IF(VLOOKUP(A2277,'Mapa de Preços'!$A$16:$B$2988,2,0)=FALSE,\"Falta (U.M.)\",VLOOKUP(A2277,'Mapa de Preços'!$A$16:$B$2988,2,0))","v":"Falta (U.M.)"},"","",null,{"$f":"VLOOKUP(A2277,'Mapa de Preços'!$A$16:$J$2988,10,0)","v":"Falta Orçamento"},"",null,2250,null,0]
[2251,{"$f":"IF(VLOOKUP(A2278,'Mapa de Preços'!$A$16:$B$2988,2,0)=FALSE,\"Falta (U.M.)\",VLOOKUP(A2278,'Mapa de Preços'!$A$16:$B$2988,2,0))","v":"Falta (U.M.)"},"","",null,{"$f":"VLOOKUP(A2278,'Mapa de Preços'!$A$16:$J$2988,10,0)","v":"Falta Orçamento"},"",null,2251,null,0]
[2252,{"$f":"IF(VLOOKUP(A2279,'Mapa de Preços'!$A$16:$B$2988,2,0)=FALSE,\"Falta (U.M.)\",VLOOKUP(A2279,'Mapa de Preços'!$A$16:$B$2988,2,0))","v":"Falta (U.M.)"},"","",null,{"$f":"VLOOKUP(A2279,'Mapa de Preços'!$A$16:$J$2988,10,0)","v":"Falta Orçamento"},"",null,2252,null,0]
[2253,{"$f":"IF(VLOOKUP(A2280,'Mapa de Preços'!$A$16:$B$2988,2,0)=FALSE,\"Falta (U.M.)\",VLOOKUP(A2280,'Mapa de Preços'!$A$16:$B$2988,2,0))","v":"Falta (U.M.)"},"","",null,{"$f":"VLOOKUP(A2280,'Mapa de Preços'!$A$16:$J$2988,10,0)","v":"Falta Orçamento"},"",null,2253,null,0]
[2254,{"$f":"IF(VLOOKUP(A2281,'Mapa de Preços'!$A$16:$B$2988,2,0)=FALSE,\"Falta (U.M.)\",VLOOKUP(A2281,'Mapa de Preços'!$A$16:$B$2988,2,0))","v":"Falta (U.M.)"},"","",null,{"$f":"VLOOKUP(A2281,'Mapa de Preços'!$A$16:$J$2988,10,0)","v":"Falta Orçamento"},"",null,2254,null,0]
[2255,{"$f":"IF(VLOOKUP(A2282,'Mapa de Preços'!$A$16:$B$2988,2,0)=FALSE,\"Falta (U.M.)\",VLOOKUP(A2282,'Mapa de Preços'!$A$16:$B$2988,2,0))","v":"Falta (U.M.)"},"","",null,{"$f":"VLOOKUP(A2282,'Mapa de Preços'!$A$16:$J$2988,10,0)","v":"Falta Orçamento"},"",null,2255,null,0]
[2256,{"$f":"IF(VLOOKUP(A2283,'Mapa de Preços'!$A$16:$B$2988,2,0)=FALSE,\"Falta (U.M.)\",VLOOKUP(A2283,'Mapa de Preços'!$A$16:$B$2988,2,0))","v":"Falta (U.M.)"},"","",null,{"$f":"VLOOKUP(A2283,'Mapa de Preços'!$A$16:$J$2988,10,0)","v":"Falta Orçamento"},"",null,2256,null,0]
[2257,{"$f":"IF(VLOOKUP(A2284,'Mapa de Preços'!$A$16:$B$2988,2,0)=FALSE,\"Falta (U.M.)\",VLOOKUP(A2284,'Mapa de Preços'!$A$16:$B$2988,2,0))","v":"Falta (U.M.)"},"","",null,{"$f":"VLOOKUP(A2284,'Mapa de Preços'!$A$16:$J$2988,10,0)","v":"Falta Orçamento"},"",null,2257,null,0]
[2258,{"$f":"IF(VLOOKUP(A2285,'Mapa de Preços'!$A$16:$B$2988,2,0)=FALSE,\"Falta (U.M.)\",VLOOKUP(A2285,'Mapa de Preços'!$A$16:$B$2988,2,0))","v":"Falta (U.M.)"},"","",null,{"$f":"VLOOKUP(A2285,'Mapa de Preços'!$A$16:$J$2988,10,0)","v":"Falta Orçamento"},"",null,2258,null,0]
[2259,{"$f":"IF(VLOOKUP(A2286,'Mapa de Preços'!$A$16:$B$2988,2,0)=FALSE,\"Falta (U.M.)\",VLOOKUP(A2286,'Mapa de Preços'!$A$16:$B$2988,2,0))","v":"Falta (U.M.)"},"","",null,{"$f":"VLOOKUP(A2286,'Mapa de Preços'!$A$16:$J$2988,10,0)","v":"Falta Orçamento"},"",null,2259,null,0]
[2260,{"$f":"IF(VLOOKUP(A2287,'Mapa de Preços'!$A$16:$B$2988,2,0)=FALSE,\"Falta (U.M.)\",VLOOKUP(A2287,'Mapa de Preços'!$A$16:$B$2988,2,0))","v":"Falta (U.M.)"},"","",null,{"$f":"VLOOKUP(A2287,'Mapa de Preços'!$A$16:$J$2988,10,0)","v":"Falta Orçamento"},"",null,2260,null,0]
[2261,{"$f":"IF(VLOOKUP(A2288,'Mapa de Preços'!$A$16:$B$2988,2,0)=FALSE,\"Falta (U.M.)\",VLOOKUP(A2288,'Mapa de Preços'!$A$16:$B$2988,2,0))","v":"Falta (U.M.)"},"","",null,{"$f":"VLOOKUP(A2288,'Mapa de Preços'!$A$16:$J$2988,10,0)","v":"Falta Orçamento"},"",null,2261,null,0]
[2262,{"$f":"IF(VLOOKUP(A2289,'Mapa de Preços'!$A$16:$B$2988,2,0)=FALSE,\"Falta (U.M.)\",VLOOKUP(A2289,'Mapa de Preços'!$A$16:$B$2988,2,0))","v":"Falta (U.M.)"},"","",null,{"$f":"VLOOKUP(A2289,'Mapa de Preços'!$A$16:$J$2988,10,0)","v":"Falta Orçamento"},"",null,2262,null,0]
[2263,{"$f":"IF(VLOOKUP(A2290,'Mapa de Preços'!$A$16:$B$2988,2,0)=FALSE,\"Falta (U.M.)\",VLOOKUP(A2290,'Mapa de Preços'!$A$16:$B$2988,2,0))","v":"Falta (U.M.)"},"","",null,{"$f":"VLOOKUP(A2290,'Mapa de Preços'!$A$16:$J$2988,10,0)","v":"Falta Orçamento"},"",null,2263,null,0]
[2264,{"$f":"IF(VLOOKUP(A2291,'Mapa de Preços'!$A$16:$B$2988,2,0)=FALSE,\"Falta (U.M.)\",VLOOKUP(A2291,'Mapa de Preços'!$A$16:$B$2988,2,0))","v":"Falta (U.M.)"},"","",null,{"$f":"VLOOKUP(A2291,'Mapa de Preços'!$A$16:$J$2988,10,0)","v":"Falta Orçamento"},"",null,2264,null,0]
[2265,{"$f":"IF(VLOOKUP(A2292,'Mapa de Preços'!$A$16:$B$2988,2,0)=FALSE,\"Falta (U.M.)\",VLOOKUP(A2292,'Mapa de Preços'!$A$16:$B$2988,2,0))","v":"Falta (U.M.)"},"","",null,{"$f":"VLOOKUP(A2292,'Mapa de Preços'!$A$16:$J$2988,10,0)","v":"Falta Orçamento"},"",null,2265,null,0]
[2266,{"$f":"IF(VLOOKUP(A2293,'Mapa de Preços'!$A$16:$B$2988,2,0)=FALSE,\"Falta (U.M.)\",VLOOKUP(A2293,'Mapa de Preços'!$A$16:$B$2988,2,0))","v":"Falta (U.M.)"},"","",null,{"$f":"VLOOKUP(A2293,'Mapa de Preços'!$A$16:$J$2988,10,0)","v":"Falta Orçamento"},"",null,2266,null,0]
[2267,{"$f":"IF(VLOOKUP(A2294,'Mapa de Preços'!$A$16:$B$2988,2,0)=FALSE,\"Falta (U.M.)\",VLOOKUP(A2294,'Mapa de Preços'!$A$16:$B$2988,2,0))","v":"Falta (U.M.)"},"","",null,{"$f":"VLOOKUP(A2294,'Mapa de Preços'!$A$16:$J$2988,10,0)","v":"Falta Orçamento"},"",null,2267,null,0]
[2268,{"$f":"IF(VLOOKUP(A2295,'Mapa de Preços'!$A$16:$B$2988,2,0)=FALSE,\"Falta (U.M.)\",VLOOKUP(A2295,'Mapa de Preços'!$A$16:$B$2988,2,0))","v":"Falta (U.M.)"},"","",null,{"$f":"VLOOKUP(A2295,'Mapa de Preços'!$A$16:$J$2988,10,0)","v":"Falta Orçamento"},"",null,2268,null,0]
[2269,{"$f":"IF(VLOOKUP(A2296,'Mapa de Preços'!$A$16:$B$2988,2,0)=FALSE,\"Falta (U.M.)\",VLOOKUP(A2296,'Mapa de Preços'!$A$16:$B$2988,2,0))","v":"Falta (U.M.)"},"","",null,{"$f":"VLOOKUP(A2296,'Mapa de Preços'!$A$16:$J$2988,10,0)","v":"Falta Orçamento"},"",null,2269,null,0]
[2270,{"$f":"IF(VLOOKUP(A2297,'Mapa de Preços'!$A$16:$B$2988,2,0)=FALSE,\"Falta (U.M.)\",VLOOKUP(A2297,'Mapa de Preços'!$A$16:$B$2988,2,0))","v":"Falta (U.M.)"},"","",null,{"$f":"VLOOKUP(A2297,'Mapa de Preços'!$A$16:$J$2988,10,0)","v":"Falta Orçamento"},"",null,2270,null,0]
[2271,{"$f":"IF(VLOOKUP(A2298,'Mapa de Preços'!$A$16:$B$2988,2,0)=FALSE,\"Falta (U.M.)\",VLOOKUP(A2298,'Mapa de Preços'!$A$16:$B$2988,2,0))","v":"Falta (U.M.)"},"","",null,{"$f":"VLOOKUP(A2298,'Mapa de Preços'!$A$16:$J$2988,10,0)","v":"Falta Orçamento"},"",null,2271,null,0]
[2272,{"$f":"IF(VLOOKUP(A2299,'Mapa de Preços'!$A$16:$B$2988,2,0)=FALSE,\"Falta (U.M.)\",VLOOKUP(A2299,'Mapa de Preços'!$A$16:$B$2988,2,0))","v":"Falta (U.M.)"},"","",null,{"$f":"VLOOKUP(A2299,'Mapa de Preços'!$A$16:$J$2988,10,0)","v":"Falta Orçamento"},"",null,2272,null,0]
[2273,{"$f":"IF(VLOOKUP(A2300,'Mapa de Preços'!$A$16:$B$2988,2,0)=FALSE,\"Falta (U.M.)\",VLOOKUP(A2300,'Mapa de Preços'!$A$16:$B$2988,2,0))","v":"Falta (U.M.)"},"","",null,{"$f":"VLOOKUP(A2300,'Mapa de Preços'!$A$16:$J$2988,10,0)","v":"Falta Orçamento"},"",null,2273,null,0]
[2274,{"$f":"IF(VLOOKUP(A2301,'Mapa de Preços'!$A$16:$B$2988,2,0)=FALSE,\"Falta (U.M.)\",VLOOKUP(A2301,'Mapa de Preços'!$A$16:$B$2988,2,0))","v":"Falta (U.M.)"},"","",null,{"$f":"VLOOKUP(A2301,'Mapa de Preços'!$A$16:$J$2988,10,0)","v":"Falta Orçamento"},"",null,2274,null,0]
[2275,{"$f":"IF(VLOOKUP(A2302,'Mapa de Preços'!$A$16:$B$2988,2,0)=FALSE,\"Falta (U.M.)\",VLOOKUP(A2302,'Mapa de Preços'!$A$16:$B$2988,2,0))","v":"Falta (U.M.)"},"","",null,{"$f":"VLOOKUP(A2302,'Mapa de Preços'!$A$16:$J$2988,10,0)","v":"Falta Orçamento"},"",null,2275,null,0]
[2276,{"$f":"IF(VLOOKUP(A2303,'Mapa de Preços'!$A$16:$B$2988,2,0)=FALSE,\"Falta (U.M.)\",VLOOKUP(A2303,'Mapa de Preços'!$A$16:$B$2988,2,0))","v":"Falta (U.M.)"},"","",null,{"$f":"VLOOKUP(A2303,'Mapa de Preços'!$A$16:$J$2988,10,0)","v":"Falta Orçamento"},"",null,2276,null,0]
[2277,{"$f":"IF(VLOOKUP(A2304,'Mapa de Preços'!$A$16:$B$2988,2,0)=FALSE,\"Falta (U.M.)\",VLOOKUP(A2304,'Mapa de Preços'!$A$16:$B$2988,2,0))","v":"Falta (U.M.)"},"","",null,{"$f":"VLOOKUP(A2304,'Mapa de Preços'!$A$16:$J$2988,10,0)","v":"Falta Orçamento"},"",null,2277,null,0]
[2278,{"$f":"IF(VLOOKUP(A2305,'Mapa de Preços'!$A$16:$B$2988,2,0)=FALSE,\"Falta (U.M.)\",VLOOKUP(A2305,'Mapa de Preços'!$A$16:$B$2988,2,0))","v":"Falta (U.M.)"},"","",null,{"$f":"VLOOKUP(A2305,'Mapa de Preços'!$A$16:$J$2988,10,0)","v":"Falta Orçamento"},"",null,2278,null,0]
[2279,{"$f":"IF(VLOOKUP(A2306,'Mapa de Preços'!$A$16:$B$2988,2,0)=FALSE,\"Falta (U.M.)\",VLOOKUP(A2306,'Mapa de Preços'!$A$16:$B$2988,2,0))","v":"Falta (U.M.)"},"","",null,{"$f":"VLOOKUP(A2306,'Mapa de Preços'!$A$16:$J$2988,10,0)","v":"Falta Orçamento"},"",null,2279,null,0]
[2280,{"$f":"IF(VLOOKUP(A2307,'Mapa de Preços'!$A$16:$B$2988,2,0)=FALSE,\"Falta (U.M.)\",VLOOKUP(A2307,'Mapa de Preços'!$A$16:$B$2988,2,0))","v":"Falta (U.M.)"},"","",null,{"$f":"VLOOKUP(A2307,'Mapa de Preços'!$A$16:$J$2988,10,0)","v":"Falta Orçamento"},"",null,2280,null,0]
[2281,{"$f":"IF(VLOOKUP(A2308,'Mapa de Preços'!$A$16:$B$2988,2,0)=FALSE,\"Falta (U.M.)\",VLOOKUP(A2308,'Mapa de Preços'!$A$16:$B$2988,2,0))","v":"Falta (U.M.)"},"","",null,{"$f":"VLOOKUP(A2308,'Mapa de Preços'!$A$16:$J$2988,10,0)","v":"Falta Orçamento"},"",null,2281,null,0]
[2282,{"$f":"IF(VLOOKUP(A2309,'Mapa de Preços'!$A$16:$B$2988,2,0)=FALSE,\"Falta (U.M.)\",VLOOKUP(A2309,'Mapa de Preços'!$A$16:$B$2988,2,0))","v":"Falta (U.M.)"},"","",null,{"$f":"VLOOKUP(A2309,'Mapa de Preços'!$A$16:$J$2988,10,0)","v":"Falta Orçamento"},"",null,2282,null,0]
[2283,{"$f":"IF(VLOOKUP(A2310,'Mapa de Preços'!$A$16:$B$2988,2,0)=FALSE,\"Falta (U.M.)\",VLOOKUP(A2310,'Mapa de Preços'!$A$16:$B$2988,2,0))","v":"Falta (U.M.)"},"","",null,{"$f":"VLOOKUP(A2310,'Mapa de Preços'!$A$16:$J$2988,10,0)","v":"Falta Orçamento"},"",null,2283,null,0]
[2284,{"$f":"IF(VLOOKUP(A2311,'Mapa de Preços'!$A$16:$B$2988,2,0)=FALSE,\"Falta (U.M.)\",VLOOKUP(A2311,'Mapa de Preços'!$A$16:$B$2988,2,0))","v":"Falta (U.M.)"},"","",null,{"$f":"VLOOKUP(A2311,'Mapa de Preços'!$A$16:$J$2988,10,0)","v":"Falta Orçamento"},"",null,2284,null,0]
[2285,{"$f":"IF(VLOOKUP(A2312,'Mapa de Preços'!$A$16:$B$2988,2,0)=FALSE,\"Falta (U.M.)\",VLOOKUP(A2312,'Mapa de Preços'!$A$16:$B$2988,2,0))","v":"Falta (U.M.)"},"","",null,{"$f":"VLOOKUP(A2312,'Mapa de Preços'!$A$16:$J$2988,10,0)","v":"Falta Orçamento"},"",null,2285,null,0]
[2286,{"$f":"IF(VLOOKUP(A2313,'Mapa de Preços'!$A$16:$B$2988,2,0)=FALSE,\"Falta (U.M.)\",VLOOKUP(A2313,'Mapa de Preços'!$A$16:$B$2988,2,0))","v":"Falta (U.M.)"},"","",null,{"$f":"VLOOKUP(A2313,'Mapa de Preços'!$A$16:$J$2988,10,0)","v":"Falta Orçamento"},"",null,2286,null,0]
[2287,{"$f":"IF(VLOOKUP(A2314,'Mapa de Preços'!$A$16:$B$2988,2,0)=FALSE,\"Falta (U.M.)\",VLOOKUP(A2314,'Mapa de Preços'!$A$16:$B$2988,2,0))","v":"Falta (U.M.)"},"","",null,{"$f":"VLOOKUP(A2314,'Mapa de Preços'!$A$16:$J$2988,10,0)","v":"Falta Orçamento"},"",null,2287,null,0]
[2288,{"$f":"IF(VLOOKUP(A2315,'Mapa de Preços'!$A$16:$B$2988,2,0)=FALSE,\"Falta (U.M.)\",VLOOKUP(A2315,'Mapa de Preços'!$A$16:$B$2988,2,0))","v":"Falta (U.M.)"},"","",null,{"$f":"VLOOKUP(A2315,'Mapa de Preços'!$A$16:$J$2988,10,0)","v":"Falta Orçamento"},"",null,2288,null,0]
[2289,{"$f":"IF(VLOOKUP(A2316,'Mapa de Preços'!$A$16:$B$2988,2,0)=FALSE,\"Falta (U.M.)\",VLOOKUP(A2316,'Mapa de Preços'!$A$16:$B$2988,2,0))","v":"Falta (U.M.)"},"","",null,{"$f":"VLOOKUP(A2316,'Mapa de Preços'!$A$16:$J$2988,10,0)","v":"Falta Orçamento"},"",null,2289,null,0]
[2290,{"$f":"IF(VLOOKUP(A2317,'Mapa de Preços'!$A$16:$B$2988,2,0)=FALSE,\"Falta (U.M.)\",VLOOKUP(A2317,'Mapa de Preços'!$A$16:$B$2988,2,0))","v":"Falta (U.M.)"},"","",null,{"$f":"VLOOKUP(A2317,'Mapa de Preços'!$A$16:$J$2988,10,0)","v":"Falta Orçamento"},"",null,2290,null,0]
[2291,{"$f":"IF(VLOOKUP(A2318,'Mapa de Preços'!$A$16:$B$2988,2,0)=FALSE,\"Falta (U.M.)\",VLOOKUP(A2318,'Mapa de Preços'!$A$16:$B$2988,2,0))","v":"Falta (U.M.)"},"","",null,{"$f":"VLOOKUP(A2318,'Mapa de Preços'!$A$16:$J$2988,10,0)","v":"Falta Orçamento"},"",null,2291,null,0]
[2292,{"$f":"IF(VLOOKUP(A2319,'Mapa de Preços'!$A$16:$B$2988,2,0)=FALSE,\"Falta (U.M.)\",VLOOKUP(A2319,'Mapa de Preços'!$A$16:$B$2988,2,0))","v":"Falta (U.M.)"},"","",null,{"$f":"VLOOKUP(A2319,'Mapa de Preços'!$A$16:$J$2988,10,0)","v":"Falta Orçamento"},"",null,2292,null,0]
[2293,{"$f":"IF(VLOOKUP(A2320,'Mapa de Preços'!$A$16:$B$2988,2,0)=FALSE,\"Falta (U.M.)\",VLOOKUP(A2320,'Mapa de Preços'!$A$16:$B$2988,2,0))","v":"Falta (U.M.)"},"","",null,{"$f":"VLOOKUP(A2320,'Mapa de Preços'!$A$16:$J$2988,10,0)","v":"Falta Orçamento"},"",null,2293,null,0]
[2294,{"$f":"IF(VLOOKUP(A2321,'Mapa de Preços'!$A$16:$B$2988,2,0)=FALSE,\"Falta (U.M.)\",VLOOKUP(A2321,'Mapa de Preços'!$A$16:$B$2988,2,0))","v":"Falta (U.M.)"},"","",null,{"$f":"VLOOKUP(A2321,'Mapa de Preços'!$A$16:$J$2988,10,0)","v":"Falta Orçamento"},"",null,2294,null,0]
[2295,{"$f":"IF(VLOOKUP(A2322,'Mapa de Preços'!$A$16:$B$2988,2,0)=FALSE,\"Falta (U.M.)\",VLOOKUP(A2322,'Mapa de Preços'!$A$16:$B$2988,2,0))","v":"Falta (U.M.)"},"","",null,{"$f":"VLOOKUP(A2322,'Mapa de Preços'!$A$16:$J$2988,10,0)","v":"Falta Orçamento"},"",null,2295,null,0]
[2296,{"$f":"IF(VLOOKUP(A2323,'Mapa de Preços'!$A$16:$B$2988,2,0)=FALSE,\"Falta (U.M.)\",VLOOKUP(A2323,'Mapa de Preços'!$A$16:$B$2988,2,0))","v":"Falta (U.M.)"},"","",null,{"$f":"VLOOKUP(A2323,'Mapa de Preços'!$A$16:$J$2988,10,0)","v":"Falta Orçamento"},"",null,2296,null,0]
[2297,{"$f":"IF(VLOOKUP(A2324,'Mapa de Preços'!$A$16:$B$2988,2,0)=FALSE,\"Falta (U.M.)\",VLOOKUP(A2324,'Mapa de Preços'!$A$16:$B$2988,2,0))","v":"Falta (U.M.)"},"","",null,{"$f":"VLOOKUP(A2324,'Mapa de Preços'!$A$16:$J$2988,10,0)","v":"Falta Orçamento"},"",null,2297,null,0]
[2298,{"$f":"IF(VLOOKUP(A2325,'Mapa de Preços'!$A$16:$B$2988,2,0)=FALSE,\"Falta (U.M.)\",VLOOKUP(A2325,'Mapa de Preços'!$A$16:$B$2988,2,0))","v":"Falta (U.M.)"},"","",null,{"$f":"VLOOKUP(A2325,'Mapa de Preços'!$A$16:$J$2988,10,0)","v":"Falta Orçamento"},"",null,2298,null,0]
[2299,{"$f":"IF(VLOOKUP(A2326,'Mapa de Preços'!$A$16:$B$2988,2,0)=FALSE,\"Falta (U.M.)\",VLOOKUP(A2326,'Mapa de Preços'!$A$16:$B$2988,2,0))","v":"Falta (U.M.)"},"","",null,{"$f":"VLOOKUP(A2326,'Mapa de Preços'!$A$16:$J$2988,10,0)","v":"Falta Orçamento"},"",null,2299,null,0]
[2300,{"$f":"IF(VLOOKUP(A2327,'Mapa de Preços'!$A$16:$B$2988,2,0)=FALSE,\"Falta (U.M.)\",VLOOKUP(A2327,'Mapa de Preços'!$A$16:$B$2988,2,0))","v":"Falta (U.M.)"},"","",null,{"$f":"VLOOKUP(A2327,'Mapa de Preços'!$A$16:$J$2988,10,0)","v":"Falta Orçamento"},"",null,2300,null,0]
[2301,{"$f":"IF(VLOOKUP(A2328,'Mapa de Preços'!$A$16:$B$2988,2,0)=FALSE,\"Falta (U.M.)\",VLOOKUP(A2328,'Mapa de Preços'!$A$16:$B$2988,2,0))","v":"Falta (U.M.)"},"","",null,{"$f":"VLOOKUP(A2328,'Mapa de Preços'!$A$16:$J$2988,10,0)","v":"Falta Orçamento"},"",null,2301,null,0]
[2302,{"$f":"IF(VLOOKUP(A2329,'Mapa de Preços'!$A$16:$B$2988,2,0)=FALSE,\"Falta (U.M.)\",VLOOKUP(A2329,'Mapa de Preços'!$A$16:$B$2988,2,0))","v":"Falta (U.M.)"},"","",null,{"$f":"VLOOKUP(A2329,'Mapa de Preços'!$A$16:$J$2988,10,0)","v":"Falta Orçamento"},"",null,2302,null,0]
[2303,{"$f":"IF(VLOOKUP(A2330,'Mapa de Preços'!$A$16:$B$2988,2,0)=FALSE,\"Falta (U.M.)\",VLOOKUP(A2330,'Mapa de Preços'!$A$16:$B$2988,2,0))","v":"Falta (U.M.)"},"","",null,{"$f":"VLOOKUP(A2330,'Mapa de Preços'!$A$16:$J$2988,10,0)","v":"Falta Orçamento"},"",null,2303,null,0]
[2304,{"$f":"IF(VLOOKUP(A2331,'Mapa de Preços'!$A$16:$B$2988,2,0)=FALSE,\"Falta (U.M.)\",VLOOKUP(A2331,'Mapa de Preços'!$A$16:$B$2988,2,0))","v":"Falta (U.M.)"},"","",null,{"$f":"VLOOKUP(A2331,'Mapa de Preços'!$A$16:$J$2988,10,0)","v":"Falta Orçamento"},"",null,2304,null,0]
[2305,{"$f":"IF(VLOOKUP(A2332,'Mapa de Preços'!$A$16:$B$2988,2,0)=FALSE,\"Falta (U.M.)\",VLOOKUP(A2332,'Mapa de Preços'!$A$16:$B$2988,2,0))","v":"Falta (U.M.)"},"","",null,{"$f":"VLOOKUP(A2332,'Mapa de Preços'!$A$16:$J$2988,10,0)","v":"Falta Orçamento"},"",null,2305,null,{"$f":"SUM(L2332:AI2332)","v":0}]
[2306,{"$f":"IF(VLOOKUP(A2333,'Mapa de Preços'!$A$16:$B$2988,2,0)=FALSE,\"Falta (U.M.)\",VLOOKUP(A2333,'Mapa de Preços'!$A$16:$B$2988,2,0))","v":"Falta (U.M.)"},{"$f":"IF(J2333<>\"\",J2333,\"\")","v":""},{"$f":"IF(VLOOKUP(A2333,$I$28:$AI$3000,$G$26,FALSE)<>\"\",VLOOKUP(A2333,$I$28:$AI$3000,$G$26,FALSE),\"\")","v":""},null,{"$f":"VLOOKUP(A2333,'Mapa de Preços'!$A$16:$J$2988,10,0)","v":"Falta Orçamento"},{"$f":"IF(F2333=\"Falta Orçamento\",\"\",F2333*D2333)","v":""},null,2306,null,0]
[2307,{"$f":"IF(VLOOKUP(A2334,'Mapa de Preços'!$A$16:$B$2988,2,0)=FALSE,\"Falta (U.M.)\",VLOOKUP(A2334,'Mapa de Preços'!$A$16:$B$2988,2,0))","v":"Falta (U.M.)"},"","",null,{"$f":"VLOOKUP(A2334,'Mapa de Preços'!$A$16:$J$2988,10,0)","v":"Falta Orçamento"},"",null,2307,null,0]
[2308,{"$f":"IF(VLOOKUP(A2335,'Mapa de Preços'!$A$16:$B$2988,2,0)=FALSE,\"Falta (U.M.)\",VLOOKUP(A2335,'Mapa de Preços'!$A$16:$B$2988,2,0))","v":"Falta (U.M.)"},"","",null,{"$f":"VLOOKUP(A2335,'Mapa de Preços'!$A$16:$J$2988,10,0)","v":"Falta Orçamento"},"",null,2308,null,0]
[2309,{"$f":"IF(VLOOKUP(A2336,'Mapa de Preços'!$A$16:$B$2988,2,0)=FALSE,\"Falta (U.M.)\",VLOOKUP(A2336,'Mapa de Preços'!$A$16:$B$2988,2,0))","v":"Falta (U.M.)"},"","",null,{"$f":"VLOOKUP(A2336,'Mapa de Preços'!$A$16:$J$2988,10,0)","v":"Falta Orçamento"},"",null,2309,null,0]
[2310,{"$f":"IF(VLOOKUP(A2337,'Mapa de Preços'!$A$16:$B$2988,2,0)=FALSE,\"Falta (U.M.)\",VLOOKUP(A2337,'Mapa de Preços'!$A$16:$B$2988,2,0))","v":"Falta (U.M.)"},"","",null,{"$f":"VLOOKUP(A2337,'Mapa de Preços'!$A$16:$J$2988,10,0)","v":"Falta Orçamento"},"",null,2310,null,0]
[2311,{"$f":"IF(VLOOKUP(A2338,'Mapa de Preços'!$A$16:$B$2988,2,0)=FALSE,\"Falta (U.M.)\",VLOOKUP(A2338,'Mapa de Preços'!$A$16:$B$2988,2,0))","v":"Falta (U.M.)"},"","",null,{"$f":"VLOOKUP(A2338,'Mapa de Preços'!$A$16:$J$2988,10,0)","v":"Falta Orçamento"},"",null,2311,null,0]
[2312,{"$f":"IF(VLOOKUP(A2339,'Mapa de Preços'!$A$16:$B$2988,2,0)=FALSE,\"Falta (U.M.)\",VLOOKUP(A2339,'Mapa de Preços'!$A$16:$B$2988,2,0))","v":"Falta (U.M.)"},"","",null,{"$f":"VLOOKUP(A2339,'Mapa de Preços'!$A$16:$J$2988,10,0)","v":"Falta Orçamento"},"",null,2312,null,0]
[2313,{"$f":"IF(VLOOKUP(A2340,'Mapa de Preços'!$A$16:$B$2988,2,0)=FALSE,\"Falta (U.M.)\",VLOOKUP(A2340,'Mapa de Preços'!$A$16:$B$2988,2,0))","v":"Falta (U.M.)"},"","",null,{"$f":"VLOOKUP(A2340,'Mapa de Preços'!$A$16:$J$2988,10,0)","v":"Falta Orçamento"},"",null,2313,null,0]
[2314,{"$f":"IF(VLOOKUP(A2341,'Mapa de Preços'!$A$16:$B$2988,2,0)=FALSE,\"Falta (U.M.)\",VLOOKUP(A2341,'Mapa de Preços'!$A$16:$B$2988,2,0))","v":"Falta (U.M.)"},"","",null,{"$f":"VLOOKUP(A2341,'Mapa de Preços'!$A$16:$J$2988,10,0)","v":"Falta Orçamento"},"",null,2314,null,0]
[2315,{"$f":"IF(VLOOKUP(A2342,'Mapa de Preços'!$A$16:$B$2988,2,0)=FALSE,\"Falta (U.M.)\",VLOOKUP(A2342,'Mapa de Preços'!$A$16:$B$2988,2,0))","v":"Falta (U.M.)"},"","",null,{"$f":"VLOOKUP(A2342,'Mapa de Preços'!$A$16:$J$2988,10,0)","v":"Falta Orçamento"},"",null,2315,null,0]
[2316,{"$f":"IF(VLOOKUP(A2343,'Mapa de Preços'!$A$16:$B$2988,2,0)=FALSE,\"Falta (U.M.)\",VLOOKUP(A2343,'Mapa de Preços'!$A$16:$B$2988,2,0))","v":"Falta (U.M.)"},"","",null,{"$f":"VLOOKUP(A2343,'Mapa de Preços'!$A$16:$J$2988,10,0)","v":"Falta Orçamento"},"",null,2316,null,0]
[2317,{"$f":"IF(VLOOKUP(A2344,'Mapa de Preços'!$A$16:$B$2988,2,0)=FALSE,\"Falta (U.M.)\",VLOOKUP(A2344,'Mapa de Preços'!$A$16:$B$2988,2,0))","v":"Falta (U.M.)"},"","",null,{"$f":"VLOOKUP(A2344,'Mapa de Preços'!$A$16:$J$2988,10,0)","v":"Falta Orçamento"},"",null,2317,null,0]
[2318,{"$f":"IF(VLOOKUP(A2345,'Mapa de Preços'!$A$16:$B$2988,2,0)=FALSE,\"Falta (U.M.)\",VLOOKUP(A2345,'Mapa de Preços'!$A$16:$B$2988,2,0))","v":"Falta (U.M.)"},"","",null,{"$f":"VLOOKUP(A2345,'Mapa de Preços'!$A$16:$J$2988,10,0)","v":"Falta Orçamento"},"",null,2318,null,0]
[2319,{"$f":"IF(VLOOKUP(A2346,'Mapa de Preços'!$A$16:$B$2988,2,0)=FALSE,\"Falta (U.M.)\",VLOOKUP(A2346,'Mapa de Preços'!$A$16:$B$2988,2,0))","v":"Falta (U.M.)"},"","",null,{"$f":"VLOOKUP(A2346,'Mapa de Preços'!$A$16:$J$2988,10,0)","v":"Falta Orçamento"},"",null,2319,null,0]
[2320,{"$f":"IF(VLOOKUP(A2347,'Mapa de Preços'!$A$16:$B$2988,2,0)=FALSE,\"Falta (U.M.)\",VLOOKUP(A2347,'Mapa de Preços'!$A$16:$B$2988,2,0))","v":"Falta (U.M.)"},"","",null,{"$f":"VLOOKUP(A2347,'Mapa de Preços'!$A$16:$J$2988,10,0)","v":"Falta Orçamento"},"",null,2320,null,0]
[2321,{"$f":"IF(VLOOKUP(A2348,'Mapa de Preços'!$A$16:$B$2988,2,0)=FALSE,\"Falta (U.M.)\",VLOOKUP(A2348,'Mapa de Preços'!$A$16:$B$2988,2,0))","v":"Falta (U.M.)"},"","",null,{"$f":"VLOOKUP(A2348,'Mapa de Preços'!$A$16:$J$2988,10,0)","v":"Falta Orçamento"},"",null,2321,null,0]
[2322,{"$f":"IF(VLOOKUP(A2349,'Mapa de Preços'!$A$16:$B$2988,2,0)=FALSE,\"Falta (U.M.)\",VLOOKUP(A2349,'Mapa de Preços'!$A$16:$B$2988,2,0))","v":"Falta (U.M.)"},"","",null,{"$f":"VLOOKUP(A2349,'Mapa de Preços'!$A$16:$J$2988,10,0)","v":"Falta Orçamento"},"",null,2322,null,0]
[2323,{"$f":"IF(VLOOKUP(A2350,'Mapa de Preços'!$A$16:$B$2988,2,0)=FALSE,\"Falta (U.M.)\",VLOOKUP(A2350,'Mapa de Preços'!$A$16:$B$2988,2,0))","v":"Falta (U.M.)"},"","",null,{"$f":"VLOOKUP(A2350,'Mapa de Preços'!$A$16:$J$2988,10,0)","v":"Falta Orçamento"},"",null,2323,null,0]
[2324,{"$f":"IF(VLOOKUP(A2351,'Mapa de Preços'!$A$16:$B$2988,2,0)=FALSE,\"Falta (U.M.)\",VLOOKUP(A2351,'Mapa de Preços'!$A$16:$B$2988,2,0))","v":"Falta (U.M.)"},"","",null,{"$f":"VLOOKUP(A2351,'Mapa de Preços'!$A$16:$J$2988,10,0)","v":"Falta Orçamento"},"",null,2324,null,0]
[2325,{"$f":"IF(VLOOKUP(A2352,'Mapa de Preços'!$A$16:$B$2988,2,0)=FALSE,\"Falta (U.M.)\",VLOOKUP(A2352,'Mapa de Preços'!$A$16:$B$2988,2,0))","v":"Falta (U.M.)"},"","",null,{"$f":"VLOOKUP(A2352,'Mapa de Preços'!$A$16:$J$2988,10,0)","v":"Falta Orçamento"},"",null,2325,null,0]
[2326,{"$f":"IF(VLOOKUP(A2353,'Mapa de Preços'!$A$16:$B$2988,2,0)=FALSE,\"Falta (U.M.)\",VLOOKUP(A2353,'Mapa de Preços'!$A$16:$B$2988,2,0))","v":"Falta (U.M.)"},"","",null,{"$f":"VLOOKUP(A2353,'Mapa de Preços'!$A$16:$J$2988,10,0)","v":"Falta Orçamento"},"",null,2326,null,0]
[2327,{"$f":"IF(VLOOKUP(A2354,'Mapa de Preços'!$A$16:$B$2988,2,0)=FALSE,\"Falta (U.M.)\",VLOOKUP(A2354,'Mapa de Preços'!$A$16:$B$2988,2,0))","v":"Falta (U.M.)"},"","",null,{"$f":"VLOOKUP(A2354,'Mapa de Preços'!$A$16:$J$2988,10,0)","v":"Falta Orçamento"},"",null,2327,null,0]
[2328,{"$f":"IF(VLOOKUP(A2355,'Mapa de Preços'!$A$16:$B$2988,2,0)=FALSE,\"Falta (U.M.)\",VLOOKUP(A2355,'Mapa de Preços'!$A$16:$B$2988,2,0))","v":"Falta (U.M.)"},"","",null,{"$f":"VLOOKUP(A2355,'Mapa de Preços'!$A$16:$J$2988,10,0)","v":"Falta Orçamento"},"",null,2328,null,0]
[2329,{"$f":"IF(VLOOKUP(A2356,'Mapa de Preços'!$A$16:$B$2988,2,0)=FALSE,\"Falta (U.M.)\",VLOOKUP(A2356,'Mapa de Preços'!$A$16:$B$2988,2,0))","v":"Falta (U.M.)"},"","",null,{"$f":"VLOOKUP(A2356,'Mapa de Preços'!$A$16:$J$2988,10,0)","v":"Falta Orçamento"},"",null,2329,null,0]
[2330,{"$f":"IF(VLOOKUP(A2357,'Mapa de Preços'!$A$16:$B$2988,2,0)=FALSE,\"Falta (U.M.)\",VLOOKUP(A2357,'Mapa de Preços'!$A$16:$B$2988,2,0))","v":"Falta (U.M.)"},"","",null,{"$f":"VLOOKUP(A2357,'Mapa de Preços'!$A$16:$J$2988,10,0)","v":"Falta Orçamento"},"",null,2330,null,0]
[2331,{"$f":"IF(VLOOKUP(A2358,'Mapa de Preços'!$A$16:$B$2988,2,0)=FALSE,\"Falta (U.M.)\",VLOOKUP(A2358,'Mapa de Preços'!$A$16:$B$2988,2,0))","v":"Falta (U.M.)"},"","",null,{"$f":"VLOOKUP(A2358,'Mapa de Preços'!$A$16:$J$2988,10,0)","v":"Falta Orçamento"},"",null,2331,null,0]
[2332,{"$f":"IF(VLOOKUP(A2359,'Mapa de Preços'!$A$16:$B$2988,2,0)=FALSE,\"Falta (U.M.)\",VLOOKUP(A2359,'Mapa de Preços'!$A$16:$B$2988,2,0))","v":"Falta (U.M.)"},"","",null,{"$f":"VLOOKUP(A2359,'Mapa de Preços'!$A$16:$J$2988,10,0)","v":"Falta Orçamento"},"",null,2332,null,0]
[2333,{"$f":"IF(VLOOKUP(A2360,'Mapa de Preços'!$A$16:$B$2988,2,0)=FALSE,\"Falta (U.M.)\",VLOOKUP(A2360,'Mapa de Preços'!$A$16:$B$2988,2,0))","v":"Falta (U.M.)"},"","",null,{"$f":"VLOOKUP(A2360,'Mapa de Preços'!$A$16:$J$2988,10,0)","v":"Falta Orçamento"},"",null,2333,null,0]
[2334,{"$f":"IF(VLOOKUP(A2361,'Mapa de Preços'!$A$16:$B$2988,2,0)=FALSE,\"Falta (U.M.)\",VLOOKUP(A2361,'Mapa de Preços'!$A$16:$B$2988,2,0))","v":"Falta (U.M.)"},"","",null,{"$f":"VLOOKUP(A2361,'Mapa de Preços'!$A$16:$J$2988,10,0)","v":"Falta Orçamento"},"",null,2334,null,0]
[2335,{"$f":"IF(VLOOKUP(A2362,'Mapa de Preços'!$A$16:$B$2988,2,0)=FALSE,\"Falta (U.M.)\",VLOOKUP(A2362,'Mapa de Preços'!$A$16:$B$2988,2,0))","v":"Falta (U.M.)"},"","",null,{"$f":"VLOOKUP(A2362,'Mapa de Preços'!$A$16:$J$2988,10,0)","v":"Falta Orçamento"},"",null,2335,null,0]
[2336,{"$f":"IF(VLOOKUP(A2363,'Mapa de Preços'!$A$16:$B$2988,2,0)=FALSE,\"Falta (U.M.)\",VLOOKUP(A2363,'Mapa de Preços'!$A$16:$B$2988,2,0))","v":"Falta (U.M.)"},"","",null,{"$f":"VLOOKUP(A2363,'Mapa de Preços'!$A$16:$J$2988,10,0)","v":"Falta Orçamento"},"",null,2336,null,0]
[2337,{"$f":"IF(VLOOKUP(A2364,'Mapa de Preços'!$A$16:$B$2988,2,0)=FALSE,\"Falta (U.M.)\",VLOOKUP(A2364,'Mapa de Preços'!$A$16:$B$2988,2,0))","v":"Falta (U.M.)"},"","",null,{"$f":"VLOOKUP(A2364,'Mapa de Preços'!$A$16:$J$2988,10,0)","v":"Falta Orçamento"},"",null,2337,null,0]
[2338,{"$f":"IF(VLOOKUP(A2365,'Mapa de Preços'!$A$16:$B$2988,2,0)=FALSE,\"Falta (U.M.)\",VLOOKUP(A2365,'Mapa de Preços'!$A$16:$B$2988,2,0))","v":"Falta (U.M.)"},"","",null,{"$f":"VLOOKUP(A2365,'Mapa de Preços'!$A$16:$J$2988,10,0)","v":"Falta Orçamento"},"",null,2338,null,0]
[2339,{"$f":"IF(VLOOKUP(A2366,'Mapa de Preços'!$A$16:$B$2988,2,0)=FALSE,\"Falta (U.M.)\",VLOOKUP(A2366,'Mapa de Preços'!$A$16:$B$2988,2,0))","v":"Falta (U.M.)"},"","",null,{"$f":"VLOOKUP(A2366,'Mapa de Preços'!$A$16:$J$2988,10,0)","v":"Falta Orçamento"},"",null,2339,null,0]
[2340,{"$f":"IF(VLOOKUP(A2367,'Mapa de Preços'!$A$16:$B$2988,2,0)=FALSE,\"Falta (U.M.)\",VLOOKUP(A2367,'Mapa de Preços'!$A$16:$B$2988,2,0))","v":"Falta (U.M.)"},"","",null,{"$f":"VLOOKUP(A2367,'Mapa de Preços'!$A$16:$J$2988,10,0)","v":"Falta Orçamento"},"",null,2340,null,0]
[2341,{"$f":"IF(VLOOKUP(A2368,'Mapa de Preços'!$A$16:$B$2988,2,0)=FALSE,\"Falta (U.M.)\",VLOOKUP(A2368,'Mapa de Preços'!$A$16:$B$2988,2,0))","v":"Falta (U.M.)"},"","",null,{"$f":"VLOOKUP(A2368,'Mapa de Preços'!$A$16:$J$2988,10,0)","v":"Falta Orçamento"},"",null,2341,null,0]
[2342,{"$f":"IF(VLOOKUP(A2369,'Mapa de Preços'!$A$16:$B$2988,2,0)=FALSE,\"Falta (U.M.)\",VLOOKUP(A2369,'Mapa de Preços'!$A$16:$B$2988,2,0))","v":"Falta (U.M.)"},"","",null,{"$f":"VLOOKUP(A2369,'Mapa de Preços'!$A$16:$J$2988,10,0)","v":"Falta Orçamento"},"",null,2342,null,0]
[2343,{"$f":"IF(VLOOKUP(A2370,'Mapa de Preços'!$A$16:$B$2988,2,0)=FALSE,\"Falta (U.M.)\",VLOOKUP(A2370,'Mapa de Preços'!$A$16:$B$2988,2,0))","v":"Falta (U.M.)"},"","",null,{"$f":"VLOOKUP(A2370,'Mapa de Preços'!$A$16:$J$2988,10,0)","v":"Falta Orçamento"},"",null,2343,null,0]
[2344,{"$f":"IF(VLOOKUP(A2371,'Mapa de Preços'!$A$16:$B$2988,2,0)=FALSE,\"Falta (U.M.)\",VLOOKUP(A2371,'Mapa de Preços'!$A$16:$B$2988,2,0))","v":"Falta (U.M.)"},"","",null,{"$f":"VLOOKUP(A2371,'Mapa de Preços'!$A$16:$J$2988,10,0)","v":"Falta Orçamento"},"",null,2344,null,0]
[2345,{"$f":"IF(VLOOKUP(A2372,'Mapa de Preços'!$A$16:$B$2988,2,0)=FALSE,\"Falta (U.M.)\",VLOOKUP(A2372,'Mapa de Preços'!$A$16:$B$2988,2,0))","v":"Falta (U.M.)"},"","",null,{"$f":"VLOOKUP(A2372,'Mapa de Preços'!$A$16:$J$2988,10,0)","v":"Falta Orçamento"},"",null,2345,null,0]
[2346,{"$f":"IF(VLOOKUP(A2373,'Mapa de Preços'!$A$16:$B$2988,2,0)=FALSE,\"Falta (U.M.)\",VLOOKUP(A2373,'Mapa de Preços'!$A$16:$B$2988,2,0))","v":"Falta (U.M.)"},"","",null,{"$f":"VLOOKUP(A2373,'Mapa de Preços'!$A$16:$J$2988,10,0)","v":"Falta Orçamento"},"",null,2346,null,0]
[2347,{"$f":"IF(VLOOKUP(A2374,'Mapa de Preços'!$A$16:$B$2988,2,0)=FALSE,\"Falta (U.M.)\",VLOOKUP(A2374,'Mapa de Preços'!$A$16:$B$2988,2,0))","v":"Falta (U.M.)"},"","",null,{"$f":"VLOOKUP(A2374,'Mapa de Preços'!$A$16:$J$2988,10,0)","v":"Falta Orçamento"},"",null,2347,null,0]
[2348,{"$f":"IF(VLOOKUP(A2375,'Mapa de Preços'!$A$16:$B$2988,2,0)=FALSE,\"Falta (U.M.)\",VLOOKUP(A2375,'Mapa de Preços'!$A$16:$B$2988,2,0))","v":"Falta (U.M.)"},"","",null,{"$f":"VLOOKUP(A2375,'Mapa de Preços'!$A$16:$J$2988,10,0)","v":"Falta Orçamento"},"",null,2348,null,0]
[2349,{"$f":"IF(VLOOKUP(A2376,'Mapa de Preços'!$A$16:$B$2988,2,0)=FALSE,\"Falta (U.M.)\",VLOOKUP(A2376,'Mapa de Preços'!$A$16:$B$2988,2,0))","v":"Falta (U.M.)"},"","",null,{"$f":"VLOOKUP(A2376,'Mapa de Preços'!$A$16:$J$2988,10,0)","v":"Falta Orçamento"},"",null,2349,null,0]
[2350,{"$f":"IF(VLOOKUP(A2377,'Mapa de Preços'!$A$16:$B$2988,2,0)=FALSE,\"Falta (U.M.)\",VLOOKUP(A2377,'Mapa de Preços'!$A$16:$B$2988,2,0))","v":"Falta (U.M.)"},"","",null,{"$f":"VLOOKUP(A2377,'Mapa de Preços'!$A$16:$J$2988,10,0)","v":"Falta Orçamento"},"",null,2350,null,0]
[2351,{"$f":"IF(VLOOKUP(A2378,'Mapa de Preços'!$A$16:$B$2988,2,0)=FALSE,\"Falta (U.M.)\",VLOOKUP(A2378,'Mapa de Preços'!$A$16:$B$2988,2,0))","v":"Falta (U.M.)"},"","",null,{"$f":"VLOOKUP(A2378,'Mapa de Preços'!$A$16:$J$2988,10,0)","v":"Falta Orçamento"},"",null,2351,null,0]
[2352,{"$f":"IF(VLOOKUP(A2379,'Mapa de Preços'!$A$16:$B$2988,2,0)=FALSE,\"Falta (U.M.)\",VLOOKUP(A2379,'Mapa de Preços'!$A$16:$B$2988,2,0))","v":"Falta (U.M.)"},"","",null,{"$f":"VLOOKUP(A2379,'Mapa de Preços'!$A$16:$J$2988,10,0)","v":"Falta Orçamento"},"",null,2352,null,0]
[2353,{"$f":"IF(VLOOKUP(A2380,'Mapa de Preços'!$A$16:$B$2988,2,0)=FALSE,\"Falta (U.M.)\",VLOOKUP(A2380,'Mapa de Preços'!$A$16:$B$2988,2,0))","v":"Falta (U.M.)"},"","",null,{"$f":"VLOOKUP(A2380,'Mapa de Preços'!$A$16:$J$2988,10,0)","v":"Falta Orçamento"},"",null,2353,null,0]
[2354,{"$f":"IF(VLOOKUP(A2381,'Mapa de Preços'!$A$16:$B$2988,2,0)=FALSE,\"Falta (U.M.)\",VLOOKUP(A2381,'Mapa de Preços'!$A$16:$B$2988,2,0))","v":"Falta (U.M.)"},"","",null,{"$f":"VLOOKUP(A2381,'Mapa de Preços'!$A$16:$J$2988,10,0)","v":"Falta Orçamento"},"",null,2354,null,0]
[2355,{"$f":"IF(VLOOKUP(A2382,'Mapa de Preços'!$A$16:$B$2988,2,0)=FALSE,\"Falta (U.M.)\",VLOOKUP(A2382,'Mapa de Preços'!$A$16:$B$2988,2,0))","v":"Falta (U.M.)"},"","",null,{"$f":"VLOOKUP(A2382,'Mapa de Preços'!$A$16:$J$2988,10,0)","v":"Falta Orçamento"},"",null,2355,null,0]
[2356,{"$f":"IF(VLOOKUP(A2383,'Mapa de Preços'!$A$16:$B$2988,2,0)=FALSE,\"Falta (U.M.)\",VLOOKUP(A2383,'Mapa de Preços'!$A$16:$B$2988,2,0))","v":"Falta (U.M.)"},"","",null,{"$f":"VLOOKUP(A2383,'Mapa de Preços'!$A$16:$J$2988,10,0)","v":"Falta Orçamento"},"",null,2356,null,0]
[2357,{"$f":"IF(VLOOKUP(A2384,'Mapa de Preços'!$A$16:$B$2988,2,0)=FALSE,\"Falta (U.M.)\",VLOOKUP(A2384,'Mapa de Preços'!$A$16:$B$2988,2,0))","v":"Falta (U.M.)"},"","",null,{"$f":"VLOOKUP(A2384,'Mapa de Preços'!$A$16:$J$2988,10,0)","v":"Falta Orçamento"},"",null,2357,null,0]
[2358,{"$f":"IF(VLOOKUP(A2385,'Mapa de Preços'!$A$16:$B$2988,2,0)=FALSE,\"Falta (U.M.)\",VLOOKUP(A2385,'Mapa de Preços'!$A$16:$B$2988,2,0))","v":"Falta (U.M.)"},"","",null,{"$f":"VLOOKUP(A2385,'Mapa de Preços'!$A$16:$J$2988,10,0)","v":"Falta Orçamento"},"",null,2358,null,0]
[2359,{"$f":"IF(VLOOKUP(A2386,'Mapa de Preços'!$A$16:$B$2988,2,0)=FALSE,\"Falta (U.M.)\",VLOOKUP(A2386,'Mapa de Preços'!$A$16:$B$2988,2,0))","v":"Falta (U.M.)"},"","",null,{"$f":"VLOOKUP(A2386,'Mapa de Preços'!$A$16:$J$2988,10,0)","v":"Falta Orçamento"},"",null,2359,null,0]
[2360,{"$f":"IF(VLOOKUP(A2387,'Mapa de Preços'!$A$16:$B$2988,2,0)=FALSE,\"Falta (U.M.)\",VLOOKUP(A2387,'Mapa de Preços'!$A$16:$B$2988,2,0))","v":"Falta (U.M.)"},"","",null,{"$f":"VLOOKUP(A2387,'Mapa de Preços'!$A$16:$J$2988,10,0)","v":"Falta Orçamento"},"",null,2360,null,0]
[2361,{"$f":"IF(VLOOKUP(A2388,'Mapa de Preços'!$A$16:$B$2988,2,0)=FALSE,\"Falta (U.M.)\",VLOOKUP(A2388,'Mapa de Preços'!$A$16:$B$2988,2,0))","v":"Falta (U.M.)"},"","",null,{"$f":"VLOOKUP(A2388,'Mapa de Preços'!$A$16:$J$2988,10,0)","v":"Falta Orçamento"},"",null,2361,null,0]
[2362,{"$f":"IF(VLOOKUP(A2389,'Mapa de Preços'!$A$16:$B$2988,2,0)=FALSE,\"Falta (U.M.)\",VLOOKUP(A2389,'Mapa de Preços'!$A$16:$B$2988,2,0))","v":"Falta (U.M.)"},"","",null,{"$f":"VLOOKUP(A2389,'Mapa de Preços'!$A$16:$J$2988,10,0)","v":"Falta Orçamento"},"",null,2362,null,0]
[2363,{"$f":"IF(VLOOKUP(A2390,'Mapa de Preços'!$A$16:$B$2988,2,0)=FALSE,\"Falta (U.M.)\",VLOOKUP(A2390,'Mapa de Preços'!$A$16:$B$2988,2,0))","v":"Falta (U.M.)"},"","",null,{"$f":"VLOOKUP(A2390,'Mapa de Preços'!$A$16:$J$2988,10,0)","v":"Falta Orçamento"},"",null,2363,null,0]
[2364,{"$f":"IF(VLOOKUP(A2391,'Mapa de Preços'!$A$16:$B$2988,2,0)=FALSE,\"Falta (U.M.)\",VLOOKUP(A2391,'Mapa de Preços'!$A$16:$B$2988,2,0))","v":"Falta (U.M.)"},"","",null,{"$f":"VLOOKUP(A2391,'Mapa de Preços'!$A$16:$J$2988,10,0)","v":"Falta Orçamento"},"",null,2364,null,0]
[2365,{"$f":"IF(VLOOKUP(A2392,'Mapa de Preços'!$A$16:$B$2988,2,0)=FALSE,\"Falta (U.M.)\",VLOOKUP(A2392,'Mapa de Preços'!$A$16:$B$2988,2,0))","v":"Falta (U.M.)"},"","",null,{"$f":"VLOOKUP(A2392,'Mapa de Preços'!$A$16:$J$2988,10,0)","v":"Falta Orçamento"},"",null,2365,null,0]
[2366,{"$f":"IF(VLOOKUP(A2393,'Mapa de Preços'!$A$16:$B$2988,2,0)=FALSE,\"Falta (U.M.)\",VLOOKUP(A2393,'Mapa de Preços'!$A$16:$B$2988,2,0))","v":"Falta (U.M.)"},"","",null,{"$f":"VLOOKUP(A2393,'Mapa de Preços'!$A$16:$J$2988,10,0)","v":"Falta Orçamento"},"",null,2366,null,0]
[2367,{"$f":"IF(VLOOKUP(A2394,'Mapa de Preços'!$A$16:$B$2988,2,0)=FALSE,\"Falta (U.M.)\",VLOOKUP(A2394,'Mapa de Preços'!$A$16:$B$2988,2,0))","v":"Falta (U.M.)"},"","",null,{"$f":"VLOOKUP(A2394,'Mapa de Preços'!$A$16:$J$2988,10,0)","v":"Falta Orçamento"},"",null,2367,null,0]
[2368,{"$f":"IF(VLOOKUP(A2395,'Mapa de Preços'!$A$16:$B$2988,2,0)=FALSE,\"Falta (U.M.)\",VLOOKUP(A2395,'Mapa de Preços'!$A$16:$B$2988,2,0))","v":"Falta (U.M.)"},"","",null,{"$f":"VLOOKUP(A2395,'Mapa de Preços'!$A$16:$J$2988,10,0)","v":"Falta Orçamento"},"",null,2368,null,0]
[2369,{"$f":"IF(VLOOKUP(A2396,'Mapa de Preços'!$A$16:$B$2988,2,0)=FALSE,\"Falta (U.M.)\",VLOOKUP(A2396,'Mapa de Preços'!$A$16:$B$2988,2,0))","v":"Falta (U.M.)"},"","",null,{"$f":"VLOOKUP(A2396,'Mapa de Preços'!$A$16:$J$2988,10,0)","v":"Falta Orçamento"},"",null,2369,null,{"$f":"SUM(L2396:AI2396)","v":0}]
[2370,{"$f":"IF(VLOOKUP(A2397,'Mapa de Preços'!$A$16:$B$2988,2,0)=FALSE,\"Falta (U.M.)\",VLOOKUP(A2397,'Mapa de Preços'!$A$16:$B$2988,2,0))","v":"Falta (U.M.)"},{"$f":"IF(J2397<>\"\",J2397,\"\")","v":""},{"$f":"IF(VLOOKUP(A2397,$I$28:$AI$3000,$G$26,FALSE)<>\"\",VLOOKUP(A2397,$I$28:$AI$3000,$G$26,FALSE),\"\")","v":""},null,{"$f":"VLOOKUP(A2397,'Mapa de Preços'!$A$16:$J$2988,10,0)","v":"Falta Orçamento"},{"$f":"IF(F2397=\"Falta Orçamento\",\"\",F2397*D2397)","v":""},null,2370,null,0]
[2371,{"$f":"IF(VLOOKUP(A2398,'Mapa de Preços'!$A$16:$B$2988,2,0)=FALSE,\"Falta (U.M.)\",VLOOKUP(A2398,'Mapa de Preços'!$A$16:$B$2988,2,0))","v":"Falta (U.M.)"},"","",null,{"$f":"VLOOKUP(A2398,'Mapa de Preços'!$A$16:$J$2988,10,0)","v":"Falta Orçamento"},"",null,2371,null,0]
[2372,{"$f":"IF(VLOOKUP(A2399,'Mapa de Preços'!$A$16:$B$2988,2,0)=FALSE,\"Falta (U.M.)\",VLOOKUP(A2399,'Mapa de Preços'!$A$16:$B$2988,2,0))","v":"Falta (U.M.)"},"","",null,{"$f":"VLOOKUP(A2399,'Mapa de Preços'!$A$16:$J$2988,10,0)","v":"Falta Orçamento"},"",null,2372,null,0]
[2373,{"$f":"IF(VLOOKUP(A2400,'Mapa de Preços'!$A$16:$B$2988,2,0)=FALSE,\"Falta (U.M.)\",VLOOKUP(A2400,'Mapa de Preços'!$A$16:$B$2988,2,0))","v":"Falta (U.M.)"},"","",null,{"$f":"VLOOKUP(A2400,'Mapa de Preços'!$A$16:$J$2988,10,0)","v":"Falta Orçamento"},"",null,2373,null,0]
[2374,{"$f":"IF(VLOOKUP(A2401,'Mapa de Preços'!$A$16:$B$2988,2,0)=FALSE,\"Falta (U.M.)\",VLOOKUP(A2401,'Mapa de Preços'!$A$16:$B$2988,2,0))","v":"Falta (U.M.)"},"","",null,{"$f":"VLOOKUP(A2401,'Mapa de Preços'!$A$16:$J$2988,10,0)","v":"Falta Orçamento"},"",null,2374,null,0]
[2375,{"$f":"IF(VLOOKUP(A2402,'Mapa de Preços'!$A$16:$B$2988,2,0)=FALSE,\"Falta (U.M.)\",VLOOKUP(A2402,'Mapa de Preços'!$A$16:$B$2988,2,0))","v":"Falta (U.M.)"},"","",null,{"$f":"VLOOKUP(A2402,'Mapa de Preços'!$A$16:$J$2988,10,0)","v":"Falta Orçamento"},"",null,2375,null,0]
[2376,{"$f":"IF(VLOOKUP(A2403,'Mapa de Preços'!$A$16:$B$2988,2,0)=FALSE,\"Falta (U.M.)\",VLOOKUP(A2403,'Mapa de Preços'!$A$16:$B$2988,2,0))","v":"Falta (U.M.)"},"","",null,{"$f":"VLOOKUP(A2403,'Mapa de Preços'!$A$16:$J$2988,10,0)","v":"Falta Orçamento"},"",null,2376,null,0]
[2377,{"$f":"IF(VLOOKUP(A2404,'Mapa de Preços'!$A$16:$B$2988,2,0)=FALSE,\"Falta (U.M.)\",VLOOKUP(A2404,'Mapa de Preços'!$A$16:$B$2988,2,0))","v":"Falta (U.M.)"},"","",null,{"$f":"VLOOKUP(A2404,'Mapa de Preços'!$A$16:$J$2988,10,0)","v":"Falta Orçamento"},"",null,2377,null,0]
[2378,{"$f":"IF(VLOOKUP(A2405,'Mapa de Preços'!$A$16:$B$2988,2,0)=FALSE,\"Falta (U.M.)\",VLOOKUP(A2405,'Mapa de Preços'!$A$16:$B$2988,2,0))","v":"Falta (U.M.)"},"","",null,{"$f":"VLOOKUP(A2405,'Mapa de Preços'!$A$16:$J$2988,10,0)","v":"Falta Orçamento"},"",null,2378,null,0]
[2379,{"$f":"IF(VLOOKUP(A2406,'Mapa de Preços'!$A$16:$B$2988,2,0)=FALSE,\"Falta (U.M.)\",VLOOKUP(A2406,'Mapa de Preços'!$A$16:$B$2988,2,0))","v":"Falta (U.M.)"},"","",null,{"$f":"VLOOKUP(A2406,'Mapa de Preços'!$A$16:$J$2988,10,0)","v":"Falta Orçamento"},"",null,2379,null,0]
[2380,{"$f":"IF(VLOOKUP(A2407,'Mapa de Preços'!$A$16:$B$2988,2,0)=FALSE,\"Falta (U.M.)\",VLOOKUP(A2407,'Mapa de Preços'!$A$16:$B$2988,2,0))","v":"Falta (U.M.)"},"","",null,{"$f":"VLOOKUP(A2407,'Mapa de Preços'!$A$16:$J$2988,10,0)","v":"Falta Orçamento"},"",null,2380,null,0]
[2381,{"$f":"IF(VLOOKUP(A2408,'Mapa de Preços'!$A$16:$B$2988,2,0)=FALSE,\"Falta (U.M.)\",VLOOKUP(A2408,'Mapa de Preços'!$A$16:$B$2988,2,0))","v":"Falta (U.M.)"},"","",null,{"$f":"VLOOKUP(A2408,'Mapa de Preços'!$A$16:$J$2988,10,0)","v":"Falta Orçamento"},"",null,2381,null,0]
[2382,{"$f":"IF(VLOOKUP(A2409,'Mapa de Preços'!$A$16:$B$2988,2,0)=FALSE,\"Falta (U.M.)\",VLOOKUP(A2409,'Mapa de Preços'!$A$16:$B$2988,2,0))","v":"Falta (U.M.)"},"","",null,{"$f":"VLOOKUP(A2409,'Mapa de Preços'!$A$16:$J$2988,10,0)","v":"Falta Orçamento"},"",null,2382,null,0]
[2383,{"$f":"IF(VLOOKUP(A2410,'Mapa de Preços'!$A$16:$B$2988,2,0)=FALSE,\"Falta (U.M.)\",VLOOKUP(A2410,'Mapa de Preços'!$A$16:$B$2988,2,0))","v":"Falta (U.M.)"},"","",null,{"$f":"VLOOKUP(A2410,'Mapa de Preços'!$A$16:$J$2988,10,0)","v":"Falta Orçamento"},"",null,2383,null,0]
[2384,{"$f":"IF(VLOOKUP(A2411,'Mapa de Preços'!$A$16:$B$2988,2,0)=FALSE,\"Falta (U.M.)\",VLOOKUP(A2411,'Mapa de Preços'!$A$16:$B$2988,2,0))","v":"Falta (U.M.)"},"","",null,{"$f":"VLOOKUP(A2411,'Mapa de Preços'!$A$16:$J$2988,10,0)","v":"Falta Orçamento"},"",null,2384,null,0]
[2385,{"$f":"IF(VLOOKUP(A2412,'Mapa de Preços'!$A$16:$B$2988,2,0)=FALSE,\"Falta (U.M.)\",VLOOKUP(A2412,'Mapa de Preços'!$A$16:$B$2988,2,0))","v":"Falta (U.M.)"},"","",null,{"$f":"VLOOKUP(A2412,'Mapa de Preços'!$A$16:$J$2988,10,0)","v":"Falta Orçamento"},"",null,2385,null,0]
[2386,{"$f":"IF(VLOOKUP(A2413,'Mapa de Preços'!$A$16:$B$2988,2,0)=FALSE,\"Falta (U.M.)\",VLOOKUP(A2413,'Mapa de Preços'!$A$16:$B$2988,2,0))","v":"Falta (U.M.)"},"","",null,{"$f":"VLOOKUP(A2413,'Mapa de Preços'!$A$16:$J$2988,10,0)","v":"Falta Orçamento"},"",null,2386,null,0]
[2387,{"$f":"IF(VLOOKUP(A2414,'Mapa de Preços'!$A$16:$B$2988,2,0)=FALSE,\"Falta (U.M.)\",VLOOKUP(A2414,'Mapa de Preços'!$A$16:$B$2988,2,0))","v":"Falta (U.M.)"},"","",null,{"$f":"VLOOKUP(A2414,'Mapa de Preços'!$A$16:$J$2988,10,0)","v":"Falta Orçamento"},"",null,2387,null,0]
[2388,{"$f":"IF(VLOOKUP(A2415,'Mapa de Preços'!$A$16:$B$2988,2,0)=FALSE,\"Falta (U.M.)\",VLOOKUP(A2415,'Mapa de Preços'!$A$16:$B$2988,2,0))","v":"Falta (U.M.)"},"","",null,{"$f":"VLOOKUP(A2415,'Mapa de Preços'!$A$16:$J$2988,10,0)","v":"Falta Orçamento"},"",null,2388,null,0]
[2389,{"$f":"IF(VLOOKUP(A2416,'Mapa de Preços'!$A$16:$B$2988,2,0)=FALSE,\"Falta (U.M.)\",VLOOKUP(A2416,'Mapa de Preços'!$A$16:$B$2988,2,0))","v":"Falta (U.M.)"},"","",null,{"$f":"VLOOKUP(A2416,'Mapa de Preços'!$A$16:$J$2988,10,0)","v":"Falta Orçamento"},"",null,2389,null,0]
[2390,{"$f":"IF(VLOOKUP(A2417,'Mapa de Preços'!$A$16:$B$2988,2,0)=FALSE,\"Falta (U.M.)\",VLOOKUP(A2417,'Mapa de Preços'!$A$16:$B$2988,2,0))","v":"Falta (U.M.)"},"","",null,{"$f":"VLOOKUP(A2417,'Mapa de Preços'!$A$16:$J$2988,10,0)","v":"Falta Orçamento"},"",null,2390,null,0]
[2391,{"$f":"IF(VLOOKUP(A2418,'Mapa de Preços'!$A$16:$B$2988,2,0)=FALSE,\"Falta (U.M.)\",VLOOKUP(A2418,'Mapa de Preços'!$A$16:$B$2988,2,0))","v":"Falta (U.M.)"},"","",null,{"$f":"VLOOKUP(A2418,'Mapa de Preços'!$A$16:$J$2988,10,0)","v":"Falta Orçamento"},"",null,2391,null,0]
[2392,{"$f":"IF(VLOOKUP(A2419,'Mapa de Preços'!$A$16:$B$2988,2,0)=FALSE,\"Falta (U.M.)\",VLOOKUP(A2419,'Mapa de Preços'!$A$16:$B$2988,2,0))","v":"Falta (U.M.)"},"","",null,{"$f":"VLOOKUP(A2419,'Mapa de Preços'!$A$16:$J$2988,10,0)","v":"Falta Orçamento"},"",null,2392,null,0]
[2393,{"$f":"IF(VLOOKUP(A2420,'Mapa de Preços'!$A$16:$B$2988,2,0)=FALSE,\"Falta (U.M.)\",VLOOKUP(A2420,'Mapa de Preços'!$A$16:$B$2988,2,0))","v":"Falta (U.M.)"},"","",null,{"$f":"VLOOKUP(A2420,'Mapa de Preços'!$A$16:$J$2988,10,0)","v":"Falta Orçamento"},"",null,2393,null,0]
[2394,{"$f":"IF(VLOOKUP(A2421,'Mapa de Preços'!$A$16:$B$2988,2,0)=FALSE,\"Falta (U.M.)\",VLOOKUP(A2421,'Mapa de Preços'!$A$16:$B$2988,2,0))","v":"Falta (U.M.)"},"","",null,{"$f":"VLOOKUP(A2421,'Mapa de Preços'!$A$16:$J$2988,10,0)","v":"Falta Orçamento"},"",null,2394,null,0]
[2395,{"$f":"IF(VLOOKUP(A2422,'Mapa de Preços'!$A$16:$B$2988,2,0)=FALSE,\"Falta (U.M.)\",VLOOKUP(A2422,'Mapa de Preços'!$A$16:$B$2988,2,0))","v":"Falta (U.M.)"},"","",null,{"$f":"VLOOKUP(A2422,'Mapa de Preços'!$A$16:$J$2988,10,0)","v":"Falta Orçamento"},"",null,2395,null,0]
[2396,{"$f":"IF(VLOOKUP(A2423,'Mapa de Preços'!$A$16:$B$2988,2,0)=FALSE,\"Falta (U.M.)\",VLOOKUP(A2423,'Mapa de Preços'!$A$16:$B$2988,2,0))","v":"Falta (U.M.)"},"","",null,{"$f":"VLOOKUP(A2423,'Mapa de Preços'!$A$16:$J$2988,10,0)","v":"Falta Orçamento"},"",null,2396,null,0]
[2397,{"$f":"IF(VLOOKUP(A2424,'Mapa de Preços'!$A$16:$B$2988,2,0)=FALSE,\"Falta (U.M.)\",VLOOKUP(A2424,'Mapa de Preços'!$A$16:$B$2988,2,0))","v":"Falta (U.M.)"},"","",null,{"$f":"VLOOKUP(A2424,'Mapa de Preços'!$A$16:$J$2988,10,0)","v":"Falta Orçamento"},"",null,2397,null,0]
[2398,{"$f":"IF(VLOOKUP(A2425,'Mapa de Preços'!$A$16:$B$2988,2,0)=FALSE,\"Falta (U.M.)\",VLOOKUP(A2425,'Mapa de Preços'!$A$16:$B$2988,2,0))","v":"Falta (U.M.)"},"","",null,{"$f":"VLOOKUP(A2425,'Mapa de Preços'!$A$16:$J$2988,10,0)","v":"Falta Orçamento"},"",null,2398,null,0]
[2399,{"$f":"IF(VLOOKUP(A2426,'Mapa de Preços'!$A$16:$B$2988,2,0)=FALSE,\"Falta (U.M.)\",VLOOKUP(A2426,'Mapa de Preços'!$A$16:$B$2988,2,0))","v":"Falta (U.M.)"},"","",null,{"$f":"VLOOKUP(A2426,'Mapa de Preços'!$A$16:$J$2988,10,0)","v":"Falta Orçamento"},"",null,2399,null,0]
[2400,{"$f":"IF(VLOOKUP(A2427,'Mapa de Preços'!$A$16:$B$2988,2,0)=FALSE,\"Falta (U.M.)\",VLOOKUP(A2427,'Mapa de Preços'!$A$16:$B$2988,2,0))","v":"Falta (U.M.)"},"","",null,{"$f":"VLOOKUP(A2427,'Mapa de Preços'!$A$16:$J$2988,10,0)","v":"Falta Orçamento"},"",null,2400,null,0]
[2401,{"$f":"IF(VLOOKUP(A2428,'Mapa de Preços'!$A$16:$B$2988,2,0)=FALSE,\"Falta (U.M.)\",VLOOKUP(A2428,'Mapa de Preços'!$A$16:$B$2988,2,0))","v":"Falta (U.M.)"},"","",null,{"$f":"VLOOKUP(A2428,'Mapa de Preços'!$A$16:$J$2988,10,0)","v":"Falta Orçamento"},"",null,2401,null,0]
[2402,{"$f":"IF(VLOOKUP(A2429,'Mapa de Preços'!$A$16:$B$2988,2,0)=FALSE,\"Falta (U.M.)\",VLOOKUP(A2429,'Mapa de Preços'!$A$16:$B$2988,2,0))","v":"Falta (U.M.)"},"","",null,{"$f":"VLOOKUP(A2429,'Mapa de Preços'!$A$16:$J$2988,10,0)","v":"Falta Orçamento"},"",null,2402,null,0]
[2403,{"$f":"IF(VLOOKUP(A2430,'Mapa de Preços'!$A$16:$B$2988,2,0)=FALSE,\"Falta (U.M.)\",VLOOKUP(A2430,'Mapa de Preços'!$A$16:$B$2988,2,0))","v":"Falta (U.M.)"},"","",null,{"$f":"VLOOKUP(A2430,'Mapa de Preços'!$A$16:$J$2988,10,0)","v":"Falta Orçamento"},"",null,2403,null,0]
[2404,{"$f":"IF(VLOOKUP(A2431,'Mapa de Preços'!$A$16:$B$2988,2,0)=FALSE,\"Falta (U.M.)\",VLOOKUP(A2431,'Mapa de Preços'!$A$16:$B$2988,2,0))","v":"Falta (U.M.)"},"","",null,{"$f":"VLOOKUP(A2431,'Mapa de Preços'!$A$16:$J$2988,10,0)","v":"Falta Orçamento"},"",null,2404,null,0]
[2405,{"$f":"IF(VLOOKUP(A2432,'Mapa de Preços'!$A$16:$B$2988,2,0)=FALSE,\"Falta (U.M.)\",VLOOKUP(A2432,'Mapa de Preços'!$A$16:$B$2988,2,0))","v":"Falta (U.M.)"},"","",null,{"$f":"VLOOKUP(A2432,'Mapa de Preços'!$A$16:$J$2988,10,0)","v":"Falta Orçamento"},"",null,2405,null,0]
[2406,{"$f":"IF(VLOOKUP(A2433,'Mapa de Preços'!$A$16:$B$2988,2,0)=FALSE,\"Falta (U.M.)\",VLOOKUP(A2433,'Mapa de Preços'!$A$16:$B$2988,2,0))","v":"Falta (U.M.)"},"","",null,{"$f":"VLOOKUP(A2433,'Mapa de Preços'!$A$16:$J$2988,10,0)","v":"Falta Orçamento"},"",null,2406,null,0]
[2407,{"$f":"IF(VLOOKUP(A2434,'Mapa de Preços'!$A$16:$B$2988,2,0)=FALSE,\"Falta (U.M.)\",VLOOKUP(A2434,'Mapa de Preços'!$A$16:$B$2988,2,0))","v":"Falta (U.M.)"},"","",null,{"$f":"VLOOKUP(A2434,'Mapa de Preços'!$A$16:$J$2988,10,0)","v":"Falta Orçamento"},"",null,2407,null,0]
[2408,{"$f":"IF(VLOOKUP(A2435,'Mapa de Preços'!$A$16:$B$2988,2,0)=FALSE,\"Falta (U.M.)\",VLOOKUP(A2435,'Mapa de Preços'!$A$16:$B$2988,2,0))","v":"Falta (U.M.)"},"","",null,{"$f":"VLOOKUP(A2435,'Mapa de Preços'!$A$16:$J$2988,10,0)","v":"Falta Orçamento"},"",null,2408,null,0]
[2409,{"$f":"IF(VLOOKUP(A2436,'Mapa de Preços'!$A$16:$B$2988,2,0)=FALSE,\"Falta (U.M.)\",VLOOKUP(A2436,'Mapa de Preços'!$A$16:$B$2988,2,0))","v":"Falta (U.M.)"},"","",null,{"$f":"VLOOKUP(A2436,'Mapa de Preços'!$A$16:$J$2988,10,0)","v":"Falta Orçamento"},"",null,2409,null,0]
[2410,{"$f":"IF(VLOOKUP(A2437,'Mapa de Preços'!$A$16:$B$2988,2,0)=FALSE,\"Falta (U.M.)\",VLOOKUP(A2437,'Mapa de Preços'!$A$16:$B$2988,2,0))","v":"Falta (U.M.)"},"","",null,{"$f":"VLOOKUP(A2437,'Mapa de Preços'!$A$16:$J$2988,10,0)","v":"Falta Orçamento"},"",null,2410,null,0]
[2411,{"$f":"IF(VLOOKUP(A2438,'Mapa de Preços'!$A$16:$B$2988,2,0)=FALSE,\"Falta (U.M.)\",VLOOKUP(A2438,'Mapa de Preços'!$A$16:$B$2988,2,0))","v":"Falta (U.M.)"},"","",null,{"$f":"VLOOKUP(A2438,'Mapa de Preços'!$A$16:$J$2988,10,0)","v":"Falta Orçamento"},"",null,2411,null,0]
[2412,{"$f":"IF(VLOOKUP(A2439,'Mapa de Preços'!$A$16:$B$2988,2,0)=FALSE,\"Falta (U.M.)\",VLOOKUP(A2439,'Mapa de Preços'!$A$16:$B$2988,2,0))","v":"Falta (U.M.)"},"","",null,{"$f":"VLOOKUP(A2439,'Mapa de Preços'!$A$16:$J$2988,10,0)","v":"Falta Orçamento"},"",null,2412,null,0]
[2413,{"$f":"IF(VLOOKUP(A2440,'Mapa de Preços'!$A$16:$B$2988,2,0)=FALSE,\"Falta (U.M.)\",VLOOKUP(A2440,'Mapa de Preços'!$A$16:$B$2988,2,0))","v":"Falta (U.M.)"},"","",null,{"$f":"VLOOKUP(A2440,'Mapa de Preços'!$A$16:$J$2988,10,0)","v":"Falta Orçamento"},"",null,2413,null,0]
[2414,{"$f":"IF(VLOOKUP(A2441,'Mapa de Preços'!$A$16:$B$2988,2,0)=FALSE,\"Falta (U.M.)\",VLOOKUP(A2441,'Mapa de Preços'!$A$16:$B$2988,2,0))","v":"Falta (U.M.)"},"","",null,{"$f":"VLOOKUP(A2441,'Mapa de Preços'!$A$16:$J$2988,10,0)","v":"Falta Orçamento"},"",null,2414,null,0]
[2415,{"$f":"IF(VLOOKUP(A2442,'Mapa de Preços'!$A$16:$B$2988,2,0)=FALSE,\"Falta (U.M.)\",VLOOKUP(A2442,'Mapa de Preços'!$A$16:$B$2988,2,0))","v":"Falta (U.M.)"},"","",null,{"$f":"VLOOKUP(A2442,'Mapa de Preços'!$A$16:$J$2988,10,0)","v":"Falta Orçamento"},"",null,2415,null,0]
[2416,{"$f":"IF(VLOOKUP(A2443,'Mapa de Preços'!$A$16:$B$2988,2,0)=FALSE,\"Falta (U.M.)\",VLOOKUP(A2443,'Mapa de Preços'!$A$16:$B$2988,2,0))","v":"Falta (U.M.)"},"","",null,{"$f":"VLOOKUP(A2443,'Mapa de Preços'!$A$16:$J$2988,10,0)","v":"Falta Orçamento"},"",null,2416,null,0]
[2417,{"$f":"IF(VLOOKUP(A2444,'Mapa de Preços'!$A$16:$B$2988,2,0)=FALSE,\"Falta (U.M.)\",VLOOKUP(A2444,'Mapa de Preços'!$A$16:$B$2988,2,0))","v":"Falta (U.M.)"},"","",null,{"$f":"VLOOKUP(A2444,'Mapa de Preços'!$A$16:$J$2988,10,0)","v":"Falta Orçamento"},"",null,2417,null,0]
[2418,{"$f":"IF(VLOOKUP(A2445,'Mapa de Preços'!$A$16:$B$2988,2,0)=FALSE,\"Falta (U.M.)\",VLOOKUP(A2445,'Mapa de Preços'!$A$16:$B$2988,2,0))","v":"Falta (U.M.)"},"","",null,{"$f":"VLOOKUP(A2445,'Mapa de Preços'!$A$16:$J$2988,10,0)","v":"Falta Orçamento"},"",null,2418,null,0]
[2419,{"$f":"IF(VLOOKUP(A2446,'Mapa de Preços'!$A$16:$B$2988,2,0)=FALSE,\"Falta (U.M.)\",VLOOKUP(A2446,'Mapa de Preços'!$A$16:$B$2988,2,0))","v":"Falta (U.M.)"},"","",null,{"$f":"VLOOKUP(A2446,'Mapa de Preços'!$A$16:$J$2988,10,0)","v":"Falta Orçamento"},"",null,2419,null,0]
[2420,{"$f":"IF(VLOOKUP(A2447,'Mapa de Preços'!$A$16:$B$2988,2,0)=FALSE,\"Falta (U.M.)\",VLOOKUP(A2447,'Mapa de Preços'!$A$16:$B$2988,2,0))","v":"Falta (U.M.)"},"","",null,{"$f":"VLOOKUP(A2447,'Mapa de Preços'!$A$16:$J$2988,10,0)","v":"Falta Orçamento"},"",null,2420,null,0]
[2421,{"$f":"IF(VLOOKUP(A2448,'Mapa de Preços'!$A$16:$B$2988,2,0)=FALSE,\"Falta (U.M.)\",VLOOKUP(A2448,'Mapa de Preços'!$A$16:$B$2988,2,0))","v":"Falta (U.M.)"},"","",null,{"$f":"VLOOKUP(A2448,'Mapa de Preços'!$A$16:$J$2988,10,0)","v":"Falta Orçamento"},"",null,2421,null,0]
[2422,{"$f":"IF(VLOOKUP(A2449,'Mapa de Preços'!$A$16:$B$2988,2,0)=FALSE,\"Falta (U.M.)\",VLOOKUP(A2449,'Mapa de Preços'!$A$16:$B$2988,2,0))","v":"Falta (U.M.)"},"","",null,{"$f":"VLOOKUP(A2449,'Mapa de Preços'!$A$16:$J$2988,10,0)","v":"Falta Orçamento"},"",null,2422,null,0]
[2423,{"$f":"IF(VLOOKUP(A2450,'Mapa de Preços'!$A$16:$B$2988,2,0)=FALSE,\"Falta (U.M.)\",VLOOKUP(A2450,'Mapa de Preços'!$A$16:$B$2988,2,0))","v":"Falta (U.M.)"},"","",null,{"$f":"VLOOKUP(A2450,'Mapa de Preços'!$A$16:$J$2988,10,0)","v":"Falta Orçamento"},"",null,2423,null,0]
[2424,{"$f":"IF(VLOOKUP(A2451,'Mapa de Preços'!$A$16:$B$2988,2,0)=FALSE,\"Falta (U.M.)\",VLOOKUP(A2451,'Mapa de Preços'!$A$16:$B$2988,2,0))","v":"Falta (U.M.)"},"","",null,{"$f":"VLOOKUP(A2451,'Mapa de Preços'!$A$16:$J$2988,10,0)","v":"Falta Orçamento"},"",null,2424,null,0]
[2425,{"$f":"IF(VLOOKUP(A2452,'Mapa de Preços'!$A$16:$B$2988,2,0)=FALSE,\"Falta (U.M.)\",VLOOKUP(A2452,'Mapa de Preços'!$A$16:$B$2988,2,0))","v":"Falta (U.M.)"},"","",null,{"$f":"VLOOKUP(A2452,'Mapa de Preços'!$A$16:$J$2988,10,0)","v":"Falta Orçamento"},"",null,2425,null,0]
[2426,{"$f":"IF(VLOOKUP(A2453,'Mapa de Preços'!$A$16:$B$2988,2,0)=FALSE,\"Falta (U.M.)\",VLOOKUP(A2453,'Mapa de Preços'!$A$16:$B$2988,2,0))","v":"Falta (U.M.)"},"","",null,{"$f":"VLOOKUP(A2453,'Mapa de Preços'!$A$16:$J$2988,10,0)","v":"Falta Orçamento"},"",null,2426,null,0]
[2427,{"$f":"IF(VLOOKUP(A2454,'Mapa de Preços'!$A$16:$B$2988,2,0)=FALSE,\"Falta (U.M.)\",VLOOKUP(A2454,'Mapa de Preços'!$A$16:$B$2988,2,0))","v":"Falta (U.M.)"},"","",null,{"$f":"VLOOKUP(A2454,'Mapa de Preços'!$A$16:$J$2988,10,0)","v":"Falta Orçamento"},"",null,2427,null,0]
[2428,{"$f":"IF(VLOOKUP(A2455,'Mapa de Preços'!$A$16:$B$2988,2,0)=FALSE,\"Falta (U.M.)\",VLOOKUP(A2455,'Mapa de Preços'!$A$16:$B$2988,2,0))","v":"Falta (U.M.)"},"","",null,{"$f":"VLOOKUP(A2455,'Mapa de Preços'!$A$16:$J$2988,10,0)","v":"Falta Orçamento"},"",null,2428,null,0]
[2429,{"$f":"IF(VLOOKUP(A2456,'Mapa de Preços'!$A$16:$B$2988,2,0)=FALSE,\"Falta (U.M.)\",VLOOKUP(A2456,'Mapa de Preços'!$A$16:$B$2988,2,0))","v":"Falta (U.M.)"},"","",null,{"$f":"VLOOKUP(A2456,'Mapa de Preços'!$A$16:$J$2988,10,0)","v":"Falta Orçamento"},"",null,2429,null,0]
[2430,{"$f":"IF(VLOOKUP(A2457,'Mapa de Preços'!$A$16:$B$2988,2,0)=FALSE,\"Falta (U.M.)\",VLOOKUP(A2457,'Mapa de Preços'!$A$16:$B$2988,2,0))","v":"Falta (U.M.)"},"","",null,{"$f":"VLOOKUP(A2457,'Mapa de Preços'!$A$16:$J$2988,10,0)","v":"Falta Orçamento"},"",null,2430,null,0]
[2431,{"$f":"IF(VLOOKUP(A2458,'Mapa de Preços'!$A$16:$B$2988,2,0)=FALSE,\"Falta (U.M.)\",VLOOKUP(A2458,'Mapa de Preços'!$A$16:$B$2988,2,0))","v":"Falta (U.M.)"},"","",null,{"$f":"VLOOKUP(A2458,'Mapa de Preços'!$A$16:$J$2988,10,0)","v":"Falta Orçamento"},"",null,2431,null,0]
[2432,{"$f":"IF(VLOOKUP(A2459,'Mapa de Preços'!$A$16:$B$2988,2,0)=FALSE,\"Falta (U.M.)\",VLOOKUP(A2459,'Mapa de Preços'!$A$16:$B$2988,2,0))","v":"Falta (U.M.)"},"","",null,{"$f":"VLOOKUP(A2459,'Mapa de Preços'!$A$16:$J$2988,10,0)","v":"Falta Orçamento"},"",null,2432,null,0]
[2433,{"$f":"IF(VLOOKUP(A2460,'Mapa de Preços'!$A$16:$B$2988,2,0)=FALSE,\"Falta (U.M.)\",VLOOKUP(A2460,'Mapa de Preços'!$A$16:$B$2988,2,0))","v":"Falta (U.M.)"},"","",null,{"$f":"VLOOKUP(A2460,'Mapa de Preços'!$A$16:$J$2988,10,0)","v":"Falta Orçamento"},"",null,2433,null,{"$f":"SUM(L2460:AI2460)","v":0}]
[2434,{"$f":"IF(VLOOKUP(A2461,'Mapa de Preços'!$A$16:$B$2988,2,0)=FALSE,\"Falta (U.M.)\",VLOOKUP(A2461,'Mapa de Preços'!$A$16:$B$2988,2,0))","v":"Falta (U.M.)"},{"$f":"IF(J2461<>\"\",J2461,\"\")","v":""},{"$f":"IF(VLOOKUP(A2461,$I$28:$AI$3000,$G$26,FALSE)<>\"\",VLOOKUP(A2461,$I$28:$AI$3000,$G$26,FALSE),\"\")","v":""},null,{"$f":"VLOOKUP(A2461,'Mapa de Preços'!$A$16:$J$2988,10,0)","v":"Falta Orçamento"},{"$f":"IF(F2461=\"Falta Orçamento\",\"\",F2461*D2461)","v":""},null,2434,null,0]
[2435,{"$f":"IF(VLOOKUP(A2462,'Mapa de Preços'!$A$16:$B$2988,2,0)=FALSE,\"Falta (U.M.)\",VLOOKUP(A2462,'Mapa de Preços'!$A$16:$B$2988,2,0))","v":"Falta (U.M.)"},"","",null,{"$f":"VLOOKUP(A2462,'Mapa de Preços'!$A$16:$J$2988,10,0)","v":"Falta Orçamento"},"",null,2435,null,0]
[2436,{"$f":"IF(VLOOKUP(A2463,'Mapa de Preços'!$A$16:$B$2988,2,0)=FALSE,\"Falta (U.M.)\",VLOOKUP(A2463,'Mapa de Preços'!$A$16:$B$2988,2,0))","v":"Falta (U.M.)"},"","",null,{"$f":"VLOOKUP(A2463,'Mapa de Preços'!$A$16:$J$2988,10,0)","v":"Falta Orçamento"},"",null,2436,null,0]
[2437,{"$f":"IF(VLOOKUP(A2464,'Mapa de Preços'!$A$16:$B$2988,2,0)=FALSE,\"Falta (U.M.)\",VLOOKUP(A2464,'Mapa de Preços'!$A$16:$B$2988,2,0))","v":"Falta (U.M.)"},"","",null,{"$f":"VLOOKUP(A2464,'Mapa de Preços'!$A$16:$J$2988,10,0)","v":"Falta Orçamento"},"",null,2437,null,0]
[2438,{"$f":"IF(VLOOKUP(A2465,'Mapa de Preços'!$A$16:$B$2988,2,0)=FALSE,\"Falta (U.M.)\",VLOOKUP(A2465,'Mapa de Preços'!$A$16:$B$2988,2,0))","v":"Falta (U.M.)"},"","",null,{"$f":"VLOOKUP(A2465,'Mapa de Preços'!$A$16:$J$2988,10,0)","v":"Falta Orçamento"},"",null,2438,null,0]
[2439,{"$f":"IF(VLOOKUP(A2466,'Mapa de Preços'!$A$16:$B$2988,2,0)=FALSE,\"Falta (U.M.)\",VLOOKUP(A2466,'Mapa de Preços'!$A$16:$B$2988,2,0))","v":"Falta (U.M.)"},"","",null,{"$f":"VLOOKUP(A2466,'Mapa de Preços'!$A$16:$J$2988,10,0)","v":"Falta Orçamento"},"",null,2439,null,0]
[2440,{"$f":"IF(VLOOKUP(A2467,'Mapa de Preços'!$A$16:$B$2988,2,0)=FALSE,\"Falta (U.M.)\",VLOOKUP(A2467,'Mapa de Preços'!$A$16:$B$2988,2,0))","v":"Falta (U.M.)"},"","",null,{"$f":"VLOOKUP(A2467,'Mapa de Preços'!$A$16:$J$2988,10,0)","v":"Falta Orçamento"},"",null,2440,null,0]
[2441,{"$f":"IF(VLOOKUP(A2468,'Mapa de Preços'!$A$16:$B$2988,2,0)=FALSE,\"Falta (U.M.)\",VLOOKUP(A2468,'Mapa de Preços'!$A$16:$B$2988,2,0))","v":"Falta (U.M.)"},"","",null,{"$f":"VLOOKUP(A2468,'Mapa de Preços'!$A$16:$J$2988,10,0)","v":"Falta Orçamento"},"",null,2441,null,0]
[2442,{"$f":"IF(VLOOKUP(A2469,'Mapa de Preços'!$A$16:$B$2988,2,0)=FALSE,\"Falta (U.M.)\",VLOOKUP(A2469,'Mapa de Preços'!$A$16:$B$2988,2,0))","v":"Falta (U.M.)"},"","",null,{"$f":"VLOOKUP(A2469,'Mapa de Preços'!$A$16:$J$2988,10,0)","v":"Falta Orçamento"},"",null,2442,null,0]
[2443,{"$f":"IF(VLOOKUP(A2470,'Mapa de Preços'!$A$16:$B$2988,2,0)=FALSE,\"Falta (U.M.)\",VLOOKUP(A2470,'Mapa de Preços'!$A$16:$B$2988,2,0))","v":"Falta (U.M.)"},"","",null,{"$f":"VLOOKUP(A2470,'Mapa de Preços'!$A$16:$J$2988,10,0)","v":"Falta Orçamento"},"",null,2443,null,0]
[2444,{"$f":"IF(VLOOKUP(A2471,'Mapa de Preços'!$A$16:$B$2988,2,0)=FALSE,\"Falta (U.M.)\",VLOOKUP(A2471,'Mapa de Preços'!$A$16:$B$2988,2,0))","v":"Falta (U.M.)"},"","",null,{"$f":"VLOOKUP(A2471,'Mapa de Preços'!$A$16:$J$2988,10,0)","v":"Falta Orçamento"},"",null,2444,null,0]
[2445,{"$f":"IF(VLOOKUP(A2472,'Mapa de Preços'!$A$16:$B$2988,2,0)=FALSE,\"Falta (U.M.)\",VLOOKUP(A2472,'Mapa de Preços'!$A$16:$B$2988,2,0))","v":"Falta (U.M.)"},"","",null,{"$f":"VLOOKUP(A2472,'Mapa de Preços'!$A$16:$J$2988,10,0)","v":"Falta Orçamento"},"",null,2445,null,0]
[2446,{"$f":"IF(VLOOKUP(A2473,'Mapa de Preços'!$A$16:$B$2988,2,0)=FALSE,\"Falta (U.M.)\",VLOOKUP(A2473,'Mapa de Preços'!$A$16:$B$2988,2,0))","v":"Falta (U.M.)"},"","",null,{"$f":"VLOOKUP(A2473,'Mapa de Preços'!$A$16:$J$2988,10,0)","v":"Falta Orçamento"},"",null,2446,null,0]
[2447,{"$f":"IF(VLOOKUP(A2474,'Mapa de Preços'!$A$16:$B$2988,2,0)=FALSE,\"Falta (U.M.)\",VLOOKUP(A2474,'Mapa de Preços'!$A$16:$B$2988,2,0))","v":"Falta (U.M.)"},"","",null,{"$f":"VLOOKUP(A2474,'Mapa de Preços'!$A$16:$J$2988,10,0)","v":"Falta Orçamento"},"",null,2447,null,0]
[2448,{"$f":"IF(VLOOKUP(A2475,'Mapa de Preços'!$A$16:$B$2988,2,0)=FALSE,\"Falta (U.M.)\",VLOOKUP(A2475,'Mapa de Preços'!$A$16:$B$2988,2,0))","v":"Falta (U.M.)"},"","",null,{"$f":"VLOOKUP(A2475,'Mapa de Preços'!$A$16:$J$2988,10,0)","v":"Falta Orçamento"},"",null,2448,null,0]
[2449,{"$f":"IF(VLOOKUP(A2476,'Mapa de Preços'!$A$16:$B$2988,2,0)=FALSE,\"Falta (U.M.)\",VLOOKUP(A2476,'Mapa de Preços'!$A$16:$B$2988,2,0))","v":"Falta (U.M.)"},"","",null,{"$f":"VLOOKUP(A2476,'Mapa de Preços'!$A$16:$J$2988,10,0)","v":"Falta Orçamento"},"",null,2449,null,0]
[2450,{"$f":"IF(VLOOKUP(A2477,'Mapa de Preços'!$A$16:$B$2988,2,0)=FALSE,\"Falta (U.M.)\",VLOOKUP(A2477,'Mapa de Preços'!$A$16:$B$2988,2,0))","v":"Falta (U.M.)"},"","",null,{"$f":"VLOOKUP(A2477,'Mapa de Preços'!$A$16:$J$2988,10,0)","v":"Falta Orçamento"},"",null,2450,null,0]
[2451,{"$f":"IF(VLOOKUP(A2478,'Mapa de Preços'!$A$16:$B$2988,2,0)=FALSE,\"Falta (U.M.)\",VLOOKUP(A2478,'Mapa de Preços'!$A$16:$B$2988,2,0))","v":"Falta (U.M.)"},"","",null,{"$f":"VLOOKUP(A2478,'Mapa de Preços'!$A$16:$J$2988,10,0)","v":"Falta Orçamento"},"",null,2451,null,0]
[2452,{"$f":"IF(VLOOKUP(A2479,'Mapa de Preços'!$A$16:$B$2988,2,0)=FALSE,\"Falta (U.M.)\",VLOOKUP(A2479,'Mapa de Preços'!$A$16:$B$2988,2,0))","v":"Falta (U.M.)"},"","",null,{"$f":"VLOOKUP(A2479,'Mapa de Preços'!$A$16:$J$2988,10,0)","v":"Falta Orçamento"},"",null,2452,null,0]
[2453,{"$f":"IF(VLOOKUP(A2480,'Mapa de Preços'!$A$16:$B$2988,2,0)=FALSE,\"Falta (U.M.)\",VLOOKUP(A2480,'Mapa de Preços'!$A$16:$B$2988,2,0))","v":"Falta (U.M.)"},"","",null,{"$f":"VLOOKUP(A2480,'Mapa de Preços'!$A$16:$J$2988,10,0)","v":"Falta Orçamento"},"",null,2453,null,0]
[2454,{"$f":"IF(VLOOKUP(A2481,'Mapa de Preços'!$A$16:$B$2988,2,0)=FALSE,\"Falta (U.M.)\",VLOOKUP(A2481,'Mapa de Preços'!$A$16:$B$2988,2,0))","v":"Falta (U.M.)"},"","",null,{"$f":"VLOOKUP(A2481,'Mapa de Preços'!$A$16:$J$2988,10,0)","v":"Falta Orçamento"},"",null,2454,null,0]
[2455,{"$f":"IF(VLOOKUP(A2482,'Mapa de Preços'!$A$16:$B$2988,2,0)=FALSE,\"Falta (U.M.)\",VLOOKUP(A2482,'Mapa de Preços'!$A$16:$B$2988,2,0))","v":"Falta (U.M.)"},"","",null,{"$f":"VLOOKUP(A2482,'Mapa de Preços'!$A$16:$J$2988,10,0)","v":"Falta Orçamento"},"",null,2455,null,0]
[2456,{"$f":"IF(VLOOKUP(A2483,'Mapa de Preços'!$A$16:$B$2988,2,0)=FALSE,\"Falta (U.M.)\",VLOOKUP(A2483,'Mapa de Preços'!$A$16:$B$2988,2,0))","v":"Falta (U.M.)"},"","",null,{"$f":"VLOOKUP(A2483,'Mapa de Preços'!$A$16:$J$2988,10,0)","v":"Falta Orçamento"},"",null,2456,null,0]
[2457,{"$f":"IF(VLOOKUP(A2484,'Mapa de Preços'!$A$16:$B$2988,2,0)=FALSE,\"Falta (U.M.)\",VLOOKUP(A2484,'Mapa de Preços'!$A$16:$B$2988,2,0))","v":"Falta (U.M.)"},"","",null,{"$f":"VLOOKUP(A2484,'Mapa de Preços'!$A$16:$J$2988,10,0)","v":"Falta Orçamento"},"",null,2457,null,0]
[2458,{"$f":"IF(VLOOKUP(A2485,'Mapa de Preços'!$A$16:$B$2988,2,0)=FALSE,\"Falta (U.M.)\",VLOOKUP(A2485,'Mapa de Preços'!$A$16:$B$2988,2,0))","v":"Falta (U.M.)"},"","",null,{"$f":"VLOOKUP(A2485,'Mapa de Preços'!$A$16:$J$2988,10,0)","v":"Falta Orçamento"},"",null,2458,null,0]
[2459,{"$f":"IF(VLOOKUP(A2486,'Mapa de Preços'!$A$16:$B$2988,2,0)=FALSE,\"Falta (U.M.)\",VLOOKUP(A2486,'Mapa de Preços'!$A$16:$B$2988,2,0))","v":"Falta (U.M.)"},"","",null,{"$f":"VLOOKUP(A2486,'Mapa de Preços'!$A$16:$J$2988,10,0)","v":"Falta Orçamento"},"",null,2459,null,0]
[2460,{"$f":"IF(VLOOKUP(A2487,'Mapa de Preços'!$A$16:$B$2988,2,0)=FALSE,\"Falta (U.M.)\",VLOOKUP(A2487,'Mapa de Preços'!$A$16:$B$2988,2,0))","v":"Falta (U.M.)"},"","",null,{"$f":"VLOOKUP(A2487,'Mapa de Preços'!$A$16:$J$2988,10,0)","v":"Falta Orçamento"},"",null,2460,null,0]
[2461,{"$f":"IF(VLOOKUP(A2488,'Mapa de Preços'!$A$16:$B$2988,2,0)=FALSE,\"Falta (U.M.)\",VLOOKUP(A2488,'Mapa de Preços'!$A$16:$B$2988,2,0))","v":"Falta (U.M.)"},"","",null,{"$f":"VLOOKUP(A2488,'Mapa de Preços'!$A$16:$J$2988,10,0)","v":"Falta Orçamento"},"",null,2461,null,0]
[2462,{"$f":"IF(VLOOKUP(A2489,'Mapa de Preços'!$A$16:$B$2988,2,0)=FALSE,\"Falta (U.M.)\",VLOOKUP(A2489,'Mapa de Preços'!$A$16:$B$2988,2,0))","v":"Falta (U.M.)"},"","",null,{"$f":"VLOOKUP(A2489,'Mapa de Preços'!$A$16:$J$2988,10,0)","v":"Falta Orçamento"},"",null,2462,null,0]
[2463,{"$f":"IF(VLOOKUP(A2490,'Mapa de Preços'!$A$16:$B$2988,2,0)=FALSE,\"Falta (U.M.)\",VLOOKUP(A2490,'Mapa de Preços'!$A$16:$B$2988,2,0))","v":"Falta (U.M.)"},"","",null,{"$f":"VLOOKUP(A2490,'Mapa de Preços'!$A$16:$J$2988,10,0)","v":"Falta Orçamento"},"",null,2463,null,0]
[2464,{"$f":"IF(VLOOKUP(A2491,'Mapa de Preços'!$A$16:$B$2988,2,0)=FALSE,\"Falta (U.M.)\",VLOOKUP(A2491,'Mapa de Preços'!$A$16:$B$2988,2,0))","v":"Falta (U.M.)"},"","",null,{"$f":"VLOOKUP(A2491,'Mapa de Preços'!$A$16:$J$2988,10,0)","v":"Falta Orçamento"},"",null,2464,null,0]
[2465,{"$f":"IF(VLOOKUP(A2492,'Mapa de Preços'!$A$16:$B$2988,2,0)=FALSE,\"Falta (U.M.)\",VLOOKUP(A2492,'Mapa de Preços'!$A$16:$B$2988,2,0))","v":"Falta (U.M.)"},"","",null,{"$f":"VLOOKUP(A2492,'Mapa de Preços'!$A$16:$J$2988,10,0)","v":"Falta Orçamento"},"",null,2465,null,0]
[2466,{"$f":"IF(VLOOKUP(A2493,'Mapa de Preços'!$A$16:$B$2988,2,0)=FALSE,\"Falta (U.M.)\",VLOOKUP(A2493,'Mapa de Preços'!$A$16:$B$2988,2,0))","v":"Falta (U.M.)"},"","",null,{"$f":"VLOOKUP(A2493,'Mapa de Preços'!$A$16:$J$2988,10,0)","v":"Falta Orçamento"},"",null,2466,null,0]
[2467,{"$f":"IF(VLOOKUP(A2494,'Mapa de Preços'!$A$16:$B$2988,2,0)=FALSE,\"Falta (U.M.)\",VLOOKUP(A2494,'Mapa de Preços'!$A$16:$B$2988,2,0))","v":"Falta (U.M.)"},"","",null,{"$f":"VLOOKUP(A2494,'Mapa de Preços'!$A$16:$J$2988,10,0)","v":"Falta Orçamento"},"",null,2467,null,0]
[2468,{"$f":"IF(VLOOKUP(A2495,'Mapa de Preços'!$A$16:$B$2988,2,0)=FALSE,\"Falta (U.M.)\",VLOOKUP(A2495,'Mapa de Preços'!$A$16:$B$2988,2,0))","v":"Falta (U.M.)"},"","",null,{"$f":"VLOOKUP(A2495,'Mapa de Preços'!$A$16:$J$2988,10,0)","v":"Falta Orçamento"},"",null,2468,null,0]
[2469,{"$f":"IF(VLOOKUP(A2496,'Mapa de Preços'!$A$16:$B$2988,2,0)=FALSE,\"Falta (U.M.)\",VLOOKUP(A2496,'Mapa de Preços'!$A$16:$B$2988,2,0))","v":"Falta (U.M.)"},"","",null,{"$f":"VLOOKUP(A2496,'Mapa de Preços'!$A$16:$J$2988,10,0)","v":"Falta Orçamento"},"",null,2469,null,0]
[2470,{"$f":"IF(VLOOKUP(A2497,'Mapa de Preços'!$A$16:$B$2988,2,0)=FALSE,\"Falta (U.M.)\",VLOOKUP(A2497,'Mapa de Preços'!$A$16:$B$2988,2,0))","v":"Falta (U.M.)"},"","",null,{"$f":"VLOOKUP(A2497,'Mapa de Preços'!$A$16:$J$2988,10,0)","v":"Falta Orçamento"},"",null,2470,null,0]
[2471,{"$f":"IF(VLOOKUP(A2498,'Mapa de Preços'!$A$16:$B$2988,2,0)=FALSE,\"Falta (U.M.)\",VLOOKUP(A2498,'Mapa de Preços'!$A$16:$B$2988,2,0))","v":"Falta (U.M.)"},"","",null,{"$f":"VLOOKUP(A2498,'Mapa de Preços'!$A$16:$J$2988,10,0)","v":"Falta Orçamento"},"",null,2471,null,0]
[2472,{"$f":"IF(VLOOKUP(A2499,'Mapa de Preços'!$A$16:$B$2988,2,0)=FALSE,\"Falta (U.M.)\",VLOOKUP(A2499,'Mapa de Preços'!$A$16:$B$2988,2,0))","v":"Falta (U.M.)"},"","",null,{"$f":"VLOOKUP(A2499,'Mapa de Preços'!$A$16:$J$2988,10,0)","v":"Falta Orçamento"},"",null,2472,null,0]
[2473,{"$f":"IF(VLOOKUP(A2500,'Mapa de Preços'!$A$16:$B$2988,2,0)=FALSE,\"Falta (U.M.)\",VLOOKUP(A2500,'Mapa de Preços'!$A$16:$B$2988,2,0))","v":"Falta (U.M.)"},"","",null,{"$f":"VLOOKUP(A2500,'Mapa de Preços'!$A$16:$J$2988,10,0)","v":"Falta Orçamento"},"",null,2473,null,0]
[2474,{"$f":"IF(VLOOKUP(A2501,'Mapa de Preços'!$A$16:$B$2988,2,0)=FALSE,\"Falta (U.M.)\",VLOOKUP(A2501,'Mapa de Preços'!$A$16:$B$2988,2,0))","v":"Falta (U.M.)"},"","",null,{"$f":"VLOOKUP(A2501,'Mapa de Preços'!$A$16:$J$2988,10,0)","v":"Falta Orçamento"},"",null,2474,null,0]
[2475,{"$f":"IF(VLOOKUP(A2502,'Mapa de Preços'!$A$16:$B$2988,2,0)=FALSE,\"Falta (U.M.)\",VLOOKUP(A2502,'Mapa de Preços'!$A$16:$B$2988,2,0))","v":"Falta (U.M.)"},"","",null,{"$f":"VLOOKUP(A2502,'Mapa de Preços'!$A$16:$J$2988,10,0)","v":"Falta Orçamento"},"",null,2475,null,0]
[2476,{"$f":"IF(VLOOKUP(A2503,'Mapa de Preços'!$A$16:$B$2988,2,0)=FALSE,\"Falta (U.M.)\",VLOOKUP(A2503,'Mapa de Preços'!$A$16:$B$2988,2,0))","v":"Falta (U.M.)"},"","",null,{"$f":"VLOOKUP(A2503,'Mapa de Preços'!$A$16:$J$2988,10,0)","v":"Falta Orçamento"},"",null,2476,null,0]
[2477,{"$f":"IF(VLOOKUP(A2504,'Mapa de Preços'!$A$16:$B$2988,2,0)=FALSE,\"Falta (U.M.)\",VLOOKUP(A2504,'Mapa de Preços'!$A$16:$B$2988,2,0))","v":"Falta (U.M.)"},"","",null,{"$f":"VLOOKUP(A2504,'Mapa de Preços'!$A$16:$J$2988,10,0)","v":"Falta Orçamento"},"",null,2477,null,0]
[2478,{"$f":"IF(VLOOKUP(A2505,'Mapa de Preços'!$A$16:$B$2988,2,0)=FALSE,\"Falta (U.M.)\",VLOOKUP(A2505,'Mapa de Preços'!$A$16:$B$2988,2,0))","v":"Falta (U.M.)"},"","",null,{"$f":"VLOOKUP(A2505,'Mapa de Preços'!$A$16:$J$2988,10,0)","v":"Falta Orçamento"},"",null,2478,null,0]
[2479,{"$f":"IF(VLOOKUP(A2506,'Mapa de Preços'!$A$16:$B$2988,2,0)=FALSE,\"Falta (U.M.)\",VLOOKUP(A2506,'Mapa de Preços'!$A$16:$B$2988,2,0))","v":"Falta (U.M.)"},"","",null,{"$f":"VLOOKUP(A2506,'Mapa de Preços'!$A$16:$J$2988,10,0)","v":"Falta Orçamento"},"",null,2479,null,0]
[2480,{"$f":"IF(VLOOKUP(A2507,'Mapa de Preços'!$A$16:$B$2988,2,0)=FALSE,\"Falta (U.M.)\",VLOOKUP(A2507,'Mapa de Preços'!$A$16:$B$2988,2,0))","v":"Falta (U.M.)"},"","",null,{"$f":"VLOOKUP(A2507,'Mapa de Preços'!$A$16:$J$2988,10,0)","v":"Falta Orçamento"},"",null,2480,null,0]
[2481,{"$f":"IF(VLOOKUP(A2508,'Mapa de Preços'!$A$16:$B$2988,2,0)=FALSE,\"Falta (U.M.)\",VLOOKUP(A2508,'Mapa de Preços'!$A$16:$B$2988,2,0))","v":"Falta (U.M.)"},"","",null,{"$f":"VLOOKUP(A2508,'Mapa de Preços'!$A$16:$J$2988,10,0)","v":"Falta Orçamento"},"",null,2481,null,0]
[2482,{"$f":"IF(VLOOKUP(A2509,'Mapa de Preços'!$A$16:$B$2988,2,0)=FALSE,\"Falta (U.M.)\",VLOOKUP(A2509,'Mapa de Preços'!$A$16:$B$2988,2,0))","v":"Falta (U.M.)"},"","",null,{"$f":"VLOOKUP(A2509,'Mapa de Preços'!$A$16:$J$2988,10,0)","v":"Falta Orçamento"},"",null,2482,null,0]
[2483,{"$f":"IF(VLOOKUP(A2510,'Mapa de Preços'!$A$16:$B$2988,2,0)=FALSE,\"Falta (U.M.)\",VLOOKUP(A2510,'Mapa de Preços'!$A$16:$B$2988,2,0))","v":"Falta (U.M.)"},"","",null,{"$f":"VLOOKUP(A2510,'Mapa de Preços'!$A$16:$J$2988,10,0)","v":"Falta Orçamento"},"",null,2483,null,0]
[2484,{"$f":"IF(VLOOKUP(A2511,'Mapa de Preços'!$A$16:$B$2988,2,0)=FALSE,\"Falta (U.M.)\",VLOOKUP(A2511,'Mapa de Preços'!$A$16:$B$2988,2,0))","v":"Falta (U.M.)"},"","",null,{"$f":"VLOOKUP(A2511,'Mapa de Preços'!$A$16:$J$2988,10,0)","v":"Falta Orçamento"},"",null,2484,null,0]
[2485,{"$f":"IF(VLOOKUP(A2512,'Mapa de Preços'!$A$16:$B$2988,2,0)=FALSE,\"Falta (U.M.)\",VLOOKUP(A2512,'Mapa de Preços'!$A$16:$B$2988,2,0))","v":"Falta (U.M.)"},"","",null,{"$f":"VLOOKUP(A2512,'Mapa de Preços'!$A$16:$J$2988,10,0)","v":"Falta Orçamento"},"",null,2485,null,0]
[2486,{"$f":"IF(VLOOKUP(A2513,'Mapa de Preços'!$A$16:$B$2988,2,0)=FALSE,\"Falta (U.M.)\",VLOOKUP(A2513,'Mapa de Preços'!$A$16:$B$2988,2,0))","v":"Falta (U.M.)"},"","",null,{"$f":"VLOOKUP(A2513,'Mapa de Preços'!$A$16:$J$2988,10,0)","v":"Falta Orçamento"},"",null,2486,null,0]
[2487,{"$f":"IF(VLOOKUP(A2514,'Mapa de Preços'!$A$16:$B$2988,2,0)=FALSE,\"Falta (U.M.)\",VLOOKUP(A2514,'Mapa de Preços'!$A$16:$B$2988,2,0))","v":"Falta (U.M.)"},"","",null,{"$f":"VLOOKUP(A2514,'Mapa de Preços'!$A$16:$J$2988,10,0)","v":"Falta Orçamento"},"",null,2487,null,0]
[2488,{"$f":"IF(VLOOKUP(A2515,'Mapa de Preços'!$A$16:$B$2988,2,0)=FALSE,\"Falta (U.M.)\",VLOOKUP(A2515,'Mapa de Preços'!$A$16:$B$2988,2,0))","v":"Falta (U.M.)"},"","",null,{"$f":"VLOOKUP(A2515,'Mapa de Preços'!$A$16:$J$2988,10,0)","v":"Falta Orçamento"},"",null,2488,null,0]
[2489,{"$f":"IF(VLOOKUP(A2516,'Mapa de Preços'!$A$16:$B$2988,2,0)=FALSE,\"Falta (U.M.)\",VLOOKUP(A2516,'Mapa de Preços'!$A$16:$B$2988,2,0))","v":"Falta (U.M.)"},"","",null,{"$f":"VLOOKUP(A2516,'Mapa de Preços'!$A$16:$J$2988,10,0)","v":"Falta Orçamento"},"",null,2489,null,0]
[2490,{"$f":"IF(VLOOKUP(A2517,'Mapa de Preços'!$A$16:$B$2988,2,0)=FALSE,\"Falta (U.M.)\",VLOOKUP(A2517,'Mapa de Preços'!$A$16:$B$2988,2,0))","v":"Falta (U.M.)"},"","",null,{"$f":"VLOOKUP(A2517,'Mapa de Preços'!$A$16:$J$2988,10,0)","v":"Falta Orçamento"},"",null,2490,null,0]
[2491,{"$f":"IF(VLOOKUP(A2518,'Mapa de Preços'!$A$16:$B$2988,2,0)=FALSE,\"Falta (U.M.)\",VLOOKUP(A2518,'Mapa de Preços'!$A$16:$B$2988,2,0))","v":"Falta (U.M.)"},"","",null,{"$f":"VLOOKUP(A2518,'Mapa de Preços'!$A$16:$J$2988,10,0)","v":"Falta Orçamento"},"",null,2491,null,0]
[2492,{"$f":"IF(VLOOKUP(A2519,'Mapa de Preços'!$A$16:$B$2988,2,0)=FALSE,\"Falta (U.M.)\",VLOOKUP(A2519,'Mapa de Preços'!$A$16:$B$2988,2,0))","v":"Falta (U.M.)"},"","",null,{"$f":"VLOOKUP(A2519,'Mapa de Preços'!$A$16:$J$2988,10,0)","v":"Falta Orçamento"},"",null,2492,null,0]
[2493,{"$f":"IF(VLOOKUP(A2520,'Mapa de Preços'!$A$16:$B$2988,2,0)=FALSE,\"Falta (U.M.)\",VLOOKUP(A2520,'Mapa de Preços'!$A$16:$B$2988,2,0))","v":"Falta (U.M.)"},"","",null,{"$f":"VLOOKUP(A2520,'Mapa de Preços'!$A$16:$J$2988,10,0)","v":"Falta Orçamento"},"",null,2493,null,0]
[2494,{"$f":"IF(VLOOKUP(A2521,'Mapa de Preços'!$A$16:$B$2988,2,0)=FALSE,\"Falta (U.M.)\",VLOOKUP(A2521,'Mapa de Preços'!$A$16:$B$2988,2,0))","v":"Falta (U.M.)"},"","",null,{"$f":"VLOOKUP(A2521,'Mapa de Preços'!$A$16:$J$2988,10,0)","v":"Falta Orçamento"},"",null,2494,null,0]
[2495,{"$f":"IF(VLOOKUP(A2522,'Mapa de Preços'!$A$16:$B$2988,2,0)=FALSE,\"Falta (U.M.)\",VLOOKUP(A2522,'Mapa de Preços'!$A$16:$B$2988,2,0))","v":"Falta (U.M.)"},"","",null,{"$f":"VLOOKUP(A2522,'Mapa de Preços'!$A$16:$J$2988,10,0)","v":"Falta Orçamento"},"",null,2495,null,0]
[2496,{"$f":"IF(VLOOKUP(A2523,'Mapa de Preços'!$A$16:$B$2988,2,0)=FALSE,\"Falta (U.M.)\",VLOOKUP(A2523,'Mapa de Preços'!$A$16:$B$2988,2,0))","v":"Falta (U.M.)"},"","",null,{"$f":"VLOOKUP(A2523,'Mapa de Preços'!$A$16:$J$2988,10,0)","v":"Falta Orçamento"},"",null,2496,null,0]
[2497,{"$f":"IF(VLOOKUP(A2524,'Mapa de Preços'!$A$16:$B$2988,2,0)=FALSE,\"Falta (U.M.)\",VLOOKUP(A2524,'Mapa de Preços'!$A$16:$B$2988,2,0))","v":"Falta (U.M.)"},"","",null,{"$f":"VLOOKUP(A2524,'Mapa de Preços'!$A$16:$J$2988,10,0)","v":"Falta Orçamento"},"",null,2497,null,{"$f":"SUM(L2524:AI2524)","v":0}]
[2498,{"$f":"IF(VLOOKUP(A2525,'Mapa de Preços'!$A$16:$B$2988,2,0)=FALSE,\"Falta (U.M.)\",VLOOKUP(A2525,'Mapa de Preços'!$A$16:$B$2988,2,0))","v":"Falta (U.M.)"},{"$f":"IF(J2525<>\"\",J2525,\"\")","v":""},{"$f":"IF(VLOOKUP(A2525,$I$28:$AI$3000,$G$26,FALSE)<>\"\",VLOOKUP(A2525,$I$28:$AI$3000,$G$26,FALSE),\"\")","v":""},null,{"$f":"VLOOKUP(A2525,'Mapa de Preços'!$A$16:$J$2988,10,0)","v":"Falta Orçamento"},{"$f":"IF(F2525=\"Falta Orçamento\",\"\",F2525*D2525)","v":""},null,2498,null,0]
[2499,{"$f":"IF(VLOOKUP(A2526,'Mapa de Preços'!$A$16:$B$2988,2,0)=FALSE,\"Falta (U.M.)\",VLOOKUP(A2526,'Mapa de Preços'!$A$16:$B$2988,2,0))","v":"Falta (U.M.)"},"","",null,{"$f":"VLOOKUP(A2526,'Mapa de Preços'!$A$16:$J$2988,10,0)","v":"Falta Orçamento"},"",null,2499,null,0]
[2500,{"$f":"IF(VLOOKUP(A2527,'Mapa de Preços'!$A$16:$B$2988,2,0)=FALSE,\"Falta (U.M.)\",VLOOKUP(A2527,'Mapa de Preços'!$A$16:$B$2988,2,0))","v":"Falta (U.M.)"},"","",null,{"$f":"VLOOKUP(A2527,'Mapa de Preços'!$A$16:$J$2988,10,0)","v":"Falta Orçamento"},"",null,2500,null,0]
[2501,{"$f":"IF(VLOOKUP(A2528,'Mapa de Preços'!$A$16:$B$2988,2,0)=FALSE,\"Falta (U.M.)\",VLOOKUP(A2528,'Mapa de Preços'!$A$16:$B$2988,2,0))","v":"Falta (U.M.)"},"","",null,{"$f":"VLOOKUP(A2528,'Mapa de Preços'!$A$16:$J$2988,10,0)","v":"Falta Orçamento"},"",null,2501,null,0]
[2502,{"$f":"IF(VLOOKUP(A2529,'Mapa de Preços'!$A$16:$B$2988,2,0)=FALSE,\"Falta (U.M.)\",VLOOKUP(A2529,'Mapa de Preços'!$A$16:$B$2988,2,0))","v":"Falta (U.M.)"},"","",null,{"$f":"VLOOKUP(A2529,'Mapa de Preços'!$A$16:$J$2988,10,0)","v":"Falta Orçamento"},"",null,2502,null,0]
[2503,{"$f":"IF(VLOOKUP(A2530,'Mapa de Preços'!$A$16:$B$2988,2,0)=FALSE,\"Falta (U.M.)\",VLOOKUP(A2530,'Mapa de Preços'!$A$16:$B$2988,2,0))","v":"Falta (U.M.)"},"","",null,{"$f":"VLOOKUP(A2530,'Mapa de Preços'!$A$16:$J$2988,10,0)","v":"Falta Orçamento"},"",null,2503,null,0]
[2504,{"$f":"IF(VLOOKUP(A2531,'Mapa de Preços'!$A$16:$B$2988,2,0)=FALSE,\"Falta (U.M.)\",VLOOKUP(A2531,'Mapa de Preços'!$A$16:$B$2988,2,0))","v":"Falta (U.M.)"},"","",null,{"$f":"VLOOKUP(A2531,'Mapa de Preços'!$A$16:$J$2988,10,0)","v":"Falta Orçamento"},"",null,2504,null,0]
[2505,{"$f":"IF(VLOOKUP(A2532,'Mapa de Preços'!$A$16:$B$2988,2,0)=FALSE,\"Falta (U.M.)\",VLOOKUP(A2532,'Mapa de Preços'!$A$16:$B$2988,2,0))","v":"Falta (U.M.)"},"","",null,{"$f":"VLOOKUP(A2532,'Mapa de Preços'!$A$16:$J$2988,10,0)","v":"Falta Orçamento"},"",null,2505,null,0]
[2506,{"$f":"IF(VLOOKUP(A2533,'Mapa de Preços'!$A$16:$B$2988,2,0)=FALSE,\"Falta (U.M.)\",VLOOKUP(A2533,'Mapa de Preços'!$A$16:$B$2988,2,0))","v":"Falta (U.M.)"},"","",null,{"$f":"VLOOKUP(A2533,'Mapa de Preços'!$A$16:$J$2988,10,0)","v":"Falta Orçamento"},"",null,2506,null,0]
[2507,{"$f":"IF(VLOOKUP(A2534,'Mapa de Preços'!$A$16:$B$2988,2,0)=FALSE,\"Falta (U.M.)\",VLOOKUP(A2534,'Mapa de Preços'!$A$16:$B$2988,2,0))","v":"Falta (U.M.)"},"","",null,{"$f":"VLOOKUP(A2534,'Mapa de Preços'!$A$16:$J$2988,10,0)","v":"Falta Orçamento"},"",null,2507,null,0]
[2508,{"$f":"IF(VLOOKUP(A2535,'Mapa de Preços'!$A$16:$B$2988,2,0)=FALSE,\"Falta (U.M.)\",VLOOKUP(A2535,'Mapa de Preços'!$A$16:$B$2988,2,0))","v":"Falta (U.M.)"},"","",null,{"$f":"VLOOKUP(A2535,'Mapa de Preços'!$A$16:$J$2988,10,0)","v":"Falta Orçamento"},"",null,2508,null,0]
[2509,{"$f":"IF(VLOOKUP(A2536,'Mapa de Preços'!$A$16:$B$2988,2,0)=FALSE,\"Falta (U.M.)\",VLOOKUP(A2536,'Mapa de Preços'!$A$16:$B$2988,2,0))","v":"Falta (U.M.)"},"","",null,{"$f":"VLOOKUP(A2536,'Mapa de Preços'!$A$16:$J$2988,10,0)","v":"Falta Orçamento"},"",null,2509,null,0]
[2510,{"$f":"IF(VLOOKUP(A2537,'Mapa de Preços'!$A$16:$B$2988,2,0)=FALSE,\"Falta (U.M.)\",VLOOKUP(A2537,'Mapa de Preços'!$A$16:$B$2988,2,0))","v":"Falta (U.M.)"},"","",null,{"$f":"VLOOKUP(A2537,'Mapa de Preços'!$A$16:$J$2988,10,0)","v":"Falta Orçamento"},"",null,2510,null,0]
[2511,{"$f":"IF(VLOOKUP(A2538,'Mapa de Preços'!$A$16:$B$2988,2,0)=FALSE,\"Falta (U.M.)\",VLOOKUP(A2538,'Mapa de Preços'!$A$16:$B$2988,2,0))","v":"Falta (U.M.)"},"","",null,{"$f":"VLOOKUP(A2538,'Mapa de Preços'!$A$16:$J$2988,10,0)","v":"Falta Orçamento"},"",null,2511,null,0]
[2512,{"$f":"IF(VLOOKUP(A2539,'Mapa de Preços'!$A$16:$B$2988,2,0)=FALSE,\"Falta (U.M.)\",VLOOKUP(A2539,'Mapa de Preços'!$A$16:$B$2988,2,0))","v":"Falta (U.M.)"},"","",null,{"$f":"VLOOKUP(A2539,'Mapa de Preços'!$A$16:$J$2988,10,0)","v":"Falta Orçamento"},"",null,2512,null,0]
[2513,{"$f":"IF(VLOOKUP(A2540,'Mapa de Preços'!$A$16:$B$2988,2,0)=FALSE,\"Falta (U.M.)\",VLOOKUP(A2540,'Mapa de Preços'!$A$16:$B$2988,2,0))","v":"Falta (U.M.)"},"","",null,{"$f":"VLOOKUP(A2540,'Mapa de Preços'!$A$16:$J$2988,10,0)","v":"Falta Orçamento"},"",null,2513,null,0]
[2514,{"$f":"IF(VLOOKUP(A2541,'Mapa de Preços'!$A$16:$B$2988,2,0)=FALSE,\"Falta (U.M.)\",VLOOKUP(A2541,'Mapa de Preços'!$A$16:$B$2988,2,0))","v":"Falta (U.M.)"},"","",null,{"$f":"VLOOKUP(A2541,'Mapa de Preços'!$A$16:$J$2988,10,0)","v":"Falta Orçamento"},"",null,2514,null,0]
[2515,{"$f":"IF(VLOOKUP(A2542,'Mapa de Preços'!$A$16:$B$2988,2,0)=FALSE,\"Falta (U.M.)\",VLOOKUP(A2542,'Mapa de Preços'!$A$16:$B$2988,2,0))","v":"Falta (U.M.)"},"","",null,{"$f":"VLOOKUP(A2542,'Mapa de Preços'!$A$16:$J$2988,10,0)","v":"Falta Orçamento"},"",null,2515,null,0]
[2516,{"$f":"IF(VLOOKUP(A2543,'Mapa de Preços'!$A$16:$B$2988,2,0)=FALSE,\"Falta (U.M.)\",VLOOKUP(A2543,'Mapa de Preços'!$A$16:$B$2988,2,0))","v":"Falta (U.M.)"},"","",null,{"$f":"VLOOKUP(A2543,'Mapa de Preços'!$A$16:$J$2988,10,0)","v":"Falta Orçamento"},"",null,2516,null,0]
[2517,{"$f":"IF(VLOOKUP(A2544,'Mapa de Preços'!$A$16:$B$2988,2,0)=FALSE,\"Falta (U.M.)\",VLOOKUP(A2544,'Mapa de Preços'!$A$16:$B$2988,2,0))","v":"Falta (U.M.)"},"","",null,{"$f":"VLOOKUP(A2544,'Mapa de Preços'!$A$16:$J$2988,10,0)","v":"Falta Orçamento"},"",null,2517,null,0]
[2518,{"$f":"IF(VLOOKUP(A2545,'Mapa de Preços'!$A$16:$B$2988,2,0)=FALSE,\"Falta (U.M.)\",VLOOKUP(A2545,'Mapa de Preços'!$A$16:$B$2988,2,0))","v":"Falta (U.M.)"},"","",null,{"$f":"VLOOKUP(A2545,'Mapa de Preços'!$A$16:$J$2988,10,0)","v":"Falta Orçamento"},"",null,2518,null,0]
[2519,{"$f":"IF(VLOOKUP(A2546,'Mapa de Preços'!$A$16:$B$2988,2,0)=FALSE,\"Falta (U.M.)\",VLOOKUP(A2546,'Mapa de Preços'!$A$16:$B$2988,2,0))","v":"Falta (U.M.)"},"","",null,{"$f":"VLOOKUP(A2546,'Mapa de Preços'!$A$16:$J$2988,10,0)","v":"Falta Orçamento"},"",null,2519,null,0]
[2520,{"$f":"IF(VLOOKUP(A2547,'Mapa de Preços'!$A$16:$B$2988,2,0)=FALSE,\"Falta (U.M.)\",VLOOKUP(A2547,'Mapa de Preços'!$A$16:$B$2988,2,0))","v":"Falta (U.M.)"},"","",null,{"$f":"VLOOKUP(A2547,'Mapa de Preços'!$A$16:$J$2988,10,0)","v":"Falta Orçamento"},"",null,2520,null,0]
[2521,{"$f":"IF(VLOOKUP(A2548,'Mapa de Preços'!$A$16:$B$2988,2,0)=FALSE,\"Falta (U.M.)\",VLOOKUP(A2548,'Mapa de Preços'!$A$16:$B$2988,2,0))","v":"Falta (U.M.)"},"","",null,{"$f":"VLOOKUP(A2548,'Mapa de Preços'!$A$16:$J$2988,10,0)","v":"Falta Orçamento"},"",null,2521,null,0]
[2522,{"$f":"IF(VLOOKUP(A2549,'Mapa de Preços'!$A$16:$B$2988,2,0)=FALSE,\"Falta (U.M.)\",VLOOKUP(A2549,'Mapa de Preços'!$A$16:$B$2988,2,0))","v":"Falta (U.M.)"},"","",null,{"$f":"VLOOKUP(A2549,'Mapa de Preços'!$A$16:$J$2988,10,0)","v":"Falta Orçamento"},"",null,2522,null,0]
[2523,{"$f":"IF(VLOOKUP(A2550,'Mapa de Preços'!$A$16:$B$2988,2,0)=FALSE,\"Falta (U.M.)\",VLOOKUP(A2550,'Mapa de Preços'!$A$16:$B$2988,2,0))","v":"Falta (U.M.)"},"","",null,{"$f":"VLOOKUP(A2550,'Mapa de Preços'!$A$16:$J$2988,10,0)","v":"Falta Orçamento"},"",null,2523,null,0]
[2524,{"$f":"IF(VLOOKUP(A2551,'Mapa de Preços'!$A$16:$B$2988,2,0)=FALSE,\"Falta (U.M.)\",VLOOKUP(A2551,'Mapa de Preços'!$A$16:$B$2988,2,0))","v":"Falta (U.M.)"},"","",null,{"$f":"VLOOKUP(A2551,'Mapa de Preços'!$A$16:$J$2988,10,0)","v":"Falta Orçamento"},"",null,2524,null,0]
[2525,{"$f":"IF(VLOOKUP(A2552,'Mapa de Preços'!$A$16:$B$2988,2,0)=FALSE,\"Falta (U.M.)\",VLOOKUP(A2552,'Mapa de Preços'!$A$16:$B$2988,2,0))","v":"Falta (U.M.)"},"","",null,{"$f":"VLOOKUP(A2552,'Mapa de Preços'!$A$16:$J$2988,10,0)","v":"Falta Orçamento"},"",null,2525,null,0]
[2526,{"$f":"IF(VLOOKUP(A2553,'Mapa de Preços'!$A$16:$B$2988,2,0)=FALSE,\"Falta (U.M.)\",VLOOKUP(A2553,'Mapa de Preços'!$A$16:$B$2988,2,0))","v":"Falta (U.M.)"},"","",null,{"$f":"VLOOKUP(A2553,'Mapa de Preços'!$A$16:$J$2988,10,0)","v":"Falta Orçamento"},"",null,2526,null,0]
[2527,{"$f":"IF(VLOOKUP(A2554,'Mapa de Preços'!$A$16:$B$2988,2,0)=FALSE,\"Falta (U.M.)\",VLOOKUP(A2554,'Mapa de Preços'!$A$16:$B$2988,2,0))","v":"Falta (U.M.)"},"","",null,{"$f":"VLOOKUP(A2554,'Mapa de Preços'!$A$16:$J$2988,10,0)","v":"Falta Orçamento"},"",null,2527,null,0]
[2528,{"$f":"IF(VLOOKUP(A2555,'Mapa de Preços'!$A$16:$B$2988,2,0)=FALSE,\"Falta (U.M.)\",VLOOKUP(A2555,'Mapa de Preços'!$A$16:$B$2988,2,0))","v":"Falta (U.M.)"},"","",null,{"$f":"VLOOKUP(A2555,'Mapa de Preços'!$A$16:$J$2988,10,0)","v":"Falta Orçamento"},"",null,2528,null,0]
[2529,{"$f":"IF(VLOOKUP(A2556,'Mapa de Preços'!$A$16:$B$2988,2,0)=FALSE,\"Falta (U.M.)\",VLOOKUP(A2556,'Mapa de Preços'!$A$16:$B$2988,2,0))","v":"Falta (U.M.)"},"","",null,{"$f":"VLOOKUP(A2556,'Mapa de Preços'!$A$16:$J$2988,10,0)","v":"Falta Orçamento"},"",null,2529,null,0]
[2530,{"$f":"IF(VLOOKUP(A2557,'Mapa de Preços'!$A$16:$B$2988,2,0)=FALSE,\"Falta (U.M.)\",VLOOKUP(A2557,'Mapa de Preços'!$A$16:$B$2988,2,0))","v":"Falta (U.M.)"},"","",null,{"$f":"VLOOKUP(A2557,'Mapa de Preços'!$A$16:$J$2988,10,0)","v":"Falta Orçamento"},"",null,2530,null,0]
[2531,{"$f":"IF(VLOOKUP(A2558,'Mapa de Preços'!$A$16:$B$2988,2,0)=FALSE,\"Falta (U.M.)\",VLOOKUP(A2558,'Mapa de Preços'!$A$16:$B$2988,2,0))","v":"Falta (U.M.)"},"","",null,{"$f":"VLOOKUP(A2558,'Mapa de Preços'!$A$16:$J$2988,10,0)","v":"Falta Orçamento"},"",null,2531,null,0]
[2532,{"$f":"IF(VLOOKUP(A2559,'Mapa de Preços'!$A$16:$B$2988,2,0)=FALSE,\"Falta (U.M.)\",VLOOKUP(A2559,'Mapa de Preços'!$A$16:$B$2988,2,0))","v":"Falta (U.M.)"},"","",null,{"$f":"VLOOKUP(A2559,'Mapa de Preços'!$A$16:$J$2988,10,0)","v":"Falta Orçamento"},"",null,2532,null,0]
[2533,{"$f":"IF(VLOOKUP(A2560,'Mapa de Preços'!$A$16:$B$2988,2,0)=FALSE,\"Falta (U.M.)\",VLOOKUP(A2560,'Mapa de Preços'!$A$16:$B$2988,2,0))","v":"Falta (U.M.)"},"","",null,{"$f":"VLOOKUP(A2560,'Mapa de Preços'!$A$16:$J$2988,10,0)","v":"Falta Orçamento"},"",null,2533,null,0]
[2534,{"$f":"IF(VLOOKUP(A2561,'Mapa de Preços'!$A$16:$B$2988,2,0)=FALSE,\"Falta (U.M.)\",VLOOKUP(A2561,'Mapa de Preços'!$A$16:$B$2988,2,0))","v":"Falta (U.M.)"},"","",null,{"$f":"VLOOKUP(A2561,'Mapa de Preços'!$A$16:$J$2988,10,0)","v":"Falta Orçamento"},"",null,2534,null,0]
[2535,{"$f":"IF(VLOOKUP(A2562,'Mapa de Preços'!$A$16:$B$2988,2,0)=FALSE,\"Falta (U.M.)\",VLOOKUP(A2562,'Mapa de Preços'!$A$16:$B$2988,2,0))","v":"Falta (U.M.)"},"","",null,{"$f":"VLOOKUP(A2562,'Mapa de Preços'!$A$16:$J$2988,10,0)","v":"Falta Orçamento"},"",null,2535,null,0]
[2536,{"$f":"IF(VLOOKUP(A2563,'Mapa de Preços'!$A$16:$B$2988,2,0)=FALSE,\"Falta (U.M.)\",VLOOKUP(A2563,'Mapa de Preços'!$A$16:$B$2988,2,0))","v":"Falta (U.M.)"},"","",null,{"$f":"VLOOKUP(A2563,'Mapa de Preços'!$A$16:$J$2988,10,0)","v":"Falta Orçamento"},"",null,2536,null,0]
[2537,{"$f":"IF(VLOOKUP(A2564,'Mapa de Preços'!$A$16:$B$2988,2,0)=FALSE,\"Falta (U.M.)\",VLOOKUP(A2564,'Mapa de Preços'!$A$16:$B$2988,2,0))","v":"Falta (U.M.)"},"","",null,{"$f":"VLOOKUP(A2564,'Mapa de Preços'!$A$16:$J$2988,10,0)","v":"Falta Orçamento"},"",null,2537,null,0]
[2538,{"$f":"IF(VLOOKUP(A2565,'Mapa de Preços'!$A$16:$B$2988,2,0)=FALSE,\"Falta (U.M.)\",VLOOKUP(A2565,'Mapa de Preços'!$A$16:$B$2988,2,0))","v":"Falta (U.M.)"},"","",null,{"$f":"VLOOKUP(A2565,'Mapa de Preços'!$A$16:$J$2988,10,0)","v":"Falta Orçamento"},"",null,2538,null,0]
[2539,{"$f":"IF(VLOOKUP(A2566,'Mapa de Preços'!$A$16:$B$2988,2,0)=FALSE,\"Falta (U.M.)\",VLOOKUP(A2566,'Mapa de Preços'!$A$16:$B$2988,2,0))","v":"Falta (U.M.)"},"","",null,{"$f":"VLOOKUP(A2566,'Mapa de Preços'!$A$16:$J$2988,10,0)","v":"Falta Orçamento"},"",null,2539,null,0]
[2540,{"$f":"IF(VLOOKUP(A2567,'Mapa de Preços'!$A$16:$B$2988,2,0)=FALSE,\"Falta (U.M.)\",VLOOKUP(A2567,'Mapa de Preços'!$A$16:$B$2988,2,0))","v":"Falta (U.M.)"},"","",null,{"$f":"VLOOKUP(A2567,'Mapa de Preços'!$A$16:$J$2988,10,0)","v":"Falta Orçamento"},"",null,2540,null,0]
[2541,{"$f":"IF(VLOOKUP(A2568,'Mapa de Preços'!$A$16:$B$2988,2,0)=FALSE,\"Falta (U.M.)\",VLOOKUP(A2568,'Mapa de Preços'!$A$16:$B$2988,2,0))","v":"Falta (U.M.)"},"","",null,{"$f":"VLOOKUP(A2568,'Mapa de Preços'!$A$16:$J$2988,10,0)","v":"Falta Orçamento"},"",null,2541,null,0]
[2542,{"$f":"IF(VLOOKUP(A2569,'Mapa de Preços'!$A$16:$B$2988,2,0)=FALSE,\"Falta (U.M.)\",VLOOKUP(A2569,'Mapa de Preços'!$A$16:$B$2988,2,0))","v":"Falta (U.M.)"},"","",null,{"$f":"VLOOKUP(A2569,'Mapa de Preços'!$A$16:$J$2988,10,0)","v":"Falta Orçamento"},"",null,2542,null,0]
[2543,{"$f":"IF(VLOOKUP(A2570,'Mapa de Preços'!$A$16:$B$2988,2,0)=FALSE,\"Falta (U.M.)\",VLOOKUP(A2570,'Mapa de Preços'!$A$16:$B$2988,2,0))","v":"Falta (U.M.)"},"","",null,{"$f":"VLOOKUP(A2570,'Mapa de Preços'!$A$16:$J$2988,10,0)","v":"Falta Orçamento"},"",null,2543,null,0]
[2544,{"$f":"IF(VLOOKUP(A2571,'Mapa de Preços'!$A$16:$B$2988,2,0)=FALSE,\"Falta (U.M.)\",VLOOKUP(A2571,'Mapa de Preços'!$A$16:$B$2988,2,0))","v":"Falta (U.M.)"},"","",null,{"$f":"VLOOKUP(A2571,'Mapa de Preços'!$A$16:$J$2988,10,0)","v":"Falta Orçamento"},"",null,2544,null,0]
[2545,{"$f":"IF(VLOOKUP(A2572,'Mapa de Preços'!$A$16:$B$2988,2,0)=FALSE,\"Falta (U.M.)\",VLOOKUP(A2572,'Mapa de Preços'!$A$16:$B$2988,2,0))","v":"Falta (U.M.)"},"","",null,{"$f":"VLOOKUP(A2572,'Mapa de Preços'!$A$16:$J$2988,10,0)","v":"Falta Orçamento"},"",null,2545,null,0]
[2546,{"$f":"IF(VLOOKUP(A2573,'Mapa de Preços'!$A$16:$B$2988,2,0)=FALSE,\"Falta (U.M.)\",VLOOKUP(A2573,'Mapa de Preços'!$A$16:$B$2988,2,0))","v":"Falta (U.M.)"},"","",null,{"$f":"VLOOKUP(A2573,'Mapa de Preços'!$A$16:$J$2988,10,0)","v":"Falta Orçamento"},"",null,2546,null,0]
[2547,{"$f":"IF(VLOOKUP(A2574,'Mapa de Preços'!$A$16:$B$2988,2,0)=FALSE,\"Falta (U.M.)\",VLOOKUP(A2574,'Mapa de Preços'!$A$16:$B$2988,2,0))","v":"Falta (U.M.)"},"","",null,{"$f":"VLOOKUP(A2574,'Mapa de Preços'!$A$16:$J$2988,10,0)","v":"Falta Orçamento"},"",null,2547,null,0]
[2548,{"$f":"IF(VLOOKUP(A2575,'Mapa de Preços'!$A$16:$B$2988,2,0)=FALSE,\"Falta (U.M.)\",VLOOKUP(A2575,'Mapa de Preços'!$A$16:$B$2988,2,0))","v":"Falta (U.M.)"},"","",null,{"$f":"VLOOKUP(A2575,'Mapa de Preços'!$A$16:$J$2988,10,0)","v":"Falta Orçamento"},"",null,2548,null,0]
[2549,{"$f":"IF(VLOOKUP(A2576,'Mapa de Preços'!$A$16:$B$2988,2,0)=FALSE,\"Falta (U.M.)\",VLOOKUP(A2576,'Mapa de Preços'!$A$16:$B$2988,2,0))","v":"Falta (U.M.)"},"","",null,{"$f":"VLOOKUP(A2576,'Mapa de Preços'!$A$16:$J$2988,10,0)","v":"Falta Orçamento"},"",null,2549,null,0]
[2550,{"$f":"IF(VLOOKUP(A2577,'Mapa de Preços'!$A$16:$B$2988,2,0)=FALSE,\"Falta (U.M.)\",VLOOKUP(A2577,'Mapa de Preços'!$A$16:$B$2988,2,0))","v":"Falta (U.M.)"},"","",null,{"$f":"VLOOKUP(A2577,'Mapa de Preços'!$A$16:$J$2988,10,0)","v":"Falta Orçamento"},"",null,2550,null,0]
[2551,{"$f":"IF(VLOOKUP(A2578,'Mapa de Preços'!$A$16:$B$2988,2,0)=FALSE,\"Falta (U.M.)\",VLOOKUP(A2578,'Mapa de Preços'!$A$16:$B$2988,2,0))","v":"Falta (U.M.)"},"","",null,{"$f":"VLOOKUP(A2578,'Mapa de Preços'!$A$16:$J$2988,10,0)","v":"Falta Orçamento"},"",null,2551,null,0]
[2552,{"$f":"IF(VLOOKUP(A2579,'Mapa de Preços'!$A$16:$B$2988,2,0)=FALSE,\"Falta (U.M.)\",VLOOKUP(A2579,'Mapa de Preços'!$A$16:$B$2988,2,0))","v":"Falta (U.M.)"},"","",null,{"$f":"VLOOKUP(A2579,'Mapa de Preços'!$A$16:$J$2988,10,0)","v":"Falta Orçamento"},"",null,2552,null,0]
[2553,{"$f":"IF(VLOOKUP(A2580,'Mapa de Preços'!$A$16:$B$2988,2,0)=FALSE,\"Falta (U.M.)\",VLOOKUP(A2580,'Mapa de Preços'!$A$16:$B$2988,2,0))","v":"Falta (U.M.)"},"","",null,{"$f":"VLOOKUP(A2580,'Mapa de Preços'!$A$16:$J$2988,10,0)","v":"Falta Orçamento"},"",null,2553,null,0]
[2554,{"$f":"IF(VLOOKUP(A2581,'Mapa de Preços'!$A$16:$B$2988,2,0)=FALSE,\"Falta (U.M.)\",VLOOKUP(A2581,'Mapa de Preços'!$A$16:$B$2988,2,0))","v":"Falta (U.M.)"},"","",null,{"$f":"VLOOKUP(A2581,'Mapa de Preços'!$A$16:$J$2988,10,0)","v":"Falta Orçamento"},"",null,2554,null,0]
[2555,{"$f":"IF(VLOOKUP(A2582,'Mapa de Preços'!$A$16:$B$2988,2,0)=FALSE,\"Falta (U.M.)\",VLOOKUP(A2582,'Mapa de Preços'!$A$16:$B$2988,2,0))","v":"Falta (U.M.)"},"","",null,{"$f":"VLOOKUP(A2582,'Mapa de Preços'!$A$16:$J$2988,10,0)","v":"Falta Orçamento"},"",null,2555,null,0]
[2556,{"$f":"IF(VLOOKUP(A2583,'Mapa de Preços'!$A$16:$B$2988,2,0)=FALSE,\"Falta (U.M.)\",VLOOKUP(A2583,'Mapa de Preços'!$A$16:$B$2988,2,0))","v":"Falta (U.M.)"},"","",null,{"$f":"VLOOKUP(A2583,'Mapa de Preços'!$A$16:$J$2988,10,0)","v":"Falta Orçamento"},"",null,2556,null,0]
[2557,{"$f":"IF(VLOOKUP(A2584,'Mapa de Preços'!$A$16:$B$2988,2,0)=FALSE,\"Falta (U.M.)\",VLOOKUP(A2584,'Mapa de Preços'!$A$16:$B$2988,2,0))","v":"Falta (U.M.)"},"","",null,{"$f":"VLOOKUP(A2584,'Mapa de Preços'!$A$16:$J$2988,10,0)","v":"Falta Orçamento"},"",null,2557,null,0]
[2558,{"$f":"IF(VLOOKUP(A2585,'Mapa de Preços'!$A$16:$B$2988,2,0)=FALSE,\"Falta (U.M.)\",VLOOKUP(A2585,'Mapa de Preços'!$A$16:$B$2988,2,0))","v":"Falta (U.M.)"},"","",null,{"$f":"VLOOKUP(A2585,'Mapa de Preços'!$A$16:$J$2988,10,0)","v":"Falta Orçamento"},"",null,2558,null,0]
[2559,{"$f":"IF(VLOOKUP(A2586,'Mapa de Preços'!$A$16:$B$2988,2,0)=FALSE,\"Falta (U.M.)\",VLOOKUP(A2586,'Mapa de Preços'!$A$16:$B$2988,2,0))","v":"Falta (U.M.)"},"","",null,{"$f":"VLOOKUP(A2586,'Mapa de Preços'!$A$16:$J$2988,10,0)","v":"Falta Orçamento"},"",null,2559,null,0]
[2560,{"$f":"IF(VLOOKUP(A2587,'Mapa de Preços'!$A$16:$B$2988,2,0)=FALSE,\"Falta (U.M.)\",VLOOKUP(A2587,'Mapa de Preços'!$A$16:$B$2988,2,0))","v":"Falta (U.M.)"},"","",null,{"$f":"VLOOKUP(A2587,'Mapa de Preços'!$A$16:$J$2988,10,0)","v":"Falta Orçamento"},"",null,2560,null,0]
[2561,{"$f":"IF(VLOOKUP(A2588,'Mapa de Preços'!$A$16:$B$2988,2,0)=FALSE,\"Falta (U.M.)\",VLOOKUP(A2588,'Mapa de Preços'!$A$16:$B$2988,2,0))","v":"Falta (U.M.)"},"","",null,{"$f":"VLOOKUP(A2588,'Mapa de Preços'!$A$16:$J$2988,10,0)","v":"Falta Orçamento"},"",null,2561,null,{"$f":"SUM(L2588:AI2588)","v":0}]
[2562,{"$f":"IF(VLOOKUP(A2589,'Mapa de Preços'!$A$16:$B$2988,2,0)=FALSE,\"Falta (U.M.)\",VLOOKUP(A2589,'Mapa de Preços'!$A$16:$B$2988,2,0))","v":"Falta (U.M.)"},{"$f":"IF(J2589<>\"\",J2589,\"\")","v":""},{"$f":"IF(VLOOKUP(A2589,$I$28:$AI$3000,$G$26,FALSE)<>\"\",VLOOKUP(A2589,$I$28:$AI$3000,$G$26,FALSE),\"\")","v":""},null,{"$f":"VLOOKUP(A2589,'Mapa de Preços'!$A$16:$J$2988,10,0)","v":"Falta Orçamento"},{"$f":"IF(F2589=\"Falta Orçamento\",\"\",F2589*D2589)","v":""},null,2562,null,0]
[2563,{"$f":"IF(VLOOKUP(A2590,'Mapa de Preços'!$A$16:$B$2988,2,0)=FALSE,\"Falta (U.M.)\",VLOOKUP(A2590,'Mapa de Preços'!$A$16:$B$2988,2,0))","v":"Falta (U.M.)"},"","",null,{"$f":"VLOOKUP(A2590,'Mapa de Preços'!$A$16:$J$2988,10,0)","v":"Falta Orçamento"},"",null,2563,null,0]
[2564,{"$f":"IF(VLOOKUP(A2591,'Mapa de Preços'!$A$16:$B$2988,2,0)=FALSE,\"Falta (U.M.)\",VLOOKUP(A2591,'Mapa de Preços'!$A$16:$B$2988,2,0))","v":"Falta (U.M.)"},"","",null,{"$f":"VLOOKUP(A2591,'Mapa de Preços'!$A$16:$J$2988,10,0)","v":"Falta Orçamento"},"",null,2564,null,0]
[2565,{"$f":"IF(VLOOKUP(A2592,'Mapa de Preços'!$A$16:$B$2988,2,0)=FALSE,\"Falta (U.M.)\",VLOOKUP(A2592,'Mapa de Preços'!$A$16:$B$2988,2,0))","v":"Falta (U.M.)"},"","",null,{"$f":"VLOOKUP(A2592,'Mapa de Preços'!$A$16:$J$2988,10,0)","v":"Falta Orçamento"},"",null,2565,null,0]
[2566,{"$f":"IF(VLOOKUP(A2593,'Mapa de Preços'!$A$16:$B$2988,2,0)=FALSE,\"Falta (U.M.)\",VLOOKUP(A2593,'Mapa de Preços'!$A$16:$B$2988,2,0))","v":"Falta (U.M.)"},"","",null,{"$f":"VLOOKUP(A2593,'Mapa de Preços'!$A$16:$J$2988,10,0)","v":"Falta Orçamento"},"",null,2566,null,0]
[2567,{"$f":"IF(VLOOKUP(A2594,'Mapa de Preços'!$A$16:$B$2988,2,0)=FALSE,\"Falta (U.M.)\",VLOOKUP(A2594,'Mapa de Preços'!$A$16:$B$2988,2,0))","v":"Falta (U.M.)"},"","",null,{"$f":"VLOOKUP(A2594,'Mapa de Preços'!$A$16:$J$2988,10,0)","v":"Falta Orçamento"},"",null,2567,null,0]
[2568,{"$f":"IF(VLOOKUP(A2595,'Mapa de Preços'!$A$16:$B$2988,2,0)=FALSE,\"Falta (U.M.)\",VLOOKUP(A2595,'Mapa de Preços'!$A$16:$B$2988,2,0))","v":"Falta (U.M.)"},"","",null,{"$f":"VLOOKUP(A2595,'Mapa de Preços'!$A$16:$J$2988,10,0)","v":"Falta Orçamento"},"",null,2568,null,0]
[2569,{"$f":"IF(VLOOKUP(A2596,'Mapa de Preços'!$A$16:$B$2988,2,0)=FALSE,\"Falta (U.M.)\",VLOOKUP(A2596,'Mapa de Preços'!$A$16:$B$2988,2,0))","v":"Falta (U.M.)"},"","",null,{"$f":"VLOOKUP(A2596,'Mapa de Preços'!$A$16:$J$2988,10,0)","v":"Falta Orçamento"},"",null,2569,null,0]
[2570,{"$f":"IF(VLOOKUP(A2597,'Mapa de Preços'!$A$16:$B$2988,2,0)=FALSE,\"Falta (U.M.)\",VLOOKUP(A2597,'Mapa de Preços'!$A$16:$B$2988,2,0))","v":"Falta (U.M.)"},"","",null,{"$f":"VLOOKUP(A2597,'Mapa de Preços'!$A$16:$J$2988,10,0)","v":"Falta Orçamento"},"",null,2570,null,0]
[2571,{"$f":"IF(VLOOKUP(A2598,'Mapa de Preços'!$A$16:$B$2988,2,0)=FALSE,\"Falta (U.M.)\",VLOOKUP(A2598,'Mapa de Preços'!$A$16:$B$2988,2,0))","v":"Falta (U.M.)"},"","",null,{"$f":"VLOOKUP(A2598,'Mapa de Preços'!$A$16:$J$2988,10,0)","v":"Falta Orçamento"},"",null,2571,null,0]
[2572,{"$f":"IF(VLOOKUP(A2599,'Mapa de Preços'!$A$16:$B$2988,2,0)=FALSE,\"Falta (U.M.)\",VLOOKUP(A2599,'Mapa de Preços'!$A$16:$B$2988,2,0))","v":"Falta (U.M.)"},"","",null,{"$f":"VLOOKUP(A2599,'Mapa de Preços'!$A$16:$J$2988,10,0)","v":"Falta Orçamento"},"",null,2572,null,0]
[2573,{"$f":"IF(VLOOKUP(A2600,'Mapa de Preços'!$A$16:$B$2988,2,0)=FALSE,\"Falta (U.M.)\",VLOOKUP(A2600,'Mapa de Preços'!$A$16:$B$2988,2,0))","v":"Falta (U.M.)"},"","",null,{"$f":"VLOOKUP(A2600,'Mapa de Preços'!$A$16:$J$2988,10,0)","v":"Falta Orçamento"},"",null,2573,null,0]
[2574,{"$f":"IF(VLOOKUP(A2601,'Mapa de Preços'!$A$16:$B$2988,2,0)=FALSE,\"Falta (U.M.)\",VLOOKUP(A2601,'Mapa de Preços'!$A$16:$B$2988,2,0))","v":"Falta (U.M.)"},"","",null,{"$f":"VLOOKUP(A2601,'Mapa de Preços'!$A$16:$J$2988,10,0)","v":"Falta Orçamento"},"",null,2574,null,0]
[2575,{"$f":"IF(VLOOKUP(A2602,'Mapa de Preços'!$A$16:$B$2988,2,0)=FALSE,\"Falta (U.M.)\",VLOOKUP(A2602,'Mapa de Preços'!$A$16:$B$2988,2,0))","v":"Falta (U.M.)"},"","",null,{"$f":"VLOOKUP(A2602,'Mapa de Preços'!$A$16:$J$2988,10,0)","v":"Falta Orçamento"},"",null,2575,null,0]
[2576,{"$f":"IF(VLOOKUP(A2603,'Mapa de Preços'!$A$16:$B$2988,2,0)=FALSE,\"Falta (U.M.)\",VLOOKUP(A2603,'Mapa de Preços'!$A$16:$B$2988,2,0))","v":"Falta (U.M.)"},"","",null,{"$f":"VLOOKUP(A2603,'Mapa de Preços'!$A$16:$J$2988,10,0)","v":"Falta Orçamento"},"",null,2576,null,0]
[2577,{"$f":"IF(VLOOKUP(A2604,'Mapa de Preços'!$A$16:$B$2988,2,0)=FALSE,\"Falta (U.M.)\",VLOOKUP(A2604,'Mapa de Preços'!$A$16:$B$2988,2,0))","v":"Falta (U.M.)"},"","",null,{"$f":"VLOOKUP(A2604,'Mapa de Preços'!$A$16:$J$2988,10,0)","v":"Falta Orçamento"},"",null,2577,null,0]
[2578,{"$f":"IF(VLOOKUP(A2605,'Mapa de Preços'!$A$16:$B$2988,2,0)=FALSE,\"Falta (U.M.)\",VLOOKUP(A2605,'Mapa de Preços'!$A$16:$B$2988,2,0))","v":"Falta (U.M.)"},"","",null,{"$f":"VLOOKUP(A2605,'Mapa de Preços'!$A$16:$J$2988,10,0)","v":"Falta Orçamento"},"",null,2578,null,0]
[2579,{"$f":"IF(VLOOKUP(A2606,'Mapa de Preços'!$A$16:$B$2988,2,0)=FALSE,\"Falta (U.M.)\",VLOOKUP(A2606,'Mapa de Preços'!$A$16:$B$2988,2,0))","v":"Falta (U.M.)"},"","",null,{"$f":"VLOOKUP(A2606,'Mapa de Preços'!$A$16:$J$2988,10,0)","v":"Falta Orçamento"},"",null,2579,null,0]
[2580,{"$f":"IF(VLOOKUP(A2607,'Mapa de Preços'!$A$16:$B$2988,2,0)=FALSE,\"Falta (U.M.)\",VLOOKUP(A2607,'Mapa de Preços'!$A$16:$B$2988,2,0))","v":"Falta (U.M.)"},"","",null,{"$f":"VLOOKUP(A2607,'Mapa de Preços'!$A$16:$J$2988,10,0)","v":"Falta Orçamento"},"",null,2580,null,0]
[2581,{"$f":"IF(VLOOKUP(A2608,'Mapa de Preços'!$A$16:$B$2988,2,0)=FALSE,\"Falta (U.M.)\",VLOOKUP(A2608,'Mapa de Preços'!$A$16:$B$2988,2,0))","v":"Falta (U.M.)"},"","",null,{"$f":"VLOOKUP(A2608,'Mapa de Preços'!$A$16:$J$2988,10,0)","v":"Falta Orçamento"},"",null,2581,null,0]
[2582,{"$f":"IF(VLOOKUP(A2609,'Mapa de Preços'!$A$16:$B$2988,2,0)=FALSE,\"Falta (U.M.)\",VLOOKUP(A2609,'Mapa de Preços'!$A$16:$B$2988,2,0))","v":"Falta (U.M.)"},"","",null,{"$f":"VLOOKUP(A2609,'Mapa de Preços'!$A$16:$J$2988,10,0)","v":"Falta Orçamento"},"",null,2582,null,0]
[2583,{"$f":"IF(VLOOKUP(A2610,'Mapa de Preços'!$A$16:$B$2988,2,0)=FALSE,\"Falta (U.M.)\",VLOOKUP(A2610,'Mapa de Preços'!$A$16:$B$2988,2,0))","v":"Falta (U.M.)"},"","",null,{"$f":"VLOOKUP(A2610,'Mapa de Preços'!$A$16:$J$2988,10,0)","v":"Falta Orçamento"},"",null,2583,null,0]
[2584,{"$f":"IF(VLOOKUP(A2611,'Mapa de Preços'!$A$16:$B$2988,2,0)=FALSE,\"Falta (U.M.)\",VLOOKUP(A2611,'Mapa de Preços'!$A$16:$B$2988,2,0))","v":"Falta (U.M.)"},"","",null,{"$f":"VLOOKUP(A2611,'Mapa de Preços'!$A$16:$J$2988,10,0)","v":"Falta Orçamento"},"",null,2584,null,0]
[2585,{"$f":"IF(VLOOKUP(A2612,'Mapa de Preços'!$A$16:$B$2988,2,0)=FALSE,\"Falta (U.M.)\",VLOOKUP(A2612,'Mapa de Preços'!$A$16:$B$2988,2,0))","v":"Falta (U.M.)"},"","",null,{"$f":"VLOOKUP(A2612,'Mapa de Preços'!$A$16:$J$2988,10,0)","v":"Falta Orçamento"},"",null,2585,null,0]
[2586,{"$f":"IF(VLOOKUP(A2613,'Mapa de Preços'!$A$16:$B$2988,2,0)=FALSE,\"Falta (U.M.)\",VLOOKUP(A2613,'Mapa de Preços'!$A$16:$B$2988,2,0))","v":"Falta (U.M.)"},"","",null,{"$f":"VLOOKUP(A2613,'Mapa de Preços'!$A$16:$J$2988,10,0)","v":"Falta Orçamento"},"",null,2586,null,0]
[2587,{"$f":"IF(VLOOKUP(A2614,'Mapa de Preços'!$A$16:$B$2988,2,0)=FALSE,\"Falta (U.M.)\",VLOOKUP(A2614,'Mapa de Preços'!$A$16:$B$2988,2,0))","v":"Falta (U.M.)"},"","",null,{"$f":"VLOOKUP(A2614,'Mapa de Preços'!$A$16:$J$2988,10,0)","v":"Falta Orçamento"},"",null,2587,null,0]
[2588,{"$f":"IF(VLOOKUP(A2615,'Mapa de Preços'!$A$16:$B$2988,2,0)=FALSE,\"Falta (U.M.)\",VLOOKUP(A2615,'Mapa de Preços'!$A$16:$B$2988,2,0))","v":"Falta (U.M.)"},"","",null,{"$f":"VLOOKUP(A2615,'Mapa de Preços'!$A$16:$J$2988,10,0)","v":"Falta Orçamento"},"",null,2588,null,0]
[2589,{"$f":"IF(VLOOKUP(A2616,'Mapa de Preços'!$A$16:$B$2988,2,0)=FALSE,\"Falta (U.M.)\",VLOOKUP(A2616,'Mapa de Preços'!$A$16:$B$2988,2,0))","v":"Falta (U.M.)"},"","",null,{"$f":"VLOOKUP(A2616,'Mapa de Preços'!$A$16:$J$2988,10,0)","v":"Falta Orçamento"},"",null,2589,null,0]
[2590,{"$f":"IF(VLOOKUP(A2617,'Mapa de Preços'!$A$16:$B$2988,2,0)=FALSE,\"Falta (U.M.)\",VLOOKUP(A2617,'Mapa de Preços'!$A$16:$B$2988,2,0))","v":"Falta (U.M.)"},"","",null,{"$f":"VLOOKUP(A2617,'Mapa de Preços'!$A$16:$J$2988,10,0)","v":"Falta Orçamento"},"",null,2590,null,0]
[2591,{"$f":"IF(VLOOKUP(A2618,'Mapa de Preços'!$A$16:$B$2988,2,0)=FALSE,\"Falta (U.M.)\",VLOOKUP(A2618,'Mapa de Preços'!$A$16:$B$2988,2,0))","v":"Falta (U.M.)"},"","",null,{"$f":"VLOOKUP(A2618,'Mapa de Preços'!$A$16:$J$2988,10,0)","v":"Falta Orçamento"},"",null,2591,null,0]
[2592,{"$f":"IF(VLOOKUP(A2619,'Mapa de Preços'!$A$16:$B$2988,2,0)=FALSE,\"Falta (U.M.)\",VLOOKUP(A2619,'Mapa de Preços'!$A$16:$B$2988,2,0))","v":"Falta (U.M.)"},"","",null,{"$f":"VLOOKUP(A2619,'Mapa de Preços'!$A$16:$J$2988,10,0)","v":"Falta Orçamento"},"",null,2592,null,0]
[2593,{"$f":"IF(VLOOKUP(A2620,'Mapa de Preços'!$A$16:$B$2988,2,0)=FALSE,\"Falta (U.M.)\",VLOOKUP(A2620,'Mapa de Preços'!$A$16:$B$2988,2,0))","v":"Falta (U.M.)"},"","",null,{"$f":"VLOOKUP(A2620,'Mapa de Preços'!$A$16:$J$2988,10,0)","v":"Falta Orçamento"},"",null,2593,null,0]
[2594,{"$f":"IF(VLOOKUP(A2621,'Mapa de Preços'!$A$16:$B$2988,2,0)=FALSE,\"Falta (U.M.)\",VLOOKUP(A2621,'Mapa de Preços'!$A$16:$B$2988,2,0))","v":"Falta (U.M.)"},"","",null,{"$f":"VLOOKUP(A2621,'Mapa de Preços'!$A$16:$J$2988,10,0)","v":"Falta Orçamento"},"",null,2594,null,0]
[2595,{"$f":"IF(VLOOKUP(A2622,'Mapa de Preços'!$A$16:$B$2988,2,0)=FALSE,\"Falta (U.M.)\",VLOOKUP(A2622,'Mapa de Preços'!$A$16:$B$2988,2,0))","v":"Falta (U.M.)"},"","",null,{"$f":"VLOOKUP(A2622,'Mapa de Preços'!$A$16:$J$2988,10,0)","v":"Falta Orçamento"},"",null,2595,null,0]
[2596,{"$f":"IF(VLOOKUP(A2623,'Mapa de Preços'!$A$16:$B$2988,2,0)=FALSE,\"Falta (U.M.)\",VLOOKUP(A2623,'Mapa de Preços'!$A$16:$B$2988,2,0))","v":"Falta (U.M.)"},"","",null,{"$f":"VLOOKUP(A2623,'Mapa de Preços'!$A$16:$J$2988,10,0)","v":"Falta Orçamento"},"",null,2596,null,0]
[2597,{"$f":"IF(VLOOKUP(A2624,'Mapa de Preços'!$A$16:$B$2988,2,0)=FALSE,\"Falta (U.M.)\",VLOOKUP(A2624,'Mapa de Preços'!$A$16:$B$2988,2,0))","v":"Falta (U.M.)"},"","",null,{"$f":"VLOOKUP(A2624,'Mapa de Preços'!$A$16:$J$2988,10,0)","v":"Falta Orçamento"},"",null,2597,null,0]
[2598,{"$f":"IF(VLOOKUP(A2625,'Mapa de Preços'!$A$16:$B$2988,2,0)=FALSE,\"Falta (U.M.)\",VLOOKUP(A2625,'Mapa de Preços'!$A$16:$B$2988,2,0))","v":"Falta (U.M.)"},"","",null,{"$f":"VLOOKUP(A2625,'Mapa de Preços'!$A$16:$J$2988,10,0)","v":"Falta Orçamento"},"",null,2598,null,0]
[2599,{"$f":"IF(VLOOKUP(A2626,'Mapa de Preços'!$A$16:$B$2988,2,0)=FALSE,\"Falta (U.M.)\",VLOOKUP(A2626,'Mapa de Preços'!$A$16:$B$2988,2,0))","v":"Falta (U.M.)"},"","",null,{"$f":"VLOOKUP(A2626,'Mapa de Preços'!$A$16:$J$2988,10,0)","v":"Falta Orçamento"},"",null,2599,null,0]
[2600,{"$f":"IF(VLOOKUP(A2627,'Mapa de Preços'!$A$16:$B$2988,2,0)=FALSE,\"Falta (U.M.)\",VLOOKUP(A2627,'Mapa de Preços'!$A$16:$B$2988,2,0))","v":"Falta (U.M.)"},"","",null,{"$f":"VLOOKUP(A2627,'Mapa de Preços'!$A$16:$J$2988,10,0)","v":"Falta Orçamento"},"",null,2600,null,0]
[2601,{"$f":"IF(VLOOKUP(A2628,'Mapa de Preços'!$A$16:$B$2988,2,0)=FALSE,\"Falta (U.M.)\",VLOOKUP(A2628,'Mapa de Preços'!$A$16:$B$2988,2,0))","v":"Falta (U.M.)"},"","",null,{"$f":"VLOOKUP(A2628,'Mapa de Preços'!$A$16:$J$2988,10,0)","v":"Falta Orçamento"},"",null,2601,null,0]
[2602,{"$f":"IF(VLOOKUP(A2629,'Mapa de Preços'!$A$16:$B$2988,2,0)=FALSE,\"Falta (U.M.)\",VLOOKUP(A2629,'Mapa de Preços'!$A$16:$B$2988,2,0))","v":"Falta (U.M.)"},"","",null,{"$f":"VLOOKUP(A2629,'Mapa de Preços'!$A$16:$J$2988,10,0)","v":"Falta Orçamento"},"",null,2602,null,0]
[2603,{"$f":"IF(VLOOKUP(A2630,'Mapa de Preços'!$A$16:$B$2988,2,0)=FALSE,\"Falta (U.M.)\",VLOOKUP(A2630,'Mapa de Preços'!$A$16:$B$2988,2,0))","v":"Falta (U.M.)"},"","",null,{"$f":"VLOOKUP(A2630,'Mapa de Preços'!$A$16:$J$2988,10,0)","v":"Falta Orçamento"},"",null,2603,null,0]
[2604,{"$f":"IF(VLOOKUP(A2631,'Mapa de Preços'!$A$16:$B$2988,2,0)=FALSE,\"Falta (U.M.)\",VLOOKUP(A2631,'Mapa de Preços'!$A$16:$B$2988,2,0))","v":"Falta (U.M.)"},"","",null,{"$f":"VLOOKUP(A2631,'Mapa de Preços'!$A$16:$J$2988,10,0)","v":"Falta Orçamento"},"",null,2604,null,0]
[2605,{"$f":"IF(VLOOKUP(A2632,'Mapa de Preços'!$A$16:$B$2988,2,0)=FALSE,\"Falta (U.M.)\",VLOOKUP(A2632,'Mapa de Preços'!$A$16:$B$2988,2,0))","v":"Falta (U.M.)"},"","",null,{"$f":"VLOOKUP(A2632,'Mapa de Preços'!$A$16:$J$2988,10,0)","v":"Falta Orçamento"},"",null,2605,null,0]
[2606,{"$f":"IF(VLOOKUP(A2633,'Mapa de Preços'!$A$16:$B$2988,2,0)=FALSE,\"Falta (U.M.)\",VLOOKUP(A2633,'Mapa de Preços'!$A$16:$B$2988,2,0))","v":"Falta (U.M.)"},"","",null,{"$f":"VLOOKUP(A2633,'Mapa de Preços'!$A$16:$J$2988,10,0)","v":"Falta Orçamento"},"",null,2606,null,0]
[2607,{"$f":"IF(VLOOKUP(A2634,'Mapa de Preços'!$A$16:$B$2988,2,0)=FALSE,\"Falta (U.M.)\",VLOOKUP(A2634,'Mapa de Preços'!$A$16:$B$2988,2,0))","v":"Falta (U.M.)"},"","",null,{"$f":"VLOOKUP(A2634,'Mapa de Preços'!$A$16:$J$2988,10,0)","v":"Falta Orçamento"},"",null,2607,null,0]
[2608,{"$f":"IF(VLOOKUP(A2635,'Mapa de Preços'!$A$16:$B$2988,2,0)=FALSE,\"Falta (U.M.)\",VLOOKUP(A2635,'Mapa de Preços'!$A$16:$B$2988,2,0))","v":"Falta (U.M.)"},"","",null,{"$f":"VLOOKUP(A2635,'Mapa de Preços'!$A$16:$J$2988,10,0)","v":"Falta Orçamento"},"",null,2608,null,0]
[2609,{"$f":"IF(VLOOKUP(A2636,'Mapa de Preços'!$A$16:$B$2988,2,0)=FALSE,\"Falta (U.M.)\",VLOOKUP(A2636,'Mapa de Preços'!$A$16:$B$2988,2,0))","v":"Falta (U.M.)"},"","",null,{"$f":"VLOOKUP(A2636,'Mapa de Preços'!$A$16:$J$2988,10,0)","v":"Falta Orçamento"},"",null,2609,null,0]
[2610,{"$f":"IF(VLOOKUP(A2637,'Mapa de Preços'!$A$16:$B$2988,2,0)=FALSE,\"Falta (U.M.)\",VLOOKUP(A2637,'Mapa de Preços'!$A$16:$B$2988,2,0))","v":"Falta (U.M.)"},"","",null,{"$f":"VLOOKUP(A2637,'Mapa de Preços'!$A$16:$J$2988,10,0)","v":"Falta Orçamento"},"",null,2610,null,0]
[2611,{"$f":"IF(VLOOKUP(A2638,'Mapa de Preços'!$A$16:$B$2988,2,0)=FALSE,\"Falta (U.M.)\",VLOOKUP(A2638,'Mapa de Preços'!$A$16:$B$2988,2,0))","v":"Falta (U.M.)"},"","",null,{"$f":"VLOOKUP(A2638,'Mapa de Preços'!$A$16:$J$2988,10,0)","v":"Falta Orçamento"},"",null,2611,null,0]
[2612,{"$f":"IF(VLOOKUP(A2639,'Mapa de Preços'!$A$16:$B$2988,2,0)=FALSE,\"Falta (U.M.)\",VLOOKUP(A2639,'Mapa de Preços'!$A$16:$B$2988,2,0))","v":"Falta (U.M.)"},"","",null,{"$f":"VLOOKUP(A2639,'Mapa de Preços'!$A$16:$J$2988,10,0)","v":"Falta Orçamento"},"",null,2612,null,0]
[2613,{"$f":"IF(VLOOKUP(A2640,'Mapa de Preços'!$A$16:$B$2988,2,0)=FALSE,\"Falta (U.M.)\",VLOOKUP(A2640,'Mapa de Preços'!$A$16:$B$2988,2,0))","v":"Falta (U.M.)"},"","",null,{"$f":"VLOOKUP(A2640,'Mapa de Preços'!$A$16:$J$2988,10,0)","v":"Falta Orçamento"},"",null,2613,null,0]
[2614,{"$f":"IF(VLOOKUP(A2641,'Mapa de Preços'!$A$16:$B$2988,2,0)=FALSE,\"Falta (U.M.)\",VLOOKUP(A2641,'Mapa de Preços'!$A$16:$B$2988,2,0))","v":"Falta (U.M.)"},"","",null,{"$f":"VLOOKUP(A2641,'Mapa de Preços'!$A$16:$J$2988,10,0)","v":"Falta Orçamento"},"",null,2614,null,0]
[2615,{"$f":"IF(VLOOKUP(A2642,'Mapa de Preços'!$A$16:$B$2988,2,0)=FALSE,\"Falta (U.M.)\",VLOOKUP(A2642,'Mapa de Preços'!$A$16:$B$2988,2,0))","v":"Falta (U.M.)"},"","",null,{"$f":"VLOOKUP(A2642,'Mapa de Preços'!$A$16:$J$2988,10,0)","v":"Falta Orçamento"},"",null,2615,null,0]
[2616,{"$f":"IF(VLOOKUP(A2643,'Mapa de Preços'!$A$16:$B$2988,2,0)=FALSE,\"Falta (U.M.)\",VLOOKUP(A2643,'Mapa de Preços'!$A$16:$B$2988,2,0))","v":"Falta (U.M.)"},"","",null,{"$f":"VLOOKUP(A2643,'Mapa de Preços'!$A$16:$J$2988,10,0)","v":"Falta Orçamento"},"",null,2616,null,0]
[2617,{"$f":"IF(VLOOKUP(A2644,'Mapa de Preços'!$A$16:$B$2988,2,0)=FALSE,\"Falta (U.M.)\",VLOOKUP(A2644,'Mapa de Preços'!$A$16:$B$2988,2,0))","v":"Falta (U.M.)"},"","",null,{"$f":"VLOOKUP(A2644,'Mapa de Preços'!$A$16:$J$2988,10,0)","v":"Falta Orçamento"},"",null,2617,null,0]
[2618,{"$f":"IF(VLOOKUP(A2645,'Mapa de Preços'!$A$16:$B$2988,2,0)=FALSE,\"Falta (U.M.)\",VLOOKUP(A2645,'Mapa de Preços'!$A$16:$B$2988,2,0))","v":"Falta (U.M.)"},"","",null,{"$f":"VLOOKUP(A2645,'Mapa de Preços'!$A$16:$J$2988,10,0)","v":"Falta Orçamento"},"",null,2618,null,0]
[2619,{"$f":"IF(VLOOKUP(A2646,'Mapa de Preços'!$A$16:$B$2988,2,0)=FALSE,\"Falta (U.M.)\",VLOOKUP(A2646,'Mapa de Preços'!$A$16:$B$2988,2,0))","v":"Falta (U.M.)"},"","",null,{"$f":"VLOOKUP(A2646,'Mapa de Preços'!$A$16:$J$2988,10,0)","v":"Falta Orçamento"},"",null,2619,null,0]
[2620,{"$f":"IF(VLOOKUP(A2647,'Mapa de Preços'!$A$16:$B$2988,2,0)=FALSE,\"Falta (U.M.)\",VLOOKUP(A2647,'Mapa de Preços'!$A$16:$B$2988,2,0))","v":"Falta (U.M.)"},"","",null,{"$f":"VLOOKUP(A2647,'Mapa de Preços'!$A$16:$J$2988,10,0)","v":"Falta Orçamento"},"",null,2620,null,0]
[2621,{"$f":"IF(VLOOKUP(A2648,'Mapa de Preços'!$A$16:$B$2988,2,0)=FALSE,\"Falta (U.M.)\",VLOOKUP(A2648,'Mapa de Preços'!$A$16:$B$2988,2,0))","v":"Falta (U.M.)"},"","",null,{"$f":"VLOOKUP(A2648,'Mapa de Preços'!$A$16:$J$2988,10,0)","v":"Falta Orçamento"},"",null,2621,null,0]
[2622,{"$f":"IF(VLOOKUP(A2649,'Mapa de Preços'!$A$16:$B$2988,2,0)=FALSE,\"Falta (U.M.)\",VLOOKUP(A2649,'Mapa de Preços'!$A$16:$B$2988,2,0))","v":"Falta (U.M.)"},"","",null,{"$f":"VLOOKUP(A2649,'Mapa de Preços'!$A$16:$J$2988,10,0)","v":"Falta Orçamento"},"",null,2622,null,0]
[2623,{"$f":"IF(VLOOKUP(A2650,'Mapa de Preços'!$A$16:$B$2988,2,0)=FALSE,\"Falta (U.M.)\",VLOOKUP(A2650,'Mapa de Preços'!$A$16:$B$2988,2,0))","v":"Falta (U.M.)"},"","",null,{"$f":"VLOOKUP(A2650,'Mapa de Preços'!$A$16:$J$2988,10,0)","v":"Falta Orçamento"},"",null,2623,null,0]
[2624,{"$f":"IF(VLOOKUP(A2651,'Mapa de Preços'!$A$16:$B$2988,2,0)=FALSE,\"Falta (U.M.)\",VLOOKUP(A2651,'Mapa de Preços'!$A$16:$B$2988,2,0))","v":"Falta (U.M.)"},"","",null,{"$f":"VLOOKUP(A2651,'Mapa de Preços'!$A$16:$J$2988,10,0)","v":"Falta Orçamento"},"",null,2624,null,0]
[2625,{"$f":"IF(VLOOKUP(A2652,'Mapa de Preços'!$A$16:$B$2988,2,0)=FALSE,\"Falta (U.M.)\",VLOOKUP(A2652,'Mapa de Preços'!$A$16:$B$2988,2,0))","v":"Falta (U.M.)"},"","",null,{"$f":"VLOOKUP(A2652,'Mapa de Preços'!$A$16:$J$2988,10,0)","v":"Falta Orçamento"},"",null,2625,null,{"$f":"SUM(L2652:AI2652)","v":0}]
[2626,{"$f":"IF(VLOOKUP(A2653,'Mapa de Preços'!$A$16:$B$2988,2,0)=FALSE,\"Falta (U.M.)\",VLOOKUP(A2653,'Mapa de Preços'!$A$16:$B$2988,2,0))","v":"Falta (U.M.)"},{"$f":"IF(J2653<>\"\",J2653,\"\")","v":""},{"$f":"IF(VLOOKUP(A2653,$I$28:$AI$3000,$G$26,FALSE)<>\"\",VLOOKUP(A2653,$I$28:$AI$3000,$G$26,FALSE),\"\")","v":""},null,{"$f":"VLOOKUP(A2653,'Mapa de Preços'!$A$16:$J$2988,10,0)","v":"Falta Orçamento"},{"$f":"IF(F2653=\"Falta Orçamento\",\"\",F2653*D2653)","v":""},null,2626,null,0]
[2627,{"$f":"IF(VLOOKUP(A2654,'Mapa de Preços'!$A$16:$B$2988,2,0)=FALSE,\"Falta (U.M.)\",VLOOKUP(A2654,'Mapa de Preços'!$A$16:$B$2988,2,0))","v":"Falta (U.M.)"},"","",null,{"$f":"VLOOKUP(A2654,'Mapa de Preços'!$A$16:$J$2988,10,0)","v":"Falta Orçamento"},"",null,2627,null,0]
[2628,{"$f":"IF(VLOOKUP(A2655,'Mapa de Preços'!$A$16:$B$2988,2,0)=FALSE,\"Falta (U.M.)\",VLOOKUP(A2655,'Mapa de Preços'!$A$16:$B$2988,2,0))","v":"Falta (U.M.)"},"","",null,{"$f":"VLOOKUP(A2655,'Mapa de Preços'!$A$16:$J$2988,10,0)","v":"Falta Orçamento"},"",null,2628,null,0]
[2629,{"$f":"IF(VLOOKUP(A2656,'Mapa de Preços'!$A$16:$B$2988,2,0)=FALSE,\"Falta (U.M.)\",VLOOKUP(A2656,'Mapa de Preços'!$A$16:$B$2988,2,0))","v":"Falta (U.M.)"},"","",null,{"$f":"VLOOKUP(A2656,'Mapa de Preços'!$A$16:$J$2988,10,0)","v":"Falta Orçamento"},"",null,2629,null,0]
[2630,{"$f":"IF(VLOOKUP(A2657,'Mapa de Preços'!$A$16:$B$2988,2,0)=FALSE,\"Falta (U.M.)\",VLOOKUP(A2657,'Mapa de Preços'!$A$16:$B$2988,2,0))","v":"Falta (U.M.)"},"","",null,{"$f":"VLOOKUP(A2657,'Mapa de Preços'!$A$16:$J$2988,10,0)","v":"Falta Orçamento"},"",null,2630,null,0]
[2631,{"$f":"IF(VLOOKUP(A2658,'Mapa de Preços'!$A$16:$B$2988,2,0)=FALSE,\"Falta (U.M.)\",VLOOKUP(A2658,'Mapa de Preços'!$A$16:$B$2988,2,0))","v":"Falta (U.M.)"},"","",null,{"$f":"VLOOKUP(A2658,'Mapa de Preços'!$A$16:$J$2988,10,0)","v":"Falta Orçamento"},"",null,2631,null,0]
[2632,{"$f":"IF(VLOOKUP(A2659,'Mapa de Preços'!$A$16:$B$2988,2,0)=FALSE,\"Falta (U.M.)\",VLOOKUP(A2659,'Mapa de Preços'!$A$16:$B$2988,2,0))","v":"Falta (U.M.)"},"","",null,{"$f":"VLOOKUP(A2659,'Mapa de Preços'!$A$16:$J$2988,10,0)","v":"Falta Orçamento"},"",null,2632,null,0]
[2633,{"$f":"IF(VLOOKUP(A2660,'Mapa de Preços'!$A$16:$B$2988,2,0)=FALSE,\"Falta (U.M.)\",VLOOKUP(A2660,'Mapa de Preços'!$A$16:$B$2988,2,0))","v":"Falta (U.M.)"},"","",null,{"$f":"VLOOKUP(A2660,'Mapa de Preços'!$A$16:$J$2988,10,0)","v":"Falta Orçamento"},"",null,2633,null,0]
[2634,{"$f":"IF(VLOOKUP(A2661,'Mapa de Preços'!$A$16:$B$2988,2,0)=FALSE,\"Falta (U.M.)\",VLOOKUP(A2661,'Mapa de Preços'!$A$16:$B$2988,2,0))","v":"Falta (U.M.)"},"","",null,{"$f":"VLOOKUP(A2661,'Mapa de Preços'!$A$16:$J$2988,10,0)","v":"Falta Orçamento"},"",null,2634,null,0]
[2635,{"$f":"IF(VLOOKUP(A2662,'Mapa de Preços'!$A$16:$B$2988,2,0)=FALSE,\"Falta (U.M.)\",VLOOKUP(A2662,'Mapa de Preços'!$A$16:$B$2988,2,0))","v":"Falta (U.M.)"},"","",null,{"$f":"VLOOKUP(A2662,'Mapa de Preços'!$A$16:$J$2988,10,0)","v":"Falta Orçamento"},"",null,2635,null,0]
[2636,{"$f":"IF(VLOOKUP(A2663,'Mapa de Preços'!$A$16:$B$2988,2,0)=FALSE,\"Falta (U.M.)\",VLOOKUP(A2663,'Mapa de Preços'!$A$16:$B$2988,2,0))","v":"Falta (U.M.)"},"","",null,{"$f":"VLOOKUP(A2663,'Mapa de Preços'!$A$16:$J$2988,10,0)","v":"Falta Orçamento"},"",null,2636,null,0]
[2637,{"$f":"IF(VLOOKUP(A2664,'Mapa de Preços'!$A$16:$B$2988,2,0)=FALSE,\"Falta (U.M.)\",VLOOKUP(A2664,'Mapa de Preços'!$A$16:$B$2988,2,0))","v":"Falta (U.M.)"},"","",null,{"$f":"VLOOKUP(A2664,'Mapa de Preços'!$A$16:$J$2988,10,0)","v":"Falta Orçamento"},"",null,2637,null,0]
[2638,{"$f":"IF(VLOOKUP(A2665,'Mapa de Preços'!$A$16:$B$2988,2,0)=FALSE,\"Falta (U.M.)\",VLOOKUP(A2665,'Mapa de Preços'!$A$16:$B$2988,2,0))","v":"Falta (U.M.)"},"","",null,{"$f":"VLOOKUP(A2665,'Mapa de Preços'!$A$16:$J$2988,10,0)","v":"Falta Orçamento"},"",null,2638,null,0]
[2639,{"$f":"IF(VLOOKUP(A2666,'Mapa de Preços'!$A$16:$B$2988,2,0)=FALSE,\"Falta (U.M.)\",VLOOKUP(A2666,'Mapa de Preços'!$A$16:$B$2988,2,0))","v":"Falta (U.M.)"},"","",null,{"$f":"VLOOKUP(A2666,'Mapa de Preços'!$A$16:$J$2988,10,0)","v":"Falta Orçamento"},"",null,2639,null,0]
[2640,{"$f":"IF(VLOOKUP(A2667,'Mapa de Preços'!$A$16:$B$2988,2,0)=FALSE,\"Falta (U.M.)\",VLOOKUP(A2667,'Mapa de Preços'!$A$16:$B$2988,2,0))","v":"Falta (U.M.)"},"","",null,{"$f":"VLOOKUP(A2667,'Mapa de Preços'!$A$16:$J$2988,10,0)","v":"Falta Orçamento"},"",null,2640,null,0]
[2641,{"$f":"IF(VLOOKUP(A2668,'Mapa de Preços'!$A$16:$B$2988,2,0)=FALSE,\"Falta (U.M.)\",VLOOKUP(A2668,'Mapa de Preços'!$A$16:$B$2988,2,0))","v":"Falta (U.M.)"},"","",null,{"$f":"VLOOKUP(A2668,'Mapa de Preços'!$A$16:$J$2988,10,0)","v":"Falta Orçamento"},"",null,2641,null,0]
[2642,{"$f":"IF(VLOOKUP(A2669,'Mapa de Preços'!$A$16:$B$2988,2,0)=FALSE,\"Falta (U.M.)\",VLOOKUP(A2669,'Mapa de Preços'!$A$16:$B$2988,2,0))","v":"Falta (U.M.)"},"","",null,{"$f":"VLOOKUP(A2669,'Mapa de Preços'!$A$16:$J$2988,10,0)","v":"Falta Orçamento"},"",null,2642,null,0]
[2643,{"$f":"IF(VLOOKUP(A2670,'Mapa de Preços'!$A$16:$B$2988,2,0)=FALSE,\"Falta (U.M.)\",VLOOKUP(A2670,'Mapa de Preços'!$A$16:$B$2988,2,0))","v":"Falta (U.M.)"},"","",null,{"$f":"VLOOKUP(A2670,'Mapa de Preços'!$A$16:$J$2988,10,0)","v":"Falta Orçamento"},"",null,2643,null,0]
[2644,{"$f":"IF(VLOOKUP(A2671,'Mapa de Preços'!$A$16:$B$2988,2,0)=FALSE,\"Falta (U.M.)\",VLOOKUP(A2671,'Mapa de Preços'!$A$16:$B$2988,2,0))","v":"Falta (U.M.)"},"","",null,{"$f":"VLOOKUP(A2671,'Mapa de Preços'!$A$16:$J$2988,10,0)","v":"Falta Orçamento"},"",null,2644,null,0]
[2645,{"$f":"IF(VLOOKUP(A2672,'Mapa de Preços'!$A$16:$B$2988,2,0)=FALSE,\"Falta (U.M.)\",VLOOKUP(A2672,'Mapa de Preços'!$A$16:$B$2988,2,0))","v":"Falta (U.M.)"},"","",null,{"$f":"VLOOKUP(A2672,'Mapa de Preços'!$A$16:$J$2988,10,0)","v":"Falta Orçamento"},"",null,2645,null,0]
[2646,{"$f":"IF(VLOOKUP(A2673,'Mapa de Preços'!$A$16:$B$2988,2,0)=FALSE,\"Falta (U.M.)\",VLOOKUP(A2673,'Mapa de Preços'!$A$16:$B$2988,2,0))","v":"Falta (U.M.)"},"","",null,{"$f":"VLOOKUP(A2673,'Mapa de Preços'!$A$16:$J$2988,10,0)","v":"Falta Orçamento"},"",null,2646,null,0]
[2647,{"$f":"IF(VLOOKUP(A2674,'Mapa de Preços'!$A$16:$B$2988,2,0)=FALSE,\"Falta (U.M.)\",VLOOKUP(A2674,'Mapa de Preços'!$A$16:$B$2988,2,0))","v":"Falta (U.M.)"},"","",null,{"$f":"VLOOKUP(A2674,'Mapa de Preços'!$A$16:$J$2988,10,0)","v":"Falta Orçamento"},"",null,2647,null,0]
[2648,{"$f":"IF(VLOOKUP(A2675,'Mapa de Preços'!$A$16:$B$2988,2,0)=FALSE,\"Falta (U.M.)\",VLOOKUP(A2675,'Mapa de Preços'!$A$16:$B$2988,2,0))","v":"Falta (U.M.)"},"","",null,{"$f":"VLOOKUP(A2675,'Mapa de Preços'!$A$16:$J$2988,10,0)","v":"Falta Orçamento"},"",null,2648,null,0]
[2649,{"$f":"IF(VLOOKUP(A2676,'Mapa de Preços'!$A$16:$B$2988,2,0)=FALSE,\"Falta (U.M.)\",VLOOKUP(A2676,'Mapa de Preços'!$A$16:$B$2988,2,0))","v":"Falta (U.M.)"},"","",null,{"$f":"VLOOKUP(A2676,'Mapa de Preços'!$A$16:$J$2988,10,0)","v":"Falta Orçamento"},"",null,2649,null,0]
[2650,{"$f":"IF(VLOOKUP(A2677,'Mapa de Preços'!$A$16:$B$2988,2,0)=FALSE,\"Falta (U.M.)\",VLOOKUP(A2677,'Mapa de Preços'!$A$16:$B$2988,2,0))","v":"Falta (U.M.)"},"","",null,{"$f":"VLOOKUP(A2677,'Mapa de Preços'!$A$16:$J$2988,10,0)","v":"Falta Orçamento"},"",null,2650,null,0]
[2651,{"$f":"IF(VLOOKUP(A2678,'Mapa de Preços'!$A$16:$B$2988,2,0)=FALSE,\"Falta (U.M.)\",VLOOKUP(A2678,'Mapa de Preços'!$A$16:$B$2988,2,0))","v":"Falta (U.M.)"},"","",null,{"$f":"VLOOKUP(A2678,'Mapa de Preços'!$A$16:$J$2988,10,0)","v":"Falta Orçamento"},"",null,2651,null,0]
[2652,{"$f":"IF(VLOOKUP(A2679,'Mapa de Preços'!$A$16:$B$2988,2,0)=FALSE,\"Falta (U.M.)\",VLOOKUP(A2679,'Mapa de Preços'!$A$16:$B$2988,2,0))","v":"Falta (U.M.)"},"","",null,{"$f":"VLOOKUP(A2679,'Mapa de Preços'!$A$16:$J$2988,10,0)","v":"Falta Orçamento"},"",null,2652,null,0]
[2653,{"$f":"IF(VLOOKUP(A2680,'Mapa de Preços'!$A$16:$B$2988,2,0)=FALSE,\"Falta (U.M.)\",VLOOKUP(A2680,'Mapa de Preços'!$A$16:$B$2988,2,0))","v":"Falta (U.M.)"},"","",null,{"$f":"VLOOKUP(A2680,'Mapa de Preços'!$A$16:$J$2988,10,0)","v":"Falta Orçamento"},"",null,2653,null,0]
[2654,{"$f":"IF(VLOOKUP(A2681,'Mapa de Preços'!$A$16:$B$2988,2,0)=FALSE,\"Falta (U.M.)\",VLOOKUP(A2681,'Mapa de Preços'!$A$16:$B$2988,2,0))","v":"Falta (U.M.)"},"","",null,{"$f":"VLOOKUP(A2681,'Mapa de Preços'!$A$16:$J$2988,10,0)","v":"Falta Orçamento"},"",null,2654,null,0]
[2655,{"$f":"IF(VLOOKUP(A2682,'Mapa de Preços'!$A$16:$B$2988,2,0)=FALSE,\"Falta (U.M.)\",VLOOKUP(A2682,'Mapa de Preços'!$A$16:$B$2988,2,0))","v":"Falta (U.M.)"},"","",null,{"$f":"VLOOKUP(A2682,'Mapa de Preços'!$A$16:$J$2988,10,0)","v":"Falta Orçamento"},"",null,2655,null,0]
[2656,{"$f":"IF(VLOOKUP(A2683,'Mapa de Preços'!$A$16:$B$2988,2,0)=FALSE,\"Falta (U.M.)\",VLOOKUP(A2683,'Mapa de Preços'!$A$16:$B$2988,2,0))","v":"Falta (U.M.)"},"","",null,{"$f":"VLOOKUP(A2683,'Mapa de Preços'!$A$16:$J$2988,10,0)","v":"Falta Orçamento"},"",null,2656,null,0]
[2657,{"$f":"IF(VLOOKUP(A2684,'Mapa de Preços'!$A$16:$B$2988,2,0)=FALSE,\"Falta (U.M.)\",VLOOKUP(A2684,'Mapa de Preços'!$A$16:$B$2988,2,0))","v":"Falta (U.M.)"},"","",null,{"$f":"VLOOKUP(A2684,'Mapa de Preços'!$A$16:$J$2988,10,0)","v":"Falta Orçamento"},"",null,2657,null,0]
[2658,{"$f":"IF(VLOOKUP(A2685,'Mapa de Preços'!$A$16:$B$2988,2,0)=FALSE,\"Falta (U.M.)\",VLOOKUP(A2685,'Mapa de Preços'!$A$16:$B$2988,2,0))","v":"Falta (U.M.)"},"","",null,{"$f":"VLOOKUP(A2685,'Mapa de Preços'!$A$16:$J$2988,10,0)","v":"Falta Orçamento"},"",null,2658,null,0]
[2659,{"$f":"IF(VLOOKUP(A2686,'Mapa de Preços'!$A$16:$B$2988,2,0)=FALSE,\"Falta (U.M.)\",VLOOKUP(A2686,'Mapa de Preços'!$A$16:$B$2988,2,0))","v":"Falta (U.M.)"},"","",null,{"$f":"VLOOKUP(A2686,'Mapa de Preços'!$A$16:$J$2988,10,0)","v":"Falta Orçamento"},"",null,2659,null,0]
[2660,{"$f":"IF(VLOOKUP(A2687,'Mapa de Preços'!$A$16:$B$2988,2,0)=FALSE,\"Falta (U.M.)\",VLOOKUP(A2687,'Mapa de Preços'!$A$16:$B$2988,2,0))","v":"Falta (U.M.)"},"","",null,{"$f":"VLOOKUP(A2687,'Mapa de Preços'!$A$16:$J$2988,10,0)","v":"Falta Orçamento"},"",null,2660,null,0]
[2661,{"$f":"IF(VLOOKUP(A2688,'Mapa de Preços'!$A$16:$B$2988,2,0)=FALSE,\"Falta (U.M.)\",VLOOKUP(A2688,'Mapa de Preços'!$A$16:$B$2988,2,0))","v":"Falta (U.M.)"},"","",null,{"$f":"VLOOKUP(A2688,'Mapa de Preços'!$A$16:$J$2988,10,0)","v":"Falta Orçamento"},"",null,2661,null,0]
[2662,{"$f":"IF(VLOOKUP(A2689,'Mapa de Preços'!$A$16:$B$2988,2,0)=FALSE,\"Falta (U.M.)\",VLOOKUP(A2689,'Mapa de Preços'!$A$16:$B$2988,2,0))","v":"Falta (U.M.)"},"","",null,{"$f":"VLOOKUP(A2689,'Mapa de Preços'!$A$16:$J$2988,10,0)","v":"Falta Orçamento"},"",null,2662,null,0]
[2663,{"$f":"IF(VLOOKUP(A2690,'Mapa de Preços'!$A$16:$B$2988,2,0)=FALSE,\"Falta (U.M.)\",VLOOKUP(A2690,'Mapa de Preços'!$A$16:$B$2988,2,0))","v":"Falta (U.M.)"},"","",null,{"$f":"VLOOKUP(A2690,'Mapa de Preços'!$A$16:$J$2988,10,0)","v":"Falta Orçamento"},"",null,2663,null,0]
[2664,{"$f":"IF(VLOOKUP(A2691,'Mapa de Preços'!$A$16:$B$2988,2,0)=FALSE,\"Falta (U.M.)\",VLOOKUP(A2691,'Mapa de Preços'!$A$16:$B$2988,2,0))","v":"Falta (U.M.)"},"","",null,{"$f":"VLOOKUP(A2691,'Mapa de Preços'!$A$16:$J$2988,10,0)","v":"Falta Orçamento"},"",null,2664,null,0]
[2665,{"$f":"IF(VLOOKUP(A2692,'Mapa de Preços'!$A$16:$B$2988,2,0)=FALSE,\"Falta (U.M.)\",VLOOKUP(A2692,'Mapa de Preços'!$A$16:$B$2988,2,0))","v":"Falta (U.M.)"},"","",null,{"$f":"VLOOKUP(A2692,'Mapa de Preços'!$A$16:$J$2988,10,0)","v":"Falta Orçamento"},"",null,2665,null,0]
[2666,{"$f":"IF(VLOOKUP(A2693,'Mapa de Preços'!$A$16:$B$2988,2,0)=FALSE,\"Falta (U.M.)\",VLOOKUP(A2693,'Mapa de Preços'!$A$16:$B$2988,2,0))","v":"Falta (U.M.)"},"","",null,{"$f":"VLOOKUP(A2693,'Mapa de Preços'!$A$16:$J$2988,10,0)","v":"Falta Orçamento"},"",null,2666,null,0]
[2667,{"$f":"IF(VLOOKUP(A2694,'Mapa de Preços'!$A$16:$B$2988,2,0)=FALSE,\"Falta (U.M.)\",VLOOKUP(A2694,'Mapa de Preços'!$A$16:$B$2988,2,0))","v":"Falta (U.M.)"},"","",null,{"$f":"VLOOKUP(A2694,'Mapa de Preços'!$A$16:$J$2988,10,0)","v":"Falta Orçamento"},"",null,2667,null,0]
[2668,{"$f":"IF(VLOOKUP(A2695,'Mapa de Preços'!$A$16:$B$2988,2,0)=FALSE,\"Falta (U.M.)\",VLOOKUP(A2695,'Mapa de Preços'!$A$16:$B$2988,2,0))","v":"Falta (U.M.)"},"","",null,{"$f":"VLOOKUP(A2695,'Mapa de Preços'!$A$16:$J$2988,10,0)","v":"Falta Orçamento"},"",null,2668,null,0]
[2669,{"$f":"IF(VLOOKUP(A2696,'Mapa de Preços'!$A$16:$B$2988,2,0)=FALSE,\"Falta (U.M.)\",VLOOKUP(A2696,'Mapa de Preços'!$A$16:$B$2988,2,0))","v":"Falta (U.M.)"},"","",null,{"$f":"VLOOKUP(A2696,'Mapa de Preços'!$A$16:$J$2988,10,0)","v":"Falta Orçamento"},"",null,2669,null,0]
[2670,{"$f":"IF(VLOOKUP(A2697,'Mapa de Preços'!$A$16:$B$2988,2,0)=FALSE,\"Falta (U.M.)\",VLOOKUP(A2697,'Mapa de Preços'!$A$16:$B$2988,2,0))","v":"Falta (U.M.)"},"","",null,{"$f":"VLOOKUP(A2697,'Mapa de Preços'!$A$16:$J$2988,10,0)","v":"Falta Orçamento"},"",null,2670,null,0]
[2671,{"$f":"IF(VLOOKUP(A2698,'Mapa de Preços'!$A$16:$B$2988,2,0)=FALSE,\"Falta (U.M.)\",VLOOKUP(A2698,'Mapa de Preços'!$A$16:$B$2988,2,0))","v":"Falta (U.M.)"},"","",null,{"$f":"VLOOKUP(A2698,'Mapa de Preços'!$A$16:$J$2988,10,0)","v":"Falta Orçamento"},"",null,2671,null,0]
[2672,{"$f":"IF(VLOOKUP(A2699,'Mapa de Preços'!$A$16:$B$2988,2,0)=FALSE,\"Falta (U.M.)\",VLOOKUP(A2699,'Mapa de Preços'!$A$16:$B$2988,2,0))","v":"Falta (U.M.)"},"","",null,{"$f":"VLOOKUP(A2699,'Mapa de Preços'!$A$16:$J$2988,10,0)","v":"Falta Orçamento"},"",null,2672,null,0]
[2673,{"$f":"IF(VLOOKUP(A2700,'Mapa de Preços'!$A$16:$B$2988,2,0)=FALSE,\"Falta (U.M.)\",VLOOKUP(A2700,'Mapa de Preços'!$A$16:$B$2988,2,0))","v":"Falta (U.M.)"},"","",null,{"$f":"VLOOKUP(A2700,'Mapa de Preços'!$A$16:$J$2988,10,0)","v":"Falta Orçamento"},"",null,2673,null,0]
[2674,{"$f":"IF(VLOOKUP(A2701,'Mapa de Preços'!$A$16:$B$2988,2,0)=FALSE,\"Falta (U.M.)\",VLOOKUP(A2701,'Mapa de Preços'!$A$16:$B$2988,2,0))","v":"Falta (U.M.)"},"","",null,{"$f":"VLOOKUP(A2701,'Mapa de Preços'!$A$16:$J$2988,10,0)","v":"Falta Orçamento"},"",null,2674,null,0]
[2675,{"$f":"IF(VLOOKUP(A2702,'Mapa de Preços'!$A$16:$B$2988,2,0)=FALSE,\"Falta (U.M.)\",VLOOKUP(A2702,'Mapa de Preços'!$A$16:$B$2988,2,0))","v":"Falta (U.M.)"},"","",null,{"$f":"VLOOKUP(A2702,'Mapa de Preços'!$A$16:$J$2988,10,0)","v":"Falta Orçamento"},"",null,2675,null,0]
[2676,{"$f":"IF(VLOOKUP(A2703,'Mapa de Preços'!$A$16:$B$2988,2,0)=FALSE,\"Falta (U.M.)\",VLOOKUP(A2703,'Mapa de Preços'!$A$16:$B$2988,2,0))","v":"Falta (U.M.)"},"","",null,{"$f":"VLOOKUP(A2703,'Mapa de Preços'!$A$16:$J$2988,10,0)","v":"Falta Orçamento"},"",null,2676,null,0]
[2677,{"$f":"IF(VLOOKUP(A2704,'Mapa de Preços'!$A$16:$B$2988,2,0)=FALSE,\"Falta (U.M.)\",VLOOKUP(A2704,'Mapa de Preços'!$A$16:$B$2988,2,0))","v":"Falta (U.M.)"},"","",null,{"$f":"VLOOKUP(A2704,'Mapa de Preços'!$A$16:$J$2988,10,0)","v":"Falta Orçamento"},"",null,2677,null,0]
[2678,{"$f":"IF(VLOOKUP(A2705,'Mapa de Preços'!$A$16:$B$2988,2,0)=FALSE,\"Falta (U.M.)\",VLOOKUP(A2705,'Mapa de Preços'!$A$16:$B$2988,2,0))","v":"Falta (U.M.)"},"","",null,{"$f":"VLOOKUP(A2705,'Mapa de Preços'!$A$16:$J$2988,10,0)","v":"Falta Orçamento"},"",null,2678,null,0]
[2679,{"$f":"IF(VLOOKUP(A2706,'Mapa de Preços'!$A$16:$B$2988,2,0)=FALSE,\"Falta (U.M.)\",VLOOKUP(A2706,'Mapa de Preços'!$A$16:$B$2988,2,0))","v":"Falta (U.M.)"},"","",null,{"$f":"VLOOKUP(A2706,'Mapa de Preços'!$A$16:$J$2988,10,0)","v":"Falta Orçamento"},"",null,2679,null,0]
[2680,{"$f":"IF(VLOOKUP(A2707,'Mapa de Preços'!$A$16:$B$2988,2,0)=FALSE,\"Falta (U.M.)\",VLOOKUP(A2707,'Mapa de Preços'!$A$16:$B$2988,2,0))","v":"Falta (U.M.)"},"","",null,{"$f":"VLOOKUP(A2707,'Mapa de Preços'!$A$16:$J$2988,10,0)","v":"Falta Orçamento"},"",null,2680,null,0]
[2681,{"$f":"IF(VLOOKUP(A2708,'Mapa de Preços'!$A$16:$B$2988,2,0)=FALSE,\"Falta (U.M.)\",VLOOKUP(A2708,'Mapa de Preços'!$A$16:$B$2988,2,0))","v":"Falta (U.M.)"},"","",null,{"$f":"VLOOKUP(A2708,'Mapa de Preços'!$A$16:$J$2988,10,0)","v":"Falta Orçamento"},"",null,2681,null,0]
[2682,{"$f":"IF(VLOOKUP(A2709,'Mapa de Preços'!$A$16:$B$2988,2,0)=FALSE,\"Falta (U.M.)\",VLOOKUP(A2709,'Mapa de Preços'!$A$16:$B$2988,2,0))","v":"Falta (U.M.)"},"","",null,{"$f":"VLOOKUP(A2709,'Mapa de Preços'!$A$16:$J$2988,10,0)","v":"Falta Orçamento"},"",null,2682,null,0]
[2683,{"$f":"IF(VLOOKUP(A2710,'Mapa de Preços'!$A$16:$B$2988,2,0)=FALSE,\"Falta (U.M.)\",VLOOKUP(A2710,'Mapa de Preços'!$A$16:$B$2988,2,0))","v":"Falta (U.M.)"},"","",null,{"$f":"VLOOKUP(A2710,'Mapa de Preços'!$A$16:$J$2988,10,0)","v":"Falta Orçamento"},"",null,2683,null,0]
[2684,{"$f":"IF(VLOOKUP(A2711,'Mapa de Preços'!$A$16:$B$2988,2,0)=FALSE,\"Falta (U.M.)\",VLOOKUP(A2711,'Mapa de Preços'!$A$16:$B$2988,2,0))","v":"Falta (U.M.)"},"","",null,{"$f":"VLOOKUP(A2711,'Mapa de Preços'!$A$16:$J$2988,10,0)","v":"Falta Orçamento"},"",null,2684,null,0]
[2685,{"$f":"IF(VLOOKUP(A2712,'Mapa de Preços'!$A$16:$B$2988,2,0)=FALSE,\"Falta (U.M.)\",VLOOKUP(A2712,'Mapa de Preços'!$A$16:$B$2988,2,0))","v":"Falta (U.M.)"},"","",null,{"$f":"VLOOKUP(A2712,'Mapa de Preços'!$A$16:$J$2988,10,0)","v":"Falta Orçamento"},"",null,2685,null,0]
[2686,{"$f":"IF(VLOOKUP(A2713,'Mapa de Preços'!$A$16:$B$2988,2,0)=FALSE,\"Falta (U.M.)\",VLOOKUP(A2713,'Mapa de Preços'!$A$16:$B$2988,2,0))","v":"Falta (U.M.)"},"","",null,{"$f":"VLOOKUP(A2713,'Mapa de Preços'!$A$16:$J$2988,10,0)","v":"Falta Orçamento"},"",null,2686,null,0]
[2687,{"$f":"IF(VLOOKUP(A2714,'Mapa de Preços'!$A$16:$B$2988,2,0)=FALSE,\"Falta (U.M.)\",VLOOKUP(A2714,'Mapa de Preços'!$A$16:$B$2988,2,0))","v":"Falta (U.M.)"},"","",null,{"$f":"VLOOKUP(A2714,'Mapa de Preços'!$A$16:$J$2988,10,0)","v":"Falta Orçamento"},"",null,2687,null,0]
[2688,{"$f":"IF(VLOOKUP(A2715,'Mapa de Preços'!$A$16:$B$2988,2,0)=FALSE,\"Falta (U.M.)\",VLOOKUP(A2715,'Mapa de Preços'!$A$16:$B$2988,2,0))","v":"Falta (U.M.)"},"","",null,{"$f":"VLOOKUP(A2715,'Mapa de Preços'!$A$16:$J$2988,10,0)","v":"Falta Orçamento"},"",null,2688,null,0]
[2689,{"$f":"IF(VLOOKUP(A2716,'Mapa de Preços'!$A$16:$B$2988,2,0)=FALSE,\"Falta (U.M.)\",VLOOKUP(A2716,'Mapa de Preços'!$A$16:$B$2988,2,0))","v":"Falta (U.M.)"},"","",null,{"$f":"VLOOKUP(A2716,'Mapa de Preços'!$A$16:$J$2988,10,0)","v":"Falta Orçamento"},"",null,2689,null,{"$f":"SUM(L2716:AI2716)","v":0}]
[2690,{"$f":"IF(VLOOKUP(A2717,'Mapa de Preços'!$A$16:$B$2988,2,0)=FALSE,\"Falta (U.M.)\",VLOOKUP(A2717,'Mapa de Preços'!$A$16:$B$2988,2,0))","v":"Falta (U.M.)"},{"$f":"IF(J2717<>\"\",J2717,\"\")","v":""},{"$f":"IF(VLOOKUP(A2717,$I$28:$AI$3000,$G$26,FALSE)<>\"\",VLOOKUP(A2717,$I$28:$AI$3000,$G$26,FALSE),\"\")","v":""},null,{"$f":"VLOOKUP(A2717,'Mapa de Preços'!$A$16:$J$2988,10,0)","v":"Falta Orçamento"},{"$f":"IF(F2717=\"Falta Orçamento\",\"\",F2717*D2717)","v":""},null,2690,null,0]
[2691,{"$f":"IF(VLOOKUP(A2718,'Mapa de Preços'!$A$16:$B$2988,2,0)=FALSE,\"Falta (U.M.)\",VLOOKUP(A2718,'Mapa de Preços'!$A$16:$B$2988,2,0))","v":"Falta (U.M.)"},"","",null,{"$f":"VLOOKUP(A2718,'Mapa de Preços'!$A$16:$J$2988,10,0)","v":"Falta Orçamento"},"",null,2691,null,0]
[2692,{"$f":"IF(VLOOKUP(A2719,'Mapa de Preços'!$A$16:$B$2988,2,0)=FALSE,\"Falta (U.M.)\",VLOOKUP(A2719,'Mapa de Preços'!$A$16:$B$2988,2,0))","v":"Falta (U.M.)"},"","",null,{"$f":"VLOOKUP(A2719,'Mapa de Preços'!$A$16:$J$2988,10,0)","v":"Falta Orçamento"},"",null,2692,null,0]
[2693,{"$f":"IF(VLOOKUP(A2720,'Mapa de Preços'!$A$16:$B$2988,2,0)=FALSE,\"Falta (U.M.)\",VLOOKUP(A2720,'Mapa de Preços'!$A$16:$B$2988,2,0))","v":"Falta (U.M.)"},"","",null,{"$f":"VLOOKUP(A2720,'Mapa de Preços'!$A$16:$J$2988,10,0)","v":"Falta Orçamento"},"",null,2693,null,0]
[2694,{"$f":"IF(VLOOKUP(A2721,'Mapa de Preços'!$A$16:$B$2988,2,0)=FALSE,\"Falta (U.M.)\",VLOOKUP(A2721,'Mapa de Preços'!$A$16:$B$2988,2,0))","v":"Falta (U.M.)"},"","",null,{"$f":"VLOOKUP(A2721,'Mapa de Preços'!$A$16:$J$2988,10,0)","v":"Falta Orçamento"},"",null,2694,null,0]
[2695,{"$f":"IF(VLOOKUP(A2722,'Mapa de Preços'!$A$16:$B$2988,2,0)=FALSE,\"Falta (U.M.)\",VLOOKUP(A2722,'Mapa de Preços'!$A$16:$B$2988,2,0))","v":"Falta (U.M.)"},"","",null,{"$f":"VLOOKUP(A2722,'Mapa de Preços'!$A$16:$J$2988,10,0)","v":"Falta Orçamento"},"",null,2695,null,0]
[2696,{"$f":"IF(VLOOKUP(A2723,'Mapa de Preços'!$A$16:$B$2988,2,0)=FALSE,\"Falta (U.M.)\",VLOOKUP(A2723,'Mapa de Preços'!$A$16:$B$2988,2,0))","v":"Falta (U.M.)"},"","",null,{"$f":"VLOOKUP(A2723,'Mapa de Preços'!$A$16:$J$2988,10,0)","v":"Falta Orçamento"},"",null,2696,null,0]
[2697,{"$f":"IF(VLOOKUP(A2724,'Mapa de Preços'!$A$16:$B$2988,2,0)=FALSE,\"Falta (U.M.)\",VLOOKUP(A2724,'Mapa de Preços'!$A$16:$B$2988,2,0))","v":"Falta (U.M.)"},"","",null,{"$f":"VLOOKUP(A2724,'Mapa de Preços'!$A$16:$J$2988,10,0)","v":"Falta Orçamento"},"",null,2697,null,0]
[2698,{"$f":"IF(VLOOKUP(A2725,'Mapa de Preços'!$A$16:$B$2988,2,0)=FALSE,\"Falta (U.M.)\",VLOOKUP(A2725,'Mapa de Preços'!$A$16:$B$2988,2,0))","v":"Falta (U.M.)"},"","",null,{"$f":"VLOOKUP(A2725,'Mapa de Preços'!$A$16:$J$2988,10,0)","v":"Falta Orçamento"},"",null,2698,null,0]
[2699,{"$f":"IF(VLOOKUP(A2726,'Mapa de Preços'!$A$16:$B$2988,2,0)=FALSE,\"Falta (U.M.)\",VLOOKUP(A2726,'Mapa de Preços'!$A$16:$B$2988,2,0))","v":"Falta (U.M.)"},"","",null,{"$f":"VLOOKUP(A2726,'Mapa de Preços'!$A$16:$J$2988,10,0)","v":"Falta Orçamento"},"",null,2699,null,0]
[2700,{"$f":"IF(VLOOKUP(A2727,'Mapa de Preços'!$A$16:$B$2988,2,0)=FALSE,\"Falta (U.M.)\",VLOOKUP(A2727,'Mapa de Preços'!$A$16:$B$2988,2,0))","v":"Falta (U.M.)"},"","",null,{"$f":"VLOOKUP(A2727,'Mapa de Preços'!$A$16:$J$2988,10,0)","v":"Falta Orçamento"},"",null,2700,null,0]
[2701,{"$f":"IF(VLOOKUP(A2728,'Mapa de Preços'!$A$16:$B$2988,2,0)=FALSE,\"Falta (U.M.)\",VLOOKUP(A2728,'Mapa de Preços'!$A$16:$B$2988,2,0))","v":"Falta (U.M.)"},"","",null,{"$f":"VLOOKUP(A2728,'Mapa de Preços'!$A$16:$J$2988,10,0)","v":"Falta Orçamento"},"",null,2701,null,0]
[2702,{"$f":"IF(VLOOKUP(A2729,'Mapa de Preços'!$A$16:$B$2988,2,0)=FALSE,\"Falta (U.M.)\",VLOOKUP(A2729,'Mapa de Preços'!$A$16:$B$2988,2,0))","v":"Falta (U.M.)"},"","",null,{"$f":"VLOOKUP(A2729,'Mapa de Preços'!$A$16:$J$2988,10,0)","v":"Falta Orçamento"},"",null,2702,null,0]
[2703,{"$f":"IF(VLOOKUP(A2730,'Mapa de Preços'!$A$16:$B$2988,2,0)=FALSE,\"Falta (U.M.)\",VLOOKUP(A2730,'Mapa de Preços'!$A$16:$B$2988,2,0))","v":"Falta (U.M.)"},"","",null,{"$f":"VLOOKUP(A2730,'Mapa de Preços'!$A$16:$J$2988,10,0)","v":"Falta Orçamento"},"",null,2703,null,0]
[2704,{"$f":"IF(VLOOKUP(A2731,'Mapa de Preços'!$A$16:$B$2988,2,0)=FALSE,\"Falta (U.M.)\",VLOOKUP(A2731,'Mapa de Preços'!$A$16:$B$2988,2,0))","v":"Falta (U.M.)"},"","",null,{"$f":"VLOOKUP(A2731,'Mapa de Preços'!$A$16:$J$2988,10,0)","v":"Falta Orçamento"},"",null,2704,null,0]
[2705,{"$f":"IF(VLOOKUP(A2732,'Mapa de Preços'!$A$16:$B$2988,2,0)=FALSE,\"Falta (U.M.)\",VLOOKUP(A2732,'Mapa de Preços'!$A$16:$B$2988,2,0))","v":"Falta (U.M.)"},"","",null,{"$f":"VLOOKUP(A2732,'Mapa de Preços'!$A$16:$J$2988,10,0)","v":"Falta Orçamento"},"",null,2705,null,0]
[2706,{"$f":"IF(VLOOKUP(A2733,'Mapa de Preços'!$A$16:$B$2988,2,0)=FALSE,\"Falta (U.M.)\",VLOOKUP(A2733,'Mapa de Preços'!$A$16:$B$2988,2,0))","v":"Falta (U.M.)"},"","",null,{"$f":"VLOOKUP(A2733,'Mapa de Preços'!$A$16:$J$2988,10,0)","v":"Falta Orçamento"},"",null,2706,null,0]
[2707,{"$f":"IF(VLOOKUP(A2734,'Mapa de Preços'!$A$16:$B$2988,2,0)=FALSE,\"Falta (U.M.)\",VLOOKUP(A2734,'Mapa de Preços'!$A$16:$B$2988,2,0))","v":"Falta (U.M.)"},"","",null,{"$f":"VLOOKUP(A2734,'Mapa de Preços'!$A$16:$J$2988,10,0)","v":"Falta Orçamento"},"",null,2707,null,0]
[2708,{"$f":"IF(VLOOKUP(A2735,'Mapa de Preços'!$A$16:$B$2988,2,0)=FALSE,\"Falta (U.M.)\",VLOOKUP(A2735,'Mapa de Preços'!$A$16:$B$2988,2,0))","v":"Falta (U.M.)"},"","",null,{"$f":"VLOOKUP(A2735,'Mapa de Preços'!$A$16:$J$2988,10,0)","v":"Falta Orçamento"},"",null,2708,null,0]
[2709,{"$f":"IF(VLOOKUP(A2736,'Mapa de Preços'!$A$16:$B$2988,2,0)=FALSE,\"Falta (U.M.)\",VLOOKUP(A2736,'Mapa de Preços'!$A$16:$B$2988,2,0))","v":"Falta (U.M.)"},"","",null,{"$f":"VLOOKUP(A2736,'Mapa de Preços'!$A$16:$J$2988,10,0)","v":"Falta Orçamento"},"",null,2709,null,0]
[2710,{"$f":"IF(VLOOKUP(A2737,'Mapa de Preços'!$A$16:$B$2988,2,0)=FALSE,\"Falta (U.M.)\",VLOOKUP(A2737,'Mapa de Preços'!$A$16:$B$2988,2,0))","v":"Falta (U.M.)"},"","",null,{"$f":"VLOOKUP(A2737,'Mapa de Preços'!$A$16:$J$2988,10,0)","v":"Falta Orçamento"},"",null,2710,null,0]
[2711,{"$f":"IF(VLOOKUP(A2738,'Mapa de Preços'!$A$16:$B$2988,2,0)=FALSE,\"Falta (U.M.)\",VLOOKUP(A2738,'Mapa de Preços'!$A$16:$B$2988,2,0))","v":"Falta (U.M.)"},"","",null,{"$f":"VLOOKUP(A2738,'Mapa de Preços'!$A$16:$J$2988,10,0)","v":"Falta Orçamento"},"",null,2711,null,0]
[2712,{"$f":"IF(VLOOKUP(A2739,'Mapa de Preços'!$A$16:$B$2988,2,0)=FALSE,\"Falta (U.M.)\",VLOOKUP(A2739,'Mapa de Preços'!$A$16:$B$2988,2,0))","v":"Falta (U.M.)"},"","",null,{"$f":"VLOOKUP(A2739,'Mapa de Preços'!$A$16:$J$2988,10,0)","v":"Falta Orçamento"},"",null,2712,null,0]
[2713,{"$f":"IF(VLOOKUP(A2740,'Mapa de Preços'!$A$16:$B$2988,2,0)=FALSE,\"Falta (U.M.)\",VLOOKUP(A2740,'Mapa de Preços'!$A$16:$B$2988,2,0))","v":"Falta (U.M.)"},"","",null,{"$f":"VLOOKUP(A2740,'Mapa de Preços'!$A$16:$J$2988,10,0)","v":"Falta Orçamento"},"",null,2713,null,0]
[2714,{"$f":"IF(VLOOKUP(A2741,'Mapa de Preços'!$A$16:$B$2988,2,0)=FALSE,\"Falta (U.M.)\",VLOOKUP(A2741,'Mapa de Preços'!$A$16:$B$2988,2,0))","v":"Falta (U.M.)"},"","",null,{"$f":"VLOOKUP(A2741,'Mapa de Preços'!$A$16:$J$2988,10,0)","v":"Falta Orçamento"},"",null,2714,null,0]
[2715,{"$f":"IF(VLOOKUP(A2742,'Mapa de Preços'!$A$16:$B$2988,2,0)=FALSE,\"Falta (U.M.)\",VLOOKUP(A2742,'Mapa de Preços'!$A$16:$B$2988,2,0))","v":"Falta (U.M.)"},"","",null,{"$f":"VLOOKUP(A2742,'Mapa de Preços'!$A$16:$J$2988,10,0)","v":"Falta Orçamento"},"",null,2715,null,0]
[2716,{"$f":"IF(VLOOKUP(A2743,'Mapa de Preços'!$A$16:$B$2988,2,0)=FALSE,\"Falta (U.M.)\",VLOOKUP(A2743,'Mapa de Preços'!$A$16:$B$2988,2,0))","v":"Falta (U.M.)"},"","",null,{"$f":"VLOOKUP(A2743,'Mapa de Preços'!$A$16:$J$2988,10,0)","v":"Falta Orçamento"},"",null,2716,null,0]
[2717,{"$f":"IF(VLOOKUP(A2744,'Mapa de Preços'!$A$16:$B$2988,2,0)=FALSE,\"Falta (U.M.)\",VLOOKUP(A2744,'Mapa de Preços'!$A$16:$B$2988,2,0))","v":"Falta (U.M.)"},"","",null,{"$f":"VLOOKUP(A2744,'Mapa de Preços'!$A$16:$J$2988,10,0)","v":"Falta Orçamento"},"",null,2717,null,0]
[2718,{"$f":"IF(VLOOKUP(A2745,'Mapa de Preços'!$A$16:$B$2988,2,0)=FALSE,\"Falta (U.M.)\",VLOOKUP(A2745,'Mapa de Preços'!$A$16:$B$2988,2,0))","v":"Falta (U.M.)"},"","",null,{"$f":"VLOOKUP(A2745,'Mapa de Preços'!$A$16:$J$2988,10,0)","v":"Falta Orçamento"},"",null,2718,null,0]
[2719,{"$f":"IF(VLOOKUP(A2746,'Mapa de Preços'!$A$16:$B$2988,2,0)=FALSE,\"Falta (U.M.)\",VLOOKUP(A2746,'Mapa de Preços'!$A$16:$B$2988,2,0))","v":"Falta (U.M.)"},"","",null,{"$f":"VLOOKUP(A2746,'Mapa de Preços'!$A$16:$J$2988,10,0)","v":"Falta Orçamento"},"",null,2719,null,0]
[2720,{"$f":"IF(VLOOKUP(A2747,'Mapa de Preços'!$A$16:$B$2988,2,0)=FALSE,\"Falta (U.M.)\",VLOOKUP(A2747,'Mapa de Preços'!$A$16:$B$2988,2,0))","v":"Falta (U.M.)"},"","",null,{"$f":"VLOOKUP(A2747,'Mapa de Preços'!$A$16:$J$2988,10,0)","v":"Falta Orçamento"},"",null,2720,null,0]
[2721,{"$f":"IF(VLOOKUP(A2748,'Mapa de Preços'!$A$16:$B$2988,2,0)=FALSE,\"Falta (U.M.)\",VLOOKUP(A2748,'Mapa de Preços'!$A$16:$B$2988,2,0))","v":"Falta (U.M.)"},"","",null,{"$f":"VLOOKUP(A2748,'Mapa de Preços'!$A$16:$J$2988,10,0)","v":"Falta Orçamento"},"",null,2721,null,0]
[2722,{"$f":"IF(VLOOKUP(A2749,'Mapa de Preços'!$A$16:$B$2988,2,0)=FALSE,\"Falta (U.M.)\",VLOOKUP(A2749,'Mapa de Preços'!$A$16:$B$2988,2,0))","v":"Falta (U.M.)"},"","",null,{"$f":"VLOOKUP(A2749,'Mapa de Preços'!$A$16:$J$2988,10,0)","v":"Falta Orçamento"},"",null,2722,null,0]
[2723,{"$f":"IF(VLOOKUP(A2750,'Mapa de Preços'!$A$16:$B$2988,2,0)=FALSE,\"Falta (U.M.)\",VLOOKUP(A2750,'Mapa de Preços'!$A$16:$B$2988,2,0))","v":"Falta (U.M.)"},"","",null,{"$f":"VLOOKUP(A2750,'Mapa de Preços'!$A$16:$J$2988,10,0)","v":"Falta Orçamento"},"",null,2723,null,0]
[2724,{"$f":"IF(VLOOKUP(A2751,'Mapa de Preços'!$A$16:$B$2988,2,0)=FALSE,\"Falta (U.M.)\",VLOOKUP(A2751,'Mapa de Preços'!$A$16:$B$2988,2,0))","v":"Falta (U.M.)"},"","",null,{"$f":"VLOOKUP(A2751,'Mapa de Preços'!$A$16:$J$2988,10,0)","v":"Falta Orçamento"},"",null,2724,null,0]
[2725,{"$f":"IF(VLOOKUP(A2752,'Mapa de Preços'!$A$16:$B$2988,2,0)=FALSE,\"Falta (U.M.)\",VLOOKUP(A2752,'Mapa de Preços'!$A$16:$B$2988,2,0))","v":"Falta (U.M.)"},"","",null,{"$f":"VLOOKUP(A2752,'Mapa de Preços'!$A$16:$J$2988,10,0)","v":"Falta Orçamento"},"",null,2725,null,0]
[2726,{"$f":"IF(VLOOKUP(A2753,'Mapa de Preços'!$A$16:$B$2988,2,0)=FALSE,\"Falta (U.M.)\",VLOOKUP(A2753,'Mapa de Preços'!$A$16:$B$2988,2,0))","v":"Falta (U.M.)"},"","",null,{"$f":"VLOOKUP(A2753,'Mapa de Preços'!$A$16:$J$2988,10,0)","v":"Falta Orçamento"},"",null,2726,null,0]
[2727,{"$f":"IF(VLOOKUP(A2754,'Mapa de Preços'!$A$16:$B$2988,2,0)=FALSE,\"Falta (U.M.)\",VLOOKUP(A2754,'Mapa de Preços'!$A$16:$B$2988,2,0))","v":"Falta (U.M.)"},"","",null,{"$f":"VLOOKUP(A2754,'Mapa de Preços'!$A$16:$J$2988,10,0)","v":"Falta Orçamento"},"",null,2727,null,0]
[2728,{"$f":"IF(VLOOKUP(A2755,'Mapa de Preços'!$A$16:$B$2988,2,0)=FALSE,\"Falta (U.M.)\",VLOOKUP(A2755,'Mapa de Preços'!$A$16:$B$2988,2,0))","v":"Falta (U.M.)"},"","",null,{"$f":"VLOOKUP(A2755,'Mapa de Preços'!$A$16:$J$2988,10,0)","v":"Falta Orçamento"},"",null,2728,null,0]
[2729,{"$f":"IF(VLOOKUP(A2756,'Mapa de Preços'!$A$16:$B$2988,2,0)=FALSE,\"Falta (U.M.)\",VLOOKUP(A2756,'Mapa de Preços'!$A$16:$B$2988,2,0))","v":"Falta (U.M.)"},"","",null,{"$f":"VLOOKUP(A2756,'Mapa de Preços'!$A$16:$J$2988,10,0)","v":"Falta Orçamento"},"",null,2729,null,0]
[2730,{"$f":"IF(VLOOKUP(A2757,'Mapa de Preços'!$A$16:$B$2988,2,0)=FALSE,\"Falta (U.M.)\",VLOOKUP(A2757,'Mapa de Preços'!$A$16:$B$2988,2,0))","v":"Falta (U.M.)"},"","",null,{"$f":"VLOOKUP(A2757,'Mapa de Preços'!$A$16:$J$2988,10,0)","v":"Falta Orçamento"},"",null,2730,null,0]
[2731,{"$f":"IF(VLOOKUP(A2758,'Mapa de Preços'!$A$16:$B$2988,2,0)=FALSE,\"Falta (U.M.)\",VLOOKUP(A2758,'Mapa de Preços'!$A$16:$B$2988,2,0))","v":"Falta (U.M.)"},"","",null,{"$f":"VLOOKUP(A2758,'Mapa de Preços'!$A$16:$J$2988,10,0)","v":"Falta Orçamento"},"",null,2731,null,0]
[2732,{"$f":"IF(VLOOKUP(A2759,'Mapa de Preços'!$A$16:$B$2988,2,0)=FALSE,\"Falta (U.M.)\",VLOOKUP(A2759,'Mapa de Preços'!$A$16:$B$2988,2,0))","v":"Falta (U.M.)"},"","",null,{"$f":"VLOOKUP(A2759,'Mapa de Preços'!$A$16:$J$2988,10,0)","v":"Falta Orçamento"},"",null,2732,null,0]
[2733,{"$f":"IF(VLOOKUP(A2760,'Mapa de Preços'!$A$16:$B$2988,2,0)=FALSE,\"Falta (U.M.)\",VLOOKUP(A2760,'Mapa de Preços'!$A$16:$B$2988,2,0))","v":"Falta (U.M.)"},"","",null,{"$f":"VLOOKUP(A2760,'Mapa de Preços'!$A$16:$J$2988,10,0)","v":"Falta Orçamento"},"",null,2733,null,0]
[2734,{"$f":"IF(VLOOKUP(A2761,'Mapa de Preços'!$A$16:$B$2988,2,0)=FALSE,\"Falta (U.M.)\",VLOOKUP(A2761,'Mapa de Preços'!$A$16:$B$2988,2,0))","v":"Falta (U.M.)"},"","",null,{"$f":"VLOOKUP(A2761,'Mapa de Preços'!$A$16:$J$2988,10,0)","v":"Falta Orçamento"},"",null,2734,null,0]
[2735,{"$f":"IF(VLOOKUP(A2762,'Mapa de Preços'!$A$16:$B$2988,2,0)=FALSE,\"Falta (U.M.)\",VLOOKUP(A2762,'Mapa de Preços'!$A$16:$B$2988,2,0))","v":"Falta (U.M.)"},"","",null,{"$f":"VLOOKUP(A2762,'Mapa de Preços'!$A$16:$J$2988,10,0)","v":"Falta Orçamento"},"",null,2735,null,0]
[2736,{"$f":"IF(VLOOKUP(A2763,'Mapa de Preços'!$A$16:$B$2988,2,0)=FALSE,\"Falta (U.M.)\",VLOOKUP(A2763,'Mapa de Preços'!$A$16:$B$2988,2,0))","v":"Falta (U.M.)"},"","",null,{"$f":"VLOOKUP(A2763,'Mapa de Preços'!$A$16:$J$2988,10,0)","v":"Falta Orçamento"},"",null,2736,null,0]
[2737,{"$f":"IF(VLOOKUP(A2764,'Mapa de Preços'!$A$16:$B$2988,2,0)=FALSE,\"Falta (U.M.)\",VLOOKUP(A2764,'Mapa de Preços'!$A$16:$B$2988,2,0))","v":"Falta (U.M.)"},"","",null,{"$f":"VLOOKUP(A2764,'Mapa de Preços'!$A$16:$J$2988,10,0)","v":"Falta Orçamento"},"",null,2737,null,0]
[2738,{"$f":"IF(VLOOKUP(A2765,'Mapa de Preços'!$A$16:$B$2988,2,0)=FALSE,\"Falta (U.M.)\",VLOOKUP(A2765,'Mapa de Preços'!$A$16:$B$2988,2,0))","v":"Falta (U.M.)"},"","",null,{"$f":"VLOOKUP(A2765,'Mapa de Preços'!$A$16:$J$2988,10,0)","v":"Falta Orçamento"},"",null,2738,null,0]
[2739,{"$f":"IF(VLOOKUP(A2766,'Mapa de Preços'!$A$16:$B$2988,2,0)=FALSE,\"Falta (U.M.)\",VLOOKUP(A2766,'Mapa de Preços'!$A$16:$B$2988,2,0))","v":"Falta (U.M.)"},"","",null,{"$f":"VLOOKUP(A2766,'Mapa de Preços'!$A$16:$J$2988,10,0)","v":"Falta Orçamento"},"",null,2739,null,0]
[2740,{"$f":"IF(VLOOKUP(A2767,'Mapa de Preços'!$A$16:$B$2988,2,0)=FALSE,\"Falta (U.M.)\",VLOOKUP(A2767,'Mapa de Preços'!$A$16:$B$2988,2,0))","v":"Falta (U.M.)"},"","",null,{"$f":"VLOOKUP(A2767,'Mapa de Preços'!$A$16:$J$2988,10,0)","v":"Falta Orçamento"},"",null,2740,null,0]
[2741,{"$f":"IF(VLOOKUP(A2768,'Mapa de Preços'!$A$16:$B$2988,2,0)=FALSE,\"Falta (U.M.)\",VLOOKUP(A2768,'Mapa de Preços'!$A$16:$B$2988,2,0))","v":"Falta (U.M.)"},"","",null,{"$f":"VLOOKUP(A2768,'Mapa de Preços'!$A$16:$J$2988,10,0)","v":"Falta Orçamento"},"",null,2741,null,0]
[2742,{"$f":"IF(VLOOKUP(A2769,'Mapa de Preços'!$A$16:$B$2988,2,0)=FALSE,\"Falta (U.M.)\",VLOOKUP(A2769,'Mapa de Preços'!$A$16:$B$2988,2,0))","v":"Falta (U.M.)"},"","",null,{"$f":"VLOOKUP(A2769,'Mapa de Preços'!$A$16:$J$2988,10,0)","v":"Falta Orçamento"},"",null,2742,null,0]
[2743,{"$f":"IF(VLOOKUP(A2770,'Mapa de Preços'!$A$16:$B$2988,2,0)=FALSE,\"Falta (U.M.)\",VLOOKUP(A2770,'Mapa de Preços'!$A$16:$B$2988,2,0))","v":"Falta (U.M.)"},"","",null,{"$f":"VLOOKUP(A2770,'Mapa de Preços'!$A$16:$J$2988,10,0)","v":"Falta Orçamento"},"",null,2743,null,0]
[2744,{"$f":"IF(VLOOKUP(A2771,'Mapa de Preços'!$A$16:$B$2988,2,0)=FALSE,\"Falta (U.M.)\",VLOOKUP(A2771,'Mapa de Preços'!$A$16:$B$2988,2,0))","v":"Falta (U.M.)"},"","",null,{"$f":"VLOOKUP(A2771,'Mapa de Preços'!$A$16:$J$2988,10,0)","v":"Falta Orçamento"},"",null,2744,null,0]
[2745,{"$f":"IF(VLOOKUP(A2772,'Mapa de Preços'!$A$16:$B$2988,2,0)=FALSE,\"Falta (U.M.)\",VLOOKUP(A2772,'Mapa de Preços'!$A$16:$B$2988,2,0))","v":"Falta (U.M.)"},"","",null,{"$f":"VLOOKUP(A2772,'Mapa de Preços'!$A$16:$J$2988,10,0)","v":"Falta Orçamento"},"",null,2745,null,0]
[2746,{"$f":"IF(VLOOKUP(A2773,'Mapa de Preços'!$A$16:$B$2988,2,0)=FALSE,\"Falta (U.M.)\",VLOOKUP(A2773,'Mapa de Preços'!$A$16:$B$2988,2,0))","v":"Falta (U.M.)"},"","",null,{"$f":"VLOOKUP(A2773,'Mapa de Preços'!$A$16:$J$2988,10,0)","v":"Falta Orçamento"},"",null,2746,null,0]
[2747,{"$f":"IF(VLOOKUP(A2774,'Mapa de Preços'!$A$16:$B$2988,2,0)=FALSE,\"Falta (U.M.)\",VLOOKUP(A2774,'Mapa de Preços'!$A$16:$B$2988,2,0))","v":"Falta (U.M.)"},"","",null,{"$f":"VLOOKUP(A2774,'Mapa de Preços'!$A$16:$J$2988,10,0)","v":"Falta Orçamento"},"",null,2747,null,0]
[2748,{"$f":"IF(VLOOKUP(A2775,'Mapa de Preços'!$A$16:$B$2988,2,0)=FALSE,\"Falta (U.M.)\",VLOOKUP(A2775,'Mapa de Preços'!$A$16:$B$2988,2,0))","v":"Falta (U.M.)"},"","",null,{"$f":"VLOOKUP(A2775,'Mapa de Preços'!$A$16:$J$2988,10,0)","v":"Falta Orçamento"},"",null,2748,null,0]
[2749,{"$f":"IF(VLOOKUP(A2776,'Mapa de Preços'!$A$16:$B$2988,2,0)=FALSE,\"Falta (U.M.)\",VLOOKUP(A2776,'Mapa de Preços'!$A$16:$B$2988,2,0))","v":"Falta (U.M.)"},"","",null,{"$f":"VLOOKUP(A2776,'Mapa de Preços'!$A$16:$J$2988,10,0)","v":"Falta Orçamento"},"",null,2749,null,0]
[2750,{"$f":"IF(VLOOKUP(A2777,'Mapa de Preços'!$A$16:$B$2988,2,0)=FALSE,\"Falta (U.M.)\",VLOOKUP(A2777,'Mapa de Preços'!$A$16:$B$2988,2,0))","v":"Falta (U.M.)"},"","",null,{"$f":"VLOOKUP(A2777,'Mapa de Preços'!$A$16:$J$2988,10,0)","v":"Falta Orçamento"},"",null,2750,null,0]
[2751,{"$f":"IF(VLOOKUP(A2778,'Mapa de Preços'!$A$16:$B$2988,2,0)=FALSE,\"Falta (U.M.)\",VLOOKUP(A2778,'Mapa de Preços'!$A$16:$B$2988,2,0))","v":"Falta (U.M.)"},"","",null,{"$f":"VLOOKUP(A2778,'Mapa de Preços'!$A$16:$J$2988,10,0)","v":"Falta Orçamento"},"",null,2751,null,0]
[2752,{"$f":"IF(VLOOKUP(A2779,'Mapa de Preços'!$A$16:$B$2988,2,0)=FALSE,\"Falta (U.M.)\",VLOOKUP(A2779,'Mapa de Preços'!$A$16:$B$2988,2,0))","v":"Falta (U.M.)"},"","",null,{"$f":"VLOOKUP(A2779,'Mapa de Preços'!$A$16:$J$2988,10,0)","v":"Falta Orçamento"},"",null,2752,null,0]
[2753,{"$f":"IF(VLOOKUP(A2780,'Mapa de Preços'!$A$16:$B$2988,2,0)=FALSE,\"Falta (U.M.)\",VLOOKUP(A2780,'Mapa de Preços'!$A$16:$B$2988,2,0))","v":"Falta (U.M.)"},"","",null,{"$f":"VLOOKUP(A2780,'Mapa de Preços'!$A$16:$J$2988,10,0)","v":"Falta Orçamento"},"",null,2753,null,{"$f":"SUM(L2780:AI2780)","v":0}]
[2754,{"$f":"IF(VLOOKUP(A2781,'Mapa de Preços'!$A$16:$B$2988,2,0)=FALSE,\"Falta (U.M.)\",VLOOKUP(A2781,'Mapa de Preços'!$A$16:$B$2988,2,0))","v":"Falta (U.M.)"},{"$f":"IF(J2781<>\"\",J2781,\"\")","v":""},{"$f":"IF(VLOOKUP(A2781,$I$28:$AI$3000,$G$26,FALSE)<>\"\",VLOOKUP(A2781,$I$28:$AI$3000,$G$26,FALSE),\"\")","v":""},null,{"$f":"VLOOKUP(A2781,'Mapa de Preços'!$A$16:$J$2988,10,0)","v":"Falta Orçamento"},{"$f":"IF(F2781=\"Falta Orçamento\",\"\",F2781*D2781)","v":""},null,2754,null,0]
[2755,{"$f":"IF(VLOOKUP(A2782,'Mapa de Preços'!$A$16:$B$2988,2,0)=FALSE,\"Falta (U.M.)\",VLOOKUP(A2782,'Mapa de Preços'!$A$16:$B$2988,2,0))","v":"Falta (U.M.)"},"","",null,{"$f":"VLOOKUP(A2782,'Mapa de Preços'!$A$16:$J$2988,10,0)","v":"Falta Orçamento"},"",null,2755,null,0]
[2756,{"$f":"IF(VLOOKUP(A2783,'Mapa de Preços'!$A$16:$B$2988,2,0)=FALSE,\"Falta (U.M.)\",VLOOKUP(A2783,'Mapa de Preços'!$A$16:$B$2988,2,0))","v":"Falta (U.M.)"},"","",null,{"$f":"VLOOKUP(A2783,'Mapa de Preços'!$A$16:$J$2988,10,0)","v":"Falta Orçamento"},"",null,2756,null,0]
[2757,{"$f":"IF(VLOOKUP(A2784,'Mapa de Preços'!$A$16:$B$2988,2,0)=FALSE,\"Falta (U.M.)\",VLOOKUP(A2784,'Mapa de Preços'!$A$16:$B$2988,2,0))","v":"Falta (U.M.)"},"","",null,{"$f":"VLOOKUP(A2784,'Mapa de Preços'!$A$16:$J$2988,10,0)","v":"Falta Orçamento"},"",null,2757,null,0]
[2758,{"$f":"IF(VLOOKUP(A2785,'Mapa de Preços'!$A$16:$B$2988,2,0)=FALSE,\"Falta (U.M.)\",VLOOKUP(A2785,'Mapa de Preços'!$A$16:$B$2988,2,0))","v":"Falta (U.M.)"},"","",null,{"$f":"VLOOKUP(A2785,'Mapa de Preços'!$A$16:$J$2988,10,0)","v":"Falta Orçamento"},"",null,2758,null,0]
[2759,{"$f":"IF(VLOOKUP(A2786,'Mapa de Preços'!$A$16:$B$2988,2,0)=FALSE,\"Falta (U.M.)\",VLOOKUP(A2786,'Mapa de Preços'!$A$16:$B$2988,2,0))","v":"Falta (U.M.)"},"","",null,{"$f":"VLOOKUP(A2786,'Mapa de Preços'!$A$16:$J$2988,10,0)","v":"Falta Orçamento"},"",null,2759,null,0]
[2760,{"$f":"IF(VLOOKUP(A2787,'Mapa de Preços'!$A$16:$B$2988,2,0)=FALSE,\"Falta (U.M.)\",VLOOKUP(A2787,'Mapa de Preços'!$A$16:$B$2988,2,0))","v":"Falta (U.M.)"},"","",null,{"$f":"VLOOKUP(A2787,'Mapa de Preços'!$A$16:$J$2988,10,0)","v":"Falta Orçamento"},"",null,2760,null,0]
[2761,{"$f":"IF(VLOOKUP(A2788,'Mapa de Preços'!$A$16:$B$2988,2,0)=FALSE,\"Falta (U.M.)\",VLOOKUP(A2788,'Mapa de Preços'!$A$16:$B$2988,2,0))","v":"Falta (U.M.)"},"","",null,{"$f":"VLOOKUP(A2788,'Mapa de Preços'!$A$16:$J$2988,10,0)","v":"Falta Orçamento"},"",null,2761,null,0]
[2762,{"$f":"IF(VLOOKUP(A2789,'Mapa de Preços'!$A$16:$B$2988,2,0)=FALSE,\"Falta (U.M.)\",VLOOKUP(A2789,'Mapa de Preços'!$A$16:$B$2988,2,0))","v":"Falta (U.M.)"},"","",null,{"$f":"VLOOKUP(A2789,'Mapa de Preços'!$A$16:$J$2988,10,0)","v":"Falta Orçamento"},"",null,2762,null,0]
[2763,{"$f":"IF(VLOOKUP(A2790,'Mapa de Preços'!$A$16:$B$2988,2,0)=FALSE,\"Falta (U.M.)\",VLOOKUP(A2790,'Mapa de Preços'!$A$16:$B$2988,2,0))","v":"Falta (U.M.)"},"","",null,{"$f":"VLOOKUP(A2790,'Mapa de Preços'!$A$16:$J$2988,10,0)","v":"Falta Orçamento"},"",null,2763,null,0]
[2764,{"$f":"IF(VLOOKUP(A2791,'Mapa de Preços'!$A$16:$B$2988,2,0)=FALSE,\"Falta (U.M.)\",VLOOKUP(A2791,'Mapa de Preços'!$A$16:$B$2988,2,0))","v":"Falta (U.M.)"},"","",null,{"$f":"VLOOKUP(A2791,'Mapa de Preços'!$A$16:$J$2988,10,0)","v":"Falta Orçamento"},"",null,2764,null,0]
[2765,{"$f":"IF(VLOOKUP(A2792,'Mapa de Preços'!$A$16:$B$2988,2,0)=FALSE,\"Falta (U.M.)\",VLOOKUP(A2792,'Mapa de Preços'!$A$16:$B$2988,2,0))","v":"Falta (U.M.)"},"","",null,{"$f":"VLOOKUP(A2792,'Mapa de Preços'!$A$16:$J$2988,10,0)","v":"Falta Orçamento"},"",null,2765,null,0]
[2766,{"$f":"IF(VLOOKUP(A2793,'Mapa de Preços'!$A$16:$B$2988,2,0)=FALSE,\"Falta (U.M.)\",VLOOKUP(A2793,'Mapa de Preços'!$A$16:$B$2988,2,0))","v":"Falta (U.M.)"},"","",null,{"$f":"VLOOKUP(A2793,'Mapa de Preços'!$A$16:$J$2988,10,0)","v":"Falta Orçamento"},"",null,2766,null,0]
[2767,{"$f":"IF(VLOOKUP(A2794,'Mapa de Preços'!$A$16:$B$2988,2,0)=FALSE,\"Falta (U.M.)\",VLOOKUP(A2794,'Mapa de Preços'!$A$16:$B$2988,2,0))","v":"Falta (U.M.)"},"","",null,{"$f":"VLOOKUP(A2794,'Mapa de Preços'!$A$16:$J$2988,10,0)","v":"Falta Orçamento"},"",null,2767,null,0]
[2768,{"$f":"IF(VLOOKUP(A2795,'Mapa de Preços'!$A$16:$B$2988,2,0)=FALSE,\"Falta (U.M.)\",VLOOKUP(A2795,'Mapa de Preços'!$A$16:$B$2988,2,0))","v":"Falta (U.M.)"},"","",null,{"$f":"VLOOKUP(A2795,'Mapa de Preços'!$A$16:$J$2988,10,0)","v":"Falta Orçamento"},"",null,2768,null,0]
[2769,{"$f":"IF(VLOOKUP(A2796,'Mapa de Preços'!$A$16:$B$2988,2,0)=FALSE,\"Falta (U.M.)\",VLOOKUP(A2796,'Mapa de Preços'!$A$16:$B$2988,2,0))","v":"Falta (U.M.)"},"","",null,{"$f":"VLOOKUP(A2796,'Mapa de Preços'!$A$16:$J$2988,10,0)","v":"Falta Orçamento"},"",null,2769,null,0]
[2770,{"$f":"IF(VLOOKUP(A2797,'Mapa de Preços'!$A$16:$B$2988,2,0)=FALSE,\"Falta (U.M.)\",VLOOKUP(A2797,'Mapa de Preços'!$A$16:$B$2988,2,0))","v":"Falta (U.M.)"},"","",null,{"$f":"VLOOKUP(A2797,'Mapa de Preços'!$A$16:$J$2988,10,0)","v":"Falta Orçamento"},"",null,2770,null,0]
[2771,{"$f":"IF(VLOOKUP(A2798,'Mapa de Preços'!$A$16:$B$2988,2,0)=FALSE,\"Falta (U.M.)\",VLOOKUP(A2798,'Mapa de Preços'!$A$16:$B$2988,2,0))","v":"Falta (U.M.)"},"","",null,{"$f":"VLOOKUP(A2798,'Mapa de Preços'!$A$16:$J$2988,10,0)","v":"Falta Orçamento"},"",null,2771,null,0]
[2772,{"$f":"IF(VLOOKUP(A2799,'Mapa de Preços'!$A$16:$B$2988,2,0)=FALSE,\"Falta (U.M.)\",VLOOKUP(A2799,'Mapa de Preços'!$A$16:$B$2988,2,0))","v":"Falta (U.M.)"},"","",null,{"$f":"VLOOKUP(A2799,'Mapa de Preços'!$A$16:$J$2988,10,0)","v":"Falta Orçamento"},"",null,2772,null,0]
[2773,{"$f":"IF(VLOOKUP(A2800,'Mapa de Preços'!$A$16:$B$2988,2,0)=FALSE,\"Falta (U.M.)\",VLOOKUP(A2800,'Mapa de Preços'!$A$16:$B$2988,2,0))","v":"Falta (U.M.)"},"","",null,{"$f":"VLOOKUP(A2800,'Mapa de Preços'!$A$16:$J$2988,10,0)","v":"Falta Orçamento"},"",null,2773,null,0]
[2774,{"$f":"IF(VLOOKUP(A2801,'Mapa de Preços'!$A$16:$B$2988,2,0)=FALSE,\"Falta (U.M.)\",VLOOKUP(A2801,'Mapa de Preços'!$A$16:$B$2988,2,0))","v":"Falta (U.M.)"},"","",null,{"$f":"VLOOKUP(A2801,'Mapa de Preços'!$A$16:$J$2988,10,0)","v":"Falta Orçamento"},"",null,2774,null,0]
[2775,{"$f":"IF(VLOOKUP(A2802,'Mapa de Preços'!$A$16:$B$2988,2,0)=FALSE,\"Falta (U.M.)\",VLOOKUP(A2802,'Mapa de Preços'!$A$16:$B$2988,2,0))","v":"Falta (U.M.)"},"","",null,{"$f":"VLOOKUP(A2802,'Mapa de Preços'!$A$16:$J$2988,10,0)","v":"Falta Orçamento"},"",null,2775,null,0]
[2776,{"$f":"IF(VLOOKUP(A2803,'Mapa de Preços'!$A$16:$B$2988,2,0)=FALSE,\"Falta (U.M.)\",VLOOKUP(A2803,'Mapa de Preços'!$A$16:$B$2988,2,0))","v":"Falta (U.M.)"},"","",null,{"$f":"VLOOKUP(A2803,'Mapa de Preços'!$A$16:$J$2988,10,0)","v":"Falta Orçamento"},"",null,2776,null,0]
[2777,{"$f":"IF(VLOOKUP(A2804,'Mapa de Preços'!$A$16:$B$2988,2,0)=FALSE,\"Falta (U.M.)\",VLOOKUP(A2804,'Mapa de Preços'!$A$16:$B$2988,2,0))","v":"Falta (U.M.)"},"","",null,{"$f":"VLOOKUP(A2804,'Mapa de Preços'!$A$16:$J$2988,10,0)","v":"Falta Orçamento"},"",null,2777,null,0]
[2778,{"$f":"IF(VLOOKUP(A2805,'Mapa de Preços'!$A$16:$B$2988,2,0)=FALSE,\"Falta (U.M.)\",VLOOKUP(A2805,'Mapa de Preços'!$A$16:$B$2988,2,0))","v":"Falta (U.M.)"},"","",null,{"$f":"VLOOKUP(A2805,'Mapa de Preços'!$A$16:$J$2988,10,0)","v":"Falta Orçamento"},"",null,2778,null,0]
[2779,{"$f":"IF(VLOOKUP(A2806,'Mapa de Preços'!$A$16:$B$2988,2,0)=FALSE,\"Falta (U.M.)\",VLOOKUP(A2806,'Mapa de Preços'!$A$16:$B$2988,2,0))","v":"Falta (U.M.)"},"","",null,{"$f":"VLOOKUP(A2806,'Mapa de Preços'!$A$16:$J$2988,10,0)","v":"Falta Orçamento"},"",null,2779,null,0]
[2780,{"$f":"IF(VLOOKUP(A2807,'Mapa de Preços'!$A$16:$B$2988,2,0)=FALSE,\"Falta (U.M.)\",VLOOKUP(A2807,'Mapa de Preços'!$A$16:$B$2988,2,0))","v":"Falta (U.M.)"},"","",null,{"$f":"VLOOKUP(A2807,'Mapa de Preços'!$A$16:$J$2988,10,0)","v":"Falta Orçamento"},"",null,2780,null,0]
[2781,{"$f":"IF(VLOOKUP(A2808,'Mapa de Preços'!$A$16:$B$2988,2,0)=FALSE,\"Falta (U.M.)\",VLOOKUP(A2808,'Mapa de Preços'!$A$16:$B$2988,2,0))","v":"Falta (U.M.)"},"","",null,{"$f":"VLOOKUP(A2808,'Mapa de Preços'!$A$16:$J$2988,10,0)","v":"Falta Orçamento"},"",null,2781,null,0]
[2782,{"$f":"IF(VLOOKUP(A2809,'Mapa de Preços'!$A$16:$B$2988,2,0)=FALSE,\"Falta (U.M.)\",VLOOKUP(A2809,'Mapa de Preços'!$A$16:$B$2988,2,0))","v":"Falta (U.M.)"},"","",null,{"$f":"VLOOKUP(A2809,'Mapa de Preços'!$A$16:$J$2988,10,0)","v":"Falta Orçamento"},"",null,2782,null,0]
[2783,{"$f":"IF(VLOOKUP(A2810,'Mapa de Preços'!$A$16:$B$2988,2,0)=FALSE,\"Falta (U.M.)\",VLOOKUP(A2810,'Mapa de Preços'!$A$16:$B$2988,2,0))","v":"Falta (U.M.)"},"","",null,{"$f":"VLOOKUP(A2810,'Mapa de Preços'!$A$16:$J$2988,10,0)","v":"Falta Orçamento"},"",null,2783,null,0]
[2784,{"$f":"IF(VLOOKUP(A2811,'Mapa de Preços'!$A$16:$B$2988,2,0)=FALSE,\"Falta (U.M.)\",VLOOKUP(A2811,'Mapa de Preços'!$A$16:$B$2988,2,0))","v":"Falta (U.M.)"},"","",null,{"$f":"VLOOKUP(A2811,'Mapa de Preços'!$A$16:$J$2988,10,0)","v":"Falta Orçamento"},"",null,2784,null,0]
[2785,{"$f":"IF(VLOOKUP(A2812,'Mapa de Preços'!$A$16:$B$2988,2,0)=FALSE,\"Falta (U.M.)\",VLOOKUP(A2812,'Mapa de Preços'!$A$16:$B$2988,2,0))","v":"Falta (U.M.)"},"","",null,{"$f":"VLOOKUP(A2812,'Mapa de Preços'!$A$16:$J$2988,10,0)","v":"Falta Orçamento"},"",null,2785,null,0]
[2786,{"$f":"IF(VLOOKUP(A2813,'Mapa de Preços'!$A$16:$B$2988,2,0)=FALSE,\"Falta (U.M.)\",VLOOKUP(A2813,'Mapa de Preços'!$A$16:$B$2988,2,0))","v":"Falta (U.M.)"},"","",null,{"$f":"VLOOKUP(A2813,'Mapa de Preços'!$A$16:$J$2988,10,0)","v":"Falta Orçamento"},"",null,2786,null,0]
[2787,{"$f":"IF(VLOOKUP(A2814,'Mapa de Preços'!$A$16:$B$2988,2,0)=FALSE,\"Falta (U.M.)\",VLOOKUP(A2814,'Mapa de Preços'!$A$16:$B$2988,2,0))","v":"Falta (U.M.)"},"","",null,{"$f":"VLOOKUP(A2814,'Mapa de Preços'!$A$16:$J$2988,10,0)","v":"Falta Orçamento"},"",null,2787,null,0]
[2788,{"$f":"IF(VLOOKUP(A2815,'Mapa de Preços'!$A$16:$B$2988,2,0)=FALSE,\"Falta (U.M.)\",VLOOKUP(A2815,'Mapa de Preços'!$A$16:$B$2988,2,0))","v":"Falta (U.M.)"},"","",null,{"$f":"VLOOKUP(A2815,'Mapa de Preços'!$A$16:$J$2988,10,0)","v":"Falta Orçamento"},"",null,2788,null,0]
[2789,{"$f":"IF(VLOOKUP(A2816,'Mapa de Preços'!$A$16:$B$2988,2,0)=FALSE,\"Falta (U.M.)\",VLOOKUP(A2816,'Mapa de Preços'!$A$16:$B$2988,2,0))","v":"Falta (U.M.)"},"","",null,{"$f":"VLOOKUP(A2816,'Mapa de Preços'!$A$16:$J$2988,10,0)","v":"Falta Orçamento"},"",null,2789,null,0]
[2790,{"$f":"IF(VLOOKUP(A2817,'Mapa de Preços'!$A$16:$B$2988,2,0)=FALSE,\"Falta (U.M.)\",VLOOKUP(A2817,'Mapa de Preços'!$A$16:$B$2988,2,0))","v":"Falta (U.M.)"},"","",null,{"$f":"VLOOKUP(A2817,'Mapa de Preços'!$A$16:$J$2988,10,0)","v":"Falta Orçamento"},"",null,2790,null,0]
[2791,{"$f":"IF(VLOOKUP(A2818,'Mapa de Preços'!$A$16:$B$2988,2,0)=FALSE,\"Falta (U.M.)\",VLOOKUP(A2818,'Mapa de Preços'!$A$16:$B$2988,2,0))","v":"Falta (U.M.)"},"","",null,{"$f":"VLOOKUP(A2818,'Mapa de Preços'!$A$16:$J$2988,10,0)","v":"Falta Orçamento"},"",null,2791,null,0]
[2792,{"$f":"IF(VLOOKUP(A2819,'Mapa de Preços'!$A$16:$B$2988,2,0)=FALSE,\"Falta (U.M.)\",VLOOKUP(A2819,'Mapa de Preços'!$A$16:$B$2988,2,0))","v":"Falta (U.M.)"},"","",null,{"$f":"VLOOKUP(A2819,'Mapa de Preços'!$A$16:$J$2988,10,0)","v":"Falta Orçamento"},"",null,2792,null,0]
[2793,{"$f":"IF(VLOOKUP(A2820,'Mapa de Preços'!$A$16:$B$2988,2,0)=FALSE,\"Falta (U.M.)\",VLOOKUP(A2820,'Mapa de Preços'!$A$16:$B$2988,2,0))","v":"Falta (U.M.)"},"","",null,{"$f":"VLOOKUP(A2820,'Mapa de Preços'!$A$16:$J$2988,10,0)","v":"Falta Orçamento"},"",null,2793,null,0]
[2794,{"$f":"IF(VLOOKUP(A2821,'Mapa de Preços'!$A$16:$B$2988,2,0)=FALSE,\"Falta (U.M.)\",VLOOKUP(A2821,'Mapa de Preços'!$A$16:$B$2988,2,0))","v":"Falta (U.M.)"},"","",null,{"$f":"VLOOKUP(A2821,'Mapa de Preços'!$A$16:$J$2988,10,0)","v":"Falta Orçamento"},"",null,2794,null,0]
[2795,{"$f":"IF(VLOOKUP(A2822,'Mapa de Preços'!$A$16:$B$2988,2,0)=FALSE,\"Falta (U.M.)\",VLOOKUP(A2822,'Mapa de Preços'!$A$16:$B$2988,2,0))","v":"Falta (U.M.)"},"","",null,{"$f":"VLOOKUP(A2822,'Mapa de Preços'!$A$16:$J$2988,10,0)","v":"Falta Orçamento"},"",null,2795,null,0]
[2796,{"$f":"IF(VLOOKUP(A2823,'Mapa de Preços'!$A$16:$B$2988,2,0)=FALSE,\"Falta (U.M.)\",VLOOKUP(A2823,'Mapa de Preços'!$A$16:$B$2988,2,0))","v":"Falta (U.M.)"},"","",null,{"$f":"VLOOKUP(A2823,'Mapa de Preços'!$A$16:$J$2988,10,0)","v":"Falta Orçamento"},"",null,2796,null,0]
[2797,{"$f":"IF(VLOOKUP(A2824,'Mapa de Preços'!$A$16:$B$2988,2,0)=FALSE,\"Falta (U.M.)\",VLOOKUP(A2824,'Mapa de Preços'!$A$16:$B$2988,2,0))","v":"Falta (U.M.)"},"","",null,{"$f":"VLOOKUP(A2824,'Mapa de Preços'!$A$16:$J$2988,10,0)","v":"Falta Orçamento"},"",null,2797,null,0]
[2798,{"$f":"IF(VLOOKUP(A2825,'Mapa de Preços'!$A$16:$B$2988,2,0)=FALSE,\"Falta (U.M.)\",VLOOKUP(A2825,'Mapa de Preços'!$A$16:$B$2988,2,0))","v":"Falta (U.M.)"},"","",null,{"$f":"VLOOKUP(A2825,'Mapa de Preços'!$A$16:$J$2988,10,0)","v":"Falta Orçamento"},"",null,2798,null,0]
[2799,{"$f":"IF(VLOOKUP(A2826,'Mapa de Preços'!$A$16:$B$2988,2,0)=FALSE,\"Falta (U.M.)\",VLOOKUP(A2826,'Mapa de Preços'!$A$16:$B$2988,2,0))","v":"Falta (U.M.)"},"","",null,{"$f":"VLOOKUP(A2826,'Mapa de Preços'!$A$16:$J$2988,10,0)","v":"Falta Orçamento"},"",null,2799,null,0]
[2800,{"$f":"IF(VLOOKUP(A2827,'Mapa de Preços'!$A$16:$B$2988,2,0)=FALSE,\"Falta (U.M.)\",VLOOKUP(A2827,'Mapa de Preços'!$A$16:$B$2988,2,0))","v":"Falta (U.M.)"},"","",null,{"$f":"VLOOKUP(A2827,'Mapa de Preços'!$A$16:$J$2988,10,0)","v":"Falta Orçamento"},"",null,2800,null,0]
[2801,{"$f":"IF(VLOOKUP(A2828,'Mapa de Preços'!$A$16:$B$2988,2,0)=FALSE,\"Falta (U.M.)\",VLOOKUP(A2828,'Mapa de Preços'!$A$16:$B$2988,2,0))","v":"Falta (U.M.)"},"","",null,{"$f":"VLOOKUP(A2828,'Mapa de Preços'!$A$16:$J$2988,10,0)","v":"Falta Orçamento"},"",null,2801,null,0]
[2802,{"$f":"IF(VLOOKUP(A2829,'Mapa de Preços'!$A$16:$B$2988,2,0)=FALSE,\"Falta (U.M.)\",VLOOKUP(A2829,'Mapa de Preços'!$A$16:$B$2988,2,0))","v":"Falta (U.M.)"},"","",null,{"$f":"VLOOKUP(A2829,'Mapa de Preços'!$A$16:$J$2988,10,0)","v":"Falta Orçamento"},"",null,2802,null,0]
[2803,{"$f":"IF(VLOOKUP(A2830,'Mapa de Preços'!$A$16:$B$2988,2,0)=FALSE,\"Falta (U.M.)\",VLOOKUP(A2830,'Mapa de Preços'!$A$16:$B$2988,2,0))","v":"Falta (U.M.)"},"","",null,{"$f":"VLOOKUP(A2830,'Mapa de Preços'!$A$16:$J$2988,10,0)","v":"Falta Orçamento"},"",null,2803,null,0]
[2804,{"$f":"IF(VLOOKUP(A2831,'Mapa de Preços'!$A$16:$B$2988,2,0)=FALSE,\"Falta (U.M.)\",VLOOKUP(A2831,'Mapa de Preços'!$A$16:$B$2988,2,0))","v":"Falta (U.M.)"},"","",null,{"$f":"VLOOKUP(A2831,'Mapa de Preços'!$A$16:$J$2988,10,0)","v":"Falta Orçamento"},"",null,2804,null,0]
[2805,{"$f":"IF(VLOOKUP(A2832,'Mapa de Preços'!$A$16:$B$2988,2,0)=FALSE,\"Falta (U.M.)\",VLOOKUP(A2832,'Mapa de Preços'!$A$16:$B$2988,2,0))","v":"Falta (U.M.)"},"","",null,{"$f":"VLOOKUP(A2832,'Mapa de Preços'!$A$16:$J$2988,10,0)","v":"Falta Orçamento"},"",null,2805,null,0]
[2806,{"$f":"IF(VLOOKUP(A2833,'Mapa de Preços'!$A$16:$B$2988,2,0)=FALSE,\"Falta (U.M.)\",VLOOKUP(A2833,'Mapa de Preços'!$A$16:$B$2988,2,0))","v":"Falta (U.M.)"},"","",null,{"$f":"VLOOKUP(A2833,'Mapa de Preços'!$A$16:$J$2988,10,0)","v":"Falta Orçamento"},"",null,2806,null,0]
[2807,{"$f":"IF(VLOOKUP(A2834,'Mapa de Preços'!$A$16:$B$2988,2,0)=FALSE,\"Falta (U.M.)\",VLOOKUP(A2834,'Mapa de Preços'!$A$16:$B$2988,2,0))","v":"Falta (U.M.)"},"","",null,{"$f":"VLOOKUP(A2834,'Mapa de Preços'!$A$16:$J$2988,10,0)","v":"Falta Orçamento"},"",null,2807,null,0]
[2808,{"$f":"IF(VLOOKUP(A2835,'Mapa de Preços'!$A$16:$B$2988,2,0)=FALSE,\"Falta (U.M.)\",VLOOKUP(A2835,'Mapa de Preços'!$A$16:$B$2988,2,0))","v":"Falta (U.M.)"},"","",null,{"$f":"VLOOKUP(A2835,'Mapa de Preços'!$A$16:$J$2988,10,0)","v":"Falta Orçamento"},"",null,2808,null,0]
[2809,{"$f":"IF(VLOOKUP(A2836,'Mapa de Preços'!$A$16:$B$2988,2,0)=FALSE,\"Falta (U.M.)\",VLOOKUP(A2836,'Mapa de Preços'!$A$16:$B$2988,2,0))","v":"Falta (U.M.)"},"","",null,{"$f":"VLOOKUP(A2836,'Mapa de Preços'!$A$16:$J$2988,10,0)","v":"Falta Orçamento"},"",null,2809,null,0]
[2810,{"$f":"IF(VLOOKUP(A2837,'Mapa de Preços'!$A$16:$B$2988,2,0)=FALSE,\"Falta (U.M.)\",VLOOKUP(A2837,'Mapa de Preços'!$A$16:$B$2988,2,0))","v":"Falta (U.M.)"},"","",null,{"$f":"VLOOKUP(A2837,'Mapa de Preços'!$A$16:$J$2988,10,0)","v":"Falta Orçamento"},"",null,2810,null,0]
[2811,{"$f":"IF(VLOOKUP(A2838,'Mapa de Preços'!$A$16:$B$2988,2,0)=FALSE,\"Falta (U.M.)\",VLOOKUP(A2838,'Mapa de Preços'!$A$16:$B$2988,2,0))","v":"Falta (U.M.)"},"","",null,{"$f":"VLOOKUP(A2838,'Mapa de Preços'!$A$16:$J$2988,10,0)","v":"Falta Orçamento"},"",null,2811,null,0]
[2812,{"$f":"IF(VLOOKUP(A2839,'Mapa de Preços'!$A$16:$B$2988,2,0)=FALSE,\"Falta (U.M.)\",VLOOKUP(A2839,'Mapa de Preços'!$A$16:$B$2988,2,0))","v":"Falta (U.M.)"},"","",null,{"$f":"VLOOKUP(A2839,'Mapa de Preços'!$A$16:$J$2988,10,0)","v":"Falta Orçamento"},"",null,2812,null,0]
[2813,{"$f":"IF(VLOOKUP(A2840,'Mapa de Preços'!$A$16:$B$2988,2,0)=FALSE,\"Falta (U.M.)\",VLOOKUP(A2840,'Mapa de Preços'!$A$16:$B$2988,2,0))","v":"Falta (U.M.)"},"","",null,{"$f":"VLOOKUP(A2840,'Mapa de Preços'!$A$16:$J$2988,10,0)","v":"Falta Orçamento"},"",null,2813,null,0]
[2814,{"$f":"IF(VLOOKUP(A2841,'Mapa de Preços'!$A$16:$B$2988,2,0)=FALSE,\"Falta (U.M.)\",VLOOKUP(A2841,'Mapa de Preços'!$A$16:$B$2988,2,0))","v":"Falta (U.M.)"},"","",null,{"$f":"VLOOKUP(A2841,'Mapa de Preços'!$A$16:$J$2988,10,0)","v":"Falta Orçamento"},"",null,2814,null,0]
[2815,{"$f":"IF(VLOOKUP(A2842,'Mapa de Preços'!$A$16:$B$2988,2,0)=FALSE,\"Falta (U.M.)\",VLOOKUP(A2842,'Mapa de Preços'!$A$16:$B$2988,2,0))","v":"Falta (U.M.)"},"","",null,{"$f":"VLOOKUP(A2842,'Mapa de Preços'!$A$16:$J$2988,10,0)","v":"Falta Orçamento"},"",null,2815,null,0]
[2816,{"$f":"IF(VLOOKUP(A2843,'Mapa de Preços'!$A$16:$B$2988,2,0)=FALSE,\"Falta (U.M.)\",VLOOKUP(A2843,'Mapa de Preços'!$A$16:$B$2988,2,0))","v":"Falta (U.M.)"},"","",null,{"$f":"VLOOKUP(A2843,'Mapa de Preços'!$A$16:$J$2988,10,0)","v":"Falta Orçamento"},"",null,2816,null,0]
[2817,{"$f":"IF(VLOOKUP(A2844,'Mapa de Preços'!$A$16:$B$2988,2,0)=FALSE,\"Falta (U.M.)\",VLOOKUP(A2844,'Mapa de Preços'!$A$16:$B$2988,2,0))","v":"Falta (U.M.)"},"","",null,{"$f":"VLOOKUP(A2844,'Mapa de Preços'!$A$16:$J$2988,10,0)","v":"Falta Orçamento"},"",null,2817,null,{"$f":"SUM(L2844:AI2844)","v":0}]
[2818,{"$f":"IF(VLOOKUP(A2845,'Mapa de Preços'!$A$16:$B$2988,2,0)=FALSE,\"Falta (U.M.)\",VLOOKUP(A2845,'Mapa de Preços'!$A$16:$B$2988,2,0))","v":"Falta (U.M.)"},{"$f":"IF(J2845<>\"\",J2845,\"\")","v":""},{"$f":"IF(VLOOKUP(A2845,$I$28:$AI$3000,$G$26,FALSE)<>\"\",VLOOKUP(A2845,$I$28:$AI$3000,$G$26,FALSE),\"\")","v":""},null,{"$f":"VLOOKUP(A2845,'Mapa de Preços'!$A$16:$J$2988,10,0)","v":"Falta Orçamento"},{"$f":"IF(F2845=\"Falta Orçamento\",\"\",F2845*D2845)","v":""},null,2818,null,0]
[2819,{"$f":"IF(VLOOKUP(A2846,'Mapa de Preços'!$A$16:$B$2988,2,0)=FALSE,\"Falta (U.M.)\",VLOOKUP(A2846,'Mapa de Preços'!$A$16:$B$2988,2,0))","v":"Falta (U.M.)"},"","",null,{"$f":"VLOOKUP(A2846,'Mapa de Preços'!$A$16:$J$2988,10,0)","v":"Falta Orçamento"},"",null,2819,null,0]
[2820,{"$f":"IF(VLOOKUP(A2847,'Mapa de Preços'!$A$16:$B$2988,2,0)=FALSE,\"Falta (U.M.)\",VLOOKUP(A2847,'Mapa de Preços'!$A$16:$B$2988,2,0))","v":"Falta (U.M.)"},"","",null,{"$f":"VLOOKUP(A2847,'Mapa de Preços'!$A$16:$J$2988,10,0)","v":"Falta Orçamento"},"",null,2820,null,0]
[2821,{"$f":"IF(VLOOKUP(A2848,'Mapa de Preços'!$A$16:$B$2988,2,0)=FALSE,\"Falta (U.M.)\",VLOOKUP(A2848,'Mapa de Preços'!$A$16:$B$2988,2,0))","v":"Falta (U.M.)"},"","",null,{"$f":"VLOOKUP(A2848,'Mapa de Preços'!$A$16:$J$2988,10,0)","v":"Falta Orçamento"},"",null,2821,null,0]
[2822,{"$f":"IF(VLOOKUP(A2849,'Mapa de Preços'!$A$16:$B$2988,2,0)=FALSE,\"Falta (U.M.)\",VLOOKUP(A2849,'Mapa de Preços'!$A$16:$B$2988,2,0))","v":"Falta (U.M.)"},"","",null,{"$f":"VLOOKUP(A2849,'Mapa de Preços'!$A$16:$J$2988,10,0)","v":"Falta Orçamento"},"",null,2822,null,0]
[2823,{"$f":"IF(VLOOKUP(A2850,'Mapa de Preços'!$A$16:$B$2988,2,0)=FALSE,\"Falta (U.M.)\",VLOOKUP(A2850,'Mapa de Preços'!$A$16:$B$2988,2,0))","v":"Falta (U.M.)"},"","",null,{"$f":"VLOOKUP(A2850,'Mapa de Preços'!$A$16:$J$2988,10,0)","v":"Falta Orçamento"},"",null,2823,null,0]
[2824,{"$f":"IF(VLOOKUP(A2851,'Mapa de Preços'!$A$16:$B$2988,2,0)=FALSE,\"Falta (U.M.)\",VLOOKUP(A2851,'Mapa de Preços'!$A$16:$B$2988,2,0))","v":"Falta (U.M.)"},"","",null,{"$f":"VLOOKUP(A2851,'Mapa de Preços'!$A$16:$J$2988,10,0)","v":"Falta Orçamento"},"",null,2824,null,0]
[2825,{"$f":"IF(VLOOKUP(A2852,'Mapa de Preços'!$A$16:$B$2988,2,0)=FALSE,\"Falta (U.M.)\",VLOOKUP(A2852,'Mapa de Preços'!$A$16:$B$2988,2,0))","v":"Falta (U.M.)"},"","",null,{"$f":"VLOOKUP(A2852,'Mapa de Preços'!$A$16:$J$2988,10,0)","v":"Falta Orçamento"},"",null,2825,null,0]
[2826,{"$f":"IF(VLOOKUP(A2853,'Mapa de Preços'!$A$16:$B$2988,2,0)=FALSE,\"Falta (U.M.)\",VLOOKUP(A2853,'Mapa de Preços'!$A$16:$B$2988,2,0))","v":"Falta (U.M.)"},"","",null,{"$f":"VLOOKUP(A2853,'Mapa de Preços'!$A$16:$J$2988,10,0)","v":"Falta Orçamento"},"",null,2826,null,0]
[2827,{"$f":"IF(VLOOKUP(A2854,'Mapa de Preços'!$A$16:$B$2988,2,0)=FALSE,\"Falta (U.M.)\",VLOOKUP(A2854,'Mapa de Preços'!$A$16:$B$2988,2,0))","v":"Falta (U.M.)"},"","",null,{"$f":"VLOOKUP(A2854,'Mapa de Preços'!$A$16:$J$2988,10,0)","v":"Falta Orçamento"},"",null,2827,null,0]
[2828,{"$f":"IF(VLOOKUP(A2855,'Mapa de Preços'!$A$16:$B$2988,2,0)=FALSE,\"Falta (U.M.)\",VLOOKUP(A2855,'Mapa de Preços'!$A$16:$B$2988,2,0))","v":"Falta (U.M.)"},"","",null,{"$f":"VLOOKUP(A2855,'Mapa de Preços'!$A$16:$J$2988,10,0)","v":"Falta Orçamento"},"",null,2828,null,0]
[2829,{"$f":"IF(VLOOKUP(A2856,'Mapa de Preços'!$A$16:$B$2988,2,0)=FALSE,\"Falta (U.M.)\",VLOOKUP(A2856,'Mapa de Preços'!$A$16:$B$2988,2,0))","v":"Falta (U.M.)"},"","",null,{"$f":"VLOOKUP(A2856,'Mapa de Preços'!$A$16:$J$2988,10,0)","v":"Falta Orçamento"},"",null,2829,null,0]
[2830,{"$f":"IF(VLOOKUP(A2857,'Mapa de Preços'!$A$16:$B$2988,2,0)=FALSE,\"Falta (U.M.)\",VLOOKUP(A2857,'Mapa de Preços'!$A$16:$B$2988,2,0))","v":"Falta (U.M.)"},"","",null,{"$f":"VLOOKUP(A2857,'Mapa de Preços'!$A$16:$J$2988,10,0)","v":"Falta Orçamento"},"",null,2830,null,0]
[2831,{"$f":"IF(VLOOKUP(A2858,'Mapa de Preços'!$A$16:$B$2988,2,0)=FALSE,\"Falta (U.M.)\",VLOOKUP(A2858,'Mapa de Preços'!$A$16:$B$2988,2,0))","v":"Falta (U.M.)"},"","",null,{"$f":"VLOOKUP(A2858,'Mapa de Preços'!$A$16:$J$2988,10,0)","v":"Falta Orçamento"},"",null,2831,null,0]
[2832,{"$f":"IF(VLOOKUP(A2859,'Mapa de Preços'!$A$16:$B$2988,2,0)=FALSE,\"Falta (U.M.)\",VLOOKUP(A2859,'Mapa de Preços'!$A$16:$B$2988,2,0))","v":"Falta (U.M.)"},"","",null,{"$f":"VLOOKUP(A2859,'Mapa de Preços'!$A$16:$J$2988,10,0)","v":"Falta Orçamento"},"",null,2832,null,0]
[2833,{"$f":"IF(VLOOKUP(A2860,'Mapa de Preços'!$A$16:$B$2988,2,0)=FALSE,\"Falta (U.M.)\",VLOOKUP(A2860,'Mapa de Preços'!$A$16:$B$2988,2,0))","v":"Falta (U.M.)"},"","",null,{"$f":"VLOOKUP(A2860,'Mapa de Preços'!$A$16:$J$2988,10,0)","v":"Falta Orçamento"},"",null,2833,null,0]
[2834,{"$f":"IF(VLOOKUP(A2861,'Mapa de Preços'!$A$16:$B$2988,2,0)=FALSE,\"Falta (U.M.)\",VLOOKUP(A2861,'Mapa de Preços'!$A$16:$B$2988,2,0))","v":"Falta (U.M.)"},"","",null,{"$f":"VLOOKUP(A2861,'Mapa de Preços'!$A$16:$J$2988,10,0)","v":"Falta Orçamento"},"",null,2834,null,0]
[2835,{"$f":"IF(VLOOKUP(A2862,'Mapa de Preços'!$A$16:$B$2988,2,0)=FALSE,\"Falta (U.M.)\",VLOOKUP(A2862,'Mapa de Preços'!$A$16:$B$2988,2,0))","v":"Falta (U.M.)"},"","",null,{"$f":"VLOOKUP(A2862,'Mapa de Preços'!$A$16:$J$2988,10,0)","v":"Falta Orçamento"},"",null,2835,null,0]
[2836,{"$f":"IF(VLOOKUP(A2863,'Mapa de Preços'!$A$16:$B$2988,2,0)=FALSE,\"Falta (U.M.)\",VLOOKUP(A2863,'Mapa de Preços'!$A$16:$B$2988,2,0))","v":"Falta (U.M.)"},"","",null,{"$f":"VLOOKUP(A2863,'Mapa de Preços'!$A$16:$J$2988,10,0)","v":"Falta Orçamento"},"",null,2836,null,0]
[2837,{"$f":"IF(VLOOKUP(A2864,'Mapa de Preços'!$A$16:$B$2988,2,0)=FALSE,\"Falta (U.M.)\",VLOOKUP(A2864,'Mapa de Preços'!$A$16:$B$2988,2,0))","v":"Falta (U.M.)"},"","",null,{"$f":"VLOOKUP(A2864,'Mapa de Preços'!$A$16:$J$2988,10,0)","v":"Falta Orçamento"},"",null,2837,null,0]
[2838,{"$f":"IF(VLOOKUP(A2865,'Mapa de Preços'!$A$16:$B$2988,2,0)=FALSE,\"Falta (U.M.)\",VLOOKUP(A2865,'Mapa de Preços'!$A$16:$B$2988,2,0))","v":"Falta (U.M.)"},"","",null,{"$f":"VLOOKUP(A2865,'Mapa de Preços'!$A$16:$J$2988,10,0)","v":"Falta Orçamento"},"",null,2838,null,0]
[2839,{"$f":"IF(VLOOKUP(A2866,'Mapa de Preços'!$A$16:$B$2988,2,0)=FALSE,\"Falta (U.M.)\",VLOOKUP(A2866,'Mapa de Preços'!$A$16:$B$2988,2,0))","v":"Falta (U.M.)"},"","",null,{"$f":"VLOOKUP(A2866,'Mapa de Preços'!$A$16:$J$2988,10,0)","v":"Falta Orçamento"},"",null,2839,null,0]
[2840,{"$f":"IF(VLOOKUP(A2867,'Mapa de Preços'!$A$16:$B$2988,2,0)=FALSE,\"Falta (U.M.)\",VLOOKUP(A2867,'Mapa de Preços'!$A$16:$B$2988,2,0))","v":"Falta (U.M.)"},"","",null,{"$f":"VLOOKUP(A2867,'Mapa de Preços'!$A$16:$J$2988,10,0)","v":"Falta Orçamento"},"",null,2840,null,0]
[2841,{"$f":"IF(VLOOKUP(A2868,'Mapa de Preços'!$A$16:$B$2988,2,0)=FALSE,\"Falta (U.M.)\",VLOOKUP(A2868,'Mapa de Preços'!$A$16:$B$2988,2,0))","v":"Falta (U.M.)"},"","",null,{"$f":"VLOOKUP(A2868,'Mapa de Preços'!$A$16:$J$2988,10,0)","v":"Falta Orçamento"},"",null,2841,null,0]
[2842,{"$f":"IF(VLOOKUP(A2869,'Mapa de Preços'!$A$16:$B$2988,2,0)=FALSE,\"Falta (U.M.)\",VLOOKUP(A2869,'Mapa de Preços'!$A$16:$B$2988,2,0))","v":"Falta (U.M.)"},"","",null,{"$f":"VLOOKUP(A2869,'Mapa de Preços'!$A$16:$J$2988,10,0)","v":"Falta Orçamento"},"",null,2842,null,0]
[2843,{"$f":"IF(VLOOKUP(A2870,'Mapa de Preços'!$A$16:$B$2988,2,0)=FALSE,\"Falta (U.M.)\",VLOOKUP(A2870,'Mapa de Preços'!$A$16:$B$2988,2,0))","v":"Falta (U.M.)"},"","",null,{"$f":"VLOOKUP(A2870,'Mapa de Preços'!$A$16:$J$2988,10,0)","v":"Falta Orçamento"},"",null,2843,null,0]
[2844,{"$f":"IF(VLOOKUP(A2871,'Mapa de Preços'!$A$16:$B$2988,2,0)=FALSE,\"Falta (U.M.)\",VLOOKUP(A2871,'Mapa de Preços'!$A$16:$B$2988,2,0))","v":"Falta (U.M.)"},"","",null,{"$f":"VLOOKUP(A2871,'Mapa de Preços'!$A$16:$J$2988,10,0)","v":"Falta Orçamento"},"",null,2844,null,0]
[2845,{"$f":"IF(VLOOKUP(A2872,'Mapa de Preços'!$A$16:$B$2988,2,0)=FALSE,\"Falta (U.M.)\",VLOOKUP(A2872,'Mapa de Preços'!$A$16:$B$2988,2,0))","v":"Falta (U.M.)"},"","",null,{"$f":"VLOOKUP(A2872,'Mapa de Preços'!$A$16:$J$2988,10,0)","v":"Falta Orçamento"},"",null,2845,null,0]
[2846,{"$f":"IF(VLOOKUP(A2873,'Mapa de Preços'!$A$16:$B$2988,2,0)=FALSE,\"Falta (U.M.)\",VLOOKUP(A2873,'Mapa de Preços'!$A$16:$B$2988,2,0))","v":"Falta (U.M.)"},"","",null,{"$f":"VLOOKUP(A2873,'Mapa de Preços'!$A$16:$J$2988,10,0)","v":"Falta Orçamento"},"",null,2846,null,0]
[2847,{"$f":"IF(VLOOKUP(A2874,'Mapa de Preços'!$A$16:$B$2988,2,0)=FALSE,\"Falta (U.M.)\",VLOOKUP(A2874,'Mapa de Preços'!$A$16:$B$2988,2,0))","v":"Falta (U.M.)"},"","",null,{"$f":"VLOOKUP(A2874,'Mapa de Preços'!$A$16:$J$2988,10,0)","v":"Falta Orçamento"},"",null,2847,null,0]
[2848,{"$f":"IF(VLOOKUP(A2875,'Mapa de Preços'!$A$16:$B$2988,2,0)=FALSE,\"Falta (U.M.)\",VLOOKUP(A2875,'Mapa de Preços'!$A$16:$B$2988,2,0))","v":"Falta (U.M.)"},"","",null,{"$f":"VLOOKUP(A2875,'Mapa de Preços'!$A$16:$J$2988,10,0)","v":"Falta Orçamento"},"",null,2848,null,0]
[2849,{"$f":"IF(VLOOKUP(A2876,'Mapa de Preços'!$A$16:$B$2988,2,0)=FALSE,\"Falta (U.M.)\",VLOOKUP(A2876,'Mapa de Preços'!$A$16:$B$2988,2,0))","v":"Falta (U.M.)"},"","",null,{"$f":"VLOOKUP(A2876,'Mapa de Preços'!$A$16:$J$2988,10,0)","v":"Falta Orçamento"},"",null,2849,null,0]
[2850,{"$f":"IF(VLOOKUP(A2877,'Mapa de Preços'!$A$16:$B$2988,2,0)=FALSE,\"Falta (U.M.)\",VLOOKUP(A2877,'Mapa de Preços'!$A$16:$B$2988,2,0))","v":"Falta (U.M.)"},"","",null,{"$f":"VLOOKUP(A2877,'Mapa de Preços'!$A$16:$J$2988,10,0)","v":"Falta Orçamento"},"",null,2850,null,0]
[2851,{"$f":"IF(VLOOKUP(A2878,'Mapa de Preços'!$A$16:$B$2988,2,0)=FALSE,\"Falta (U.M.)\",VLOOKUP(A2878,'Mapa de Preços'!$A$16:$B$2988,2,0))","v":"Falta (U.M.)"},"","",null,{"$f":"VLOOKUP(A2878,'Mapa de Preços'!$A$16:$J$2988,10,0)","v":"Falta Orçamento"},"",null,2851,null,0]
[2852,{"$f":"IF(VLOOKUP(A2879,'Mapa de Preços'!$A$16:$B$2988,2,0)=FALSE,\"Falta (U.M.)\",VLOOKUP(A2879,'Mapa de Preços'!$A$16:$B$2988,2,0))","v":"Falta (U.M.)"},"","",null,{"$f":"VLOOKUP(A2879,'Mapa de Preços'!$A$16:$J$2988,10,0)","v":"Falta Orçamento"},"",null,2852,null,0]
[2853,{"$f":"IF(VLOOKUP(A2880,'Mapa de Preços'!$A$16:$B$2988,2,0)=FALSE,\"Falta (U.M.)\",VLOOKUP(A2880,'Mapa de Preços'!$A$16:$B$2988,2,0))","v":"Falta (U.M.)"},"","",null,{"$f":"VLOOKUP(A2880,'Mapa de Preços'!$A$16:$J$2988,10,0)","v":"Falta Orçamento"},"",null,2853,null,0]
[2854,{"$f":"IF(VLOOKUP(A2881,'Mapa de Preços'!$A$16:$B$2988,2,0)=FALSE,\"Falta (U.M.)\",VLOOKUP(A2881,'Mapa de Preços'!$A$16:$B$2988,2,0))","v":"Falta (U.M.)"},"","",null,{"$f":"VLOOKUP(A2881,'Mapa de Preços'!$A$16:$J$2988,10,0)","v":"Falta Orçamento"},"",null,2854,null,0]
[2855,{"$f":"IF(VLOOKUP(A2882,'Mapa de Preços'!$A$16:$B$2988,2,0)=FALSE,\"Falta (U.M.)\",VLOOKUP(A2882,'Mapa de Preços'!$A$16:$B$2988,2,0))","v":"Falta (U.M.)"},"","",null,{"$f":"VLOOKUP(A2882,'Mapa de Preços'!$A$16:$J$2988,10,0)","v":"Falta Orçamento"},"",null,2855,null,0]
[2856,{"$f":"IF(VLOOKUP(A2883,'Mapa de Preços'!$A$16:$B$2988,2,0)=FALSE,\"Falta (U.M.)\",VLOOKUP(A2883,'Mapa de Preços'!$A$16:$B$2988,2,0))","v":"Falta (U.M.)"},"","",null,{"$f":"VLOOKUP(A2883,'Mapa de Preços'!$A$16:$J$2988,10,0)","v":"Falta Orçamento"},"",null,2856,null,0]
[2857,{"$f":"IF(VLOOKUP(A2884,'Mapa de Preços'!$A$16:$B$2988,2,0)=FALSE,\"Falta (U.M.)\",VLOOKUP(A2884,'Mapa de Preços'!$A$16:$B$2988,2,0))","v":"Falta (U.M.)"},"","",null,{"$f":"VLOOKUP(A2884,'Mapa de Preços'!$A$16:$J$2988,10,0)","v":"Falta Orçamento"},"",null,2857,null,0]
[2858,{"$f":"IF(VLOOKUP(A2885,'Mapa de Preços'!$A$16:$B$2988,2,0)=FALSE,\"Falta (U.M.)\",VLOOKUP(A2885,'Mapa de Preços'!$A$16:$B$2988,2,0))","v":"Falta (U.M.)"},"","",null,{"$f":"VLOOKUP(A2885,'Mapa de Preços'!$A$16:$J$2988,10,0)","v":"Falta Orçamento"},"",null,2858,null,0]
[2859,{"$f":"IF(VLOOKUP(A2886,'Mapa de Preços'!$A$16:$B$2988,2,0)=FALSE,\"Falta (U.M.)\",VLOOKUP(A2886,'Mapa de Preços'!$A$16:$B$2988,2,0))","v":"Falta (U.M.)"},"","",null,{"$f":"VLOOKUP(A2886,'Mapa de Preços'!$A$16:$J$2988,10,0)","v":"Falta Orçamento"},"",null,2859,null,0]
[2860,{"$f":"IF(VLOOKUP(A2887,'Mapa de Preços'!$A$16:$B$2988,2,0)=FALSE,\"Falta (U.M.)\",VLOOKUP(A2887,'Mapa de Preços'!$A$16:$B$2988,2,0))","v":"Falta (U.M.)"},"","",null,{"$f":"VLOOKUP(A2887,'Mapa de Preços'!$A$16:$J$2988,10,0)","v":"Falta Orçamento"},"",null,2860,null,0]
[2861,{"$f":"IF(VLOOKUP(A2888,'Mapa de Preços'!$A$16:$B$2988,2,0)=FALSE,\"Falta (U.M.)\",VLOOKUP(A2888,'Mapa de Preços'!$A$16:$B$2988,2,0))","v":"Falta (U.M.)"},"","",null,{"$f":"VLOOKUP(A2888,'Mapa de Preços'!$A$16:$J$2988,10,0)","v":"Falta Orçamento"},"",null,2861,null,0]
[2862,{"$f":"IF(VLOOKUP(A2889,'Mapa de Preços'!$A$16:$B$2988,2,0)=FALSE,\"Falta (U.M.)\",VLOOKUP(A2889,'Mapa de Preços'!$A$16:$B$2988,2,0))","v":"Falta (U.M.)"},"","",null,{"$f":"VLOOKUP(A2889,'Mapa de Preços'!$A$16:$J$2988,10,0)","v":"Falta Orçamento"},"",null,2862,null,0]
[2863,{"$f":"IF(VLOOKUP(A2890,'Mapa de Preços'!$A$16:$B$2988,2,0)=FALSE,\"Falta (U.M.)\",VLOOKUP(A2890,'Mapa de Preços'!$A$16:$B$2988,2,0))","v":"Falta (U.M.)"},"","",null,{"$f":"VLOOKUP(A2890,'Mapa de Preços'!$A$16:$J$2988,10,0)","v":"Falta Orçamento"},"",null,2863,null,0]
[2864,{"$f":"IF(VLOOKUP(A2891,'Mapa de Preços'!$A$16:$B$2988,2,0)=FALSE,\"Falta (U.M.)\",VLOOKUP(A2891,'Mapa de Preços'!$A$16:$B$2988,2,0))","v":"Falta (U.M.)"},"","",null,{"$f":"VLOOKUP(A2891,'Mapa de Preços'!$A$16:$J$2988,10,0)","v":"Falta Orçamento"},"",null,2864,null,0]
[2865,{"$f":"IF(VLOOKUP(A2892,'Mapa de Preços'!$A$16:$B$2988,2,0)=FALSE,\"Falta (U.M.)\",VLOOKUP(A2892,'Mapa de Preços'!$A$16:$B$2988,2,0))","v":"Falta (U.M.)"},"","",null,{"$f":"VLOOKUP(A2892,'Mapa de Preços'!$A$16:$J$2988,10,0)","v":"Falta Orçamento"},"",null,2865,null,0]
[2866,{"$f":"IF(VLOOKUP(A2893,'Mapa de Preços'!$A$16:$B$2988,2,0)=FALSE,\"Falta (U.M.)\",VLOOKUP(A2893,'Mapa de Preços'!$A$16:$B$2988,2,0))","v":"Falta (U.M.)"},"","",null,{"$f":"VLOOKUP(A2893,'Mapa de Preços'!$A$16:$J$2988,10,0)","v":"Falta Orçamento"},"",null,2866,null,0]
[2867,{"$f":"IF(VLOOKUP(A2894,'Mapa de Preços'!$A$16:$B$2988,2,0)=FALSE,\"Falta (U.M.)\",VLOOKUP(A2894,'Mapa de Preços'!$A$16:$B$2988,2,0))","v":"Falta (U.M.)"},"","",null,{"$f":"VLOOKUP(A2894,'Mapa de Preços'!$A$16:$J$2988,10,0)","v":"Falta Orçamento"},"",null,2867,null,0]
[2868,{"$f":"IF(VLOOKUP(A2895,'Mapa de Preços'!$A$16:$B$2988,2,0)=FALSE,\"Falta (U.M.)\",VLOOKUP(A2895,'Mapa de Preços'!$A$16:$B$2988,2,0))","v":"Falta (U.M.)"},"","",null,{"$f":"VLOOKUP(A2895,'Mapa de Preços'!$A$16:$J$2988,10,0)","v":"Falta Orçamento"},"",null,2868,null,0]
[2869,{"$f":"IF(VLOOKUP(A2896,'Mapa de Preços'!$A$16:$B$2988,2,0)=FALSE,\"Falta (U.M.)\",VLOOKUP(A2896,'Mapa de Preços'!$A$16:$B$2988,2,0))","v":"Falta (U.M.)"},"","",null,{"$f":"VLOOKUP(A2896,'Mapa de Preços'!$A$16:$J$2988,10,0)","v":"Falta Orçamento"},"",null,2869,null,0]
[2870,{"$f":"IF(VLOOKUP(A2897,'Mapa de Preços'!$A$16:$B$2988,2,0)=FALSE,\"Falta (U.M.)\",VLOOKUP(A2897,'Mapa de Preços'!$A$16:$B$2988,2,0))","v":"Falta (U.M.)"},"","",null,{"$f":"VLOOKUP(A2897,'Mapa de Preços'!$A$16:$J$2988,10,0)","v":"Falta Orçamento"},"",null,2870,null,0]
[2871,{"$f":"IF(VLOOKUP(A2898,'Mapa de Preços'!$A$16:$B$2988,2,0)=FALSE,\"Falta (U.M.)\",VLOOKUP(A2898,'Mapa de Preços'!$A$16:$B$2988,2,0))","v":"Falta (U.M.)"},"","",null,{"$f":"VLOOKUP(A2898,'Mapa de Preços'!$A$16:$J$2988,10,0)","v":"Falta Orçamento"},"",null,2871,null,0]
[2872,{"$f":"IF(VLOOKUP(A2899,'Mapa de Preços'!$A$16:$B$2988,2,0)=FALSE,\"Falta (U.M.)\",VLOOKUP(A2899,'Mapa de Preços'!$A$16:$B$2988,2,0))","v":"Falta (U.M.)"},"","",null,{"$f":"VLOOKUP(A2899,'Mapa de Preços'!$A$16:$J$2988,10,0)","v":"Falta Orçamento"},"",null,2872,null,0]
[2873,{"$f":"IF(VLOOKUP(A2900,'Mapa de Preços'!$A$16:$B$2988,2,0)=FALSE,\"Falta (U.M.)\",VLOOKUP(A2900,'Mapa de Preços'!$A$16:$B$2988,2,0))","v":"Falta (U.M.)"},"","",null,{"$f":"VLOOKUP(A2900,'Mapa de Preços'!$A$16:$J$2988,10,0)","v":"Falta Orçamento"},"",null,2873,null,0]
[2874,{"$f":"IF(VLOOKUP(A2901,'Mapa de Preços'!$A$16:$B$2988,2,0)=FALSE,\"Falta (U.M.)\",VLOOKUP(A2901,'Mapa de Preços'!$A$16:$B$2988,2,0))","v":"Falta (U.M.)"},"","",null,{"$f":"VLOOKUP(A2901,'Mapa de Preços'!$A$16:$J$2988,10,0)","v":"Falta Orçamento"},"",null,2874,null,0]
[2875,{"$f":"IF(VLOOKUP(A2902,'Mapa de Preços'!$A$16:$B$2988,2,0)=FALSE,\"Falta (U.M.)\",VLOOKUP(A2902,'Mapa de Preços'!$A$16:$B$2988,2,0))","v":"Falta (U.M.)"},"","",null,{"$f":"VLOOKUP(A2902,'Mapa de Preços'!$A$16:$J$2988,10,0)","v":"Falta Orçamento"},"",null,2875,null,0]
[2876,{"$f":"IF(VLOOKUP(A2903,'Mapa de Preços'!$A$16:$B$2988,2,0)=FALSE,\"Falta (U.M.)\",VLOOKUP(A2903,'Mapa de Preços'!$A$16:$B$2988,2,0))","v":"Falta (U.M.)"},"","",null,{"$f":"VLOOKUP(A2903,'Mapa de Preços'!$A$16:$J$2988,10,0)","v":"Falta Orçamento"},"",null,2876,null,0]
[2877,{"$f":"IF(VLOOKUP(A2904,'Mapa de Preços'!$A$16:$B$2988,2,0)=FALSE,\"Falta (U.M.)\",VLOOKUP(A2904,'Mapa de Preços'!$A$16:$B$2988,2,0))","v":"Falta (U.M.)"},"","",null,{"$f":"VLOOKUP(A2904,'Mapa de Preços'!$A$16:$J$2988,10,0)","v":"Falta Orçamento"},"",null,2877,null,0]
[2878,{"$f":"IF(VLOOKUP(A2905,'Mapa de Preços'!$A$16:$B$2988,2,0)=FALSE,\"Falta (U.M.)\",VLOOKUP(A2905,'Mapa de Preços'!$A$16:$B$2988,2,0))","v":"Falta (U.M.)"},"","",null,{"$f":"VLOOKUP(A2905,'Mapa de Preços'!$A$16:$J$2988,10,0)","v":"Falta Orçamento"},"",null,2878,null,0]
[2879,{"$f":"IF(VLOOKUP(A2906,'Mapa de Preços'!$A$16:$B$2988,2,0)=FALSE,\"Falta (U.M.)\",VLOOKUP(A2906,'Mapa de Preços'!$A$16:$B$2988,2,0))","v":"Falta (U.M.)"},"","",null,{"$f":"VLOOKUP(A2906,'Mapa de Preços'!$A$16:$J$2988,10,0)","v":"Falta Orçamento"},"",null,2879,null,0]
[2880,{"$f":"IF(VLOOKUP(A2907,'Mapa de Preços'!$A$16:$B$2988,2,0)=FALSE,\"Falta (U.M.)\",VLOOKUP(A2907,'Mapa de Preços'!$A$16:$B$2988,2,0))","v":"Falta (U.M.)"},"","",null,{"$f":"VLOOKUP(A2907,'Mapa de Preços'!$A$16:$J$2988,10,0)","v":"Falta Orçamento"},"",null,2880,null,0]
[2881,{"$f":"IF(VLOOKUP(A2908,'Mapa de Preços'!$A$16:$B$2988,2,0)=FALSE,\"Falta (U.M.)\",VLOOKUP(A2908,'Mapa de Preços'!$A$16:$B$2988,2,0))","v":"Falta (U.M.)"},"","",null,{"$f":"VLOOKUP(A2908,'Mapa de Preços'!$A$16:$J$2988,10,0)","v":"Falta Orçamento"},"",null,2881,null,{"$f":"SUM(L2908:AI2908)","v":0}]
[2882,{"$f":"IF(VLOOKUP(A2909,'Mapa de Preços'!$A$16:$B$2988,2,0)=FALSE,\"Falta (U.M.)\",VLOOKUP(A2909,'Mapa de Preços'!$A$16:$B$2988,2,0))","v":"Falta (U.M.)"},{"$f":"IF(J2909<>\"\",J2909,\"\")","v":""},{"$f":"IF(VLOOKUP(A2909,$I$28:$AI$3000,$G$26,FALSE)<>\"\",VLOOKUP(A2909,$I$28:$AI$3000,$G$26,FALSE),\"\")","v":""},null,{"$f":"VLOOKUP(A2909,'Mapa de Preços'!$A$16:$J$2988,10,0)","v":"Falta Orçamento"},{"$f":"IF(F2909=\"Falta Orçamento\",\"\",F2909*D2909)","v":""},null,2882,null,0]
[2883,{"$f":"IF(VLOOKUP(A2910,'Mapa de Preços'!$A$16:$B$2988,2,0)=FALSE,\"Falta (U.M.)\",VLOOKUP(A2910,'Mapa de Preços'!$A$16:$B$2988,2,0))","v":"Falta (U.M.)"},"","",null,{"$f":"VLOOKUP(A2910,'Mapa de Preços'!$A$16:$J$2988,10,0)","v":"Falta Orçamento"},"",null,2883,null,0]
[2884,{"$f":"IF(VLOOKUP(A2911,'Mapa de Preços'!$A$16:$B$2988,2,0)=FALSE,\"Falta (U.M.)\",VLOOKUP(A2911,'Mapa de Preços'!$A$16:$B$2988,2,0))","v":"Falta (U.M.)"},"","",null,{"$f":"VLOOKUP(A2911,'Mapa de Preços'!$A$16:$J$2988,10,0)","v":"Falta Orçamento"},"",null,2884,null,0]
[2885,{"$f":"IF(VLOOKUP(A2912,'Mapa de Preços'!$A$16:$B$2988,2,0)=FALSE,\"Falta (U.M.)\",VLOOKUP(A2912,'Mapa de Preços'!$A$16:$B$2988,2,0))","v":"Falta (U.M.)"},"","",null,{"$f":"VLOOKUP(A2912,'Mapa de Preços'!$A$16:$J$2988,10,0)","v":"Falta Orçamento"},"",null,2885,null,0]
[2886,{"$f":"IF(VLOOKUP(A2913,'Mapa de Preços'!$A$16:$B$2988,2,0)=FALSE,\"Falta (U.M.)\",VLOOKUP(A2913,'Mapa de Preços'!$A$16:$B$2988,2,0))","v":"Falta (U.M.)"},"","",null,{"$f":"VLOOKUP(A2913,'Mapa de Preços'!$A$16:$J$2988,10,0)","v":"Falta Orçamento"},"",null,2886,null,0]
[2887,{"$f":"IF(VLOOKUP(A2914,'Mapa de Preços'!$A$16:$B$2988,2,0)=FALSE,\"Falta (U.M.)\",VLOOKUP(A2914,'Mapa de Preços'!$A$16:$B$2988,2,0))","v":"Falta (U.M.)"},"","",null,{"$f":"VLOOKUP(A2914,'Mapa de Preços'!$A$16:$J$2988,10,0)","v":"Falta Orçamento"},"",null,2887,null,0]
[2888,{"$f":"IF(VLOOKUP(A2915,'Mapa de Preços'!$A$16:$B$2988,2,0)=FALSE,\"Falta (U.M.)\",VLOOKUP(A2915,'Mapa de Preços'!$A$16:$B$2988,2,0))","v":"Falta (U.M.)"},"","",null,{"$f":"VLOOKUP(A2915,'Mapa de Preços'!$A$16:$J$2988,10,0)","v":"Falta Orçamento"},"",null,2888,null,0]
[2889,{"$f":"IF(VLOOKUP(A2916,'Mapa de Preços'!$A$16:$B$2988,2,0)=FALSE,\"Falta (U.M.)\",VLOOKUP(A2916,'Mapa de Preços'!$A$16:$B$2988,2,0))","v":"Falta (U.M.)"},"","",null,{"$f":"VLOOKUP(A2916,'Mapa de Preços'!$A$16:$J$2988,10,0)","v":"Falta Orçamento"},"",null,2889,null,0]
[2890,{"$f":"IF(VLOOKUP(A2917,'Mapa de Preços'!$A$16:$B$2988,2,0)=FALSE,\"Falta (U.M.)\",VLOOKUP(A2917,'Mapa de Preços'!$A$16:$B$2988,2,0))","v":"Falta (U.M.)"},"","",null,{"$f":"VLOOKUP(A2917,'Mapa de Preços'!$A$16:$J$2988,10,0)","v":"Falta Orçamento"},"",null,2890,null,0]
[2891,{"$f":"IF(VLOOKUP(A2918,'Mapa de Preços'!$A$16:$B$2988,2,0)=FALSE,\"Falta (U.M.)\",VLOOKUP(A2918,'Mapa de Preços'!$A$16:$B$2988,2,0))","v":"Falta (U.M.)"},"","",null,{"$f":"VLOOKUP(A2918,'Mapa de Preços'!$A$16:$J$2988,10,0)","v":"Falta Orçamento"},"",null,2891,null,0]
[2892,{"$f":"IF(VLOOKUP(A2919,'Mapa de Preços'!$A$16:$B$2988,2,0)=FALSE,\"Falta (U.M.)\",VLOOKUP(A2919,'Mapa de Preços'!$A$16:$B$2988,2,0))","v":"Falta (U.M.)"},"","",null,{"$f":"VLOOKUP(A2919,'Mapa de Preços'!$A$16:$J$2988,10,0)","v":"Falta Orçamento"},"",null,2892,null,0]
[2893,{"$f":"IF(VLOOKUP(A2920,'Mapa de Preços'!$A$16:$B$2988,2,0)=FALSE,\"Falta (U.M.)\",VLOOKUP(A2920,'Mapa de Preços'!$A$16:$B$2988,2,0))","v":"Falta (U.M.)"},"","",null,{"$f":"VLOOKUP(A2920,'Mapa de Preços'!$A$16:$J$2988,10,0)","v":"Falta Orçamento"},"",null,2893,null,0]
[2894,{"$f":"IF(VLOOKUP(A2921,'Mapa de Preços'!$A$16:$B$2988,2,0)=FALSE,\"Falta (U.M.)\",VLOOKUP(A2921,'Mapa de Preços'!$A$16:$B$2988,2,0))","v":"Falta (U.M.)"},"","",null,{"$f":"VLOOKUP(A2921,'Mapa de Preços'!$A$16:$J$2988,10,0)","v":"Falta Orçamento"},"",null,2894,null,0]
[2895,{"$f":"IF(VLOOKUP(A2922,'Mapa de Preços'!$A$16:$B$2988,2,0)=FALSE,\"Falta (U.M.)\",VLOOKUP(A2922,'Mapa de Preços'!$A$16:$B$2988,2,0))","v":"Falta (U.M.)"},"","",null,{"$f":"VLOOKUP(A2922,'Mapa de Preços'!$A$16:$J$2988,10,0)","v":"Falta Orçamento"},"",null,2895,null,0]
[2896,{"$f":"IF(VLOOKUP(A2923,'Mapa de Preços'!$A$16:$B$2988,2,0)=FALSE,\"Falta (U.M.)\",VLOOKUP(A2923,'Mapa de Preços'!$A$16:$B$2988,2,0))","v":"Falta (U.M.)"},"","",null,{"$f":"VLOOKUP(A2923,'Mapa de Preços'!$A$16:$J$2988,10,0)","v":"Falta Orçamento"},"",null,2896,null,0]
[2897,{"$f":"IF(VLOOKUP(A2924,'Mapa de Preços'!$A$16:$B$2988,2,0)=FALSE,\"Falta (U.M.)\",VLOOKUP(A2924,'Mapa de Preços'!$A$16:$B$2988,2,0))","v":"Falta (U.M.)"},"","",null,{"$f":"VLOOKUP(A2924,'Mapa de Preços'!$A$16:$J$2988,10,0)","v":"Falta Orçamento"},"",null,2897,null,0]
[2898,{"$f":"IF(VLOOKUP(A2925,'Mapa de Preços'!$A$16:$B$2988,2,0)=FALSE,\"Falta (U.M.)\",VLOOKUP(A2925,'Mapa de Preços'!$A$16:$B$2988,2,0))","v":"Falta (U.M.)"},"","",null,{"$f":"VLOOKUP(A2925,'Mapa de Preços'!$A$16:$J$2988,10,0)","v":"Falta Orçamento"},"",null,2898,null,0]
[2899,{"$f":"IF(VLOOKUP(A2926,'Mapa de Preços'!$A$16:$B$2988,2,0)=FALSE,\"Falta (U.M.)\",VLOOKUP(A2926,'Mapa de Preços'!$A$16:$B$2988,2,0))","v":"Falta (U.M.)"},"","",null,{"$f":"VLOOKUP(A2926,'Mapa de Preços'!$A$16:$J$2988,10,0)","v":"Falta Orçamento"},"",null,2899,null,0]
[2900,{"$f":"IF(VLOOKUP(A2927,'Mapa de Preços'!$A$16:$B$2988,2,0)=FALSE,\"Falta (U.M.)\",VLOOKUP(A2927,'Mapa de Preços'!$A$16:$B$2988,2,0))","v":"Falta (U.M.)"},"","",null,{"$f":"VLOOKUP(A2927,'Mapa de Preços'!$A$16:$J$2988,10,0)","v":"Falta Orçamento"},"",null,2900,null,0]
[2901,{"$f":"IF(VLOOKUP(A2928,'Mapa de Preços'!$A$16:$B$2988,2,0)=FALSE,\"Falta (U.M.)\",VLOOKUP(A2928,'Mapa de Preços'!$A$16:$B$2988,2,0))","v":"Falta (U.M.)"},"","",null,{"$f":"VLOOKUP(A2928,'Mapa de Preços'!$A$16:$J$2988,10,0)","v":"Falta Orçamento"},"",null,2901,null,0]
[2902,{"$f":"IF(VLOOKUP(A2929,'Mapa de Preços'!$A$16:$B$2988,2,0)=FALSE,\"Falta (U.M.)\",VLOOKUP(A2929,'Mapa de Preços'!$A$16:$B$2988,2,0))","v":"Falta (U.M.)"},"","",null,{"$f":"VLOOKUP(A2929,'Mapa de Preços'!$A$16:$J$2988,10,0)","v":"Falta Orçamento"},"",null,2902,null,0]
[2903,{"$f":"IF(VLOOKUP(A2930,'Mapa de Preços'!$A$16:$B$2988,2,0)=FALSE,\"Falta (U.M.)\",VLOOKUP(A2930,'Mapa de Preços'!$A$16:$B$2988,2,0))","v":"Falta (U.M.)"},"","",null,{"$f":"VLOOKUP(A2930,'Mapa de Preços'!$A$16:$J$2988,10,0)","v":"Falta Orçamento"},"",null,2903,null,0]
[2904,{"$f":"IF(VLOOKUP(A2931,'Mapa de Preços'!$A$16:$B$2988,2,0)=FALSE,\"Falta (U.M.)\",VLOOKUP(A2931,'Mapa de Preços'!$A$16:$B$2988,2,0))","v":"Falta (U.M.)"},"","",null,{"$f":"VLOOKUP(A2931,'Mapa de Preços'!$A$16:$J$2988,10,0)","v":"Falta Orçamento"},"",null,2904,null,0]
[2905,{"$f":"IF(VLOOKUP(A2932,'Mapa de Preços'!$A$16:$B$2988,2,0)=FALSE,\"Falta (U.M.)\",VLOOKUP(A2932,'Mapa de Preços'!$A$16:$B$2988,2,0))","v":"Falta (U.M.)"},"","",null,{"$f":"VLOOKUP(A2932,'Mapa de Preços'!$A$16:$J$2988,10,0)","v":"Falta Orçamento"},"",null,2905,null,0]
[2906,{"$f":"IF(VLOOKUP(A2933,'Mapa de Preços'!$A$16:$B$2988,2,0)=FALSE,\"Falta (U.M.)\",VLOOKUP(A2933,'Mapa de Preços'!$A$16:$B$2988,2,0))","v":"Falta (U.M.)"},"","",null,{"$f":"VLOOKUP(A2933,'Mapa de Preços'!$A$16:$J$2988,10,0)","v":"Falta Orçamento"},"",null,2906,null,0]
[2907,{"$f":"IF(VLOOKUP(A2934,'Mapa de Preços'!$A$16:$B$2988,2,0)=FALSE,\"Falta (U.M.)\",VLOOKUP(A2934,'Mapa de Preços'!$A$16:$B$2988,2,0))","v":"Falta (U.M.)"},"","",null,{"$f":"VLOOKUP(A2934,'Mapa de Preços'!$A$16:$J$2988,10,0)","v":"Falta Orçamento"},"",null,2907,null,0]
[2908,{"$f":"IF(VLOOKUP(A2935,'Mapa de Preços'!$A$16:$B$2988,2,0)=FALSE,\"Falta (U.M.)\",VLOOKUP(A2935,'Mapa de Preços'!$A$16:$B$2988,2,0))","v":"Falta (U.M.)"},"","",null,{"$f":"VLOOKUP(A2935,'Mapa de Preços'!$A$16:$J$2988,10,0)","v":"Falta Orçamento"},"",null,2908,null,0]
[2909,{"$f":"IF(VLOOKUP(A2936,'Mapa de Preços'!$A$16:$B$2988,2,0)=FALSE,\"Falta (U.M.)\",VLOOKUP(A2936,'Mapa de Preços'!$A$16:$B$2988,2,0))","v":"Falta (U.M.)"},"","",null,{"$f":"VLOOKUP(A2936,'Mapa de Preços'!$A$16:$J$2988,10,0)","v":"Falta Orçamento"},"",null,2909,null,0]
[2910,{"$f":"IF(VLOOKUP(A2937,'Mapa de Preços'!$A$16:$B$2988,2,0)=FALSE,\"Falta (U.M.)\",VLOOKUP(A2937,'Mapa de Preços'!$A$16:$B$2988,2,0))","v":"Falta (U.M.)"},"","",null,{"$f":"VLOOKUP(A2937,'Mapa de Preços'!$A$16:$J$2988,10,0)","v":"Falta Orçamento"},"",null,2910,null,0]
[2911,{"$f":"IF(VLOOKUP(A2938,'Mapa de Preços'!$A$16:$B$2988,2,0)=FALSE,\"Falta (U.M.)\",VLOOKUP(A2938,'Mapa de Preços'!$A$16:$B$2988,2,0))","v":"Falta (U.M.)"},"","",null,{"$f":"VLOOKUP(A2938,'Mapa de Preços'!$A$16:$J$2988,10,0)","v":"Falta Orçamento"},"",null,2911,null,0]
[2912,{"$f":"IF(VLOOKUP(A2939,'Mapa de Preços'!$A$16:$B$2988,2,0)=FALSE,\"Falta (U.M.)\",VLOOKUP(A2939,'Mapa de Preços'!$A$16:$B$2988,2,0))","v":"Falta (U.M.)"},"","",null,{"$f":"VLOOKUP(A2939,'Mapa de Preços'!$A$16:$J$2988,10,0)","v":"Falta Orçamento"},"",null,2912,null,0]
[2913,{"$f":"IF(VLOOKUP(A2940,'Mapa de Preços'!$A$16:$B$2988,2,0)=FALSE,\"Falta (U.M.)\",VLOOKUP(A2940,'Mapa de Preços'!$A$16:$B$2988,2,0))","v":"Falta (U.M.)"},"","",null,{"$f":"VLOOKUP(A2940,'Mapa de Preços'!$A$16:$J$2988,10,0)","v":"Falta Orçamento"},"",null,2913,null,0]
[2914,{"$f":"IF(VLOOKUP(A2941,'Mapa de Preços'!$A$16:$B$2988,2,0)=FALSE,\"Falta (U.M.)\",VLOOKUP(A2941,'Mapa de Preços'!$A$16:$B$2988,2,0))","v":"Falta (U.M.)"},"","",null,{"$f":"VLOOKUP(A2941,'Mapa de Preços'!$A$16:$J$2988,10,0)","v":"Falta Orçamento"},"",null,2914,null,0]
[2915,{"$f":"IF(VLOOKUP(A2942,'Mapa de Preços'!$A$16:$B$2988,2,0)=FALSE,\"Falta (U.M.)\",VLOOKUP(A2942,'Mapa de Preços'!$A$16:$B$2988,2,0))","v":"Falta (U.M.)"},"","",null,{"$f":"VLOOKUP(A2942,'Mapa de Preços'!$A$16:$J$2988,10,0)","v":"Falta Orçamento"},"",null,2915,null,0]
[2916,{"$f":"IF(VLOOKUP(A2943,'Mapa de Preços'!$A$16:$B$2988,2,0)=FALSE,\"Falta (U.M.)\",VLOOKUP(A2943,'Mapa de Preços'!$A$16:$B$2988,2,0))","v":"Falta (U.M.)"},"","",null,{"$f":"VLOOKUP(A2943,'Mapa de Preços'!$A$16:$J$2988,10,0)","v":"Falta Orçamento"},"",null,2916,null,0]
[2917,{"$f":"IF(VLOOKUP(A2944,'Mapa de Preços'!$A$16:$B$2988,2,0)=FALSE,\"Falta (U.M.)\",VLOOKUP(A2944,'Mapa de Preços'!$A$16:$B$2988,2,0))","v":"Falta (U.M.)"},"","",null,{"$f":"VLOOKUP(A2944,'Mapa de Preços'!$A$16:$J$2988,10,0)","v":"Falta Orçamento"},"",null,2917,null,0]
[2918,{"$f":"IF(VLOOKUP(A2945,'Mapa de Preços'!$A$16:$B$2988,2,0)=FALSE,\"Falta (U.M.)\",VLOOKUP(A2945,'Mapa de Preços'!$A$16:$B$2988,2,0))","v":"Falta (U.M.)"},"","",null,{"$f":"VLOOKUP(A2945,'Mapa de Preços'!$A$16:$J$2988,10,0)","v":"Falta Orçamento"},"",null,2918,null,0]
[2919,{"$f":"IF(VLOOKUP(A2946,'Mapa de Preços'!$A$16:$B$2988,2,0)=FALSE,\"Falta (U.M.)\",VLOOKUP(A2946,'Mapa de Preços'!$A$16:$B$2988,2,0))","v":"Falta (U.M.)"},"","",null,{"$f":"VLOOKUP(A2946,'Mapa de Preços'!$A$16:$J$2988,10,0)","v":"Falta Orçamento"},"",null,2919,null,0]
[2920,{"$f":"IF(VLOOKUP(A2947,'Mapa de Preços'!$A$16:$B$2988,2,0)=FALSE,\"Falta (U.M.)\",VLOOKUP(A2947,'Mapa de Preços'!$A$16:$B$2988,2,0))","v":"Falta (U.M.)"},"","",null,{"$f":"VLOOKUP(A2947,'Mapa de Preços'!$A$16:$J$2988,10,0)","v":"Falta Orçamento"},"",null,2920,null,0]
[2921,{"$f":"IF(VLOOKUP(A2948,'Mapa de Preços'!$A$16:$B$2988,2,0)=FALSE,\"Falta (U.M.)\",VLOOKUP(A2948,'Mapa de Preços'!$A$16:$B$2988,2,0))","v":"Falta (U.M.)"},"","",null,{"$f":"VLOOKUP(A2948,'Mapa de Preços'!$A$16:$J$2988,10,0)","v":"Falta Orçamento"},"",null,2921,null,0]
[2922,{"$f":"IF(VLOOKUP(A2949,'Mapa de Preços'!$A$16:$B$2988,2,0)=FALSE,\"Falta (U.M.)\",VLOOKUP(A2949,'Mapa de Preços'!$A$16:$B$2988,2,0))","v":"Falta (U.M.)"},"","",null,{"$f":"VLOOKUP(A2949,'Mapa de Preços'!$A$16:$J$2988,10,0)","v":"Falta Orçamento"},"",null,2922,null,0]
[2923,{"$f":"IF(VLOOKUP(A2950,'Mapa de Preços'!$A$16:$B$2988,2,0)=FALSE,\"Falta (U.M.)\",VLOOKUP(A2950,'Mapa de Preços'!$A$16:$B$2988,2,0))","v":"Falta (U.M.)"},"","",null,{"$f":"VLOOKUP(A2950,'Mapa de Preços'!$A$16:$J$2988,10,0)","v":"Falta Orçamento"},"",null,2923,null,0]
[2924,{"$f":"IF(VLOOKUP(A2951,'Mapa de Preços'!$A$16:$B$2988,2,0)=FALSE,\"Falta (U.M.)\",VLOOKUP(A2951,'Mapa de Preços'!$A$16:$B$2988,2,0))","v":"Falta (U.M.)"},"","",null,{"$f":"VLOOKUP(A2951,'Mapa de Preços'!$A$16:$J$2988,10,0)","v":"Falta Orçamento"},"",null,2924,null,0]
[2925,{"$f":"IF(VLOOKUP(A2952,'Mapa de Preços'!$A$16:$B$2988,2,0)=FALSE,\"Falta (U.M.)\",VLOOKUP(A2952,'Mapa de Preços'!$A$16:$B$2988,2,0))","v":"Falta (U.M.)"},"","",null,{"$f":"VLOOKUP(A2952,'Mapa de Preços'!$A$16:$J$2988,10,0)","v":"Falta Orçamento"},"",null,2925,null,0]
[2926,{"$f":"IF(VLOOKUP(A2953,'Mapa de Preços'!$A$16:$B$2988,2,0)=FALSE,\"Falta (U.M.)\",VLOOKUP(A2953,'Mapa de Preços'!$A$16:$B$2988,2,0))","v":"Falta (U.M.)"},"","",null,{"$f":"VLOOKUP(A2953,'Mapa de Preços'!$A$16:$J$2988,10,0)","v":"Falta Orçamento"},"",null,2926,null,0]
[2927,{"$f":"IF(VLOOKUP(A2954,'Mapa de Preços'!$A$16:$B$2988,2,0)=FALSE,\"Falta (U.M.)\",VLOOKUP(A2954,'Mapa de Preços'!$A$16:$B$2988,2,0))","v":"Falta (U.M.)"},"","",null,{"$f":"VLOOKUP(A2954,'Mapa de Preços'!$A$16:$J$2988,10,0)","v":"Falta Orçamento"},"",null,2927,null,0]
[2928,{"$f":"IF(VLOOKUP(A2955,'Mapa de Preços'!$A$16:$B$2988,2,0)=FALSE,\"Falta (U.M.)\",VLOOKUP(A2955,'Mapa de Preços'!$A$16:$B$2988,2,0))","v":"Falta (U.M.)"},"","",null,{"$f":"VLOOKUP(A2955,'Mapa de Preços'!$A$16:$J$2988,10,0)","v":"Falta Orçamento"},"",null,2928,null,0]
[2929,{"$f":"IF(VLOOKUP(A2956,'Mapa de Preços'!$A$16:$B$2988,2,0)=FALSE,\"Falta (U.M.)\",VLOOKUP(A2956,'Mapa de Preços'!$A$16:$B$2988,2,0))","v":"Falta (U.M.)"},"","",null,{"$f":"VLOOKUP(A2956,'Mapa de Preços'!$A$16:$J$2988,10,0)","v":"Falta Orçamento"},"",null,2929,null,0]
[2930,{"$f":"IF(VLOOKUP(A2957,'Mapa de Preços'!$A$16:$B$2988,2,0)=FALSE,\"Falta (U.M.)\",VLOOKUP(A2957,'Mapa de Preços'!$A$16:$B$2988,2,0))","v":"Falta (U.M.)"},"","",null,{"$f":"VLOOKUP(A2957,'Mapa de Preços'!$A$16:$J$2988,10,0)","v":"Falta Orçamento"},"",null,2930,null,0]
[2931,{"$f":"IF(VLOOKUP(A2958,'Mapa de Preços'!$A$16:$B$2988,2,0)=FALSE,\"Falta (U.M.)\",VLOOKUP(A2958,'Mapa de Preços'!$A$16:$B$2988,2,0))","v":"Falta (U.M.)"},"","",null,{"$f":"VLOOKUP(A2958,'Mapa de Preços'!$A$16:$J$2988,10,0)","v":"Falta Orçamento"},"",null,2931,null,0]
[2932,{"$f":"IF(VLOOKUP(A2959,'Mapa de Preços'!$A$16:$B$2988,2,0)=FALSE,\"Falta (U.M.)\",VLOOKUP(A2959,'Mapa de Preços'!$A$16:$B$2988,2,0))","v":"Falta (U.M.)"},"","",null,{"$f":"VLOOKUP(A2959,'Mapa de Preços'!$A$16:$J$2988,10,0)","v":"Falta Orçamento"},"",null,2932,null,0]
[2933,{"$f":"IF(VLOOKUP(A2960,'Mapa de Preços'!$A$16:$B$2988,2,0)=FALSE,\"Falta (U.M.)\",VLOOKUP(A2960,'Mapa de Preços'!$A$16:$B$2988,2,0))","v":"Falta (U.M.)"},"","",null,{"$f":"VLOOKUP(A2960,'Mapa de Preços'!$A$16:$J$2988,10,0)","v":"Falta Orçamento"},"",null,2933,null,0]
[2934,{"$f":"IF(VLOOKUP(A2961,'Mapa de Preços'!$A$16:$B$2988,2,0)=FALSE,\"Falta (U.M.)\",VLOOKUP(A2961,'Mapa de Preços'!$A$16:$B$2988,2,0))","v":"Falta (U.M.)"},"","",null,{"$f":"VLOOKUP(A2961,'Mapa de Preços'!$A$16:$J$2988,10,0)","v":"Falta Orçamento"},"",null,2934,null,0]
[2935,{"$f":"IF(VLOOKUP(A2962,'Mapa de Preços'!$A$16:$B$2988,2,0)=FALSE,\"Falta (U.M.)\",VLOOKUP(A2962,'Mapa de Preços'!$A$16:$B$2988,2,0))","v":"Falta (U.M.)"},"","",null,{"$f":"VLOOKUP(A2962,'Mapa de Preços'!$A$16:$J$2988,10,0)","v":"Falta Orçamento"},"",null,2935,null,0]
[2936,{"$f":"IF(VLOOKUP(A2963,'Mapa de Preços'!$A$16:$B$2988,2,0)=FALSE,\"Falta (U.M.)\",VLOOKUP(A2963,'Mapa de Preços'!$A$16:$B$2988,2,0))","v":"Falta (U.M.)"},"","",null,{"$f":"VLOOKUP(A2963,'Mapa de Preços'!$A$16:$J$2988,10,0)","v":"Falta Orçamento"},"",null,2936,null,0]
[2937,{"$f":"IF(VLOOKUP(A2964,'Mapa de Preços'!$A$16:$B$2988,2,0)=FALSE,\"Falta (U.M.)\",VLOOKUP(A2964,'Mapa de Preços'!$A$16:$B$2988,2,0))","v":"Falta (U.M.)"},"","",null,{"$f":"VLOOKUP(A2964,'Mapa de Preços'!$A$16:$J$2988,10,0)","v":"Falta Orçamento"},"",null,2937,null,0]
[2938,{"$f":"IF(VLOOKUP(A2965,'Mapa de Preços'!$A$16:$B$2988,2,0)=FALSE,\"Falta (U.M.)\",VLOOKUP(A2965,'Mapa de Preços'!$A$16:$B$2988,2,0))","v":"Falta (U.M.)"},"","",null,{"$f":"VLOOKUP(A2965,'Mapa de Preços'!$A$16:$J$2988,10,0)","v":"Falta Orçamento"},"",null,2938,null,0]
[2939,{"$f":"IF(VLOOKUP(A2966,'Mapa de Preços'!$A$16:$B$2988,2,0)=FALSE,\"Falta (U.M.)\",VLOOKUP(A2966,'Mapa de Preços'!$A$16:$B$2988,2,0))","v":"Falta (U.M.)"},"","",null,{"$f":"VLOOKUP(A2966,'Mapa de Preços'!$A$16:$J$2988,10,0)","v":"Falta Orçamento"},"",null,2939,null,0]
[2940,{"$f":"IF(VLOOKUP(A2967,'Mapa de Preços'!$A$16:$B$2988,2,0)=FALSE,\"Falta (U.M.)\",VLOOKUP(A2967,'Mapa de Preços'!$A$16:$B$2988,2,0))","v":"Falta (U.M.)"},"","",null,{"$f":"VLOOKUP(A2967,'Mapa de Preços'!$A$16:$J$2988,10,0)","v":"Falta Orçamento"},"",null,2940,null,0]
[2941,{"$f":"IF(VLOOKUP(A2968,'Mapa de Preços'!$A$16:$B$2988,2,0)=FALSE,\"Falta (U.M.)\",VLOOKUP(A2968,'Mapa de Preços'!$A$16:$B$2988,2,0))","v":"Falta (U.M.)"},"","",null,{"$f":"VLOOKUP(A2968,'Mapa de Preços'!$A$16:$J$2988,10,0)","v":"Falta Orçamento"},"",null,2941,null,0]
[2942,{"$f":"IF(VLOOKUP(A2969,'Mapa de Preços'!$A$16:$B$2988,2,0)=FALSE,\"Falta (U.M.)\",VLOOKUP(A2969,'Mapa de Preços'!$A$16:$B$2988,2,0))","v":"Falta (U.M.)"},"","",null,{"$f":"VLOOKUP(A2969,'Mapa de Preços'!$A$16:$J$2988,10,0)","v":"Falta Orçamento"},"",null,2942,null,0]
[2943,{"$f":"IF(VLOOKUP(A2970,'Mapa de Preços'!$A$16:$B$2988,2,0)=FALSE,\"Falta (U.M.)\",VLOOKUP(A2970,'Mapa de Preços'!$A$16:$B$2988,2,0))","v":"Falta (U.M.)"},"","",null,{"$f":"VLOOKUP(A2970,'Mapa de Preços'!$A$16:$J$2988,10,0)","v":"Falta Orçamento"},"",null,2943,null,0]
[2944,{"$f":"IF(VLOOKUP(A2971,'Mapa de Preços'!$A$16:$B$2988,2,0)=FALSE,\"Falta (U.M.)\",VLOOKUP(A2971,'Mapa de Preços'!$A$16:$B$2988,2,0))","v":"Falta (U.M.)"},"","",null,{"$f":"VLOOKUP(A2971,'Mapa de Preços'!$A$16:$J$2988,10,0)","v":"Falta Orçamento"},"",null,2944,null,0]
[2945,{"$f":"IF(VLOOKUP(A2972,'Mapa de Preços'!$A$16:$B$2988,2,0)=FALSE,\"Falta (U.M.)\",VLOOKUP(A2972,'Mapa de Preços'!$A$16:$B$2988,2,0))","v":"Falta (U.M.)"},"","",null,{"$f":"VLOOKUP(A2972,'Mapa de Preços'!$A$16:$J$2988,10,0)","v":"Falta Orçamento"},"",null,2945,null,{"$f":"SUM(L2972:AI2972)","v":0}]
[2946,{"$f":"IF(VLOOKUP(A2973,'Mapa de Preços'!$A$16:$B$2988,2,0)=FALSE,\"Falta (U.M.)\",VLOOKUP(A2973,'Mapa de Preços'!$A$16:$B$2988,2,0))","v":"Falta (U.M.)"},{"$f":"IF(J2973<>\"\",J2973,\"\")","v":""},{"$f":"IF(VLOOKUP(A2973,$I$28:$AI$3000,$G$26,FALSE)<>\"\",VLOOKUP(A2973,$I$28:$AI$3000,$G$26,FALSE),\"\")","v":""},null,{"$f":"VLOOKUP(A2973,'Mapa de Preços'!$A$16:$J$2988,10,0)","v":"Falta Orçamento"},{"$f":"IF(F2973=\"Falta Orçamento\",\"\",F2973*D2973)","v":""},null,2946,null,0]
[2947,{"$f":"IF(VLOOKUP(A2974,'Mapa de Preços'!$A$16:$B$2988,2,0)=FALSE,\"Falta (U.M.)\",VLOOKUP(A2974,'Mapa de Preços'!$A$16:$B$2988,2,0))","v":"Falta (U.M.)"},"","",null,{"$f":"VLOOKUP(A2974,'Mapa de Preços'!$A$16:$J$2988,10,0)","v":"Falta Orçamento"},"",null,2947,null,0]
[2948,{"$f":"IF(VLOOKUP(A2975,'Mapa de Preços'!$A$16:$B$2988,2,0)=FALSE,\"Falta (U.M.)\",VLOOKUP(A2975,'Mapa de Preços'!$A$16:$B$2988,2,0))","v":"Falta (U.M.)"},"","",null,{"$f":"VLOOKUP(A2975,'Mapa de Preços'!$A$16:$J$2988,10,0)","v":"Falta Orçamento"},"",null,2948,null,0]
[2949,{"$f":"IF(VLOOKUP(A2976,'Mapa de Preços'!$A$16:$B$2988,2,0)=FALSE,\"Falta (U.M.)\",VLOOKUP(A2976,'Mapa de Preços'!$A$16:$B$2988,2,0))","v":"Falta (U.M.)"},"","",null,{"$f":"VLOOKUP(A2976,'Mapa de Preços'!$A$16:$J$2988,10,0)","v":"Falta Orçamento"},"",null,2949,null,0]
[2950,{"$f":"IF(VLOOKUP(A2977,'Mapa de Preços'!$A$16:$B$2988,2,0)=FALSE,\"Falta (U.M.)\",VLOOKUP(A2977,'Mapa de Preços'!$A$16:$B$2988,2,0))","v":"Falta (U.M.)"},"","",null,{"$f":"VLOOKUP(A2977,'Mapa de Preços'!$A$16:$J$2988,10,0)","v":"Falta Orçamento"},"",null,2950,null,0]
[2951,{"$f":"IF(VLOOKUP(A2978,'Mapa de Preços'!$A$16:$B$2988,2,0)=FALSE,\"Falta (U.M.)\",VLOOKUP(A2978,'Mapa de Preços'!$A$16:$B$2988,2,0))","v":"Falta (U.M.)"},"","",null,{"$f":"VLOOKUP(A2978,'Mapa de Preços'!$A$16:$J$2988,10,0)","v":"Falta Orçamento"},"",null,2951,null,0]
[2952,{"$f":"IF(VLOOKUP(A2979,'Mapa de Preços'!$A$16:$B$2988,2,0)=FALSE,\"Falta (U.M.)\",VLOOKUP(A2979,'Mapa de Preços'!$A$16:$B$2988,2,0))","v":"Falta (U.M.)"},"","",null,{"$f":"VLOOKUP(A2979,'Mapa de Preços'!$A$16:$J$2988,10,0)","v":"Falta Orçamento"},"",null,2952,null,0]
[2953,{"$f":"IF(VLOOKUP(A2980,'Mapa de Preços'!$A$16:$B$2988,2,0)=FALSE,\"Falta (U.M.)\",VLOOKUP(A2980,'Mapa de Preços'!$A$16:$B$2988,2,0))","v":"Falta (U.M.)"},"","",null,{"$f":"VLOOKUP(A2980,'Mapa de Preços'!$A$16:$J$2988,10,0)","v":"Falta Orçamento"},"",null,2953,null,0]
[2954,{"$f":"IF(VLOOKUP(A2981,'Mapa de Preços'!$A$16:$B$2988,2,0)=FALSE,\"Falta (U.M.)\",VLOOKUP(A2981,'Mapa de Preços'!$A$16:$B$2988,2,0))","v":"Falta (U.M.)"},"","",null,{"$f":"VLOOKUP(A2981,'Mapa de Preços'!$A$16:$J$2988,10,0)","v":"Falta Orçamento"},"",null,2954,null,0]
[2955,{"$f":"IF(VLOOKUP(A2982,'Mapa de Preços'!$A$16:$B$2988,2,0)=FALSE,\"Falta (U.M.)\",VLOOKUP(A2982,'Mapa de Preços'!$A$16:$B$2988,2,0))","v":"Falta (U.M.)"},"","",null,{"$f":"VLOOKUP(A2982,'Mapa de Preços'!$A$16:$J$2988,10,0)","v":"Falta Orçamento"},"",null,2955,null,0]
[2956,{"$f":"IF(VLOOKUP(A2983,'Mapa de Preços'!$A$16:$B$2988,2,0)=FALSE,\"Falta (U.M.)\",VLOOKUP(A2983,'Mapa de Preços'!$A$16:$B$2988,2,0))","v":"Falta (U.M.)"},"","",null,{"$f":"VLOOKUP(A2983,'Mapa de Preços'!$A$16:$J$2988,10,0)","v":"Falta Orçamento"},"",null,2956,null,0]
[2957,{"$f":"IF(VLOOKUP(A2984,'Mapa de Preços'!$A$16:$B$2988,2,0)=FALSE,\"Falta (U.M.)\",VLOOKUP(A2984,'Mapa de Preços'!$A$16:$B$2988,2,0))","v":"Falta (U.M.)"},"","",null,{"$f":"VLOOKUP(A2984,'Mapa de Preços'!$A$16:$J$2988,10,0)","v":"Falta Orçamento"},"",null,2957,null,0]
[2958,{"$f":"IF(VLOOKUP(A2985,'Mapa de Preços'!$A$16:$B$2988,2,0)=FALSE,\"Falta (U.M.)\",VLOOKUP(A2985,'Mapa de Preços'!$A$16:$B$2988,2,0))","v":"Falta (U.M.)"},"","",null,{"$f":"VLOOKUP(A2985,'Mapa de Preços'!$A$16:$J$2988,10,0)","v":"Falta Orçamento"},"",null,2958,null,0]
[2959,{"$f":"IF(VLOOKUP(A2986,'Mapa de Preços'!$A$16:$B$2988,2,0)=FALSE,\"Falta (U.M.)\",VLOOKUP(A2986,'Mapa de Preços'!$A$16:$B$2988,2,0))","v":"Falta (U.M.)"},"","",null,{"$f":"VLOOKUP(A2986,'Mapa de Preços'!$A$16:$J$2988,10,0)","v":"Falta Orçamento"},"",null,2959,null,0]
[2960,{"$f":"IF(VLOOKUP(A2987,'Mapa de Preços'!$A$16:$B$2988,2,0)=FALSE,\"Falta (U.M.)\",VLOOKUP(A2987,'Mapa de Preços'!$A$16:$B$2988,2,0))","v":"Falta (U.M.)"},"","",null,{"$f":"VLOOKUP(A2987,'Mapa de Preços'!$A$16:$J$2988,10,0)","v":"Falta Orçamento"},"",null,2960,null,0]
[2961,{"$f":"IF(VLOOKUP(A2988,'Mapa de Preços'!$A$16:$B$2988,2,0)=FALSE,\"Falta (U.M.)\",VLOOKUP(A2988,'Mapa de Preços'!$A$16:$B$2988,2,0))","v":"Falta (U.M.)"},"","",null,{"$f":"VLOOKUP(A2988,'Mapa de Preços'!$A$16:$J$2988,10,0)","v":"Falta Orçamento"},"",null,2961,null,0]
[2962,{"$f":"IF(VLOOKUP(A2989,'Mapa de Preços'!$A$16:$B$2988,2,0)=FALSE,\"Falta (U.M.)\",VLOOKUP(A2989,'Mapa de Preços'!$A$16:$B$2988,2,0))","v":"Falta (U.M.)"},"","",null,{"$f":"VLOOKUP(A2989,'Mapa de Preços'!$A$16:$J$2988,10,0)","v":"Falta Orçamento"},"",null,2962,null,0]
[2963,{"$f":"IF(VLOOKUP(A2990,'Mapa de Preços'!$A$16:$B$2988,2,0)=FALSE,\"Falta (U.M.)\",VLOOKUP(A2990,'Mapa de Preços'!$A$16:$B$2988,2,0))","v":"Falta (U.M.)"},"","",null,{"$f":"VLOOKUP(A2990,'Mapa de Preços'!$A$16:$J$2988,10,0)","v":"Falta Orçamento"},"",null,2963,null,0]
[2964,{"$f":"IF(VLOOKUP(A2991,'Mapa de Preços'!$A$16:$B$2988,2,0)=FALSE,\"Falta (U.M.)\",VLOOKUP(A2991,'Mapa de Preços'!$A$16:$B$2988,2,0))","v":"Falta (U.M.)"},"","",null,{"$f":"VLOOKUP(A2991,'Mapa de Preços'!$A$16:$J$2988,10,0)","v":"Falta Orçamento"},"",null,2964,null,0]
[2965,{"$f":"IF(VLOOKUP(A2992,'Mapa de Preços'!$A$16:$B$2988,2,0)=FALSE,\"Falta (U.M.)\",VLOOKUP(A2992,'Mapa de Preços'!$A$16:$B$2988,2,0))","v":"Falta (U.M.)"},"","",null,{"$f":"VLOOKUP(A2992,'Mapa de Preços'!$A$16:$J$2988,10,0)","v":"Falta Orçamento"},"",null,2965,null,0]
[2966,{"$f":"IF(VLOOKUP(A2993,'Mapa de Preços'!$A$16:$B$2988,2,0)=FALSE,\"Falta (U.M.)\",VLOOKUP(A2993,'Mapa de Preços'!$A$16:$B$2988,2,0))","v":"Falta (U.M.)"},"","",null,{"$f":"VLOOKUP(A2993,'Mapa de Preços'!$A$16:$J$2988,10,0)","v":"Falta Orçamento"},"",null,2966,null,0]
[2967,{"$f":"IF(VLOOKUP(A2994,'Mapa de Preços'!$A$16:$B$2988,2,0)=FALSE,\"Falta (U.M.)\",VLOOKUP(A2994,'Mapa de Preços'!$A$16:$B$2988,2,0))","v":"Falta (U.M.)"},"","",null,{"$f":"VLOOKUP(A2994,'Mapa de Preços'!$A$16:$J$2988,10,0)","v":"Falta Orçamento"},"",null,2967,null,0]
[2968,{"$f":"IF(VLOOKUP(A2995,'Mapa de Preços'!$A$16:$B$2988,2,0)=FALSE,\"Falta (U.M.)\",VLOOKUP(A2995,'Mapa de Preços'!$A$16:$B$2988,2,0))","v":"Falta (U.M.)"},"","",null,{"$f":"VLOOKUP(A2995,'Mapa de Preços'!$A$16:$J$2988,10,0)","v":"Falta Orçamento"},"",null,2968,null,0]
[2969,{"$f":"IF(VLOOKUP(A2996,'Mapa de Preços'!$A$16:$B$2988,2,0)=FALSE,\"Falta (U.M.)\",VLOOKUP(A2996,'Mapa de Preços'!$A$16:$B$2988,2,0))","v":"Falta (U.M.)"},"","",null,{"$f":"VLOOKUP(A2996,'Mapa de Preços'!$A$16:$J$2988,10,0)","v":"Falta Orçamento"},"",null,2969,null,0]
[2970,{"$f":"IF(VLOOKUP(A2997,'Mapa de Preços'!$A$16:$B$2988,2,0)=FALSE,\"Falta (U.M.)\",VLOOKUP(A2997,'Mapa de Preços'!$A$16:$B$2988,2,0))","v":"Falta (U.M.)"},"","",null,{"$f":"VLOOKUP(A2997,'Mapa de Preços'!$A$16:$J$2988,10,0)","v":"Falta Orçamento"},"",null,2970,null,0]
[2971,{"$f":"IF(VLOOKUP(A2998,'Mapa de Preços'!$A$16:$B$2988,2,0)=FALSE,\"Falta (U.M.)\",VLOOKUP(A2998,'Mapa de Preços'!$A$16:$B$2988,2,0))","v":"Falta (U.M.)"},"","",null,{"$f":"VLOOKUP(A2998,'Mapa de Preços'!$A$16:$J$2988,10,0)","v":"Falta Orçamento"},"",null,2971,null,0]
[2972,{"$f":"IF(VLOOKUP(A2999,'Mapa de Preços'!$A$16:$B$2988,2,0)=FALSE,\"Falta (U.M.)\",VLOOKUP(A2999,'Mapa de Preços'!$A$16:$B$2988,2,0))","v":"Falta (U.M.)"},"","",null,{"$f":"VLOOKUP(A2999,'Mapa de Preços'!$A$16:$J$2988,10,0)","v":"Falta Orçamento"},"",null,2972,null,0]
[2973,{"$f":"IF(VLOOKUP(A3000,'Mapa de Preços'!$A$16:$B$2988,2,0)=FALSE,\"Falta (U.M.)\",VLOOKUP(A3000,'Mapa de Preços'!$A$16:$B$2988,2,0))","v":"Falta (U.M.)"},"","",null,{"$f":"VLOOKUP(A3000,'Mapa de Preços'!$A$16:$J$2988,10,0)","v":"Falta Orçamento"},"",null,2973,null,0]
[null,null,null,"TOTAL:",null,null,{"$f":"SUBTOTAL(9,G28:G3000)","v":0}]
[]
["Resposável pela elaboração das Especificações",null,null,"Da Veracidade dos Orçamentos"]
[null,null,null,"Venho firmar que os orçamentos que compõem o preço médio acima "]
[null,null,null,"estipulado, foram por mim realizados e são verdadeiros."]
[]
[]
["Ass:______________________________________",null,null,"Ass:______________________________________"]
["Requisitante e responsável pelas especificações (Carimbar e Assinar)",null,null,"Requisitante e responsável pelos orçamentos (Carimbo)"]
[]
["SIAPE: ",null,null,"SIAPE: "]
[]
["Carimbo e Assinatura"]
["Requisitante:",null,null,"Ordenador de Despesa:"]
[null,null,null,"Autorizo abertura do procedimento de compra."]
["Data:","___ / ___ / 20___",null,"Data:","___ / ___ / 20___"]
[]
[]
["Ass:______________________________________",null,null,"Ass:______________________________________"]
[]
["NOME:","________________________________________________",null,"NOME:","_______________________________"]
["SIAPE: ",null,null,"SIAPE:"]

{"sheet":"Lista UG","index":3,"n_rows":25,"n_cols":3,"rows_kept":25,"cut":false,"hidden":true,"merged":[]}
["UG","TÍTULO","UG"]
[151786,"CÂMPUS ASSIS CHATEAUBRIAND",151786]
[151788,"CÂMPUS CAMPO LARGO",151788]
[151056,"CÂMPUS CURITIBA",151056]
[151058,"CÂMPUS FOZ DO IGUAÇU",151058]
[151789,"CÂMPUS IRATI",151789]
[151787,"CÂMPUS IVAIPORÃ",151787]
[151061,"CÂMPUS JACAREZINHO",151061]
[151175,"CÂMPUS LONDRINA",151175]
[151785,"CÂMPUS PALMAS",151785]
[151057,"CÂMPUS PARANAGUÁ",151057]
[151059,"CÂMPUS PARANAVAÍ",151059]
[151060,"CÂMPUS TELÊMACO BORBA",151060]
[151062,"CÂMPUS UMUARAMA",151062]
[151404,"DTIC",151404]
[151403,"EAD",151403]
[151538,"GABINETE DO REITOR",151538]
[158009,"INST. FED. DE EDUC., CIENC. E TEC. DO PARANA",158009]
[151404,"NUCLEO DE INCLUSAO SOCIAL E MEIO AMBIENTE",151404]
[151052,"PROAD",151052]
[151053,"PROENS",151053]
[151055,"PROEPI",151055]
[151054,"PROGEPE",151054]
[151051,"PROPLAN",151051]
[151268,"RESERVA ORCAMENTARIA PROPLAN",151268]

{"sheet":"Plan1","index":4,"n_rows":24,"n_cols":3,"rows_kept":24,"cut":false,"hidden":true,"merged":[]}
[null,"CÂMPUS ASSIS CHATEAUBRIAND",1]
[null,"CÂMPUS CAMPO LARGO",2]
[null,"CÂMPUS CURITIBA",3]
[null,"CÂMPUS FOZ DO IGUAÇU",4]
[null,"CÂMPUS IRATI",5]
[null,"CÂMPUS IVAIPORÃ",6]
[null,"CÂMPUS JACAREZINHO",7]
[null,"CÂMPUS LONDRINA",8]
[null,"CÂMPUS PALMAS",9]
[null,"CÂMPUS PARANAGUÁ",10]
[null,"CÂMPUS PARANAVAÍ",11]
[null,"CÂMPUS TELÊMACO BORBA",12]
[null,"CÂMPUS UMUARAMA",13]
[null,"DTIC",14]
[null,"EAD",15]
[null,"GABINETE DO REITOR",16]
[null,"INST. FED. DE EDUC., CIENC. E TEC. DO PARANA",17]
[null,"NUCLEO DE INCLUSAO SOCIAL E MEIO AMBIENTE",18]
[null,"PROAD",19]
[null,"PROENS",20]
[null,"PROEPI",21]
[null,"PROGEPE",22]
[null,"PROPLAN",23]
[null,"RESERVA ORCAMENTARIA PROPLAN",24]